Test-Deep-Matcher v0.01 Perl 5 v5.14.4 x86_64-linux-ld
- Status
- Pass
- From
- Andreas J. König (ANDK)
- Dist
-
Test-Deep-Matcher v0.01
- Platform
- Perl 5 v5.14.4 x86_64-linux-ld
- Date
- 2017-11-13 07:54:23
- ID
- dccd679a-c847-11e7-903e-b1ace2a4d81f
This distribution has been tested as part of the CPAN Testers
project, supporting the Perl programming language. See
http://wiki.cpantesters.org/ for more information or email
questions to cpan-testers-discuss@perl.org
--
Dear NAKAGAWA Masaki,
This is a computer-generated report for Test-Deep-Matcher-0.01
on perl 5.14.4, created by CPAN-Reporter-1.2018.
Thank you for uploading your work to CPAN. Congratulations!
All tests were successful.
Sections of this report:
* Tester comments
* Program output
* Prerequisites
* Environment and other context
------------------------------
TESTER COMMENTS
------------------------------
Additional comments from tester:
this report is from an automated smoke testing program
and was not reviewed by a human for accuracy
------------------------------
PROGRAM OUTPUT
------------------------------
Output from '/usr/bin/make test':
PERL_DL_NONLAZY=1 "/home/sand/src/perl/repoperls/installed-perls/host/k93msid/v5.14.4/0a29/bin/perl" "-MExtUtils::Command::MM" "-MTest::Harness" "-e" "undef *Test::Harness::Switches; test_harness(0, 'inc', 'blib/lib', 'blib/arch')" t/*.t
t/00_compile.t ........ ok
t/10_is_scalar_ref.t .. ok
t/11_is_array_ref.t ... ok
t/12_is_hash_ref.t .... ok
t/13_is_code_ref.t .... ok
t/14_is_glob_ref.t .... ok
t/20_is_value.t ....... ok
t/21_is_string.t ...... ok
t/22_is_number.t ...... ok
t/23_is_integer.t ..... ok
t/80_ref.t ............ ok
t/81_primitive.t ...... ok
All tests successful.
Files=12, Tests=362, 1 wallclock secs ( 0.07 usr 0.06 sys + 0.75 cusr 0.31 csys = 1.19 CPU)
Result: PASS
------------------------------
PREREQUISITES
------------------------------
Prerequisite modules loaded:
requires:
Module Need Have
------------------- -------- --------
Data::Util 0 0.66
Exporter 0 5.64_03
parent 0 0.225
perl 5.008001 5.014004
Test::Deep 0 1.127
build_requires:
Module Need Have
------------------- -------- --------
ExtUtils::MakeMaker 6.59 7.30
Symbol 0 1.07
Test::Deep 0 1.127
Test::More 0.98 1.302106
Test::Tester 0 1.302106
Test::UseAllModules 0 0.17
configure_requires:
Module Need Have
------------------- -------- --------
ExtUtils::MakeMaker 6.59 7.30
------------------------------
ENVIRONMENT AND OTHER CONTEXT
------------------------------
Environment variables:
AUTOMATED_TESTING = 1
LANG = en_US.UTF-8
PATH = /home/sand/bin:/usr/local/bin:/usr/bin:/bin:/usr/games:/usr/local/perl/bin:/usr/X11/bin:/sbin:/usr/sbin
PERL5LIB = /tmp/loop_over_bdir-9636-2JpaG9/Devel-Cover-Report-Codecov-0.21-0/blib/arch:/tmp/loop_over_bdir-9636-2JpaG9/Devel-Cover-Report-Codecov-0.21-0/blib/lib:/tmp/loop_over_bdir-9636-2JpaG9/Test-Requires-Git-1.008-0/blib/arch:/tmp/loop_over_bdir-9636-2JpaG9/Test-Requires-Git-1.008-0/blib/lib:/tmp/loop_over_bdir-9636-2JpaG9/Git-Version-Compare-1.004-0/blib/arch:/tmp/loop_over_bdir-9636-2JpaG9/Git-Version-Compare-1.004-0/blib/lib:/tmp/loop_over_bdir-9636-2JpaG9/Test-Mock-Time-v0.1.6-0/blib/arch:/tmp/loop_over_bdir-9636-2JpaG9/Test-Mock-Time-v0.1.6-0/blib/lib:/tmp/loop_over_bdir-9636-2JpaG9/Export-Attrs-v0.1.0-0/blib/arch:/tmp/loop_over_bdir-9636-2JpaG9/Export-Attrs-v0.1.0-0/blib/lib:/tmp/loop_over_bdir-9636-2JpaG9/Sub-Retry-0.06-0/blib/arch:/tmp/loop_over_bdir-9636-2JpaG9/Sub-Retry-0.06-0/blib/lib:/tmp/loop_over_bdir-9636-2JpaG9/Furl-3.13-0/blib/arch:/tmp/loop_over_bdir-9636-2JpaG9/Furl-3.13-0/blib/lib
PERL5OPT =
PERL5_CPANPLUS_IS_RUNNING = 9638
PERL5_CPAN_IS_RUNNING = 9638
PERL5_CPAN_IS_RUNNING_IN_RECURSION = 10675,9638
PERL_CANARY_STABILITY_NOPROMPT = 1
PERL_MM_USE_DEFAULT = 1
PERL_USE_UNSAFE_INC = 1
SHELL = /usr/bin/zsh
TERM = screen
Perl special variables (and OS-specific diagnostics, for MSWin32):
$^X = /home/sand/src/perl/repoperls/installed-perls/host/k93msid/v5.14.4/0a29/bin/perl
$UID/$EUID = 1005 / 1005
$GID = 1005 1005
$EGID = 1005 1005
Perl module toolchain versions installed:
Module Have
------------------- --------
CPAN 2.18
CPAN::Meta 2.150010
Cwd 3.62
ExtUtils::CBuilder 0.280226
ExtUtils::Command 7.30
ExtUtils::Install 2.06
ExtUtils::MakeMaker 7.30
ExtUtils::Manifest 1.70
ExtUtils::ParseXS 3.35
File::Spec 3.62
JSON 2.94
JSON::PP 2.94
Module::Build 0.4224
Module::Signature 0.81
Parse::CPAN::Meta 2.150010
Test::Harness 3.39
Test::More 1.302106
YAML 1.24
YAML::Syck 1.30
version 0.9918
--
Summary of my perl5 (revision 5 version 14 subversion 4) configuration:
Derived from: 26c5c13a4ece9084f310610bb17fb2f24c72a73e
Platform:
osname=linux, osvers=4.12.0-2-amd64, archname=x86_64-linux-ld
uname='linux k93msid 4.12.0-2-amd64 #1 smp debian 4.12.13-1 (2017-09-19) x86_64 gnulinux '
config_args='-Dprefix=/home/sand/src/perl/repoperls/installed-perls/host/k93msid/v5.14.4/0a29 -Dmyhostname=k93msid -Dinstallusrbinperl=n -Uversiononly -Dusedevel -des -Ui_db -Dlibswanted=cl pthread socket inet nsl gdbm dbm malloc dl ld sun m crypt sec util c cposix posix ucb BSD gdbm_compat -Uuseithreads -Duselongdouble -DDEBUGGING=both'
hint=recommended, useposix=true, d_sigaction=define
useithreads=undef, usemultiplicity=undef
useperlio=define, d_sfio=undef, uselargefiles=define, usesocks=undef
use64bitint=define, use64bitall=define, uselongdouble=define
usemymalloc=n, bincompat5005=undef
Compiler:
cc='cc', ccflags ='-DDEBUGGING -fno-strict-aliasing -pipe -fstack-protector -I/usr/local/include -D_LARGEFILE_SOURCE -D_FILE_OFFSET_BITS=64',
optimize='-O2 -g',
cppflags='-DDEBUGGING -fno-strict-aliasing -pipe -fstack-protector -I/usr/local/include'
ccversion='', gccversion='7.2.0', gccosandvers=''
intsize=4, longsize=8, ptrsize=8, doublesize=8, byteorder=12345678
d_longlong=define, longlongsize=8, d_longdbl=define, longdblsize=16
ivtype='long', ivsize=8, nvtype='long double', nvsize=16, Off_t='off_t', lseeksize=8
alignbytes=16, prototype=define
Linker and Libraries:
ld='cc', ldflags =' -fstack-protector -L/usr/local/lib'
libpth=/usr/local/lib /lib/x86_64-linux-gnu /lib/../lib /usr/lib/x86_64-linux-gnu /usr/lib/../lib /lib /usr/lib
libs=-lpthread -lnsl -ldl -lm -lcrypt -lutil -lc
perllibs=-lpthread -lnsl -ldl -lm -lcrypt -lutil -lc
libc=libc-2.24.so, so=so, useshrplib=false, libperl=libperl.a
gnulibc_version='2.24'
Dynamic Linking:
dlsrc=dl_dlopen.xs, dlext=so, d_dlsymun=undef, ccdlflags='-Wl,-E'
cccdlflags='-fPIC', lddlflags='-shared -O2 -g -L/usr/local/lib -fstack-protector'
Characteristics of this binary (from libperl):
Compile-time options: DEBUGGING PERL_DONT_CREATE_GVSV PERL_MALLOC_WRAP
PERL_PRESERVE_IVUV PERL_USE_DEVEL USE_64_BIT_ALL
USE_64_BIT_INT USE_LARGE_FILES USE_LONG_DOUBLE
USE_PERLIO USE_PERL_ATOF
Locally applied patches:
uncommitted-changes
Built under linux
Compiled at Oct 3 2017 14:35:07
%ENV:
PERL5LIB="/tmp/loop_over_bdir-9636-2JpaG9/Devel-Cover-Report-Codecov-0.21-0/blib/arch:/tmp/loop_over_bdir-9636-2JpaG9/Devel-Cover-Report-Codecov-0.21-0/blib/lib:/tmp/loop_over_bdir-9636-2JpaG9/Test-Requires-Git-1.008-0/blib/arch:/tmp/loop_over_bdir-9636-2JpaG9/Test-Requires-Git-1.008-0/blib/lib:/tmp/loop_over_bdir-9636-2JpaG9/Git-Version-Compare-1.004-0/blib/arch:/tmp/loop_over_bdir-9636-2JpaG9/Git-Version-Compare-1.004-0/blib/lib:/tmp/loop_over_bdir-9636-2JpaG9/Test-Mock-Time-v0.1.6-0/blib/arch:/tmp/loop_over_bdir-9636-2JpaG9/Test-Mock-Time-v0.1.6-0/blib/lib:/tmp/loop_over_bdir-9636-2JpaG9/Export-Attrs-v0.1.0-0/blib/arch:/tmp/loop_over_bdir-9636-2JpaG9/Export-Attrs-v0.1.0-0/blib/lib:/tmp/loop_over_bdir-9636-2JpaG9/Sub-Retry-0.06-0/blib/arch:/tmp/loop_over_bdir-9636-2JpaG9/Sub-Retry-0.06-0/blib/lib:/tmp/loop_over_bdir-9636-2JpaG9/Furl-3.13-0/blib/arch:/tmp/loop_over_bdir-9636-2JpaG9/Furl-3.13-0/blib/lib"
PERL5OPT=""
PERL5_CPANPLUS_IS_RUNNING="9638"
PERL5_CPAN_IS_RUNNING="9638"
PERL5_CPAN_IS_RUNNING_IN_RECURSION="10675,9638"
PERL_CANARY_STABILITY_NOPROMPT="1"
PERL_MM_USE_DEFAULT="1"
PERL_USE_UNSAFE_INC="1"
@INC:
/tmp/loop_over_bdir-9636-2JpaG9/Devel-Cover-Report-Codecov-0.21-0/blib/arch
/tmp/loop_over_bdir-9636-2JpaG9/Devel-Cover-Report-Codecov-0.21-0/blib/lib
/tmp/loop_over_bdir-9636-2JpaG9/Test-Requires-Git-1.008-0/blib/arch
/tmp/loop_over_bdir-9636-2JpaG9/Test-Requires-Git-1.008-0/blib/lib
/tmp/loop_over_bdir-9636-2JpaG9/Git-Version-Compare-1.004-0/blib/arch
/tmp/loop_over_bdir-9636-2JpaG9/Git-Version-Compare-1.004-0/blib/lib
/tmp/loop_over_bdir-9636-2JpaG9/Test-Mock-Time-v0.1.6-0/blib/arch
/tmp/loop_over_bdir-9636-2JpaG9/Test-Mock-Time-v0.1.6-0/blib/lib
/tmp/loop_over_bdir-9636-2JpaG9/Export-Attrs-v0.1.0-0/blib/arch
/tmp/loop_over_bdir-9636-2JpaG9/Export-Attrs-v0.1.0-0/blib/lib
/tmp/loop_over_bdir-9636-2JpaG9/Sub-Retry-0.06-0/blib/arch
/tmp/loop_over_bdir-9636-2JpaG9/Sub-Retry-0.06-0/blib/lib
/tmp/loop_over_bdir-9636-2JpaG9/Furl-3.13-0/blib/arch
/tmp/loop_over_bdir-9636-2JpaG9/Furl-3.13-0/blib/lib
/home/sand/src/perl/repoperls/installed-perls/host/k93msid/v5.14.4/0a29/lib/site_perl/5.14.4/x86_64-linux-ld
/home/sand/src/perl/repoperls/installed-perls/host/k93msid/v5.14.4/0a29/lib/site_perl/5.14.4
/home/sand/src/perl/repoperls/installed-perls/host/k93msid/v5.14.4/0a29/lib/5.14.4/x86_64-linux-ld
/home/sand/src/perl/repoperls/installed-perls/host/k93msid/v5.14.4/0a29/lib/5.14.4
.