Back
From: metabase:user:3215efbe-2aae-11df-837a-5e0a49663a4f
Subject: PASS Test-MockDBI-0.70 v5.16.1 GNU/Linux
Date: 2013-01-10T06:42:11Z
This distribution has been tested as part of the CPAN Testers
project, supporting the Perl programming language. See
http://wiki.cpantesters.org/ for more information or email
questions to cpan-testers-discuss@perl.org
--
Dear Andreas Faafeng,
This is a computer-generated report for Test-MockDBI-0.70
on perl 5.16.1, created by CPAN-Reporter-1.2009.
Thank you for uploading your work to CPAN. Congratulations!
All tests were successful.
Sections of this report:
* Tester comments
* Program output
* Prerequisites
* Environment and other context
------------------------------
TESTER COMMENTS
------------------------------
Additional comments from tester:
this report is from an automated smoke testing program
and was not reviewed by a human for accuracy
------------------------------
PROGRAM OUTPUT
------------------------------
Output from '/usr/bin/make test':
PERL_DL_NONLAZY=1 /opt/perl/threads/5.16.1/bin/perl "-MExtUtils::Command::MM" "-e" "test_harness(0, 'blib/lib', 'blib/arch')" t/*.t
# Testing Test::MockDBI 0.70, Perl 5.016001, /opt/perl/threads/5.16.1/bin/perl, archname=x86_64-linux-thread-multi, byteorder=12345678
t/00-env.t ........................... ok
t/000-use.t .......................... ok
t/001-connect.t ...................... ok
t/002-prepare.t ...................... ok
t/003-ping.t ......................... ok
t/004-execute.t ...................... ok
t/005-fetchrow_hashref.t ............. ok
t/006-bind_param.t ................... ok
t/007-bind_param_inout.t ............. ok
t/008-rows.t ......................... ok
t/009-auto_commit.t .................. ok
t/010-fetchrow_arrayref.t ............ ok
t/011-prepare_cached.t ............... ok
t/012-do.t ........................... ok
t/100-set-fake-retval.t .............. ok
t/101-set-fake-retval-coderef.t ...... ok
t/102-set-inout-value.t .............. ok
t/103-bad_method.t ................... ok
t/104-bad-params.t ................... ok
t/800-die-on-unsupported-method.t .... ok
t/bad_param-1.t ...................... ok
t/bad_param-2.t ...................... ok
t/bad_param-ok-2of3.t ................ ok
t/bad_param-ok-none.t ................ ok
t/coderef-array-1.t .................. ok
t/coderef-array-many.t ............... ok
t/coderef-scalar-0.t ................. ok
t/coderef-scalar-1.t ................. ok
t/coderef-scalar-many.t .............. ok
t/connect.t .......................... ok
t/fetch-0.t .......................... ok
t/fetch-empty.t ...................... ok
t/fetchall_arrayref-0.t .............. ok
t/fetchall_arrayref-1.t .............. ok
t/fetchall_arrayref-many.t ........... ok
t/fetchrow_array-0.t ................. ok
t/fetchrow_array-1.t ................. ok
t/fetchrow_array-different-sql.t ..... ok
t/fetchrow_array-many.t .............. ok
t/fetchrow_arrayref-0.t .............. ok
t/fetchrow_arrayref-1.t .............. ok
t/fetchrow_arrayref-different-sql.t .. ok
t/fetchrow_arrayref-many.t ........... ok
t/fetchrow_hashref-1.t ............... ok
t/fetchrow_hashref-2.t ............... ok
t/fetchrow_hashref-many.t ............ ok
t/set_rows-different-numeric.t ....... ok
t/set_rows-no-arg.t .................. ok
t/set_rows-numeric.t ................. ok
t/set_rows-undef.t ................... ok
All tests successful.
Files=50, Tests=431, 3 wallclock secs ( 0.15 usr 0.05 sys + 2.33 cusr 0.34 csys = 2.87 CPU)
Result: PASS
------------------------------
PREREQUISITES
------------------------------
Prerequisite modules loaded:
requires:
Module Need Have
--------------------- ---- ----------
Carp 0 1.26
Clone 0 0.34
DBI 0 1.623
File::Spec::Functions 0 3.39_02
Scalar::Util 0 1.27
Test::Differences 0 0.61
Test::MockObject 0.14 1.20120301
Test::More 0 0.98
Test::Warn 0 0.24
build_requires:
Module Need Have
--------------------- ---- ----------
CPAN::Meta 0 2.120921
configure_requires:
Module Need Have
--------------------- ---- ----------
ExtUtils::MakeMaker 0 6.64
------------------------------
ENVIRONMENT AND OTHER CONTEXT
------------------------------
Environment variables:
AUTOMATED_TESTING = 1
LANG = C
PATH = /opt/perl/threads/5.16.1/bin:/usr/local/sbin:/usr/local/bin:/usr/sbin:/usr/bin:/sbin:/bin:/usr/games
PERL5LIB =
PERL5OPT =
PERL5_CPANPLUS_IS_RUNNING = 21738
PERL5_CPAN_IS_RUNNING = 21738
PERL5_CPAN_IS_RUNNING_IN_RECURSION = 32115,21738
PERL_CR_SMOKER_CURRENT = Test-MockDBI-0.70
PERL_EXTUTILS_AUTOINSTALL = --defaultdeps
PERL_MM_USE_DEFAULT = 1
SHELL = /bin/bash
TERM = screen
Perl special variables (and OS-specific diagnostics, for MSWin32):
$^X = /opt/perl/threads/5.16.1/bin/perl
$UID/$EUID = 1000 / 1000
$GID = 1000 4 24 27 30 46 112 113 1000
$EGID = 1000 4 24 27 30 46 112 113 1000
Perl module toolchain versions installed:
Module Have
------------------- --------
CPAN 1.99_51
CPAN::Meta 2.120921
Cwd 3.39_02
ExtUtils::CBuilder 0.280206
ExtUtils::Command 1.17
ExtUtils::Install 1.58
ExtUtils::MakeMaker 6.64
ExtUtils::Manifest 1.61
ExtUtils::ParseXS 3.18
File::Spec 3.39_02
JSON 2.53
JSON::PP 2.27200
Module::Build 0.4003
Module::Signature 0.70
Parse::CPAN::Meta 1.4404
Test::Harness 3.25
Test::More 0.98
YAML 0.84
YAML::Syck 1.22
version 0.9901
--
Summary of my perl5 (revision 5 version 16 subversion 1) configuration:
Platform:
osname=linux, osvers=3.2.0-31-virtual, archname=x86_64-linux-thread-multi
uname='linux cpansmoker 3.2.0-31-virtual #50-ubuntu smp fri sep 7 16:36:36 utc 2012 x86_64 x86_64 x86_64 gnulinux '
config_args='-des -Dprefix=/opt/perl/threads/5.16.1 -Dusethreads'
hint=recommended, useposix=true, d_sigaction=define
useithreads=define, usemultiplicity=define
useperlio=define, d_sfio=undef, uselargefiles=define, usesocks=undef
use64bitint=define, use64bitall=define, uselongdouble=undef
usemymalloc=n, bincompat5005=undef
Compiler:
cc='cc', ccflags ='-D_REENTRANT -D_GNU_SOURCE -fno-strict-aliasing -pipe -fstack-protector -I/usr/local/include -D_LARGEFILE_SOURCE -D_FILE_OFFSET_BITS=64',
optimize='-O2',
cppflags='-D_REENTRANT -D_GNU_SOURCE -fno-strict-aliasing -pipe -fstack-protector -I/usr/local/include'
ccversion='', gccversion='4.6.3', gccosandvers=''
intsize=4, longsize=8, ptrsize=8, doublesize=8, byteorder=12345678
d_longlong=define, longlongsize=8, d_longdbl=define, longdblsize=16
ivtype='long', ivsize=8, nvtype='double', nvsize=8, Off_t='off_t', lseeksize=8
alignbytes=8, prototype=define
Linker and Libraries:
ld='cc', ldflags =' -fstack-protector -L/usr/local/lib'
libpth=/usr/local/lib /lib/x86_64-linux-gnu /lib/../lib /usr/lib/x86_64-linux-gnu /usr/lib/../lib /lib /usr/lib
libs=-lnsl -lgdbm -ldb -ldl -lm -lcrypt -lutil -lpthread -lc -lgdbm_compat
perllibs=-lnsl -ldl -lm -lcrypt -lutil -lpthread -lc
libc=, so=so, useshrplib=false, libperl=libperl.a
gnulibc_version='2.15'
Dynamic Linking:
dlsrc=dl_dlopen.xs, dlext=so, d_dlsymun=undef, ccdlflags='-Wl,-E'
cccdlflags='-fPIC', lddlflags='-shared -O2 -L/usr/local/lib -fstack-protector'
Characteristics of this binary (from libperl):
Compile-time options: HAS_TIMES MULTIPLICITY PERLIO_LAYERS
PERL_DONT_CREATE_GVSV PERL_IMPLICIT_CONTEXT
PERL_MALLOC_WRAP PERL_PRESERVE_IVUV USE_64_BIT_ALL
USE_64_BIT_INT USE_ITHREADS USE_LARGE_FILES
USE_LOCALE USE_LOCALE_COLLATE USE_LOCALE_CTYPE
USE_LOCALE_NUMERIC USE_PERLIO USE_PERL_ATOF
USE_REENTRANT_API
Built under linux
Compiled at Oct 7 2012 11:59:52
%ENV:
PERL5LIB=""
PERL5OPT=""
PERL5_CPANPLUS_IS_RUNNING="21738"
PERL5_CPAN_IS_RUNNING="21738"
PERL5_CPAN_IS_RUNNING_IN_RECURSION="32115,21738"
PERL_CR_SMOKER_CURRENT="Test-MockDBI-0.70"
PERL_EXTUTILS_AUTOINSTALL="--defaultdeps"
PERL_MM_USE_DEFAULT="1"
@INC:
/opt/perl/threads/5.16.1/lib/site_perl/5.16.1/x86_64-linux-thread-multi
/opt/perl/threads/5.16.1/lib/site_perl/5.16.1
/opt/perl/threads/5.16.1/lib/5.16.1/x86_64-linux-thread-multi
/opt/perl/threads/5.16.1/lib/5.16.1
.