Log-Any-Adapter-FileHandle v0.010 Perl 5 v5.30.0 amd64-freebsd

Status
Pass
From
Nigel Horne
Dist
Log-Any-Adapter-FileHandle v0.010
Platform
Perl 5 v5.30.0 amd64-freebsd
Date
2019-11-21 11:20:03
ID
dd00cf8c-0c50-11ea-80e7-b93663a9c918
This distribution has been tested as part of the CPAN Testers
project, supporting the Perl programming language.  See
http://wiki.cpantesters.org/ for more information or email
questions to cpan-testers-discuss@perl.org


--
Dear Jason Rodrigues,

This is a computer-generated report for Log-Any-Adapter-FileHandle-0.010
on perl 5.30.0, created by CPAN-Reporter-1.2018.

Thank you for uploading your work to CPAN.  Congratulations!
All tests were successful.

Sections of this report:

    * Tester comments
    * Program output
    * Prerequisites
    * Environment and other context

------------------------------
TESTER COMMENTS
------------------------------

Additional comments from tester:

this report is from an automated smoke testing program
and was not reviewed by a human for accuracy

------------------------------
PROGRAM OUTPUT
------------------------------

Output from '/usr/bin/make test':

PERL_DL_NONLAZY=1 "/mnt/nas/home/netgate3/njh/perl5/perlbrew/perls/perl-5.30.0/bin/perl5.30.0" "-MExtUtils::Command::MM" "-MTest::Harness" "-e" "undef *Test::Harness::Switches; test_harness(0, 'blib/lib', 'blib/arch')" t/*.t
t/1-basic.t ............... ok
t/2-with-log-any.t ........ ok
t/3-synopsis.t ............ ok
t/release-pod-coverage.t .. skipped: these tests are for release candidate testing
t/release-pod-syntax.t .... skipped: these tests are for release candidate testing
All tests successful.
Files=5, Tests=35,  2 wallclock secs ( 0.16 usr  0.05 sys +  1.62 cusr  0.92 csys =  2.75 CPU)
Result: PASS

------------------------------
PREREQUISITES
------------------------------

Prerequisite modules loaded:

requires:

    Module              Need Have 
    ------------------- ---- -----
    IO::Handle          1.22 1.40 
    Log::Any            0.11 1.707
    Log::Any::Adapter   0.02 1.707

build_requires:

    Module              Need Have 
    ------------------- ---- -----
    ExtUtils::MakeMaker 0    7.34 
    IO::String          0    1.08 

configure_requires:

    Module              Need Have 
    ------------------- ---- -----
    ExtUtils::MakeMaker 0    7.34 


------------------------------
ENVIRONMENT AND OTHER CONTEXT
------------------------------

Environment variables:

    AUTOMATED_TESTING = 1
    HARNESS_OPTIONS = j2
    NONINTERACTIVE_TESTING = 1
    PATH = /home/njh/perl5/perlbrew/bin:/home/njh/perl5/perlbrew/perls/perl-5.30.0/bin:/home/njh/src/njh/smoker/bin:/sbin:/bin:/usr/sbin:/usr/bin:/usr/local/sbin:/usr/local/bin
    PERL5LIB = /var/tmp/build/Data-Visitor-0.30-0/blib/arch:/var/tmp/build/Data-Visitor-0.30-0/blib/lib:/var/tmp/build/Tie-ToObject-0.03-0/blib/arch:/var/tmp/build/Tie-ToObject-0.03-0/blib/lib:/var/tmp/build/Task-Weaken-1.06-0/blib/arch:/var/tmp/build/Task-Weaken-1.06-0/blib/lib:/var/tmp/build/Moose-2.2011-0/blib/arch:/var/tmp/build/Moose-2.2011-0/blib/lib:/var/tmp/build/Package-DeprecationManager-0.17-0/blib/arch:/var/tmp/build/Package-DeprecationManager-0.17-0/blib/lib:/var/tmp/build/Module-Runtime-Conflicts-0.003-0/blib/arch:/var/tmp/build/Module-Runtime-Conflicts-0.003-0/blib/lib:/var/tmp/build/Devel-OverloadInfo-0.005-0/blib/arch:/var/tmp/build/Devel-OverloadInfo-0.005-0/blib/lib:/var/tmp/build/Class-Load-XS-0.10-0/blib/arch:/var/tmp/build/Class-Load-XS-0.10-0/blib/lib:/var/tmp/build/Class-Load-0.25-0/blib/arch:/var/tmp/build/Class-Load-0.25-0/blib/lib
    PERL5OPT = 
    PERL5_CPANPLUS_IS_RUNNING = 92885
    PERL5_CPAN_IS_RUNNING = 92885
    PERL5_CPAN_IS_RUNNING_IN_RECURSION = 91838,92885
    PERLBREW_HOME = /home/njh/.perlbrew
    PERLBREW_MANPATH = /home/njh/perl5/perlbrew/perls/perl-5.30.0/man
    PERLBREW_PATH = /home/njh/perl5/perlbrew/bin:/home/njh/perl5/perlbrew/perls/perl-5.30.0/bin
    PERLBREW_PERL = perl-5.30.0
    PERLBREW_ROOT = /home/njh/perl5/perlbrew
    PERLBREW_SHELLRC_VERSION = 0.87
    PERLBREW_VERSION = 0.87
    PERL_MM_USE_DEFAULT = 1
    PERL_USE_UNSAFE_INC = 1
    SHELL = /bin/sh
    TMPDIR = /tmp/testwrapper.91963

Perl special variables (and OS-specific diagnostics, for MSWin32):

    $^X = /mnt/nas/home/netgate3/njh/perl5/perlbrew/perls/perl-5.30.0/bin/perl5.30.0
    $UID/$EUID = 1000 / 1000
    $GID = 1000 1000 0
    $EGID = 1000 1000 0

Perl module toolchain versions installed:

    Module              Have    
    ------------------- --------
    CPAN                2.27    
    CPAN::Meta          2.150010
    Cwd                 3.78    
    ExtUtils::CBuilder  0.280231
    ExtUtils::Command   7.34    
    ExtUtils::Install   2.14    
    ExtUtils::MakeMaker 7.34    
    ExtUtils::Manifest  1.72    
    ExtUtils::ParseXS   3.40    
    File::Spec          3.78    
    JSON                4.02    
    JSON::PP            4.04    
    Module::Build       0.4229  
    Module::Signature   n/a     
    Parse::CPAN::Meta   2.150010
    Test::Harness       3.42    
    Test::More          1.302168
    YAML                1.29    
    YAML::Syck          1.31    
    version             0.9924  


--

Summary of my perl5 (revision 5 version 30 subversion 0) configuration:
   
  Platform:
    osname=freebsd
    osvers=11.2-release-p9
    archname=amd64-freebsd
    uname='freebsd netgate3 11.2-release-p9 freebsd 11.2-release-p9 #0: tue feb 5 15:30:36 utc 2019 root@amd64-builder.daemonology.net:usrobjusrsrcsysgeneric amd64 '
    config_args='-de -Dprefix=/home/njh/perl5/perlbrew/perls/perl-5.30.0 -Dusedevel -Accflags= -Aeval:scriptdir=/home/njh/perl5/perlbrew/perls/perl-5.30.0/bin'
    hint=recommended
    useposix=true
    d_sigaction=define
    useithreads=undef
    usemultiplicity=undef
    use64bitint=define
    use64bitall=define
    uselongdouble=undef
    usemymalloc=n
    default_inc_excludes_dot=define
    bincompat5005=undef
  Compiler:
    cc='cc'
    ccflags ='-DHAS_FPSETMASK -DHAS_FLOATINGPOINT_H -fno-strict-aliasing -pipe -fstack-protector-strong -I/usr/local/include -D_FORTIFY_SOURCE=2'
    optimize='-O2'
    cppflags='-DHAS_FPSETMASK -DHAS_FLOATINGPOINT_H -fno-strict-aliasing -pipe -fstack-protector-strong -I/usr/local/include'
    ccversion=''
    gccversion='4.2.1 Compatible FreeBSD Clang 6.0.0 (tags/RELEASE_600/final 326565)'
    gccosandvers=''
    intsize=4
    longsize=8
    ptrsize=8
    doublesize=8
    byteorder=12345678
    doublekind=3
    d_longlong=define
    longlongsize=8
    d_longdbl=define
    longdblsize=16
    longdblkind=3
    ivtype='long'
    ivsize=8
    nvtype='double'
    nvsize=8
    Off_t='off_t'
    lseeksize=8
    alignbytes=8
    prototype=define
  Linker and Libraries:
    ld='cc'
    ldflags ='-Wl,-E  -fstack-protector-strong -L/usr/local/lib'
    libpth=/usr/lib /usr/local/lib /usr/lib/clang/6.0.0/lib /usr/lib
    libs=-lpthread -lgdbm -ldl -lm -lcrypt -lutil -lc
    perllibs=-lpthread -ldl -lm -lcrypt -lutil -lc
    libc=
    so=so
    useshrplib=false
    libperl=libperl.a
    gnulibc_version=''
  Dynamic Linking:
    dlsrc=dl_dlopen.xs
    dlext=so
    d_dlsymun=undef
    ccdlflags=' '
    cccdlflags='-DPIC -fPIC'
    lddlflags='-shared  -L/usr/local/lib -fstack-protector-strong'


Characteristics of this binary (from libperl): 
  Compile-time options:
    HAS_TIMES
    PERLIO_LAYERS
    PERL_COPY_ON_WRITE
    PERL_DONT_CREATE_GVSV
    PERL_MALLOC_WRAP
    PERL_OP_PARENT
    PERL_PRESERVE_IVUV
    PERL_USE_DEVEL
    USE_64_BIT_ALL
    USE_64_BIT_INT
    USE_LARGE_FILES
    USE_LOCALE
    USE_LOCALE_COLLATE
    USE_LOCALE_CTYPE
    USE_LOCALE_NUMERIC
    USE_LOCALE_TIME
    USE_PERLIO
    USE_PERL_ATOF
  Locally applied patches:
    Devel::PatchPerl 1.52
  Built under freebsd
  Compiled at May 24 2019 00:39:20
  %ENV:
    PERL5LIB="/var/tmp/build/Data-Visitor-0.30-0/blib/arch:/var/tmp/build/Data-Visitor-0.30-0/blib/lib:/var/tmp/build/Tie-ToObject-0.03-0/blib/arch:/var/tmp/build/Tie-ToObject-0.03-0/blib/lib:/var/tmp/build/Task-Weaken-1.06-0/blib/arch:/var/tmp/build/Task-Weaken-1.06-0/blib/lib:/var/tmp/build/Moose-2.2011-0/blib/arch:/var/tmp/build/Moose-2.2011-0/blib/lib:/var/tmp/build/Package-DeprecationManager-0.17-0/blib/arch:/var/tmp/build/Package-DeprecationManager-0.17-0/blib/lib:/var/tmp/build/Module-Runtime-Conflicts-0.003-0/blib/arch:/var/tmp/build/Module-Runtime-Conflicts-0.003-0/blib/lib:/var/tmp/build/Devel-OverloadInfo-0.005-0/blib/arch:/var/tmp/build/Devel-OverloadInfo-0.005-0/blib/lib:/var/tmp/build/Class-Load-XS-0.10-0/blib/arch:/var/tmp/build/Class-Load-XS-0.10-0/blib/lib:/var/tmp/build/Class-Load-0.25-0/blib/arch:/var/tmp/build/Class-Load-0.25-0/blib/lib"
    PERL5OPT=""
    PERL5_CPANPLUS_IS_RUNNING="92885"
    PERL5_CPAN_IS_RUNNING="92885"
    PERL5_CPAN_IS_RUNNING_IN_RECURSION="91838,92885"
    PERLBREW_HOME="/home/njh/.perlbrew"
    PERLBREW_MANPATH="/home/njh/perl5/perlbrew/perls/perl-5.30.0/man"
    PERLBREW_PATH="/home/njh/perl5/perlbrew/bin:/home/njh/perl5/perlbrew/perls/perl-5.30.0/bin"
    PERLBREW_PERL="perl-5.30.0"
    PERLBREW_ROOT="/home/njh/perl5/perlbrew"
    PERLBREW_SHELLRC_VERSION="0.87"
    PERLBREW_VERSION="0.87"
    PERL_MM_USE_DEFAULT="1"
    PERL_USE_UNSAFE_INC="1"
  @INC:
    /var/tmp/build/Data-Visitor-0.30-0/blib/arch
    /var/tmp/build/Data-Visitor-0.30-0/blib/lib
    /var/tmp/build/Tie-ToObject-0.03-0/blib/arch
    /var/tmp/build/Tie-ToObject-0.03-0/blib/lib
    /var/tmp/build/Task-Weaken-1.06-0/blib/arch
    /var/tmp/build/Task-Weaken-1.06-0/blib/lib
    /var/tmp/build/Moose-2.2011-0/blib/arch
    /var/tmp/build/Moose-2.2011-0/blib/lib
    /var/tmp/build/Package-DeprecationManager-0.17-0/blib/arch
    /var/tmp/build/Package-DeprecationManager-0.17-0/blib/lib
    /var/tmp/build/Module-Runtime-Conflicts-0.003-0/blib/arch
    /var/tmp/build/Module-Runtime-Conflicts-0.003-0/blib/lib
    /var/tmp/build/Devel-OverloadInfo-0.005-0/blib/arch
    /var/tmp/build/Devel-OverloadInfo-0.005-0/blib/lib
    /var/tmp/build/Class-Load-XS-0.10-0/blib/arch
    /var/tmp/build/Class-Load-XS-0.10-0/blib/lib
    /var/tmp/build/Class-Load-0.25-0/blib/arch
    /var/tmp/build/Class-Load-0.25-0/blib/lib
    /home/njh/perl5/perlbrew/perls/perl-5.30.0/lib/site_perl/5.30.0/amd64-freebsd
    /home/njh/perl5/perlbrew/perls/perl-5.30.0/lib/site_perl/5.30.0
    /home/njh/perl5/perlbrew/perls/perl-5.30.0/lib/5.30.0/amd64-freebsd
    /home/njh/perl5/perlbrew/perls/perl-5.30.0/lib/5.30.0
    .