Report for AI-Categorizer-0.09

Back
From: metabase:user:b53c7f44-4c0e-11e4-9ced-a04ade49192c
Subject: PASS AI-Categorizer-0.09 v5.8.8 GNU/Linux
Date: 2014-11-15T13:46:56Z

This distribution has been tested as part of the CPAN Testers
project, supporting the Perl programming language.  See
http://wiki.cpantesters.org/ for more information or email
questions to cpan-testers-discuss@perl.org


--
Dear Ken Williams,

This is a computer-generated report for AI-Categorizer-0.09
on perl 5.8.8, created by CPAN-Reporter-1.2011.

Thank you for uploading your work to CPAN.  Congratulations!
All tests were successful.

Sections of this report:

    * Tester comments
    * Program output
    * Prerequisites
    * Environment and other context

------------------------------
TESTER COMMENTS
------------------------------

Additional comments from tester:

this report is from an automated smoke testing program
and was not reviewed by a human for accuracy

------------------------------
PROGRAM OUTPUT
------------------------------

Output from '/usr/bin/make test':

/opt/perl430-27-O0-5.8.8/bin/perl Build --makefile_env_macros 1 test
t/01-naive_bayes.t ..... ok
t/02-experiment.t ...... ok
t/03-weka.t ............ skipped: Weka is not installed
t/04-decision_tree.t ... skipped: AI::DecisionTree 0.06 not installed
t/05-svm.t ............. skipped: Algorithm::SVM not installed
t/06-knn.t ............. ok
t/07-guesser.t ......... ok
t/09-rocchio.t ......... ok
t/10-tools.t ........... ok
t/11-feature_vector.t .. ok
t/12-hypothesis.t ...... ok
t/13-document.t ........ ok
t/14-collection.t ...... ok
t/15-knowledge_set.t ... ok
All tests successful.
Files=14, Tests=200,  5 wallclock secs ( 0.29 usr  0.06 sys +  3.06 cusr  0.38 csys =  3.79 CPU)
Result: PASS

------------------------------
PREREQUISITES
------------------------------

Prerequisite modules loaded:

requires:

    Module                  Need   Have    
    ----------------------- ------ --------
    Class::Container        0.09   0.12    
    File::Spec              0      3.47    
    Lingua::Stem            0.5    0.84    
    Params::Validate        0.18   1.13    
    perl                    v5.6.0 5.008008
    Statistics::Contingency 0.06   0.09    
    Storable                0      2.51    

build_requires:

    Module                  Need   Have    
    ----------------------- ------ --------
    Module::Build           0.2    0.4210  

opt_requires:

    Module                  Need   Have    
    ----------------------- ------ --------
  ! AI::DecisionTree        0.06   n/a     
    Algorithm::NaiveBayes   0      0.04    
  ! Algorithm::SVM          0.06   n/a     
    Scalar::Util            0      1.41    
  ! Time::Progress          1.1    n/a     


------------------------------
ENVIRONMENT AND OTHER CONTEXT
------------------------------

Environment variables:

    AUTOMATED_TESTING = 1
    LANG = en_US.utf8
    NONINTERACTIVE_TESTING = 1
    PATH = /usr/lib/qt-3.3/bin:/usr/kerberos/sbin:/usr/kerberos/bin:/usr/lib/ccache:/usr/local/sbin:/usr/sbin:/sbin:/usr/local/bin:/usr/bin:/bin:/opt/real/RealPlayer:/root/bin:/opt/real/RealPlayer
    PERL5LIB = 
    PERL5OPT = 
    PERL5_CPANPLUS_IS_RUNNING = 6508
    PERL5_CPAN_IS_RUNNING = 6508
    PERL_MM_USE_DEFAULT = 1
    SHELL = /bin/bash
    TERM = xterm

Perl special variables (and OS-specific diagnostics, for MSWin32):

    $^X = /opt/perl430-27-O0-5.8.8/bin/perl
    $UID/$EUID = 0 / 0
    $GID = 0 10 6 4 3 2 1 0
    $EGID = 0 10 6 4 3 2 1 0

Perl module toolchain versions installed:

    Module              Have    
    ------------------- --------
    CPAN                2.05    
    CPAN::Meta          2.142690
    Cwd                 3.47    
    ExtUtils::CBuilder  0.280220
    ExtUtils::Command   1.18    
    ExtUtils::Install   2.04    
    ExtUtils::MakeMaker 7.02    
    ExtUtils::Manifest  1.68    
    ExtUtils::ParseXS   3.24    
    File::Spec          3.47    
    JSON                2.90    
    JSON::PP            2.27300 
    Module::Build       0.4210  
    Module::Signature   0.73    
    Parse::CPAN::Meta   1.4414  
    Test::Harness       3.34    
    Test::More          1.001009
    YAML                1.13    
    YAML::Syck          1.27    
    version             0.9909  


--

Summary of my perl5 (revision 5 version 8 subversion 8) configuration:
  Platform:
    osname=linux, osvers=2.6.27.25-78.2.56.fc9.i686, archname=i686-linux-thread-multi-64int-ld
    uname='linux localhost.localdomain 2.6.27.25-78.2.56.fc9.i686 #1 smp thu jun 18 12:47:50 edt 2009 i686 i686 i386 gnulinux '
    config_args='-Dcc=gcc -Dprefix=/opt/perl430-27-O0-5.8.8 -DDEBUGGING'
    hint=recommended, useposix=true, d_sigaction=define
    usethreads=define use5005threads=undef useithreads=define usemultiplicity=define
    useperlio=define d_sfio=undef uselargefiles=define usesocks=undef
    use64bitint=define use64bitall=undef uselongdouble=define
    usemymalloc=y, bincompat5005=undef
  Compiler:
    cc='gcc', ccflags ='-D_REENTRANT -D_GNU_SOURCE -DTHREADS_HAVE_PIDS -fno-strict-aliasing -pipe -Wdeclaration-after-statement -I/usr/local/include -D_LARGEFILE_SOURCE -D_FILE_OFFSET_BITS=64 -I/usr/include/gdbm',
    optimize='-O0',
    cppflags='-D_REENTRANT -D_GNU_SOURCE -DTHREADS_HAVE_PIDS -fno-strict-aliasing -pipe -Wdeclaration-after-statement -I/usr/local/include -I/usr/include/gdbm'
    ccversion='', gccversion='4.3.0 20080428 (Red Hat 4.3.0-8)', gccosandvers=''
    intsize=4, longsize=4, ptrsize=4, doublesize=8, byteorder=12345678
    d_longlong=define, longlongsize=8, d_longdbl=define, longdblsize=12
    ivtype='long long', ivsize=8, nvtype='long double', nvsize=12, Off_t='off_t', lseeksize=8
    alignbytes=4, prototype=define
  Linker and Libraries:
    ld='gcc', ldflags =' -L/usr/local/lib'
    libpth=/usr/local/lib /lib /usr/lib
    libs=-lnsl -lgdbm -ldb -ldl -lm -lcrypt -lutil -lpthread -lc
    perllibs=-lnsl -ldl -lm -lcrypt -lutil -lpthread -lc
    libc=/lib/libc-2.8.so, so=so, useshrplib=true, libperl=libperl.so
    gnulibc_version='2.8'
  Dynamic Linking:
    dlsrc=dl_dlopen.xs, dlext=so, d_dlsymun=undef, ccdlflags='-Wl,-E -Wl,-rpath,/opt/perl430-27-O0-5.8.8/lib/5.8.8/i686-linux-thread-multi-64int-ld/CORE'
    cccdlflags='-fpic', lddlflags='-shared -L/usr/local/lib'


Characteristics of this binary (from libperl): 
  Compile-time options: MULTIPLICITY MYMALLOC PERL_IMPLICIT_CONTEXT
                        PERL_MALLOC_WRAP THREADS_HAVE_PIDS USE_64_BIT_INT
                        USE_ITHREADS USE_LARGE_FILES USE_LONG_DOUBLE
                        USE_PERLIO USE_REENTRANT_API
  Built under linux
  Compiled at Oct  7 2014 11:41:24
  %ENV:
    PERL5LIB=""
    PERL5OPT=""
    PERL5_CPANPLUS_IS_RUNNING="6508"
    PERL5_CPAN_IS_RUNNING="6508"
    PERL_MM_USE_DEFAULT="1"
  @INC:
    /opt/perl430-27-O0-5.8.8/lib/5.8.8/i686-linux-thread-multi-64int-ld
    /opt/perl430-27-O0-5.8.8/lib/5.8.8
    /opt/perl430-27-O0-5.8.8/lib/site_perl/5.8.8/i686-linux-thread-multi-64int-ld
    /opt/perl430-27-O0-5.8.8/lib/site_perl/5.8.8
    /opt/perl430-27-O0-5.8.8/lib/site_perl
    .