Back
From: metabase:user:32904986-c427-11df-a07f-b497e104d833
Subject: PASS Search-Elasticsearch-Client-1_0-5.02 v5.18.2 Mac OS X
Date: 2017-04-04T05:45:09Z
This distribution has been tested as part of the CPAN Testers
project, supporting the Perl programming language. See
http://wiki.cpantesters.org/ for more information or email
questions to cpan-testers-discuss@perl.org
--
Dear Clinton Gormley,
This is a computer-generated report for Search-Elasticsearch-Client-1_0-5.02
on perl 5.18.2, created by CPAN-Reporter-1.2018.
Thank you for uploading your work to CPAN. Congratulations!
All tests were successful.
Sections of this report:
* Tester comments
* Program output
* Prerequisites
* Environment and other context
------------------------------
TESTER COMMENTS
------------------------------
Additional comments from tester:
none provided
------------------------------
PROGRAM OUTPUT
------------------------------
Output from '/usr/bin/make test':
PERL_DL_NONLAZY=1 "/usr/bin/perl" "-MExtUtils::Command::MM" "-MTest::Harness" "-e" "undef *Test::Harness::Switches; test_harness(0, 'blib/lib', 'blib/arch')" t/*.t t/Client_1_0/*.t
t/author-eol.t ..................... skipped: these tests are for testing by the author
t/author-no-tabs.t ................. skipped: these tests are for testing by the author
t/author-pod-syntax.t .............. skipped: these tests are for testing by the author
t/Client_1_0/00_print_version.t .... skipped: No Elasticsearch test node available
t/Client_1_0/10_live.t ............. skipped: No Elasticsearch test node available
t/Client_1_0/15_conflict.t ......... skipped: No Elasticsearch test node available
t/Client_1_0/20_fork_httptiny.t .... skipped: No Elasticsearch test node available
t/Client_1_0/21_fork_lwp.t ......... skipped: No Elasticsearch test node available
t/Client_1_0/22_fork_hijk.t ........ skipped: No Elasticsearch test node available
t/Client_1_0/30_bulk_add_action.t .. skipped: No Elasticsearch test node available
t/Client_1_0/31_bulk_helpers.t ..... skipped: No Elasticsearch test node available
t/Client_1_0/32_bulk_flush.t ....... skipped: No Elasticsearch test node available
t/Client_1_0/33_bulk_errors.t ...... skipped: No Elasticsearch test node available
t/Client_1_0/34_bulk_cxn_errors.t .. ok
t/Client_1_0/40_scroll.t ........... skipped: No Elasticsearch test node available
t/Client_1_0/50_reindex.t .......... skipped: No Elasticsearch test node available
t/Client_1_0/60_auth_httptiny.t .... skipped: HTTPTiny - No https server specified in ES_SSL
t/Client_1_0/61_auth_lwp.t ......... skipped: LWP - No https server specified in ES_SSL
All tests successful.
Files=18, Tests=3, 3 wallclock secs ( 0.06 usr 0.03 sys + 1.07 cusr 0.15 csys = 1.31 CPU)
Result: PASS
------------------------------
PREREQUISITES
------------------------------
Prerequisite modules loaded:
requires:
Module Need Have
------------------------------------------- ---- --------
Devel::GlobalDestruction 0 0.14
Moo 0 2.003002
Moo::Role 0 2.003002
namespace::clean 0 0.27
Search::Elasticsearch 5.02 5.02
Search::Elasticsearch::Role::API 0 5.02
Search::Elasticsearch::Role::Client::Direct 0 5.02
Search::Elasticsearch::Role::Is_Sync 0 5.02
Search::Elasticsearch::Util 0 5.02
strict 0 1.07
Try::Tiny 0 0.28
warnings 0 1.18
build_requires:
Module Need Have
------------------------------------------- ---- --------
Data::Dumper 0 2.161
ExtUtils::MakeMaker 0 7.24
IO::Socket::SSL 0 2.047
lib 0 0.63
Log::Any::Adapter 0 1.049
Log::Any::Adapter::Callback 0.09 0.09
POSIX 0 1.32
Search::Elasticsearch::Role::Cxn 0 5.02
Sub::Exporter 0 0.987
Test::Deep 0 1.126
Test::Exception 0 0.43
Test::More 0.98 1.302078
------------------------------
ENVIRONMENT AND OTHER CONTEXT
------------------------------
Environment variables:
LC_CTYPE = UTF-8
PATH = /usr/local/bin:/usr/bin:/bin:/usr/sbin:/sbin:/opt/X11/bin:/usr/local/MacGPG2/bin
PERL5LIB =
PERL5OPT =
PERL5_CPANPLUS_IS_RUNNING = 17353
PERL5_CPAN_IS_RUNNING = 17353
SHELL = /bin/bash
TERM = xterm-256color
TMPDIR = /var/folders/c5/867l5h614bs44szg7g2t48fr0000gn/T/
VERSIONER_PERL_PREFER_32_BIT = no
VERSIONER_PERL_VERSION = 5.18
Perl special variables (and OS-specific diagnostics, for MSWin32):
$^X = /usr/bin/perl
$UID/$EUID = 501 / 501
$GID = 20 20 401 12 61 79 80 81 98 402 33 100 204 395 398 399
$EGID = 20 20 401 12 61 79 80 81 98 402 33 100 204 395 398 399
Perl module toolchain versions installed:
Module Have
------------------- --------
CPAN 2.10
CPAN::Meta 2.150010
Cwd 3.62
ExtUtils::CBuilder 0.280224
ExtUtils::Command 7.24
ExtUtils::Install 2.04
ExtUtils::MakeMaker 7.24
ExtUtils::Manifest 1.70
ExtUtils::ParseXS 3.30
File::Spec 3.62
JSON 2.90
JSON::PP 2.27400
Module::Build 0.4222
Module::Signature 0.81
Parse::CPAN::Meta 2.150010
Test::Harness 3.38
Test::More 1.302078
YAML 1.23
YAML::Syck 1.29
version 0.9917
--
Summary of my perl5 (revision 5 version 18 subversion 2) configuration:
Platform:
osname=darwin, osvers=16.0, archname=darwin-thread-multi-2level
uname='darwin osx338.sd.apple.com 16.0 darwin kernel version 15.0.0: wed jun 22 17:57:08 pdt 2016; root:xnu-3247.1.106.2.9~1development_x86_64 x86_64 '
config_args='-ds -e -Dprefix=/usr -Dccflags=-g -pipe -Dldflags= -Dman3ext=3pm -Duseithreads -Duseshrplib -Dinc_version_list=none -Dcc=cc'
hint=recommended, useposix=true, d_sigaction=define
useithreads=define, usemultiplicity=define
useperlio=define, d_sfio=undef, uselargefiles=define, usesocks=undef
use64bitint=define, use64bitall=define, uselongdouble=undef
usemymalloc=n, bincompat5005=undef
Compiler:
cc='cc', ccflags ='-arch i386 -arch x86_64 -g -pipe -fno-common -DPERL_DARWIN -fno-strict-aliasing -fstack-protector',
optimize='-Os',
cppflags='-g -pipe -fno-common -DPERL_DARWIN -fno-strict-aliasing -fstack-protector'
ccversion='', gccversion='4.2.1 Compatible Apple LLVM 8.0.0 (clang-800.0.34)', gccosandvers=''
intsize=4, longsize=8, ptrsize=8, doublesize=8, byteorder=12345678
d_longlong=define, longlongsize=8, d_longdbl=define, longdblsize=16
ivtype='long', ivsize=8, nvtype='double', nvsize=8, Off_t='off_t', lseeksize=8
alignbytes=8, prototype=define
Linker and Libraries:
ld='cc -mmacosx-version-min=10.12.4', ldflags ='-arch i386 -arch x86_64 -fstack-protector'
libpth=/usr/lib /usr/local/lib
libs=
perllibs=
libc=, so=dylib, useshrplib=true, libperl=libperl.dylib
gnulibc_version=''
Dynamic Linking:
dlsrc=dl_dlopen.xs, dlext=bundle, d_dlsymun=undef, ccdlflags=' '
cccdlflags=' ', lddlflags='-arch i386 -arch x86_64 -bundle -undefined dynamic_lookup -fstack-protector'
Characteristics of this binary (from libperl):
Compile-time options: HAS_TIMES MULTIPLICITY PERLIO_LAYERS
PERL_DONT_CREATE_GVSV
PERL_HASH_FUNC_ONE_AT_A_TIME_HARD
PERL_IMPLICIT_CONTEXT PERL_MALLOC_WRAP
PERL_PRESERVE_IVUV PERL_SAWAMPERSAND USE_64_BIT_ALL
USE_64_BIT_INT USE_ITHREADS USE_LARGE_FILES
USE_LOCALE USE_LOCALE_COLLATE USE_LOCALE_CTYPE
USE_LOCALE_NUMERIC USE_PERLIO USE_PERL_ATOF
USE_REENTRANT_API
Locally applied patches:
/Library/Perl/Updates/<version> comes before system perl directories
installprivlib and installarchlib points to the Updates directory
Built under darwin
Compiled at Feb 6 2017 22:13:46
%ENV:
PERL5LIB=""
PERL5OPT=""
PERL5_CPANPLUS_IS_RUNNING="17353"
PERL5_CPAN_IS_RUNNING="17353"
@INC:
/Library/Perl/5.18/darwin-thread-multi-2level
/Library/Perl/5.18
/Network/Library/Perl/5.18/darwin-thread-multi-2level
/Network/Library/Perl/5.18
/Library/Perl/Updates/5.18.2/darwin-thread-multi-2level
/Library/Perl/Updates/5.18.2
/System/Library/Perl/5.18/darwin-thread-multi-2level
/System/Library/Perl/5.18
/System/Library/Perl/Extras/5.18/darwin-thread-multi-2level
/System/Library/Perl/Extras/5.18
.