Back
From: metabase:user:a0e144f2-373b-11e6-8edd-c6848980b093
Subject: PASS Shell-Guess-0.06 v5.24.1 RC4 GNU/Linux
Date: 2016-10-17T23:46:03Z
This distribution has been tested as part of the CPAN Testers
project, supporting the Perl programming language. See
http://wiki.cpantesters.org/ for more information or email
questions to cpan-testers-discuss@perl.org
--
Dear Graham Ollis,
This is a computer-generated report for Shell-Guess-0.06
on perl 5.24.1, created by CPAN-Reporter-1.2018.
Thank you for uploading your work to CPAN. Congratulations!
All tests were successful.
Sections of this report:
* Tester comments
* Program output
* Prerequisites
* Environment and other context
------------------------------
TESTER COMMENTS
------------------------------
Additional comments from tester:
this report is from an automated smoke testing program
and was not reviewed by a human for accuracy
------------------------------
PROGRAM OUTPUT
------------------------------
Output from './Build test':
Useless use of getppid in void context at inc/My/ModuleBuild.pm line 12.
#
#
#
# HARNESS_ACTIVE=1
# HARNESS_OPTIONS=
# HARNESS_VERSION=3.36_01
# LANG=en_US.UTF-8
# PERL5LIB=/home/cpan4/.cpan/build/Shell-Guess-0.06-pKCSX6/blib/lib:/home/cpan4/.cpan/build/Shell-Guess-0.06-pKCSX6/blib/arch:inc:
# PERL5OPT=
# PERL5_CPANPLUS_IS_RUNNING=31328
# PERL5_CPAN_IS_RUNNING=31328
# PERL5_CPAN_IS_RUNNING_IN_RECURSION=31291,31328
# PERLBREW_BASHRC_VERSION=0.76
# PERLBREW_HOME=/home/dcollins/.perlbrew
# PERLBREW_ROOT=/home/dcollins/toolchain/perl5
# PERL_CR_SMOKER_CURRENT=App-MatrixTool-0.06
# PERL_CR_SMOKER_RUNONCE=1
# PERL_DL_NONLAZY=1
# PERL_EXTUTILS_AUTOINSTALL=--defaultdeps
# PERL_MM_USE_DEFAULT=1
# SHELL=/bin/bash
#
#
#
# PERL5LIB path
# /home/cpan4/.cpan/build/Shell-Guess-0.06-pKCSX6/blib/lib
# /home/cpan4/.cpan/build/Shell-Guess-0.06-pKCSX6/blib/arch
# inc
#
#
#
# perl v5.24.1
# Module::Build 0.422
# Test::More 1.302059
# Unix::Process -
# Win32::Getppid -
# Win32::Process::List -
#
#
#
t/00_diag.t ........ ok
t/guess_login.t .... ok
t/os_dos.t ......... skipped: DOS only test
t/os_proc.t ........ skipped: test requires c shell in /bin/csh
t/guess_running.t .. ok
t/os_win32.t ....... skipped: windows only test
t/os_vms.t ......... skipped: VMS only test
t/shell_bash.t ..... ok
t/shell_c.t ........ ok
t/shell_bourne.t ... ok
t/shell_cmd.t ...... ok
t/shell_command.t .. ok
t/shell_dcl.t ...... ok
t/shell_fish.t ..... ok
t/shell_korn.t ..... ok
t/shell_power.t .... ok
t/shell_tc.t ....... ok
t/shell_z.t ........ ok
t/use.t ............ ok
All tests successful.
Files=19, Tests=182, 0 wallclock secs ( 0.10 usr 0.02 sys + 1.87 cusr 0.07 csys = 2.06 CPU)
Result: PASS
------------------------------
PREREQUISITES
------------------------------
Prerequisite modules loaded:
requires:
Module Need Have
------------- ----- --------
perl 5.006 5.024001
build_requires:
Module Need Have
------------- ----- --------
Module::Build 0.28 0.4220
perl 5.006 5.024001
Test::More 0.94 1.302059
configure_requires:
Module Need Have
------------- ----- --------
Module::Build 0.28 0.4220
perl 5.006 5.024001
------------------------------
ENVIRONMENT AND OTHER CONTEXT
------------------------------
Environment variables:
AUTOMATED_TESTING = 1
HARNESS_OPTIONS = j5
LANG = en_US.UTF-8
PATH = /usr/local/bin:/usr/bin:/bin:/usr/local/games:/usr/games
PERL5LIB =
PERL5OPT =
PERL5_CPANPLUS_IS_RUNNING = 31328
PERL5_CPAN_IS_RUNNING = 31328
PERL5_CPAN_IS_RUNNING_IN_RECURSION = 31291,31328
PERLBREW_BASHRC_VERSION = 0.76
PERLBREW_HOME = /home/dcollins/.perlbrew
PERLBREW_ROOT = /home/dcollins/toolchain/perl5
PERL_CR_SMOKER_CURRENT = App-MatrixTool-0.06
PERL_CR_SMOKER_RUNONCE = 1
PERL_EXTUTILS_AUTOINSTALL = --defaultdeps
PERL_MM_USE_DEFAULT = 1
SHELL = /bin/bash
TERM = putty
Perl special variables (and OS-specific diagnostics, for MSWin32):
$^X = /home/cpan4/install/bin/perl
$UID/$EUID = 1005 / 1005
$GID = 1005 1005
$EGID = 1005 1005
Perl module toolchain versions installed:
Module Have
------------------- ----------
CPAN 2.11_01
CPAN::Meta 2.150005
Cwd 3.63_01
ExtUtils::CBuilder 0.280225
ExtUtils::Command 7.24
ExtUtils::Install 2.04
ExtUtils::MakeMaker 7.24
ExtUtils::Manifest 1.70
ExtUtils::ParseXS 3.31
File::Spec 3.63_01
JSON 2.90
JSON::PP 2.27300_01
Module::Build 0.4220
Module::Signature 0.81
Parse::CPAN::Meta 1.4417_001
Test::Harness 3.36_01
Test::More 1.302059
YAML 1.18
YAML::Syck 1.29
version 0.9916
--
Summary of my perl5 (revision 5 version 24 subversion 1) configuration:
Platform:
osname=linux, osvers=3.16.0-4-amd64, archname=x86_64-linux-thread-multi
uname='linux digitalis 3.16.0-4-amd64 #1 smp debian 3.16.36-1+deb8u1 (2016-09-03) x86_64 gnulinux '
config_args='-Dusedevel -DDEBUGGING -Dusethreads -Dprefix=/home/cpan4/install -Uversiononly -des'
hint=recommended, useposix=true, d_sigaction=define
useithreads=define, usemultiplicity=define
use64bitint=define, use64bitall=define, uselongdouble=undef
usemymalloc=n, bincompat5005=undef
Compiler:
cc='cc', ccflags ='-D_REENTRANT -D_GNU_SOURCE -fwrapv -DDEBUGGING -fno-strict-aliasing -pipe -fstack-protector-strong -I/usr/local/include -D_LARGEFILE_SOURCE -D_FILE_OFFSET_BITS=64 -D_FORTIFY_SOURCE=2',
optimize='-O2 -g',
cppflags='-D_REENTRANT -D_GNU_SOURCE -fwrapv -DDEBUGGING -fno-strict-aliasing -pipe -fstack-protector-strong -I/usr/local/include'
ccversion='', gccversion='4.9.2', gccosandvers=''
intsize=4, longsize=8, ptrsize=8, doublesize=8, byteorder=12345678, doublekind=3
d_longlong=define, longlongsize=8, d_longdbl=define, longdblsize=16, longdblkind=3
ivtype='long', ivsize=8, nvtype='double', nvsize=8, Off_t='off_t', lseeksize=8
alignbytes=8, prototype=define
Linker and Libraries:
ld='cc', ldflags =' -fstack-protector-strong -L/usr/local/lib'
libpth=/usr/local/lib /usr/lib/gcc/x86_64-linux-gnu/4.9/include-fixed /usr/include/x86_64-linux-gnu /usr/lib /lib/x86_64-linux-gnu /lib/../lib /usr/lib/x86_64-linux-gnu /usr/lib/../lib /lib
libs=-lpthread -lnsl -ldl -lm -lcrypt -lutil -lc
perllibs=-lpthread -lnsl -ldl -lm -lcrypt -lutil -lc
libc=libc-2.19.so, so=so, useshrplib=false, libperl=libperl.a
gnulibc_version='2.19'
Dynamic Linking:
dlsrc=dl_dlopen.xs, dlext=so, d_dlsymun=undef, ccdlflags='-Wl,-E'
cccdlflags='-fPIC', lddlflags='-shared -O2 -g -L/usr/local/lib -fstack-protector-strong'
Characteristics of this binary (from libperl):
Compile-time options: DEBUGGING HAS_TIMES MULTIPLICITY PERLIO_LAYERS
PERL_COPY_ON_WRITE PERL_DONT_CREATE_GVSV
PERL_HASH_FUNC_ONE_AT_A_TIME_HARD
PERL_IMPLICIT_CONTEXT PERL_MALLOC_WRAP
PERL_PRESERVE_IVUV PERL_TRACK_MEMPOOL PERL_USE_DEVEL
USE_64_BIT_ALL USE_64_BIT_INT USE_ITHREADS
USE_LARGE_FILES USE_LOCALE USE_LOCALE_COLLATE
USE_LOCALE_CTYPE USE_LOCALE_NUMERIC USE_LOCALE_TIME
USE_PERLIO USE_PERL_ATOF USE_REENTRANT_API
Locally applied patches:
RC4
Built under linux
Compiled at Oct 12 2016 18:25:36
%ENV:
PERL5LIB=""
PERL5OPT=""
PERL5_CPANPLUS_IS_RUNNING="31328"
PERL5_CPAN_IS_RUNNING="31328"
PERL5_CPAN_IS_RUNNING_IN_RECURSION="31291,31328"
PERLBREW_BASHRC_VERSION="0.76"
PERLBREW_HOME="/home/dcollins/.perlbrew"
PERLBREW_ROOT="/home/dcollins/toolchain/perl5"
PERL_CR_SMOKER_CURRENT="App-MatrixTool-0.06"
PERL_CR_SMOKER_RUNONCE="1"
PERL_EXTUTILS_AUTOINSTALL="--defaultdeps"
PERL_MM_USE_DEFAULT="1"
@INC:
/home/cpan4/install/lib/perl5/site_perl/5.24.1/x86_64-linux-thread-multi
/home/cpan4/install/lib/perl5/site_perl/5.24.1
/home/cpan4/install/lib/perl5/5.24.1/x86_64-linux-thread-multi
/home/cpan4/install/lib/perl5/5.24.1
.