Devel-REPL v1.003029 Perl 5 v5.39.11 x86_64-linux
- Status
- Pass
- From
- Carlos Guevara
- Dist
-
Devel-REPL v1.003029
- Platform
- Perl 5 v5.39.11 x86_64-linux
- Date
- 2024-04-29 16:52:29
- ID
- dd5220c0-0648-11ef-b183-9b53354b2a6e
This distribution has been tested as part of the CPAN Testers
project, supporting the Perl programming language. See
http://wiki.cpantesters.org/ for more information or email
questions to cpan-testers-discuss@perl.org
--
Dear Karen Etheridge,
This is a computer-generated report for Devel-REPL-1.003029
on perl 5.39.11, created by CPAN-Reporter-1.2019.
Thank you for uploading your work to CPAN. Congratulations!
All tests were successful.
Sections of this report:
* Tester comments
* Program output
* Prerequisites
* Environment and other context
------------------------------
TESTER COMMENTS
------------------------------
Additional comments from tester:
this report is from an automated smoke testing program
and was not reviewed by a human for accuracy
------------------------------
PROGRAM OUTPUT
------------------------------
Output from '/usr/bin/make test':
PERL_DL_NONLAZY=1 "/home/cpan/bin/perl/bin/perl5.39.11" "-MExtUtils::Command::MM" "-MTest::Harness" "-e" "undef *Test::Harness::Switches; test_harness(0, 'blib/lib', 'blib/arch')" t/*.t
#
# Versions for all modules listed in MYMETA.json (including optional ones):
#
# === Configure Requires ===
#
# Module Want Have
# ------------------------ -------- --------
# CPAN::Meta::Requirements 2.120620 2.143
# ExtUtils::MakeMaker any 7.70
# Module::Metadata any 1.000038
#
# === Build Requires ===
#
# Module Want Have
# ------------------- ---- ----
# ExtUtils::MakeMaker any 7.70
#
# === Test Requires ===
#
# Module Want Have
# ------------------- ---- --------
# ExtUtils::MakeMaker any 7.70
# File::Spec any 3.90
# Test::Fatal any 0.017
# Test::More 0.88 1.302199
# if any 0.0610
#
# === Test Recommends ===
#
# Module Want Have
# ---------- -------- --------
# CPAN::Meta 2.120900 2.150010
#
# === Runtime Requires ===
#
# Module Want Have
# ------------------------- ------ ------
# App::Nopaste any 1.013
# B::Concise 0.62 1.007
# B::Keywords any 1.26
# Data::Dump::Streamer 2.39 2.42
# Data::Dumper::Concise any 2.023
# Devel::Peek any 1.34
# File::Next any 1.18
# File::Spec any 3.90
# Lexical::Persistence any 1.020
# Module::Refresh any 0.18
# Module::Runtime any 0.016
# Moose 0.93 2.2207
# Moose::Meta::Role any 2.2207
# Moose::Role any 2.2207
# MooseX::Getopt 0.18 0.76
# MooseX::Object::Pluggable 0.0009 0.0014
# PPI any 1.278
# Scalar::Util any 1.63
# Task::Weaken any 1.06
# Term::ANSIColor any 5.01
# Term::ReadLine any 1.17
# Time::HiRes any 1.9777
# namespace::autoclean any 0.29
# strict any 1.13
# warnings any 1.69
#
# === Runtime Recommends ===
#
# Module Want Have
# --------------------- ----- -------
# App::Nopaste any 1.013
# B::Keywords any 1.26
# Data::Dump::Streamer 2.39 2.42
# Data::Dumper::Concise any 2.023
# File::Next any 1.18
# Lexical::Persistence any 1.020
# Module::Refresh any 0.18
# PPI any 1.278
# PPI::XS 0.902 0.910
# Sys::SigAction any missing
#
# === Other Modules ===
#
# Module Have
# --------------- ------
# Encode 3.21
# File::Temp 0.2311
# JSON::PP 4.16
# Module::Runtime 0.016
# Sub::Name 0.27
# YAML 1.31
# autodie 2.37
#
t/00-report-prereqs.t .. ok
t/load_core.t .......... ok
t/load_plugins.t ....... ok
All tests successful.
Files=3, Tests=61, 1 wallclock secs ( 0.02 usr 0.00 sys + 0.77 cusr 0.09 csys = 0.88 CPU)
Result: PASS
------------------------------
PREREQUISITES
------------------------------
Prerequisite modules loaded:
requires:
Module Need Have
------------------------- -------- --------
App::Nopaste 0 1.013
B::Concise 0.62 1.007
B::Keywords 0 1.26
Data::Dump::Streamer 2.39 2.42
Data::Dumper::Concise 0 2.023
Devel::Peek 0 1.34
File::Next 0 1.18
File::Spec 0 3.90
Lexical::Persistence 0 1.020
Module::Refresh 0 0.18
Module::Runtime 0 0.016
Moose 0.93 2.2207
Moose::Meta::Role 0 2.2207
Moose::Role 0 2.2207
MooseX::Getopt 0.18 0.76
MooseX::Object::Pluggable 0.0009 0.0014
namespace::autoclean 0 0.29
perl 5.008001 5.039011
PPI 0 1.278
Scalar::Util 0 1.63
strict 0 1.13
Task::Weaken 0 1.06
Term::ANSIColor 0 5.01
Term::ReadLine 0 1.17
Time::HiRes 0 1.9777
warnings 0 1.69
build_requires:
Module Need Have
------------------------- -------- --------
ExtUtils::MakeMaker 0 7.70
File::Spec 0 3.90
if 0 0.0610
Test::Fatal 0 0.017
Test::More 0.88 1.302199
configure_requires:
Module Need Have
------------------------- -------- --------
CPAN::Meta::Requirements 2.120620 2.143
ExtUtils::MakeMaker 0 7.70
Module::Metadata 0 1.000038
perl 5.008001 5.039011
------------------------------
ENVIRONMENT AND OTHER CONTEXT
------------------------------
Environment variables:
AUTOMATED_TESTING = 1
DATE_MANIP_TEST_DM5 = 1
LANG = en_US.UTF-8
LC_ALL = C
NONINTERACTIVE_TESTING = 1
NO_NETWORK_TESTING = 1
PATH = /home/cpan/bin/perl/bin:/home/cpan/bin:/usr/share/Modules/bin:/home/cpan/bin:/usr/local/bin:/usr/bin:/usr/local/sbin:/usr/sbin
PERL5LIB =
PERL5OPT =
PERL5_CPANPLUS_IS_RUNNING = 315854
PERL5_CPAN_IS_RUNNING = 315854
PERL_MM_USE_DEFAULT = 1
PERL_USE_UNSAFE_INC = 1
SHELL = /bin/bash
TERM = screen
TMPDIR = /home/cpan/tmp
Perl special variables (and OS-specific diagnostics, for MSWin32):
$^X = /home/cpan/bin/perl/bin/perl5.39.11
$UID/$EUID = 1001 / 1001
$GID = 1001 1001
$EGID = 1001 1001
Perl module toolchain versions installed:
Module Have
------------------- --------
CPAN 2.36
CPAN::Meta 2.150010
Cwd 3.90
ExtUtils::CBuilder 0.280240
ExtUtils::Command 7.70
ExtUtils::Install 2.22
ExtUtils::MakeMaker 7.70
ExtUtils::Manifest 1.75
ExtUtils::ParseXS 3.51
File::Spec 3.90
JSON 4.10
JSON::PP 4.16
Module::Build 0.4234
Module::Signature 0.88
Parse::CPAN::Meta 2.150010
Test2 1.302199
Test::Harness 3.48
Test::More 1.302199
YAML 1.31
YAML::Syck 1.34
version 0.9930
--
Summary of my perl5 (revision 5 version 39 subversion 11) configuration:
Commit id: d330c0a0139a79c865d936c34c044c036bf8c6a9
Platform:
osname=linux
osvers=5.14.0-362.24.1.el9_3.x86_64
archname=x86_64-linux
uname='linux cjg-rhel9 5.14.0-362.24.1.el9_3.x86_64 #1 smp preempt_dynamic thu feb 15 07:18:13 est 2024 x86_64 x86_64 x86_64 gnulinux '
config_args='-des -Dprefix=/home/cpan/bin/perl -Dscriptdir=/home/cpan/bin/perl/bin -Dusedevel -Duse64bitall'
hint=recommended
useposix=true
d_sigaction=define
useithreads=undef
usemultiplicity=undef
use64bitint=define
use64bitall=define
uselongdouble=undef
usemymalloc=n
default_inc_excludes_dot=define
Compiler:
cc='cc'
ccflags ='-fwrapv -fno-strict-aliasing -pipe -fstack-protector-strong -I/usr/local/include -D_LARGEFILE_SOURCE -D_FILE_OFFSET_BITS=64 -D_FORTIFY_SOURCE=2'
optimize='-O2'
cppflags='-fwrapv -fno-strict-aliasing -pipe -fstack-protector-strong -I/usr/local/include'
ccversion=''
gccversion='11.4.1 20230605 (Red Hat 11.4.1-2)'
gccosandvers=''
intsize=4
longsize=8
ptrsize=8
doublesize=8
byteorder=12345678
doublekind=3
d_longlong=define
longlongsize=8
d_longdbl=define
longdblsize=16
longdblkind=3
ivtype='long'
ivsize=8
nvtype='double'
nvsize=8
Off_t='off_t'
lseeksize=8
alignbytes=8
prototype=define
Linker and Libraries:
ld='cc'
ldflags =' -fstack-protector-strong -L/usr/local/lib'
libpth=/usr/local/lib /usr/lib /usr/lib64 /usr/local/lib64
libs=-lpthread -ldb -ldl -lm -lcrypt -lutil -lc
perllibs=-lpthread -ldl -lm -lcrypt -lutil -lc
libc=/lib/../lib64/libc.so.6
so=so
useshrplib=false
libperl=libperl.a
gnulibc_version='2.34'
Dynamic Linking:
dlsrc=dl_dlopen.xs
dlext=so
d_dlsymun=undef
ccdlflags='-Wl,-E'
cccdlflags='-fPIC'
lddlflags='-shared -O2 -L/usr/local/lib -fstack-protector-strong'
Characteristics of this binary (from libperl):
Compile-time options:
HAS_LONG_DOUBLE
HAS_STRTOLD
HAS_TIMES
PERLIO_LAYERS
PERL_COPY_ON_WRITE
PERL_DONT_CREATE_GVSV
PERL_HASH_FUNC_SIPHASH13
PERL_HASH_USE_SBOX32
PERL_MALLOC_WRAP
PERL_OP_PARENT
PERL_PRESERVE_IVUV
PERL_USE_DEVEL
PERL_USE_SAFE_PUTENV
USE_64_BIT_ALL
USE_64_BIT_INT
USE_LARGE_FILES
USE_LOCALE
USE_LOCALE_COLLATE
USE_LOCALE_CTYPE
USE_LOCALE_NUMERIC
USE_LOCALE_TIME
USE_PERLIO
USE_PERL_ATOF
Built under linux
Compiled at Apr 29 2024 08:01:59
%ENV:
PERL5LIB=""
PERL5OPT=""
PERL5_CPANPLUS_IS_RUNNING="315854"
PERL5_CPAN_IS_RUNNING="315854"
PERL_MM_USE_DEFAULT="1"
PERL_USE_UNSAFE_INC="1"
@INC:
/home/cpan/bin/perl/lib/site_perl/5.39.11/x86_64-linux
/home/cpan/bin/perl/lib/site_perl/5.39.11
/home/cpan/bin/perl/lib/5.39.11/x86_64-linux
/home/cpan/bin/perl/lib/5.39.11
.