FileHandle-Unget v0.1634 Perl 5 v5.32.1 amd64-openbsd

Status
Pass
From
Alceu Rodrigues de Freitas Junior
Dist
FileHandle-Unget v0.1634
Platform
Perl 5 v5.32.1 amd64-openbsd
Date
2022-04-24 16:37:43
ID
dd5fe624-c3ec-11ec-b24c-ad465fb94fb8
This distribution has been tested as part of the CPAN Testers
project, supporting the Perl programming language.  See
http://wiki.cpantesters.org/ for more information or email
questions to cpan-testers-discuss@perl.org


--
Dear David Coppit,

This is a computer-generated report for FileHandle-Unget-0.1634
on perl 5.32.1, created by CPAN-Reporter-1.2018.

Thank you for uploading your work to CPAN.  Congratulations!
All tests were successful.

Sections of this report:

    * Tester comments
    * Program output
    * Prerequisites
    * Environment and other context

------------------------------
TESTER COMMENTS
------------------------------

Additional comments from tester:

this report is from an automated smoke testing program
and was not reviewed by a human for accuracy

------------------------------
PROGRAM OUTPUT
------------------------------

Output from '/usr/bin/make test':

PERL_DL_NONLAZY=1 "/usr/bin/perl" "-MExtUtils::Command::MM" "-MTest::Harness" "-e" "undef *Test::Harness::Switches; test_harness(1, 'blib/lib', 'blib/arch')" t/*.t
t/000_standard__compile.t ...... 
1..1
ok 1 - blib/lib/FileHandle/Unget.pm compiles
ok
t/000_standard__perl_critic.t .. skipped: Author test. Set $ENV{TEST_AUTHOR} to a true value to run.
t/000_standard__pod.t .......... 
1..1
ok 1 - POD test for blib/lib/FileHandle/Unget.pm
ok
Under windows, calling binmode after eof exposes a bug that exists in some versions of Perl.
t/binmode_bug.t ................ 
1..2
ok 1
ok 2
ok
t/buffer.t ..................... 
1..3
ok 1
ok 2
ok 3
ok
t/class_pipe.t ................. 
1..2
ok 1 - Fork succeeded
ok 2 - Child output
ok
t/core_pipe.t .................. 
1..2
ok 1 - Fork succeeded
ok 2 - Child output
ok
t/dumper.t ..................... 
1..1
ok 1 - Dumped Filehandle::Unget
ok
t/eof.t ........................ 
1..4
ok 1 - Read first line
ok 2 - Read second line
ok 3 - EOF getline
ok 4 - EOF getlines
ok
t/filehandle.t ................. 
1..13
ok 1 - No eol separator
ok 2 - Input line number at start
ok 3 - First line
ok 4 - Input line number at middle
ok 5 - Getlines size
ok 6 - First line
ok 7 - Second line
ok 8 - EOF
ok 9 - read() function
ok 10 - Number of bytes read
ok 11 - read() method
ok 12 - Number of bytes read
ok 13 - new from fd
ok
t/fileno.t ..................... 
1..1
ok 1 - fileno()
ok
t/gensym.t ..................... 
1..12
ok 1 - syswrite()
ok 2 - input_line_number()
ok 3 - getline()
ok 4 - input_line_number() after reading
ok 5 - getlines() size
ok 6 - First line
ok 7 - Second line
ok 8 - EOF
ok 9 - read() function
ok 10 - Number of bytes read
ok 11 - read() method
ok 12 - Number of bytes read
ok
t/input_record_separator.t ..... 
1..7
ok 1 - First line
ok 2 - No eol separator
ok 3 - First line
ok 4 - Second line
ok 5 - Newline end of file
ok 6 - First line
ok 7 - Undef end of line
ok
t/loop_bug.t ................... 
1..1
ok 1 - Loop bug
ok
t/memory_leak.t ................ 
1..1
ok 1 - Memory leak
ok
t/multiple_handles.t ........... 
1..4
ok 1 - Unget 1
ok 2 - Unget 2
ok 3 - Get 1
ok 4 - Get 2
ok
t/new.t ........................ 
1..12
ok 1 - syswrite()
ok 2 - input_line_number()
ok 3 - First line
ok 4 - Second line
ok 5 - getlines()
ok 6 - First line
ok 7 - Second line
ok 8 - EOF
ok 9 - read() function (filehandle)
ok 10 - Number of bytes read (filehandle)
ok 11 - read() method (filehandle)
ok 12 - Number of bytes read (filehandle)
ok
t/overridden_pipe.t ............ 
1..2
ok 1 - Fork succeeded
ok 2 - Child output
ok
t/seek.t ....................... 
1..3
ok 1 - Seek absolute
ok 2 - Seek to front
ok 3 - Seek backward
ok
t/stdin_tell_bug.t ............. 
1..3
ok 1 - Executing external program
ok 2 - Output matches
ok 3 - Stderr matches
ok
t/tell.t ....................... 
1..5
ok 1 - Tell 1
ok 2 - Tell 2
ok 3 - Tell 3
ok 4 - Tell 4
ok 5 - Tell 5
ok
t/ungetc.t ..................... 
1..5
ok 1 - Ungetc
ok 2 - getline()
ok 3 - read() after insert
ok 4 - getline() 1
ok 5 - getline() 2
ok
t/ungets.t ..................... 
1..9
ok 1 - ungets() 1
ok 2 - getline()
ok 3 - ungets() 2
ok 4 - getline()
ok 5 - getline() 2
ok 6 - ungets()
ok 7 - getline() 1
ok 8 - getline() 2
ok 9 - getline() 3
ok
All tests successful.
Files=23, Tests=94,  4 wallclock secs ( 0.11 usr  0.11 sys +  2.93 cusr  1.21 csys =  4.36 CPU)
Result: PASS

------------------------------
PREREQUISITES
------------------------------

Prerequisite modules loaded:

requires:

    Module                Need  Have    
    --------------------- ----- --------
    perl                  5.005 5.032001
    Scalar::Util          1.14  1.62    

build_requires:

    Module                Need  Have    
    --------------------- ----- --------
    ExtUtils::MakeMaker   6.36  7.64    
    File::Slurper         0     0.013   
    File::Spec::Functions 0     3.78    
    Test::Compile         0     v3.0.1  
    Test::More            0     1.302190
    UNIVERSAL::require    0     0.19    
    URI::Escape           0     5.10    

configure_requires:

    Module                Need  Have    
    --------------------- ----- --------
    ExtUtils::MakeMaker   6.36  7.64    
    URI::Escape           0     5.10    


------------------------------
ENVIRONMENT AND OTHER CONTEXT
------------------------------

Environment variables:

    AUTOMATED_TESTING = 1
    PATH = /home/goku/perl5/bin:/usr/bin:/bin:/usr/sbin:/sbin:/usr/X11R6/bin:/usr/local/bin:/usr/local/sbin
    PERL5LIB = /home/goku/perl5/lib/perl5
    PERL5OPT = 
    PERL5_CPANPLUS_IS_RUNNING = 32161
    PERL5_CPAN_IS_RUNNING = 32161
    PERL5_CPAN_IS_RUNNING_IN_RECURSION = 40816,32161
    PERL_CR_SMOKER_CURRENT = grepmail-5.3111
    PERL_EXTUTILS_AUTOINSTALL = --defaultdeps
    PERL_LOCAL_LIB_ROOT = /home/goku/perl5
    PERL_MB_OPT = --install_base "/home/goku/perl5"
    PERL_MM_OPT = INSTALL_BASE=/home/goku/perl5
    PERL_MM_USE_DEFAULT = 1
    PERL_USE_UNSAFE_INC = 1
    SHELL = /bin/ksh
    TERM = xterm-256color

Perl special variables (and OS-specific diagnostics, for MSWin32):

    $^X = /usr/bin/perl
    $UID/$EUID = 1001 / 1001
    $GID = 1002 1002 1001
    $EGID = 1002 1002 1001

Perl module toolchain versions installed:

    Module              Have    
    ------------------- --------
    CPAN                2.33    
    CPAN::Meta          2.150010
    Cwd                 3.78    
    ExtUtils::CBuilder  0.280236
    ExtUtils::Command   7.64    
    ExtUtils::Install   2.20    
    ExtUtils::MakeMaker 7.64    
    ExtUtils::Manifest  1.73    
    ExtUtils::ParseXS   3.44    
    File::Spec          3.78    
    JSON                4.05    
    JSON::PP            4.08    
    Module::Build       0.4231  
    Module::Signature   n/a     
    Parse::CPAN::Meta   2.150010
    Test::Harness       3.44    
    Test::More          1.302190
    YAML                1.30    
    YAML::Syck          1.34    
    version             0.9929  


--

Summary of my perl5 (revision 5 version 32 subversion 1) configuration:
   
  Platform:
    osname=openbsd
    osvers=7.0
    archname=amd64-openbsd
    uname='openbsd'
    config_args='-dse -Dopenbsd_distribution=defined -Dmksymlinks'
    hint=recommended
    useposix=true
    d_sigaction=define
    useithreads=undef
    usemultiplicity=undef
    use64bitint=define
    use64bitall=define
    uselongdouble=undef
    usemymalloc=n
    default_inc_excludes_dot=define
    bincompat5005=undef
  Compiler:
    cc='cc'
    ccflags ='-DNO_LOCALE_NUMERIC -DNO_LOCALE_COLLATE -fno-strict-aliasing -fno-delete-null-pointer-checks -pipe -fstack-protector-strong -I/usr/local/include'
    optimize='-O2'
    cppflags='-DBIG_TIME -DNO_LOCALE_NUMERIC -DNO_LOCALE_COLLATE -fno-strict-aliasing -fno-delete-null-pointer-checks -pipe -fstack-protector-strong -I/usr/local/include'
    ccversion=''
    gccversion='OpenBSD Clang 11.1.0'
    gccosandvers=''
    intsize=4
    longsize=8
    ptrsize=8
    doublesize=8
    byteorder=12345678
    doublekind=3
    d_longlong=define
    longlongsize=8
    d_longdbl=define
    longdblsize=16
    longdblkind=3
    ivtype='long'
    ivsize=8
    nvtype='double'
    nvsize=8
    Off_t='off_t'
    lseeksize=8
    alignbytes=8
    prototype=define
  Linker and Libraries:
    ld='cc'
    ldflags ='-Wl,-E  -fstack-protector-strong -L/usr/local/lib'
    libpth=/usr/lib /usr/local/lib
    libs=-lm -lc
    perllibs=-lm -lc
    libc=/usr/lib/libc.so.96.1
    so=so
    useshrplib=true
    libperl=libperl.so.22.0
    gnulibc_version=''
  Dynamic Linking:
    dlsrc=dl_dlopen.xs
    dlext=so
    d_dlsymun=undef
    ccdlflags='-Wl,-R/usr/libdata/perl5/amd64-openbsd/CORE'
    cccdlflags='-DPIC -fpic '
    lddlflags='-shared -fpic  -fstack-protector-strong -L/usr/local/lib'


Characteristics of this binary (from libperl): 
  Compile-time options:
    HAS_TIMES
    PERLIO_LAYERS
    PERL_COPY_ON_WRITE
    PERL_DONT_CREATE_GVSV
    PERL_MALLOC_WRAP
    PERL_OP_PARENT
    PERL_PRESERVE_IVUV
    USE_64_BIT_ALL
    USE_64_BIT_INT
    USE_LARGE_FILES
    USE_LOCALE
    USE_LOCALE_CTYPE
    USE_LOCALE_TIME
    USE_PERLIO
    USE_PERL_ATOF
  Built under openbsd
  %ENV:
    PERL5LIB="/home/goku/perl5/lib/perl5"
    PERL5OPT=""
    PERL5_CPANPLUS_IS_RUNNING="32161"
    PERL5_CPAN_IS_RUNNING="32161"
    PERL5_CPAN_IS_RUNNING_IN_RECURSION="40816,32161"
    PERL_CR_SMOKER_CURRENT="grepmail-5.3111"
    PERL_EXTUTILS_AUTOINSTALL="--defaultdeps"
    PERL_LOCAL_LIB_ROOT="/home/goku/perl5"
    PERL_MB_OPT="--install_base "/home/goku/perl5""
    PERL_MM_OPT="INSTALL_BASE=/home/goku/perl5"
    PERL_MM_USE_DEFAULT="1"
    PERL_USE_UNSAFE_INC="1"
  @INC:
    /home/goku/perl5/lib/perl5/amd64-openbsd
    /home/goku/perl5/lib/perl5
    /usr/local/libdata/perl5/site_perl/amd64-openbsd
    /usr/local/libdata/perl5/site_perl
    /usr/libdata/perl5/amd64-openbsd
    /usr/libdata/perl5
    .