Catalyst-View-HTML-Zoom v0.003 Perl 5 v5.37.8 x86_64-linux-thread-multi-ld
- Status
- Pass
- From
- Andreas J. König (ANDK)
- Dist
-
Catalyst-View-HTML-Zoom v0.003
- Platform
- Perl 5 v5.37.8 x86_64-linux-thread-multi-ld
- Date
- 2023-02-04 15:09:05
- ID
- dd714f4e-a49d-11ed-b59d-5d786b5d6e4e
This distribution has been tested as part of the CPAN Testers
project, supporting the Perl programming language. See
http://wiki.cpantesters.org/ for more information or email
questions to cpan-testers-discuss@perl.org
--
Dear Oliver Charles,
This is a computer-generated report for Catalyst-View-HTML-Zoom-0.003
on perl 5.37.8, created by CPAN-Reporter-1.2018.
Thank you for uploading your work to CPAN. Congratulations!
All tests were successful.
Sections of this report:
* Tester comments
* Program output
* Prerequisites
* Environment and other context
------------------------------
TESTER COMMENTS
------------------------------
Additional comments from tester:
this report is from an automated smoke testing program
and was not reviewed by a human for accuracy
------------------------------
PROGRAM OUTPUT
------------------------------
Output from '/usr/bin/make test':
PERL_DL_NONLAZY=1 "/tmp/basesmoker-reloperl-VOJ8/bin/perl" "-MExtUtils::Command::MM" "-MTest::Harness" "-e" "undef *Test::Harness::Switches; test_harness(0, 'blib/lib', 'blib/arch')" t/*.t
t/00-load.t ............... ok
t/author-pod-coverage.t ... skipped: these tests are for testing by the author
t/author-pod.t ............ skipped: these tests are for testing by the author
Class::MOP::load_class is deprecated at /home/sand/src/perl/repoperls/installed-perls/host/k93jammy/v5.37.8/322f/lib/site_perl/5.37.8/x86_64-linux-thread-multi-ld/Class/MOP.pm line 69, <ARGV> line 1.
Class::MOP::load_class("TestAppAltRoot::View::HTML::Root") called at /tmp/loop_over_bdir-7145-9fh9oK/Catalyst-View-HTML-Zoom-0.003-0/blib/lib/Catalyst/View/HTML/Zoom.pm line 138
Catalyst::View::HTML::Zoom::_zoomer_class_from_context(TestAppAltRoot::View::HTML=HASH(0x5578e59de8d8), TestAppAltRoot=HASH(0x5578e5b8da98)) called at /tmp/loop_over_bdir-7145-9fh9oK/Catalyst-View-HTML-Zoom-0.003-0/blib/lib/Catalyst/View/HTML/Zoom.pm line 90
Catalyst::View::HTML::Zoom::_build_renderer_from_zoomer_class(TestAppAltRoot::View::HTML=HASH(0x5578e59de8d8), TestAppAltRoot=HASH(0x5578e5b8da98)) called at /tmp/loop_over_bdir-7145-9fh9oK/Catalyst-View-HTML-Zoom-0.003-0/blib/lib/Catalyst/View/HTML/Zoom.pm line 76
Catalyst::View::HTML::Zoom::_build_renderer_from(TestAppAltRoot::View::HTML=HASH(0x5578e59de8d8), TestAppAltRoot=HASH(0x5578e5b8da98), undef) called at /tmp/loop_over_bdir-7145-9fh9oK/Catalyst-View-HTML-Zoom-0.003-0/blib/lib/Catalyst/View/HTML/Zoom.pm line 67
Catalyst::View::HTML::Zoom::render(TestAppAltRoot::View::HTML=HASH(0x5578e59de8d8), TestAppAltRoot=HASH(0x5578e5b8da98), "/main") called at /tmp/loop_over_bdir-7145-9fh9oK/Catalyst-View-HTML-Zoom-0.003-0/blib/lib/Catalyst/View/HTML/Zoom.pm line 41
Catalyst::View::HTML::Zoom::process(TestAppAltRoot::View::HTML=HASH(0x5578e59de8d8), TestAppAltRoot=HASH(0x5578e5b8da98)) called at /home/sand/src/perl/repoperls/installed-perls/host/k93jammy/v5.37.8/322f/lib/site_perl/5.37.8/Catalyst/Action.pm line 374
Catalyst::Action::execute(Catalyst::Action=HASH(0x5578e5b9afe0), TestAppAltRoot::View::HTML=HASH(0x5578e59de8d8), TestAppAltRoot=HASH(0x5578e5b8da98)) called at /home/sand/src/perl/repoperls/installed-perls/host/k93jammy/v5.37.8/322f/lib/site_perl/5.37.8/Catalyst.pm line 2067
eval {...} called at /home/sand/src/perl/repoperls/installed-perls/host/k93jammy/v5.37.8/322f/lib/site_perl/5.37.8/Catalyst.pm line 2067
Catalyst::execute(TestAppAltRoot=HASH(0x5578e5b8da98), TestAppAltRoot::View::HTML=HASH(0x5578e59de8d8), Catalyst::Action=HASH(0x5578e5b9afe0)) called at /home/sand/src/perl/repoperls/installed-perls/host/k93jammy/v5.37.8/322f/lib/site_perl/5.37.8/Catalyst/Action.pm line 366
Catalyst::Action::dispatch(Catalyst::Action=HASH(0x5578e5b9afe0), TestAppAltRoot=HASH(0x5578e5b8da98)) called at /home/sand/src/perl/repoperls/installed-perls/host/k93jammy/v5.37.8/322f/lib/site_perl/5.37.8/Catalyst/Dispatcher.pm line 261
Catalyst::Dispatcher::_do_forward(Catalyst::Dispatcher=HASH(0x5578e4824270), "forward", TestAppAltRoot=HASH(0x5578e5b8da98), TestAppAltRoot::View::HTML=HASH(0x5578e59de8d8)) called at /home/sand/src/perl/repoperls/installed-perls/host/k93jammy/v5.37.8/322f/lib/site_perl/5.37.8/Catalyst/Dispatcher.pm line 241
Catalyst::Dispatcher::forward(Catalyst::Dispatcher=HASH(0x5578e4824270), TestAppAltRoot=HASH(0x5578e5b8da98), TestAppAltRoot::View::HTML=HASH(0x5578e59de8d8)) called at /home/sand/src/perl/repoperls/installed-perls/host/k93jammy/v5.37.8/322f/lib/site_perl/5.37.8/Catalyst.pm line 489
Catalyst::forward(TestAppAltRoot=HASH(0x5578e5b8da98), TestAppAltRoot::View::HTML=HASH(0x5578e59de8d8)) called at /home/sand/src/perl/repoperls/installed-perls/host/k93jammy/v5.37.8/322f/lib/site_perl/5.37.8/Catalyst/Action/RenderView.pm line 57
Catalyst::Action::RenderView::execute(Catalyst::Action::RenderView=HASH(0x5578e5b01560), TestAppAltRoot::Controller::Root=HASH(0x5578e59de980), TestAppAltRoot=HASH(0x5578e5b8da98)) called at /home/sand/src/perl/repoperls/installed-perls/host/k93jammy/v5.37.8/322f/lib/site_perl/5.37.8/Catalyst.pm line 2067
eval {...} called at /home/sand/src/perl/repoperls/installed-perls/host/k93jammy/v5.37.8/322f/lib/site_perl/5.37.8/Catalyst.pm line 2067
Catalyst::execute(TestAppAltRoot=HASH(0x5578e5b8da98), "TestAppAltRoot::Controller::Root", Catalyst::Action::RenderView=HASH(0x5578e5b01560)) called at /home/sand/src/perl/repoperls/installed-perls/host/k93jammy/v5.37.8/322f/lib/site_perl/5.37.8/Catalyst/Action.pm line 368
Catalyst::Action::dispatch(Catalyst::Action::RenderView=HASH(0x5578e5b01560), TestAppAltRoot=HASH(0x5578e5b8da98)) called at /home/sand/src/perl/repoperls/installed-perls/host/k93jammy/v5.37.8/322f/lib/site_perl/5.37.8/Catalyst/Controller.pm line 188
Catalyst::Controller::_END(TestAppAltRoot::Controller::Root=HASH(0x5578e59de980), TestAppAltRoot=HASH(0x5578e5b8da98)) called at /home/sand/src/perl/repoperls/installed-perls/host/k93jammy/v5.37.8/322f/lib/site_perl/5.37.8/Catalyst/Action.pm line 374
Catalyst::Action::execute(Catalyst::Action=HASH(0x5578e5a2c938), TestAppAltRoot::Controller::Root=HASH(0x5578e59de980), TestAppAltRoot=HASH(0x5578e5b8da98)) called at /home/sand/src/perl/repoperls/installed-perls/host/k93jammy/v5.37.8/322f/lib/site_perl/5.37.8/Catalyst.pm line 2067
eval {...} called at /home/sand/src/perl/repoperls/installed-perls/host/k93jammy/v5.37.8/322f/lib/site_perl/5.37.8/Catalyst.pm line 2067
Catalyst::execute(TestAppAltRoot=HASH(0x5578e5b8da98), "TestAppAltRoot::Controller::Root", Catalyst::Action=HASH(0x5578e5a2c938)) called at /home/sand/src/perl/repoperls/installed-perls/host/k93jammy/v5.37.8/322f/lib/site_perl/5.37.8/Catalyst/Action.pm line 368
Catalyst::Action::dispatch(Catalyst::Action=HASH(0x5578e5a2c938), TestAppAltRoot=HASH(0x5578e5b8da98)) called at /home/sand/src/perl/repoperls/installed-perls/host/k93jammy/v5.37.8/322f/lib/site_perl/5.37.8/Catalyst/Dispatcher.pm line 261
Catalyst::Dispatcher::_do_forward(Catalyst::Dispatcher=HASH(0x5578e4824270), "forward", TestAppAltRoot=HASH(0x5578e5b8da98), "_END") called at /home/sand/src/perl/repoperls/installed-perls/host/k93jammy/v5.37.8/322f/lib/site_perl/5.37.8/Catalyst/Dispatcher.pm line 241
Catalyst::Dispatcher::forward(Catalyst::Dispatcher=HASH(0x5578e4824270), TestAppAltRoot=HASH(0x5578e5b8da98), "_END") called at /home/sand/src/perl/repoperls/installed-perls/host/k93jammy/v5.37.8/322f/lib/site_perl/5.37.8/Catalyst.pm line 489
Catalyst::forward(TestAppAltRoot=HASH(0x5578e5b8da98), "_END") called at /home/sand/src/perl/repoperls/installed-perls/host/k93jammy/v5.37.8/322f/lib/site_perl/5.37.8/Catalyst/Controller.pm line 137
Catalyst::Controller::_DISPATCH(TestAppAltRoot::Controller::Root=HASH(0x5578e59de980), TestAppAltRoot=HASH(0x5578e5b8da98)) called at /home/sand/src/perl/repoperls/installed-perls/host/k93jammy/v5.37.8/322f/lib/site_perl/5.37.8/Catalyst/Action.pm line 374
Catalyst::Action::execute(Catalyst::Action=HASH(0x5578e58f8358), TestAppAltRoot::Controller::Root=HASH(0x5578e59de980), TestAppAltRoot=HASH(0x5578e5b8da98)) called at /home/sand/src/perl/repoperls/installed-perls/host/k93jammy/v5.37.8/322f/lib/site_perl/5.37.8/Catalyst.pm line 2067
eval {...} called at /home/sand/src/perl/repoperls/installed-perls/host/k93jammy/v5.37.8/322f/lib/site_perl/5.37.8/Catalyst.pm line 2067
Catalyst::execute(TestAppAltRoot=HASH(0x5578e5b8da98), "TestAppAltRoot::Controller::Root", Catalyst::Action=HASH(0x5578e58f8358)) called at /home/sand/src/perl/repoperls/installed-perls/host/k93jammy/v5.37.8/322f/lib/site_perl/5.37.8/Catalyst/Action.pm line 368
Catalyst::Action::dispatch(Catalyst::Action=HASH(0x5578e58f8358), TestAppAltRoot=HASH(0x5578e5b8da98)) called at /home/sand/src/perl/repoperls/installed-perls/host/k93jammy/v5.37.8/322f/lib/site_perl/5.37.8/Catalyst/Dispatcher.pm line 261
Catalyst::Dispatcher::_do_forward(Catalyst::Dispatcher=HASH(0x5578e4824270), "forward", TestAppAltRoot=HASH(0x5578e5b8da98), "//_DISPATCH") called at /home/sand/src/perl/repoperls/installed-perls/host/k93jammy/v5.37.8/322f/lib/site_perl/5.37.8/Catalyst/Dispatcher.pm line 241
Catalyst::Dispatcher::forward(Catalyst::Dispatcher=HASH(0x5578e4824270), TestAppAltRoot=HASH(0x5578e5b8da98), "//_DISPATCH") called at /home/sand/src/perl/repoperls/installed-perls/host/k93jammy/v5.37.8/322f/lib/site_perl/5.37.8/Catalyst.pm line 489
Catalyst::forward(TestAppAltRoot=HASH(0x5578e5b8da98), "//_DISPATCH") called at /home/sand/src/perl/repoperls/installed-perls/host/k93jammy/v5.37.8/322f/lib/site_perl/5.37.8/Catalyst/Dispatcher.pm line 107
Catalyst::Dispatcher::dispatch(Catalyst::Dispatcher=HASH(0x5578e4824270), TestAppAltRoot=HASH(0x5578e5b8da98)) called at /home/sand/src/perl/repoperls/installed-perls/host/k93jammy/v5.37.8/322f/lib/site_perl/5.37.8/Catalyst.pm line 2013
Catalyst::dispatch(TestAppAltRoot=HASH(0x5578e5b8da98)) called at /home/sand/src/perl/repoperls/installed-perls/host/k93jammy/v5.37.8/322f/lib/site_perl/5.37.8/x86_64-linux-thread-multi-ld/Class/MOP/Method/Wrapped.pm line 56
TestAppAltRoot::_wrapped_dispatch(TestAppAltRoot=HASH(0x5578e5b8da98)) called at /home/sand/src/perl/repoperls/installed-perls/host/k93jammy/v5.37.8/322f/lib/site_perl/5.37.8/x86_64-linux-thread-multi-ld/Class/MOP/Method/Wrapped.pm line 97
TestAppAltRoot::dispatch(TestAppAltRoot=HASH(0x5578e5b8da98)) called at /home/sand/src/perl/repoperls/installed-perls/host/k93jammy/v5.37.8/322f/lib/site_perl/5.37.8/Catalyst.pm line 2419
Catalyst::try {...} () called at /home/sand/src/perl/repoperls/installed-perls/host/k93jammy/v5.37.8/322f/lib/site_perl/5.37.8/Try/Tiny.pm line 102
eval {...} called at /home/sand/src/perl/repoperls/installed-perls/host/k93jammy/v5.37.8/322f/lib/site_perl/5.37.8/Try/Tiny.pm line 93
Try::Tiny::try(CODE(0x5578e5b8d570), Try::Tiny::Catch=REF(0x5578e5b8d3d8)) called at /home/sand/src/perl/repoperls/installed-perls/host/k93jammy/v5.37.8/322f/lib/site_perl/5.37.8/Catalyst.pm line 2428
Catalyst::handle_request("TestAppAltRoot", "env", HASH(0x5578e59c07d0), "response_cb", CODE(0x5578e5b8d438)) called at /home/sand/src/perl/repoperls/installed-perls/host/k93jammy/v5.37.8/322f/lib/site_perl/5.37.8/Catalyst/Engine.pm line 807
Catalyst::Engine::__ANON__(CODE(0x5578e5b8d438)) called at /home/sand/src/perl/repoperls/installed-perls/host/k93jammy/v5.37.8/322f/lib/site_perl/5.37.8/Plack/Middleware/HTTPExceptions.pm line 32
Plack::Middleware::HTTPExceptions::try {...} () called at /home/sand/src/perl/repoperls/installed-perls/host/k93jammy/v5.37.8/322f/lib/site_perl/5.37.8/Try/Tiny.pm line 102
eval {...} called at /home/sand/src/perl/repoperls/installed-perls/host/k93jammy/v5.37.8/322f/lib/site_perl/5.37.8/Try/Tiny.pm line 93
Try::Tiny::try(CODE(0x5578e5b8d270), Try::Tiny::Catch=REF(0x5578e5b7cbe0)) called at /home/sand/src/perl/repoperls/installed-perls/host/k93jammy/v5.37.8/322f/lib/site_perl/5.37.8/Plack/Middleware/HTTPExceptions.pm line 41
Plack::Middleware::HTTPExceptions::__ANON__(CODE(0x5578e58de858)) called at /home/sand/src/perl/repoperls/installed-perls/host/k93jammy/v5.37.8/322f/lib/site_perl/5.37.8/Plack/Util.pm line 339
Plack::Util::__ANON__(CODE(0x5578e5932c00)) called at /home/sand/src/perl/repoperls/installed-perls/host/k93jammy/v5.37.8/322f/lib/site_perl/5.37.8/Plack/Util.pm line 339
Plack::Util::__ANON__(CODE(0x5578e58ae4e8)) called at /home/sand/src/perl/repoperls/installed-perls/host/k93jammy/v5.37.8/322f/lib/site_perl/5.37.8/Plack/Util.pm line 339
Plack::Util::__ANON__(CODE(0x5578e5b3a168)) called at /home/sand/src/perl/repoperls/installed-perls/host/k93jammy/v5.37.8/322f/lib/site_perl/5.37.8/HTTP/Message/PSGI.pm line 100
HTTP::Message::PSGI::res_from_psgi(CODE(0x5578e5b8cfd0)) called at /home/sand/src/perl/repoperls/installed-perls/host/k93jammy/v5.37.8/322f/lib/site_perl/5.37.8/HTTP/Message/PSGI.pm line 157
HTTP::Response::from_psgi("HTTP::Response", CODE(0x5578e5b8cfd0)) called at /home/sand/src/perl/repoperls/installed-perls/host/k93jammy/v5.37.8/322f/lib/site_perl/5.37.8/Plack/Test/MockHTTP.pm line 24
Plack::Test::MockHTTP::try {...} () called at /home/sand/src/perl/repoperls/installed-perls/host/k93jammy/v5.37.8/322f/lib/site_perl/5.37.8/Try/Tiny.pm line 100
eval {...} called at /home/sand/src/perl/repoperls/installed-perls/host/k93jammy/v5.37.8/322f/lib/site_perl/5.37.8/Try/Tiny.pm line 93
Try::Tiny::try(CODE(0x5578e5a556e8), Try::Tiny::Catch=REF(0x5578e5b0b6b8)) called at /home/sand/src/perl/repoperls/installed-perls/host/k93jammy/v5.37.8/322f/lib/site_perl/5.37.8/Plack/Test/MockHTTP.pm line 27
Plack::Test::MockHTTP::request(Plack::Test::MockHTTP=HASH(0x5578e5b2bc90), HTTP::Request=HASH(0x5578e5b2b918)) called at /home/sand/src/perl/repoperls/installed-perls/host/k93jammy/v5.37.8/322f/lib/site_perl/5.37.8/Plack/Test.pm line 38
Plack::Test::__ANON__(HTTP::Request=HASH(0x5578e5b2b918)) called at /home/sand/src/perl/repoperls/installed-perls/host/k93jammy/v5.37.8/322f/lib/site_perl/5.37.8/Catalyst/Test.pm line 290
Catalyst::Test::__ANON__(CODE(0x5578e5b2bc48)) called at /home/sand/src/perl/repoperls/installed-perls/host/k93jammy/v5.37.8/322f/lib/site_perl/5.37.8/Plack/Test.pm line 38
Plack::Test::test_psgi("mangle_response", CODE(0x5578e47fb650), "app", CODE(0x5578e5b2b480), "app", CODE(0x5578e5a314c8), "client", CODE(0x5578e5b2bae0)) called at /home/sand/src/perl/repoperls/installed-perls/host/k93jammy/v5.37.8/322f/lib/site_perl/5.37.8/Catalyst/Test.pm line 293
Catalyst::Test::_request(HASH(0x5578e5b2b690), "/") called at /home/sand/src/perl/repoperls/installed-perls/host/k93jammy/v5.37.8/322f/lib/site_perl/5.37.8/Catalyst/Test.pm line 336
Catalyst::Test::_local_request("TestAppAltRoot", "/") called at /home/sand/src/perl/repoperls/installed-perls/host/k93jammy/v5.37.8/322f/lib/site_perl/5.37.8/Catalyst/Test.pm line 32
Catalyst::Test::__ANON__("/") called at /home/sand/src/perl/repoperls/installed-perls/host/k93jammy/v5.37.8/322f/lib/site_perl/5.37.8/Catalyst/Test.pm line 72
Catalyst::Test::__ANON__("/") called at t/live-test-alt-root.t line 14
t/live-test-alt-root.t .... ok
Class::MOP::load_class is deprecated at /home/sand/src/perl/repoperls/installed-perls/host/k93jammy/v5.37.8/322f/lib/site_perl/5.37.8/x86_64-linux-thread-multi-ld/Class/MOP.pm line 69, <ARGV> line 1.
Class::MOP::load_class("TestApp::View::HTML::Root") called at /tmp/loop_over_bdir-7145-9fh9oK/Catalyst-View-HTML-Zoom-0.003-0/blib/lib/Catalyst/View/HTML/Zoom.pm line 138
Catalyst::View::HTML::Zoom::_zoomer_class_from_context(TestApp::View::HTML=HASH(0x556924b3a2b0), TestApp=HASH(0x556924cfb098)) called at /tmp/loop_over_bdir-7145-9fh9oK/Catalyst-View-HTML-Zoom-0.003-0/blib/lib/Catalyst/View/HTML/Zoom.pm line 90
Catalyst::View::HTML::Zoom::_build_renderer_from_zoomer_class(TestApp::View::HTML=HASH(0x556924b3a2b0), TestApp=HASH(0x556924cfb098)) called at /tmp/loop_over_bdir-7145-9fh9oK/Catalyst-View-HTML-Zoom-0.003-0/blib/lib/Catalyst/View/HTML/Zoom.pm line 76
Catalyst::View::HTML::Zoom::_build_renderer_from(TestApp::View::HTML=HASH(0x556924b3a2b0), TestApp=HASH(0x556924cfb098), undef) called at /tmp/loop_over_bdir-7145-9fh9oK/Catalyst-View-HTML-Zoom-0.003-0/blib/lib/Catalyst/View/HTML/Zoom.pm line 67
Catalyst::View::HTML::Zoom::render(TestApp::View::HTML=HASH(0x556924b3a2b0), TestApp=HASH(0x556924cfb098), "/main") called at /tmp/loop_over_bdir-7145-9fh9oK/Catalyst-View-HTML-Zoom-0.003-0/blib/lib/Catalyst/View/HTML/Zoom.pm line 41
Catalyst::View::HTML::Zoom::process(TestApp::View::HTML=HASH(0x556924b3a2b0), TestApp=HASH(0x556924cfb098)) called at /home/sand/src/perl/repoperls/installed-perls/host/k93jammy/v5.37.8/322f/lib/site_perl/5.37.8/Catalyst/Action.pm line 374
Catalyst::Action::execute(Catalyst::Action=HASH(0x556924d072d8), TestApp::View::HTML=HASH(0x556924b3a2b0), TestApp=HASH(0x556924cfb098)) called at /home/sand/src/perl/repoperls/installed-perls/host/k93jammy/v5.37.8/322f/lib/site_perl/5.37.8/Catalyst.pm line 2067
eval {...} called at /home/sand/src/perl/repoperls/installed-perls/host/k93jammy/v5.37.8/322f/lib/site_perl/5.37.8/Catalyst.pm line 2067
Catalyst::execute(TestApp=HASH(0x556924cfb098), TestApp::View::HTML=HASH(0x556924b3a2b0), Catalyst::Action=HASH(0x556924d072d8)) called at /home/sand/src/perl/repoperls/installed-perls/host/k93jammy/v5.37.8/322f/lib/site_perl/5.37.8/Catalyst/Action.pm line 366
Catalyst::Action::dispatch(Catalyst::Action=HASH(0x556924d072d8), TestApp=HASH(0x556924cfb098)) called at /home/sand/src/perl/repoperls/installed-perls/host/k93jammy/v5.37.8/322f/lib/site_perl/5.37.8/Catalyst/Dispatcher.pm line 261
Catalyst::Dispatcher::_do_forward(Catalyst::Dispatcher=HASH(0x55692394e960), "forward", TestApp=HASH(0x556924cfb098), TestApp::View::HTML=HASH(0x556924b3a2b0)) called at /home/sand/src/perl/repoperls/installed-perls/host/k93jammy/v5.37.8/322f/lib/site_perl/5.37.8/Catalyst/Dispatcher.pm line 241
Catalyst::Dispatcher::forward(Catalyst::Dispatcher=HASH(0x55692394e960), TestApp=HASH(0x556924cfb098), TestApp::View::HTML=HASH(0x556924b3a2b0)) called at /home/sand/src/perl/repoperls/installed-perls/host/k93jammy/v5.37.8/322f/lib/site_perl/5.37.8/Catalyst.pm line 489
Catalyst::forward(TestApp=HASH(0x556924cfb098), TestApp::View::HTML=HASH(0x556924b3a2b0)) called at /home/sand/src/perl/repoperls/installed-perls/host/k93jammy/v5.37.8/322f/lib/site_perl/5.37.8/Catalyst/Action/RenderView.pm line 57
Catalyst::Action::RenderView::execute(Catalyst::Action::RenderView=HASH(0x556924c6a920), TestApp::Controller::Root=HASH(0x556924b0b300), TestApp=HASH(0x556924cfb098)) called at /home/sand/src/perl/repoperls/installed-perls/host/k93jammy/v5.37.8/322f/lib/site_perl/5.37.8/Catalyst.pm line 2067
eval {...} called at /home/sand/src/perl/repoperls/installed-perls/host/k93jammy/v5.37.8/322f/lib/site_perl/5.37.8/Catalyst.pm line 2067
Catalyst::execute(TestApp=HASH(0x556924cfb098), "TestApp::Controller::Root", Catalyst::Action::RenderView=HASH(0x556924c6a920)) called at /home/sand/src/perl/repoperls/installed-perls/host/k93jammy/v5.37.8/322f/lib/site_perl/5.37.8/Catalyst/Action.pm line 368
Catalyst::Action::dispatch(Catalyst::Action::RenderView=HASH(0x556924c6a920), TestApp=HASH(0x556924cfb098)) called at /home/sand/src/perl/repoperls/installed-perls/host/k93jammy/v5.37.8/322f/lib/site_perl/5.37.8/Catalyst/Controller.pm line 188
Catalyst::Controller::_END(TestApp::Controller::Root=HASH(0x556924b0b300), TestApp=HASH(0x556924cfb098)) called at /home/sand/src/perl/repoperls/installed-perls/host/k93jammy/v5.37.8/322f/lib/site_perl/5.37.8/Catalyst/Action.pm line 374
Catalyst::Action::execute(Catalyst::Action=HASH(0x556924b90340), TestApp::Controller::Root=HASH(0x556924b0b300), TestApp=HASH(0x556924cfb098)) called at /home/sand/src/perl/repoperls/installed-perls/host/k93jammy/v5.37.8/322f/lib/site_perl/5.37.8/Catalyst.pm line 2067
eval {...} called at /home/sand/src/perl/repoperls/installed-perls/host/k93jammy/v5.37.8/322f/lib/site_perl/5.37.8/Catalyst.pm line 2067
Catalyst::execute(TestApp=HASH(0x556924cfb098), "TestApp::Controller::Root", Catalyst::Action=HASH(0x556924b90340)) called at /home/sand/src/perl/repoperls/installed-perls/host/k93jammy/v5.37.8/322f/lib/site_perl/5.37.8/Catalyst/Action.pm line 368
Catalyst::Action::dispatch(Catalyst::Action=HASH(0x556924b90340), TestApp=HASH(0x556924cfb098)) called at /home/sand/src/perl/repoperls/installed-perls/host/k93jammy/v5.37.8/322f/lib/site_perl/5.37.8/Catalyst/Dispatcher.pm line 261
Catalyst::Dispatcher::_do_forward(Catalyst::Dispatcher=HASH(0x55692394e960), "forward", TestApp=HASH(0x556924cfb098), "_END") called at /home/sand/src/perl/repoperls/installed-perls/host/k93jammy/v5.37.8/322f/lib/site_perl/5.37.8/Catalyst/Dispatcher.pm line 241
Catalyst::Dispatcher::forward(Catalyst::Dispatcher=HASH(0x55692394e960), TestApp=HASH(0x556924cfb098), "_END") called at /home/sand/src/perl/repoperls/installed-perls/host/k93jammy/v5.37.8/322f/lib/site_perl/5.37.8/Catalyst.pm line 489
Catalyst::forward(TestApp=HASH(0x556924cfb098), "_END") called at /home/sand/src/perl/repoperls/installed-perls/host/k93jammy/v5.37.8/322f/lib/site_perl/5.37.8/Catalyst/Controller.pm line 137
Catalyst::Controller::_DISPATCH(TestApp::Controller::Root=HASH(0x556924b0b300), TestApp=HASH(0x556924cfb098)) called at /home/sand/src/perl/repoperls/installed-perls/host/k93jammy/v5.37.8/322f/lib/site_perl/5.37.8/Catalyst/Action.pm line 374
Catalyst::Action::execute(Catalyst::Action=HASH(0x556924b90238), TestApp::Controller::Root=HASH(0x556924b0b300), TestApp=HASH(0x556924cfb098)) called at /home/sand/src/perl/repoperls/installed-perls/host/k93jammy/v5.37.8/322f/lib/site_perl/5.37.8/Catalyst.pm line 2067
eval {...} called at /home/sand/src/perl/repoperls/installed-perls/host/k93jammy/v5.37.8/322f/lib/site_perl/5.37.8/Catalyst.pm line 2067
Catalyst::execute(TestApp=HASH(0x556924cfb098), "TestApp::Controller::Root", Catalyst::Action=HASH(0x556924b90238)) called at /home/sand/src/perl/repoperls/installed-perls/host/k93jammy/v5.37.8/322f/lib/site_perl/5.37.8/Catalyst/Action.pm line 368
Catalyst::Action::dispatch(Catalyst::Action=HASH(0x556924b90238), TestApp=HASH(0x556924cfb098)) called at /home/sand/src/perl/repoperls/installed-perls/host/k93jammy/v5.37.8/322f/lib/site_perl/5.37.8/Catalyst/Dispatcher.pm line 261
Catalyst::Dispatcher::_do_forward(Catalyst::Dispatcher=HASH(0x55692394e960), "forward", TestApp=HASH(0x556924cfb098), "//_DISPATCH") called at /home/sand/src/perl/repoperls/installed-perls/host/k93jammy/v5.37.8/322f/lib/site_perl/5.37.8/Catalyst/Dispatcher.pm line 241
Catalyst::Dispatcher::forward(Catalyst::Dispatcher=HASH(0x55692394e960), TestApp=HASH(0x556924cfb098), "//_DISPATCH") called at /home/sand/src/perl/repoperls/installed-perls/host/k93jammy/v5.37.8/322f/lib/site_perl/5.37.8/Catalyst.pm line 489
Catalyst::forward(TestApp=HASH(0x556924cfb098), "//_DISPATCH") called at /home/sand/src/perl/repoperls/installed-perls/host/k93jammy/v5.37.8/322f/lib/site_perl/5.37.8/Catalyst/Dispatcher.pm line 107
Catalyst::Dispatcher::dispatch(Catalyst::Dispatcher=HASH(0x55692394e960), TestApp=HASH(0x556924cfb098)) called at /home/sand/src/perl/repoperls/installed-perls/host/k93jammy/v5.37.8/322f/lib/site_perl/5.37.8/Catalyst.pm line 2013
Catalyst::dispatch(TestApp=HASH(0x556924cfb098)) called at /home/sand/src/perl/repoperls/installed-perls/host/k93jammy/v5.37.8/322f/lib/site_perl/5.37.8/x86_64-linux-thread-multi-ld/Class/MOP/Method/Wrapped.pm line 56
TestApp::_wrapped_dispatch(TestApp=HASH(0x556924cfb098)) called at /home/sand/src/perl/repoperls/installed-perls/host/k93jammy/v5.37.8/322f/lib/site_perl/5.37.8/x86_64-linux-thread-multi-ld/Class/MOP/Method/Wrapped.pm line 97
TestApp::dispatch(TestApp=HASH(0x556924cfb098)) called at /home/sand/src/perl/repoperls/installed-perls/host/k93jammy/v5.37.8/322f/lib/site_perl/5.37.8/Catalyst.pm line 2419
Catalyst::try {...} () called at /home/sand/src/perl/repoperls/installed-perls/host/k93jammy/v5.37.8/322f/lib/site_perl/5.37.8/Try/Tiny.pm line 102
eval {...} called at /home/sand/src/perl/repoperls/installed-perls/host/k93jammy/v5.37.8/322f/lib/site_perl/5.37.8/Try/Tiny.pm line 93
Try::Tiny::try(CODE(0x556924cf8628), Try::Tiny::Catch=REF(0x556924cf8490)) called at /home/sand/src/perl/repoperls/installed-perls/host/k93jammy/v5.37.8/322f/lib/site_perl/5.37.8/Catalyst.pm line 2428
Catalyst::handle_request("TestApp", "env", HASH(0x556924a534d8), "response_cb", CODE(0x556924cf84f0)) called at /home/sand/src/perl/repoperls/installed-perls/host/k93jammy/v5.37.8/322f/lib/site_perl/5.37.8/Catalyst/Engine.pm line 807
Catalyst::Engine::__ANON__(CODE(0x556924cf84f0)) called at /home/sand/src/perl/repoperls/installed-perls/host/k93jammy/v5.37.8/322f/lib/site_perl/5.37.8/Plack/Middleware/HTTPExceptions.pm line 32
Plack::Middleware::HTTPExceptions::try {...} () called at /home/sand/src/perl/repoperls/installed-perls/host/k93jammy/v5.37.8/322f/lib/site_perl/5.37.8/Try/Tiny.pm line 102
eval {...} called at /home/sand/src/perl/repoperls/installed-perls/host/k93jammy/v5.37.8/322f/lib/site_perl/5.37.8/Try/Tiny.pm line 93
Try::Tiny::try(CODE(0x556924cf8328), Try::Tiny::Catch=REF(0x556924bae818)) called at /home/sand/src/perl/repoperls/installed-perls/host/k93jammy/v5.37.8/322f/lib/site_perl/5.37.8/Plack/Middleware/HTTPExceptions.pm line 41
Plack::Middleware::HTTPExceptions::__ANON__(CODE(0x5569243139e8)) called at /home/sand/src/perl/repoperls/installed-perls/host/k93jammy/v5.37.8/322f/lib/site_perl/5.37.8/Plack/Util.pm line 339
Plack::Util::__ANON__(CODE(0x556924b19b90)) called at /home/sand/src/perl/repoperls/installed-perls/host/k93jammy/v5.37.8/322f/lib/site_perl/5.37.8/Plack/Util.pm line 339
Plack::Util::__ANON__(CODE(0x5569249e24f0)) called at /home/sand/src/perl/repoperls/installed-perls/host/k93jammy/v5.37.8/322f/lib/site_perl/5.37.8/Plack/Util.pm line 339
Plack::Util::__ANON__(CODE(0x556924ac3270)) called at /home/sand/src/perl/repoperls/installed-perls/host/k93jammy/v5.37.8/322f/lib/site_perl/5.37.8/HTTP/Message/PSGI.pm line 100
HTTP::Message::PSGI::res_from_psgi(CODE(0x556924cf8088)) called at /home/sand/src/perl/repoperls/installed-perls/host/k93jammy/v5.37.8/322f/lib/site_perl/5.37.8/HTTP/Message/PSGI.pm line 157
HTTP::Response::from_psgi("HTTP::Response", CODE(0x556924cf8088)) called at /home/sand/src/perl/repoperls/installed-perls/host/k93jammy/v5.37.8/322f/lib/site_perl/5.37.8/Plack/Test/MockHTTP.pm line 24
Plack::Test::MockHTTP::try {...} () called at /home/sand/src/perl/repoperls/installed-perls/host/k93jammy/v5.37.8/322f/lib/site_perl/5.37.8/Try/Tiny.pm line 100
eval {...} called at /home/sand/src/perl/repoperls/installed-perls/host/k93jammy/v5.37.8/322f/lib/site_perl/5.37.8/Try/Tiny.pm line 93
Try::Tiny::try(CODE(0x556924afb680), Try::Tiny::Catch=REF(0x556924c70c18)) called at /home/sand/src/perl/repoperls/installed-perls/host/k93jammy/v5.37.8/322f/lib/site_perl/5.37.8/Plack/Test/MockHTTP.pm line 27
Plack::Test::MockHTTP::request(Plack::Test::MockHTTP=HASH(0x556924c9be98), HTTP::Request=HASH(0x556924c90628)) called at /home/sand/src/perl/repoperls/installed-perls/host/k93jammy/v5.37.8/322f/lib/site_perl/5.37.8/Plack/Test.pm line 38
Plack::Test::__ANON__(HTTP::Request=HASH(0x556924c90628)) called at /home/sand/src/perl/repoperls/installed-perls/host/k93jammy/v5.37.8/322f/lib/site_perl/5.37.8/Catalyst/Test.pm line 290
Catalyst::Test::__ANON__(CODE(0x556924c9be50)) called at /home/sand/src/perl/repoperls/installed-perls/host/k93jammy/v5.37.8/322f/lib/site_perl/5.37.8/Plack/Test.pm line 38
Plack::Test::test_psgi("app", CODE(0x556924c901a8), "mangle_response", CODE(0x556923925fb0), "app", CODE(0x556924b96ac0), "client", CODE(0x556924c907f0)) called at /home/sand/src/perl/repoperls/installed-perls/host/k93jammy/v5.37.8/322f/lib/site_perl/5.37.8/Catalyst/Test.pm line 293
Catalyst::Test::_request(HASH(0x556924c70e28), "/") called at /home/sand/src/perl/repoperls/installed-perls/host/k93jammy/v5.37.8/322f/lib/site_perl/5.37.8/Catalyst/Test.pm line 336
Catalyst::Test::_local_request("TestApp", "/") called at /home/sand/src/perl/repoperls/installed-perls/host/k93jammy/v5.37.8/322f/lib/site_perl/5.37.8/Catalyst/Test.pm line 32
Catalyst::Test::__ANON__("/") called at /home/sand/src/perl/repoperls/installed-perls/host/k93jammy/v5.37.8/322f/lib/site_perl/5.37.8/Catalyst/Test.pm line 72
Catalyst::Test::__ANON__("/") called at t/live-test.t line 14
t/live-test.t ............. ok
t/release-pod-coverage.t .. skipped: these tests are for release candidate testing
t/release-pod-syntax.t .... skipped: these tests are for release candidate testing
All tests successful.
Files=7, Tests=17, 2 wallclock secs ( 0.04 usr 0.01 sys + 1.82 cusr 0.21 csys = 2.08 CPU)
Result: PASS
------------------------------
PREREQUISITES
------------------------------
Prerequisite modules loaded:
requires:
Module Need Have
---------------------------- ----- --------
Class::MOP 1.12 2.2203
HTML::Zoom 0.009 0.009009
Moose 1.21 2.2203
namespace::autoclean 0.09 0.29
Path::Class 0.23 0.37
build_requires:
Module Need Have
---------------------------- ----- --------
Catalyst::Action::RenderView 0.14 0.16
Catalyst::Runtime 5.8 5.90130
Test::More 0.96 1.302191
configure_requires:
Module Need Have
---------------------------- ----- --------
ExtUtils::MakeMaker 6.31 7.66
------------------------------
ENVIRONMENT AND OTHER CONTEXT
------------------------------
Environment variables:
AUTOMATED_TESTING = 1
LANG = en_US.UTF-8
LC_ADDRESS = de_DE.UTF-8
LC_IDENTIFICATION = de_DE.UTF-8
LC_MEASUREMENT = de_DE.UTF-8
LC_MONETARY = de_DE.UTF-8
LC_NAME = de_DE.UTF-8
LC_NUMERIC = de_DE.UTF-8
LC_PAPER = de_DE.UTF-8
LC_TELEPHONE = de_DE.UTF-8
LC_TIME = de_DE.UTF-8
PATH = /home/sand/bin:/usr/local/bin:/usr/local/sbin:/usr/sbin:/usr/bin:/sbin:/bin:/usr/games:/usr/local/games:/snap/bin:/usr/local/perl/bin:/usr/X11/bin
PERL = /tmp/basesmoker-reloperl-VOJ8/bin/perl
PERL5LIB = /tmp/loop_over_bdir-7145-9fh9oK/EJBCA-CrlPublish-0.60-0/blib/arch:/tmp/loop_over_bdir-7145-9fh9oK/EJBCA-CrlPublish-0.60-0/blib/lib:/tmp/loop_over_bdir-7145-9fh9oK/DBIx-Migration-Directories-0.12-0/blib/arch:/tmp/loop_over_bdir-7145-9fh9oK/DBIx-Migration-Directories-0.12-0/blib/lib:/tmp/loop_over_bdir-7145-9fh9oK/Linux-InitFS-0.2-0/blib/arch:/tmp/loop_over_bdir-7145-9fh9oK/Linux-InitFS-0.2-0/blib/lib
PERL5OPT =
PERL5_CPANPLUS_IS_RUNNING = 7282
PERL5_CPAN_IS_RUNNING = 7282
PERL_CANARY_STABILITY_NOPROMPT = 1
PERL_MM_USE_DEFAULT = 1
PERL_USE_UNSAFE_INC = 1
SHELL = /usr/bin/zsh
TERM = screen
Perl special variables (and OS-specific diagnostics, for MSWin32):
$^X = /tmp/basesmoker-reloperl-VOJ8/bin/perl
$UID/$EUID = 1005 / 1005
$GID = 1005 1005
$EGID = 1005 1005
Perl module toolchain versions installed:
Module Have
------------------- --------
CPAN 2.34
CPAN::Meta 2.150010
Cwd 3.88
ExtUtils::CBuilder 0.280238
ExtUtils::Command 7.66
ExtUtils::Install 2.22
ExtUtils::MakeMaker 7.66
ExtUtils::Manifest 1.73
ExtUtils::ParseXS 3.49
File::Spec 3.88
JSON 4.10
JSON::PP 4.16
Module::Build 0.4232
Module::Signature 0.88
Parse::CPAN::Meta 2.150010
Test::Harness 3.44
Test::More 1.302191
YAML 1.30
YAML::Syck 1.34
version 0.9929
--
Summary of my perl5 (revision 5 version 37 subversion 8) configuration:
Commit id: aaff26e0f2e98dc425f7514531d35dfec6948f6d
Platform:
osname=linux
osvers=5.15.0-58-generic
archname=x86_64-linux-thread-multi-ld
uname='linux k93jammy 5.15.0-58-generic #64-ubuntu smp thu jan 5 11:43:13 utc 2023 x86_64 x86_64 x86_64 gnulinux '
config_args='-Dprefix=/home/sand/src/perl/repoperls/installed-perls/host/k93jammy/v5.37.8/322f -Dmyhostname=k93jammy -Dinstallusrbinperl=n -Uversiononly -Dusedevel -des -Ui_db -Dlibswanted=cl pthread socket inet nsl gdbm dbm malloc dl ld sun m crypt sec util c cposix posix ucb BSD gdbm_compat -Duseithreads -Duselongdouble -DEBUGGING=-g'
hint=recommended
useposix=true
d_sigaction=define
useithreads=define
usemultiplicity=define
use64bitint=define
use64bitall=define
uselongdouble=define
usemymalloc=n
default_inc_excludes_dot=define
Compiler:
cc='cc'
ccflags ='-D_REENTRANT -D_GNU_SOURCE -fwrapv -fno-strict-aliasing -pipe -fstack-protector-strong -I/usr/local/include -D_LARGEFILE_SOURCE -D_FILE_OFFSET_BITS=64'
optimize='-O2 -g'
cppflags='-D_REENTRANT -D_GNU_SOURCE -fwrapv -fno-strict-aliasing -pipe -fstack-protector-strong -I/usr/local/include'
ccversion=''
gccversion='11.3.0'
gccosandvers=''
intsize=4
longsize=8
ptrsize=8
doublesize=8
byteorder=12345678
doublekind=3
d_longlong=define
longlongsize=8
d_longdbl=define
longdblsize=16
longdblkind=3
ivtype='long'
ivsize=8
nvtype='long double'
nvsize=16
Off_t='off_t'
lseeksize=8
alignbytes=16
prototype=define
Linker and Libraries:
ld='cc'
ldflags =' -fstack-protector-strong -L/usr/local/lib'
libpth=/usr/local/lib /usr/lib/x86_64-linux-gnu /usr/lib /usr/lib64
libs=-lpthread -lnsl -ldl -lm -lcrypt -lutil -lc
perllibs=-lpthread -lnsl -ldl -lm -lcrypt -lutil -lc
libc=/lib/x86_64-linux-gnu/libc.so.6
so=so
useshrplib=false
libperl=libperl.a
gnulibc_version='2.35'
Dynamic Linking:
dlsrc=dl_dlopen.xs
dlext=so
d_dlsymun=undef
ccdlflags='-Wl,-E'
cccdlflags='-fPIC'
lddlflags='-shared -O2 -g -L/usr/local/lib -fstack-protector-strong'
Characteristics of this binary (from libperl):
Compile-time options:
HAS_TIMES
MULTIPLICITY
PERLIO_LAYERS
PERL_COPY_ON_WRITE
PERL_DONT_CREATE_GVSV
PERL_HASH_FUNC_SIPHASH13
PERL_HASH_USE_SBOX32
PERL_MALLOC_WRAP
PERL_OP_PARENT
PERL_PRESERVE_IVUV
PERL_USE_DEVEL
PERL_USE_SAFE_PUTENV
USE_64_BIT_ALL
USE_64_BIT_INT
USE_ITHREADS
USE_LARGE_FILES
USE_LOCALE
USE_LOCALE_COLLATE
USE_LOCALE_CTYPE
USE_LOCALE_NUMERIC
USE_LOCALE_TIME
USE_LONG_DOUBLE
USE_PERLIO
USE_PERL_ATOF
USE_REENTRANT_API
USE_THREAD_SAFE_LOCALE
Built under linux
Compiled at Jan 31 2023 12:17:03
%ENV:
PERL="/tmp/basesmoker-reloperl-VOJ8/bin/perl"
PERL5LIB="/tmp/loop_over_bdir-7145-9fh9oK/EJBCA-CrlPublish-0.60-0/blib/arch:/tmp/loop_over_bdir-7145-9fh9oK/EJBCA-CrlPublish-0.60-0/blib/lib:/tmp/loop_over_bdir-7145-9fh9oK/DBIx-Migration-Directories-0.12-0/blib/arch:/tmp/loop_over_bdir-7145-9fh9oK/DBIx-Migration-Directories-0.12-0/blib/lib:/tmp/loop_over_bdir-7145-9fh9oK/Linux-InitFS-0.2-0/blib/arch:/tmp/loop_over_bdir-7145-9fh9oK/Linux-InitFS-0.2-0/blib/lib"
PERL5OPT=""
PERL5_CPANPLUS_IS_RUNNING="7282"
PERL5_CPAN_IS_RUNNING="7282"
PERL_CANARY_STABILITY_NOPROMPT="1"
PERL_MM_USE_DEFAULT="1"
PERL_USE_UNSAFE_INC="1"
@INC:
/tmp/loop_over_bdir-7145-9fh9oK/EJBCA-CrlPublish-0.60-0/blib/arch
/tmp/loop_over_bdir-7145-9fh9oK/EJBCA-CrlPublish-0.60-0/blib/lib
/tmp/loop_over_bdir-7145-9fh9oK/DBIx-Migration-Directories-0.12-0/blib/arch
/tmp/loop_over_bdir-7145-9fh9oK/DBIx-Migration-Directories-0.12-0/blib/lib
/tmp/loop_over_bdir-7145-9fh9oK/Linux-InitFS-0.2-0/blib/arch
/tmp/loop_over_bdir-7145-9fh9oK/Linux-InitFS-0.2-0/blib/lib
/home/sand/src/perl/repoperls/installed-perls/host/k93jammy/v5.37.8/322f/lib/site_perl/5.37.8/x86_64-linux-thread-multi-ld
/home/sand/src/perl/repoperls/installed-perls/host/k93jammy/v5.37.8/322f/lib/site_perl/5.37.8
/home/sand/src/perl/repoperls/installed-perls/host/k93jammy/v5.37.8/322f/lib/5.37.8/x86_64-linux-thread-multi-ld
/home/sand/src/perl/repoperls/installed-perls/host/k93jammy/v5.37.8/322f/lib/5.37.8
.