CPAN-SQLite v0.215 Perl 5 v5.16.3 amd64-freebsd-thread-multi
- Status
- Pass
- From
- Slaven Rezić (SREZIC)
- Dist
-
CPAN-SQLite v0.215
- Platform
- Perl 5 v5.16.3 amd64-freebsd-thread-multi
- Date
- 2019-01-23 23:16:08
- ID
- dd740bde-1f64-11e9-95b9-af86ee471b05
This distribution has been tested as part of the CPAN Testers
project, supporting the Perl programming language. See
http://wiki.cpantesters.org/ for more information or email
questions to cpan-testers-discuss@perl.org
--
Dear Serguei Trouchelle,
This is a computer-generated report for CPAN-SQLite-0.215
on perl 5.16.3, created by CPAN-Reporter-1.2018.
Thank you for uploading your work to CPAN. Congratulations!
All tests were successful.
Sections of this report:
* Tester comments
* Program output
* Prerequisites
* Environment and other context
------------------------------
TESTER COMMENTS
------------------------------
Additional comments from tester:
none provided
------------------------------
PROGRAM OUTPUT
------------------------------
Output from '/usr/bin/make test':
PERL_DL_NONLAZY=1 "/usr/perl5.16.3t/bin/perl5.16.3" "-MExtUtils::Command::MM" "-MTest::Harness" "-e" "undef *Test::Harness::Switches; test_harness(0, 'blib/lib', 'blib/arch')" t/*.t
t/00-all_prereqs.t ............... ok
t/00-compile.t ................... ok
#
# Versions for all modules listed in MYMETA.json (including optional ones):
#
# === Configure Requires ===
#
# Module Want Have
# ------------------- ---- ----
# ExtUtils::MakeMaker any 7.34
#
# === Build Requires ===
#
# Module Want Have
# ------------------- ---- ----
# ExtUtils::MakeMaker any 7.34
#
# === Test Requires ===
#
# Module Want Have
# ------------------- ---- --------
# CPAN::HandleConfig any 5.5008
# CPAN::Version any 5.5003
# Carp any 1.50
# DBD::SQLite any 1.60
# ExtUtils::MakeMaker any 7.34
# File::Copy any 2.23
# File::Spec any 3.75
# FindBin any 1.51
# IO::Handle any 1.39
# IPC::Open3 any 1.12
# Test::Memory::Cycle any 1.06
# Test::More 0.94 1.302160
# base any 2.18
# lib any 0.63
#
# === Test Recommends ===
#
# Module Want Have
# ---------- -------- --------
# CPAN::Meta 2.120900 2.150010
#
# === Runtime Requires ===
#
# Module Want Have
# --------------------- ---- -------
# Archive::Tar 1.54 2.30
# CPAN any 2.22
# CPAN::DistnameInfo 0.09 0.12
# CPAN::Index 1.93 2.12
# Compress::Zlib any 2.081
# Cwd any 3.75
# DBD::SQLite 1.27 1.60
# DBI any 1.641
# English any 1.05
# Exporter any 5.73
# File::Basename any 2.84
# File::Find any 1.20
# File::HomeDir any 1.004
# File::Path any 2.15
# File::Spec any 3.75
# File::Spec::Functions any 3.75
# Getopt::Long any 2.5
# HTTP::Tiny any 0.076
# IO::Zlib any 1.10
# Safe any 2.31_01
# Scalar::Util any 1.50
# constant any 1.33
# parent any 0.236
# strict any 1.07
# utf8 any 1.09
# warnings any 1.13
#
t/00-report-prereqs.t ............ ok
# Testing with Perl 5.016003, /usr/perl5.16.3t/bin/perl5.16.3
# CPAN version is 2.22
# CPAN::DistnameInfo version is 0.12
# CPAN::HandleConfig version is 5.5008
# CPAN::Version version is 5.5003
# Carp version is 1.5
# Compress::Zlib version is 2.081
# Cwd version is 3.75
# DBD::SQLite version is 1.60
# DBI version is 1.641
# English version is 1.05
# Exporter version is 5.73
# ExtUtils::MakeMaker version is 7.34
# File::Basename version is 2.84
# File::Copy version is 2.23
# File::Find version is 1.20
# File::HomeDir version is 1.004
# File::Path version is 2.15
# File::Spec version is 3.75
# File::Spec::Functions version is 3.75
# FindBin version is 1.51
# Getopt::Long version is 2.5
# HTTP::Tiny version is 0.076
# IO::Handle version is 1.39
# IPC::Open3 version is 1.12
# Safe version is 2.31_01
# Scalar::Util version is 1.5
# Test::Memory::Cycle version is 1.06
# Test::More version is 1.302160
# base version is 2.18
# constant version is 1.33
# lib version is 0.63
# parent version is 0.236
# strict version is 1.07
# utf8 version is 1.09
# warnings version is 1.13
t/000-report-versions.t .......... ok
t/01basic.t ...................... ok
t/02drop.t ....................... ok
t/03info.t ....................... ok
t/04search.t ..................... ok
t/04search_everything.t .......... ok
t/05meta_new.t ................... ok
t/05meta_update.t ................ ok
t/06retrieve.t ................... ok
t/07download.t ................... ok
t/08circular_references.t ........ ok
t/author-critic.t ................ skipped: these tests are for testing by the author
t/author-eol.t ................... skipped: these tests are for testing by the author
t/author-minimum-version.t ....... skipped: these tests are for testing by the author
t/author-no-tabs.t ............... skipped: these tests are for testing by the author
t/author-pod-syntax.t ............ skipped: these tests are for testing by the author
t/release-changes_has_content.t .. skipped: these tests are for release candidate testing
t/release-distmeta.t ............. skipped: these tests are for release candidate testing
t/release-fixme.t ................ skipped: these tests are for release candidate testing
t/release-has-version.t .......... skipped: these tests are for release candidate testing
t/release-kwalitee.t ............. skipped: these tests are for release candidate testing
t/release-meta-json.t ............ skipped: these tests are for release candidate testing
t/release-pause-permissions.t .... skipped: these tests are for release candidate testing
All tests successful.
Files=26, Tests=11316, 75 wallclock secs ( 0.48 usr 0.46 sys + 6.62 cusr 1.34 csys = 8.91 CPU)
Result: PASS
------------------------------
PREREQUISITES
------------------------------
Prerequisite modules loaded:
requires:
Module Need Have
------------------- ---- -----
Archive::Tar 1.54 2.30
Compress::Zlib 0 2.081
CPAN::DistnameInfo 0.09 0.12
CPAN::Index 1.93 2.12
DBD::SQLite 1.27 1.60
File::HomeDir 0 1.004
File::Spec 0 3.75
HTTP::Tiny 0 0.076
IO::Zlib 0 1.10
parent 0 0.236
build_requires:
Module Need Have
------------------- ---- -----
ExtUtils::MakeMaker 0 7.34
Test::Memory::Cycle 0 1.06
configure_requires:
Module Need Have
------------------- ---- -----
ExtUtils::MakeMaker 0 7.34
------------------------------
ENVIRONMENT AND OTHER CONTEXT
------------------------------
Environment variables:
LC_ALL = de_DE.ISO8859-1
PATH = /usr/local/bin:/usr/bin:/bin:/usr/local/sbin:/usr/sbin:/sbin:/home/cpansand/bin/freebsd9.3:/home/cpansand/bin/sh:/home/cpansand/bin:/usr/games:/home/cpansand/devel:/usr/home/eserte/src/srezic-misc/scripts
PERL5LIB =
PERL5OPT =
PERL5_CPANPLUS_IS_RUNNING = 36806
PERL5_CPAN_IS_RUNNING = 36806
PERL5_CPAN_IS_RUNNING_IN_RECURSION = 36348,36806
PERLDOC = -MPod::Perldoc::ToTextOverstrike
PERL_BATCH = yes
PERL_CANARY_STABILITY_NOPROMPT = 1
PERL_CPAN_REPORTER_CONFIG = /var/tmp/cpansmoker-1023/2019012400/cpanreporter_000_config.ini
PERL_EXTUTILS_AUTOINSTALL = --defaultdeps
PERL_USE_UNSAFE_INC = 1
SHELL = /usr/local/bin/zsh
TERM = screen
TMPDIR = /var/tmp/cpansmoker-1023/2019012400
Perl special variables (and OS-specific diagnostics, for MSWin32):
$^X = /usr/perl5.16.3t/bin/perl5.16.3
$UID/$EUID = 1023 / 1023
$GID = 1023 1023
$EGID = 1023 1023
Perl module toolchain versions installed:
Module Have
------------------- --------
CPAN 2.22
CPAN::Meta 2.150010
Cwd 3.75
ExtUtils::CBuilder 0.280230
ExtUtils::Command 7.34
ExtUtils::Install 2.14
ExtUtils::MakeMaker 7.34
ExtUtils::Manifest 1.71
ExtUtils::ParseXS 3.35
File::Spec 3.75
JSON 4.00
JSON::PP 4.00
Module::Build 0.4224
Module::Signature 0.81
Parse::CPAN::Meta 2.150010
Test::Harness 3.41
Test::More 1.302160
YAML 1.27
YAML::Syck 1.31
version 0.9924
--
Summary of my perl5 (revision 5 version 16 subversion 3) configuration:
Platform:
osname=freebsd, osvers=9.2-release-p4, archname=amd64-freebsd-thread-multi
uname='freebsd cvrsnica-freebsd-92 9.2-release-p4 freebsd 9.2-release-p4 #0: tue apr 8 18:08:22 utc 2014 root@amd64-builder.daemonology.net:usrobjusrsrcsysgeneric amd64 '
config_args='-ds -e -Dprefix=/usr/perl5.16.3t -Dusethreads'
hint=recommended, useposix=true, d_sigaction=define
useithreads=define, usemultiplicity=define
useperlio=define, d_sfio=undef, uselargefiles=define, usesocks=undef
use64bitint=define, use64bitall=define, uselongdouble=undef
usemymalloc=n, bincompat5005=undef
Compiler:
cc='cc', ccflags ='-DHAS_FPSETMASK -DHAS_FLOATINGPOINT_H -fno-strict-aliasing -pipe -fstack-protector -I/usr/local/include',
optimize='-O',
cppflags='-DHAS_FPSETMASK -DHAS_FLOATINGPOINT_H -fno-strict-aliasing -pipe -fstack-protector -I/usr/local/include'
ccversion='', gccversion='4.2.1 20070831 patched [FreeBSD]', gccosandvers=''
intsize=4, longsize=8, ptrsize=8, doublesize=8, byteorder=12345678
d_longlong=define, longlongsize=8, d_longdbl=define, longdblsize=16
ivtype='long', ivsize=8, nvtype='double', nvsize=8, Off_t='off_t', lseeksize=8
alignbytes=8, prototype=define
Linker and Libraries:
ld='cc', ldflags ='-pthread -Wl,-E -fstack-protector -L/usr/local/lib'
libpth=/usr/lib /usr/local/lib
libs=-lgdbm -lm -lcrypt
perllibs=-lm -lcrypt
libc=, so=so, useshrplib=false, libperl=libperl.a
gnulibc_version=''
Dynamic Linking:
dlsrc=dl_dlopen.xs, dlext=so, d_dlsymun=undef, ccdlflags=' '
cccdlflags='-DPIC -fPIC', lddlflags='-shared -L/usr/local/lib -fstack-protector'
Characteristics of this binary (from libperl):
Compile-time options: HAS_TIMES MULTIPLICITY PERLIO_LAYERS
PERL_DONT_CREATE_GVSV PERL_IMPLICIT_CONTEXT
PERL_MALLOC_WRAP PERL_PRESERVE_IVUV USE_64_BIT_ALL
USE_64_BIT_INT USE_ITHREADS USE_LARGE_FILES
USE_LOCALE USE_LOCALE_COLLATE USE_LOCALE_CTYPE
USE_LOCALE_NUMERIC USE_PERLIO USE_PERL_ATOF
USE_REENTRANT_API
Built under freebsd
Compiled at May 16 2014 07:49:48
%ENV:
PERL5LIB=""
PERL5OPT=""
PERL5_CPANPLUS_IS_RUNNING="36806"
PERL5_CPAN_IS_RUNNING="36806"
PERL5_CPAN_IS_RUNNING_IN_RECURSION="36348,36806"
PERLDOC="-MPod::Perldoc::ToTextOverstrike"
PERL_BATCH="yes"
PERL_CANARY_STABILITY_NOPROMPT="1"
PERL_CPAN_REPORTER_CONFIG="/var/tmp/cpansmoker-1023/2019012400/cpanreporter_000_config.ini"
PERL_EXTUTILS_AUTOINSTALL="--defaultdeps"
PERL_USE_UNSAFE_INC="1"
@INC:
/usr/perl5.16.3t/lib/site_perl/5.16.3/amd64-freebsd-thread-multi
/usr/perl5.16.3t/lib/site_perl/5.16.3
/usr/perl5.16.3t/lib/5.16.3/amd64-freebsd-thread-multi
/usr/perl5.16.3t/lib/5.16.3
.