Back
From: metabase:user:30977d10-2aae-11df-837a-5e0a49663a4f
Subject: PASS Starlink-AST-1.05 v5.12.4 GNU/Linux
Date: 2016-03-09T19:12:28Z
This distribution has been tested as part of the CPAN Testers
project, supporting the Perl programming language. See
http://wiki.cpantesters.org/ for more information or email
questions to cpan-testers-discuss@perl.org
--
Dear Tim Jenness,
This is a computer-generated report for Starlink-AST-1.05
on perl 5.12.4, created by CPAN-Reporter-1.2017.
Thank you for uploading your work to CPAN. Congratulations!
All tests were successful.
Sections of this report:
* Tester comments
* Program output
* Prerequisites
* Environment and other context
------------------------------
TESTER COMMENTS
------------------------------
Additional comments from tester:
this report is from an automated smoke testing program
and was not reviewed by a human for accuracy
------------------------------
PROGRAM OUTPUT
------------------------------
Output from './Build test':
t/attrib.t .......... ok
t/channel.t ......... ok
t/dclone.t .......... ok
t/dsb_reg.t ......... ok
t/error.t ........... ok
t/fitschan.t ........ ok
t/fitschn0.t ........ ok
t/formats.t ......... ok
t/keymap-tie.t ...... ok
t/keymap.t .......... ok
t/offset.t .......... ok
t/plot00_pgplot.t ... skipped: $DISPLAY is not set.
t/plot00_plplot.t ... skipped: $DISPLAY is not set.
t/plot00_tk.t ....... skipped: $DISPLAY is not set.
t/plot00_tk_zinc.t .. skipped: $DISPLAY is not set.
t/plot_pg.t ......... skipped: $DISPLAY is not set.
t/plot_pl.t ......... skipped: $DISPLAY is not set.
t/plot_tk.t ......... skipped: $DISPLAY is not set.
t/plot_tk_zinc.t .... skipped: $DISPLAY is not set.
t/region.t .......... ok
t/specframe.t ....... ok
t/stcschan.t ........ ok
t/unitmap.t ......... ok
t/xmlchan.t ......... ok
t/zoommap.t ......... ok
All tests successful.
Files=25, Tests=267, 1 wallclock secs ( 0.21 usr 0.01 sys + 0.56 cusr 0.03 csys = 0.81 CPU)
Result: PASS
------------------------------
PREREQUISITES
------------------------------
Prerequisite modules loaded:
build_requires:
Module Need Have
-------------------- ------ --------
ExtUtils::CBuilder 0 0.280224
perl 5.008 5.012004
Test::Deep 0 1.120
Test::More 0 1.001014
Test::Number::Delta 0 1.06
configure_requires:
Module Need Have
-------------------- ------ --------
Module::Build 0.3604 0.4216
opt_requires:
Module Need Have
-------------------- ------ --------
! Astro::FITS::CFITSIO 0 n/a
Astro::FITS::Header 0 3.04
! Tk 0 n/a
! Tk::Zinc 0 n/a
------------------------------
ENVIRONMENT AND OTHER CONTEXT
------------------------------
Environment variables:
AUTOMATED_TESTING = 1
LANG = en_US.UTF-8
PATH = /usr/local/bin:/usr/bin:/bin:/usr/local/games:/usr/games
PERL5LIB =
PERL5OPT =
PERL5_CPANPLUS_IS_RUNNING = 27397
PERL5_CPAN_IS_RUNNING = 27397
PERL5_CPAN_IS_RUNNING_IN_RECURSION = 24848,27397
PERL_CR_SMOKER_CURRENT = Astro-FITS-HdrTrans-1.58
PERL_EXTUTILS_AUTOINSTALL = --defaultdeps
PERL_MM_USE_DEFAULT = 1
SHELL = /bin/bash
TERM = xterm
Perl special variables (and OS-specific diagnostics, for MSWin32):
$^X = /home/stro/perl/5.12.4m/bin/perl
$UID/$EUID = 1000 / 1000
$GID = 1000 24 25 29 30 44 46 108 114 1000
$EGID = 1000 24 25 29 30 44 46 108 114 1000
Perl module toolchain versions installed:
Module Have
------------------- --------
CPAN 2.12
CPAN::Meta 2.150005
Cwd 3.62
ExtUtils::CBuilder 0.280224
ExtUtils::Command 7.10
ExtUtils::Install 1.55
ExtUtils::MakeMaker 7.10
ExtUtils::Manifest 1.70
ExtUtils::ParseXS 3.30
File::Spec 3.62
JSON 2.90
JSON::PP 2.27300
Module::Build 0.4216
Module::Signature n/a
Parse::CPAN::Meta 1.4417
Test::Harness 3.35
Test::More 1.001014
YAML 1.15
YAML::Syck 1.29
version 0.9915
--
Summary of my perl5 (revision 5 version 12 subversion 4) configuration:
Platform:
osname=linux, osvers=3.16.0-4-amd64, archname=x86_64-linux-multi
uname='linux vm-debian-001 3.16.0-4-amd64 #1 smp debian 3.16.7-ckt11-1 (2015-05-24) x86_64 gnulinux '
config_args=''
hint=recommended, useposix=true, d_sigaction=define
useithreads=undef, usemultiplicity=define
useperlio=define, d_sfio=undef, uselargefiles=define, usesocks=undef
use64bitint=define, use64bitall=define, uselongdouble=undef
usemymalloc=n, bincompat5005=undef
Compiler:
cc='cc', ccflags ='-fno-strict-aliasing -pipe -fstack-protector -I/usr/local/include -D_LARGEFILE_SOURCE -D_FILE_OFFSET_BITS=64',
optimize='-O2',
cppflags='-fno-strict-aliasing -pipe -fstack-protector -I/usr/local/include'
ccversion='', gccversion='4.9.2', gccosandvers=''
intsize=4, longsize=8, ptrsize=8, doublesize=8, byteorder=12345678
d_longlong=define, longlongsize=8, d_longdbl=define, longdblsize=16
ivtype='long', ivsize=8, nvtype='double', nvsize=8, Off_t='off_t', lseeksize=8
alignbytes=8, prototype=define
Linker and Libraries:
ld='cc', ldflags =' -fstack-protector -L/usr/local/lib'
libpth=/usr/local/lib /lib/x86_64-linux-gnu /lib/../lib /usr/lib/x86_64-linux-gnu /usr/lib/../lib /lib /usr/lib
libs=-lnsl -ldl -lm -lcrypt -lutil -lc
perllibs=-lnsl -ldl -lm -lcrypt -lutil -lc
libc=, so=so, useshrplib=false, libperl=libperl.a
gnulibc_version='2.19'
Dynamic Linking:
dlsrc=dl_dlopen.xs, dlext=so, d_dlsymun=undef, ccdlflags='-Wl,-E'
cccdlflags='-fPIC', lddlflags='-shared -O2 -L/usr/local/lib -fstack-protector'
Characteristics of this binary (from libperl):
Compile-time options: MULTIPLICITY PERL_DONT_CREATE_GVSV
PERL_IMPLICIT_CONTEXT PERL_MALLOC_WRAP USE_64_BIT_ALL
USE_64_BIT_INT USE_LARGE_FILES USE_PERLIO
USE_PERL_ATOF
Built under linux
Compiled at Jul 17 2015 17:06:07
%ENV:
PERL5LIB=""
PERL5OPT=""
PERL5_CPANPLUS_IS_RUNNING="27397"
PERL5_CPAN_IS_RUNNING="27397"
PERL5_CPAN_IS_RUNNING_IN_RECURSION="24848,27397"
PERL_CR_SMOKER_CURRENT="Astro-FITS-HdrTrans-1.58"
PERL_EXTUTILS_AUTOINSTALL="--defaultdeps"
PERL_MM_USE_DEFAULT="1"
@INC:
/home/stro/perl/5.12.4m/lib/site_perl/5.12.4/x86_64-linux-multi
/home/stro/perl/5.12.4m/lib/site_perl/5.12.4
/home/stro/perl/5.12.4m/lib/5.12.4/x86_64-linux-multi
/home/stro/perl/5.12.4m/lib/5.12.4
.