Report for Project-Euler-0.20

Back
From: metabase:user:30ae4450-2aae-11df-837a-5e0a49663a4f
Subject: PASS Project-Euler-0.20 v5.10.1 
Date: 2013-03-09T04:51:13Z

This distribution has been tested as part of the CPAN Testers
project, supporting the Perl programming language.  See
http://wiki.cpantesters.org/ for more information or email
questions to cpan-testers-discuss@perl.org


--
Dear Adam Lesperance,

This is a computer-generated report for Project-Euler-0.20
on perl 5.10.1, created by CPAN-Reporter-1.2009.

Thank you for uploading your work to CPAN.  Congratulations!
All tests were successful.

Sections of this report:

    * Tester comments
    * Program output
    * Prerequisites
    * Environment and other context

------------------------------
TESTER COMMENTS
------------------------------

Additional comments from tester:

this report is from an automated smoke testing program
and was not reviewed by a human for accuracy

------------------------------
PROGRAM OUTPUT
------------------------------

Output from 'C:\strawberry\perl\bin\perl.exe ./Build test':

# Testing Project::Euler, Perl 5.010001, C:\STRAWB~1\perl\bin\perl.exe
t/00-Base/00-load.t ........................... ok
t/00-Base/01-base.t ........................... ok
t/00-compile.t ................................ ok
t/10-Lib/000-Types.t .......................... ok
t/10-Lib/100-Utils_List.t ..................... ok
t/10-Lib/101-Utils_Fibs.t ..................... ok
t/20-Problems/000-Correct_Defaults.t .......... ok
t/20-Problems/001-Sum_Filtered_Lists.t ........ ok
t/20-Problems/002-Sum_Filtered_Fib_Numbers.t .. ok
t/author-99-template.t ........................ skipped: these tests are for testing by the author
t/author-critic.t ............................. skipped: these tests are for testing by the author
t/release-check-changes.t ..................... skipped: these tests are for release candidate testing
t/release-distmeta.t .......................... skipped: these tests are for release candidate testing
t/release-has-version.t ....................... skipped: these tests are for release candidate testing
t/release-kwalitee.t .......................... skipped: these tests are for release candidate testing
t/release-minimum-version.t ................... skipped: these tests are for release candidate testing
t/release-pod-coverage.t ...................... skipped: these tests are for release candidate testing
t/release-pod-syntax.t ........................ skipped: these tests are for release candidate testing
t/release-portability.t ....................... skipped: these tests are for release candidate testing
t/release-synopsis.t .......................... skipped: these tests are for release candidate testing
t/release-unused-vars.t ....................... skipped: these tests are for release candidate testing
All tests successful.
Files=21, Tests=338, 10 wallclock secs ( 0.04 usr +  0.08 sys =  0.12 CPU)
Result: PASS

------------------------------
PREREQUISITES
------------------------------

Prerequisite modules loaded:

requires:

    Module                      Need   Have      
    --------------------------- ------ ----------
    Carp                        0      1.26      
    DateTime                    0      0.74      
    DateTime::Format::DateParse 0      0.05      
    Exporter::Easy              0      0.16      
    List::MoreUtils             0      0.33      
    List::Util                  0      1.27      
    Math::Big::Factors          0      1.02      
    Math::BigInt                0      1.997     
    Modern::Perl                0      1.20121103
    Moose                       0      2.0604    
    Moose::Role                 0      2.0604    
    MooseX::Types               0      0.35      
    MooseX::Types::Moose        0      0.35      
    namespace::autoclean        0      0.13      
    perl                        5.010  5.010001  
    Readonly                    0      1.03      
    String::Palindrome          0      2.000001  

build_requires:

    Module                      Need   Have      
    --------------------------- ------ ----------
    autodie                     0      2.16      
    constant                    0      1.21      
    English                     0      1.04      
    File::Find                  0      1.14      
    File::Spec                  0      3.40      
    File::Temp                  0      0.22      
    Module::Build               0.3601 0.4003    
    Test::Exception             0      0.31      
    Test::More                  0      0.98      
    Test::Most                  0      0.31      

configure_requires:

    Module                      Need   Have      
    --------------------------- ------ ----------
    Module::Build               0.3601 0.4003    


------------------------------
ENVIRONMENT AND OTHER CONTEXT
------------------------------

Environment variables:

    AUTOMATED_TESTING = 1
    COMSPEC = C:\WINDOWS\system32\cmd.exe
    NUMBER_OF_PROCESSORS = 1
    PATH = C:\Program Files\Far Manager\;C:\WINDOWS\system32;C:\WINDOWS;C:\WINDOWS\System32\Wbem;C:\strawberry\c\bin;C:\strawberry\perl\site\bin;C:\strawberry\perl\bin
    PERL5LIB = C:\strawberry\cpan\build\String-Palindrome-2.000001-UQCfkG/blib/arch;C:\strawberry\cpan\build\String-Palindrome-2.000001-UQCfkG/blib/lib
    PERL5OPT = 
    PERL5_CPANPLUS_IS_RUNNING = 1128
    PERL5_CPAN_IS_RUNNING = 1128
    PERL5_CPAN_IS_RUNNING_IN_RECURSION = 1032,1128
    PERL_CR_SMOKER_CURRENT = Project-Euler-0.20
    PERL_EXTUTILS_AUTOINSTALL = --defaultdeps
    PERL_JSON_BACKEND = JSON::XS
    PERL_MM_USE_DEFAULT = 1
    PERL_YAML_BACKEND = YAML
    PROCESSOR_IDENTIFIER = x86 Family 16 Model 5 Stepping 3, AuthenticAMD
    TEMP = C:\DOCUME~1\c\LOCALS~1\Temp
    TERM = dumb

Perl special variables (and OS-specific diagnostics, for MSWin32):

    $^X = C:\strawberry\perl\bin\perl.exe
    $UID/$EUID = 0 / 0
    $GID = 0
    $EGID = 0
    Win32::GetOSName = WinXP/.Net
    Win32::GetOSVersion = Service Pack 3, 5, 1, 2600, 2, 3, 0, 256, 1
    Win32::FsType = NTFS
    Win32::IsAdminUser = 1

Perl module toolchain versions installed:

    Module              Have    
    ------------------- --------
    CPAN                1.9800  
    CPAN::Meta          2.120921
    Cwd                 3.40    
    ExtUtils::CBuilder  0.280202
    ExtUtils::Command   1.17    
    ExtUtils::Install   1.54    
    ExtUtils::MakeMaker 6.64    
    ExtUtils::Manifest  1.60    
    ExtUtils::ParseXS   3.18    
    File::Spec          3.40    
    JSON                2.53    
    JSON::PP            2.27200 
    Module::Build       0.4003  
    Module::Signature   0.66    
    Parse::CPAN::Meta   1.4404  
    Test::Harness       3.23    
    Test::More          0.98    
    YAML                0.84    
    YAML::Syck          1.22    
    version             0.9901  


--

Summary of my perl5 (revision 5 version 10 subversion 1) configuration:
   
  Platform:
    osname=MSWin32, osvers=5.1, archname=MSWin32-x86-multi-thread
    uname='Win32 strawberryperl 5.10.1.5 #1 Sun May 15 09:44:53 2011 i386'
    config_args='undef'
    hint=recommended, useposix=true, d_sigaction=undef
    useithreads=define, usemultiplicity=define
    useperlio=define, d_sfio=undef, uselargefiles=define, usesocks=undef
    use64bitint=undef, use64bitall=undef, uselongdouble=undef
    usemymalloc=n, bincompat5005=undef
  Compiler:
    cc='gcc', ccflags =' -s -O2 -DWIN32 -DHAVE_DES_FCRYPT  -DUSE_SITECUSTOMIZE -DPERL_IMPLICIT_CONTEXT -DPERL_IMPLICIT_SYS -fno-strict-aliasing -DPERL_MSVCRT_READFIX',
    optimize='-s -O2',
    cppflags='-DWIN32'
    ccversion='', gccversion='3.4.5', gccosandvers=''
    intsize=4, longsize=4, ptrsize=4, doublesize=8, byteorder=1234
    d_longlong=undef, longlongsize=8, d_longdbl=define, longdblsize=12
    ivtype='long', ivsize=4, nvtype='double', nvsize=8, Off_t='long long', lseeksize=8
    alignbytes=8, prototype=define
  Linker and Libraries:
    ld='g++', ldflags ='-s -L"C:\strawberry\perl\lib\CORE" -L"C:\strawberry\c\lib"'
    libpth=C:\strawberry\c\lib
    libs= -lmoldname -lkernel32 -luser32 -lgdi32 -lwinspool -lcomdlg32 -ladvapi32 -lshell32 -lole32 -loleaut32 -lnetapi32 -luuid -lws2_32 -lmpr -lwinmm -lversion -lodbc32 -lodbccp32
    perllibs= -lmoldname -lkernel32 -luser32 -lgdi32 -lwinspool -lcomdlg32 -ladvapi32 -lshell32 -lole32 -loleaut32 -lnetapi32 -luuid -lws2_32 -lmpr -lwinmm -lversion -lodbc32 -lodbccp32
    libc=, so=dll, useshrplib=true, libperl=libperl510.a
    gnulibc_version=''
  Dynamic Linking:
    dlsrc=dl_win32.xs, dlext=dll, d_dlsymun=undef, ccdlflags=' '
    cccdlflags=' ', lddlflags='-mdll -s -L"C:\strawberry\perl\lib\CORE" -L"C:\strawberry\c\lib"'


Characteristics of this binary (from libperl): 
  Compile-time options: MULTIPLICITY PERL_DONT_CREATE_GVSV
                        PERL_IMPLICIT_CONTEXT PERL_IMPLICIT_SYS
                        PERL_MALLOC_WRAP PL_OP_SLAB_ALLOC USE_ITHREADS
                        USE_LARGE_FILES USE_PERLIO USE_SITECUSTOMIZE
  Built under MSWin32
  Compiled at May 15 2011 09:50:23
  %ENV:
    PERL5LIB="C:\strawberry\cpan\build\String-Palindrome-2.000001-UQCfkG/blib/arch;C:\strawberry\cpan\build\String-Palindrome-2.000001-UQCfkG/blib/lib"
    PERL5_CPANPLUS_IS_RUNNING="1128"
    PERL5_CPAN_IS_RUNNING="1128"
    PERL5_CPAN_IS_RUNNING_IN_RECURSION="1032,1128"
    PERL_CR_SMOKER_CURRENT="Project-Euler-0.20"
    PERL_EXTUTILS_AUTOINSTALL="--defaultdeps"
    PERL_JSON_BACKEND="JSON::XS"
    PERL_MM_USE_DEFAULT="1"
    PERL_YAML_BACKEND="YAML"
  @INC:
    C:\strawberry\cpan\build\String-Palindrome-2.000001-UQCfkG/blib/arch
    C:\strawberry\cpan\build\String-Palindrome-2.000001-UQCfkG/blib/lib
    C:/strawberry/perl/lib
    C:/strawberry/perl/site/lib
    C:\strawberry\perl\vendor\lib
    .