Back
From: metabase:user:314402c4-2aae-11df-837a-5e0a49663a4f
Subject: PASS Dancer-Plugin-FontSubset-0.1.1 v5.16.0 RC0 FreeBSD
Date: 2013-06-23T02:51:55Z
This distribution has been tested as part of the CPAN Testers
project, supporting the Perl programming language. See
http://wiki.cpantesters.org/ for more information or email
questions to cpan-testers-discuss@perl.org
--
Dear Yanick Champoux,
This is a computer-generated report for Dancer-Plugin-FontSubset-0.1.1
on perl 5.16.0, created by CPAN-Reporter-1.2006.
Thank you for uploading your work to CPAN. Congratulations!
All tests were successful.
Sections of this report:
* Tester comments
* Program output
* Prerequisites
* Environment and other context
------------------------------
TESTER COMMENTS
------------------------------
Additional comments from tester:
none provided
------------------------------
PROGRAM OUTPUT
------------------------------
Output from './Build test':
t/00-compile.t ................ ok
#
#
# Generated by Dist::Zilla::Plugin::ReportVersions::Tiny v1.08
# perl: 5.016000 (wanted any version) on freebsd from /home2/cpansand/var/ctps/5160RC0/install/perl-5.16.0-RC0/bin/perl5.16.0
#
# Dancer => 1.3115 (want any version)
# Dancer::Plugin => <undef> (want any version)
# Dancer::Plugin::Cache::CHI => 1.3.0 (want any version)
# Dancer::Test => <undef> (want any version)
# File::Find => 1.20 (want any version)
# File::Temp => 0.22 (want any version)
# Font::TTF::Font => 0.39 (want any version)
# Font::TTF::Scripts::Name => <undef> (want any version)
# List::AllUtils => 0.03 (want any version)
# Module::Build => 0.4005 (want 0.3601)
# Moo => 1.002 (want any version)
# MooX::Singleton => 1.20 (want any version)
# Test::More => 0.98 (want 0.88)
# strict => 1.07 (want any version)
# version => 0.9902 (want 0.9901)
# warnings => 1.13 (want any version)
#
# Thanks for using my code. I hope it works for you.
# If not, please try and include this output in the bug report.
# That will help me reproduce the issue and solve your problem.
#
t/000-report-versions-tiny.t .. ok
Use of uninitialized value in array element at /home/cpansand/var/ctps/5160RC0/install/perl-5.16.0-RC0/lib/site_perl/5.16.0/Font/TTF/OS_2.pm line 301.
Use of uninitialized value in array element at /home/cpansand/var/ctps/5160RC0/install/perl-5.16.0-RC0/lib/site_perl/5.16.0/Font/TTF/OS_2.pm line 301.
Use of uninitialized value in array element at /home/cpansand/var/ctps/5160RC0/install/perl-5.16.0-RC0/lib/site_perl/5.16.0/Font/TTF/OS_2.pm line 301.
Use of uninitialized value in array element at /home/cpansand/var/ctps/5160RC0/install/perl-5.16.0-RC0/lib/site_perl/5.16.0/Font/TTF/OS_2.pm line 301.
Use of uninitialized value in array element at /home/cpansand/var/ctps/5160RC0/install/perl-5.16.0-RC0/lib/site_perl/5.16.0/Font/TTF/OS_2.pm line 301.
Use of uninitialized value in array element at /home/cpansand/var/ctps/5160RC0/install/perl-5.16.0-RC0/lib/site_perl/5.16.0/Font/TTF/OS_2.pm line 301.
Use of uninitialized value in array element at /home/cpansand/var/ctps/5160RC0/install/perl-5.16.0-RC0/lib/site_perl/5.16.0/Font/TTF/OS_2.pm line 301.
Use of uninitialized value in array element at /home/cpansand/var/ctps/5160RC0/install/perl-5.16.0-RC0/lib/site_perl/5.16.0/Font/TTF/OS_2.pm line 301.
Use of uninitialized value in array element at /home/cpansand/var/ctps/5160RC0/install/perl-5.16.0-RC0/lib/site_perl/5.16.0/Font/TTF/OS_2.pm line 301.
Use of uninitialized value in array element at /home/cpansand/var/ctps/5160RC0/install/perl-5.16.0-RC0/lib/site_perl/5.16.0/Font/TTF/OS_2.pm line 301.
Use of uninitialized value in array element at /home/cpansand/var/ctps/5160RC0/install/perl-5.16.0-RC0/lib/site_perl/5.16.0/Font/TTF/OS_2.pm line 301.
Use of uninitialized value in array element at /home/cpansand/var/ctps/5160RC0/install/perl-5.16.0-RC0/lib/site_perl/5.16.0/Font/TTF/OS_2.pm line 301.
Use of uninitialized value in array element at /home/cpansand/var/ctps/5160RC0/install/perl-5.16.0-RC0/lib/site_perl/5.16.0/Font/TTF/OS_2.pm line 301.
Use of uninitialized value in array element at /home/cpansand/var/ctps/5160RC0/install/perl-5.16.0-RC0/lib/site_perl/5.16.0/Font/TTF/OS_2.pm line 301.
Use of uninitialized value in array element at /home/cpansand/var/ctps/5160RC0/install/perl-5.16.0-RC0/lib/site_perl/5.16.0/Font/TTF/OS_2.pm line 301.
Use of uninitialized value in array element at /home/cpansand/var/ctps/5160RC0/install/perl-5.16.0-RC0/lib/site_perl/5.16.0/Font/TTF/OS_2.pm line 301.
Use of uninitialized value in array element at /home/cpansand/var/ctps/5160RC0/install/perl-5.16.0-RC0/lib/site_perl/5.16.0/Font/TTF/OS_2.pm line 301.
Use of uninitialized value in array element at /home/cpansand/var/ctps/5160RC0/install/perl-5.16.0-RC0/lib/site_perl/5.16.0/Font/TTF/OS_2.pm line 301.
Use of uninitialized value in array element at /home/cpansand/var/ctps/5160RC0/install/perl-5.16.0-RC0/lib/site_perl/5.16.0/Font/TTF/OS_2.pm line 301.
Use of uninitialized value in array element at /home/cpansand/var/ctps/5160RC0/install/perl-5.16.0-RC0/lib/site_perl/5.16.0/Font/TTF/OS_2.pm line 301.
Use of uninitialized value in array element at /home/cpansand/var/ctps/5160RC0/install/perl-5.16.0-RC0/lib/site_perl/5.16.0/Font/TTF/OS_2.pm line 301.
Use of uninitialized value in array element at /home/cpansand/var/ctps/5160RC0/install/perl-5.16.0-RC0/lib/site_perl/5.16.0/Font/TTF/OS_2.pm line 301.
Use of uninitialized value in array element at /home/cpansand/var/ctps/5160RC0/install/perl-5.16.0-RC0/lib/site_perl/5.16.0/Font/TTF/OS_2.pm line 301.
Use of uninitialized value in array element at /home/cpansand/var/ctps/5160RC0/install/perl-5.16.0-RC0/lib/site_perl/5.16.0/Font/TTF/OS_2.pm line 301.
Use of uninitialized value in array element at /home/cpansand/var/ctps/5160RC0/install/perl-5.16.0-RC0/lib/site_perl/5.16.0/Font/TTF/OS_2.pm line 303.
Use of uninitialized value $xMin in numeric lt (<) at /home/cpansand/var/ctps/5160RC0/install/perl-5.16.0-RC0/lib/site_perl/5.16.0/Font/TTF/Head.pm line 170.
Use of uninitialized value $yMin in numeric lt (<) at /home/cpansand/var/ctps/5160RC0/install/perl-5.16.0-RC0/lib/site_perl/5.16.0/Font/TTF/Head.pm line 171.
Use of uninitialized value $xMax in numeric gt (>) at /home/cpansand/var/ctps/5160RC0/install/perl-5.16.0-RC0/lib/site_perl/5.16.0/Font/TTF/Head.pm line 172.
Use of uninitialized value $yMax in numeric gt (>) at /home/cpansand/var/ctps/5160RC0/install/perl-5.16.0-RC0/lib/site_perl/5.16.0/Font/TTF/Head.pm line 173.
Use of uninitialized value $maw in numeric gt (>) at /home/cpansand/var/ctps/5160RC0/install/perl-5.16.0-RC0/lib/site_perl/5.16.0/Font/TTF/Hhea.pm line 132.
Use of uninitialized value $mlsb in numeric lt (<) at /home/cpansand/var/ctps/5160RC0/install/perl-5.16.0-RC0/lib/site_perl/5.16.0/Font/TTF/Hhea.pm line 133.
Use of uninitialized value $mrsb in numeric lt (<) at /home/cpansand/var/ctps/5160RC0/install/perl-5.16.0-RC0/lib/site_perl/5.16.0/Font/TTF/Hhea.pm line 134.
Use of uninitialized value $mext in numeric gt (>) at /home/cpansand/var/ctps/5160RC0/install/perl-5.16.0-RC0/lib/site_perl/5.16.0/Font/TTF/Hhea.pm line 135.
Use of uninitialized value in numeric gt (>) at /home/cpansand/var/ctps/5160RC0/install/perl-5.16.0-RC0/lib/site_perl/5.16.0/Font/TTF/Maxp.pm line 151.
Use of uninitialized value in numeric gt (>) at /home/cpansand/var/ctps/5160RC0/install/perl-5.16.0-RC0/lib/site_perl/5.16.0/Font/TTF/Maxp.pm line 151.
Use of uninitialized value in numeric gt (>) at /home/cpansand/var/ctps/5160RC0/install/perl-5.16.0-RC0/lib/site_perl/5.16.0/Font/TTF/Maxp.pm line 151.
Use of uninitialized value $n[2] in numeric gt (>) at /home/cpansand/var/ctps/5160RC0/install/perl-5.16.0-RC0/lib/site_perl/5.16.0/Font/TTF/Maxp.pm line 151.
Use of uninitialized value in numeric gt (>) at /home/cpansand/var/ctps/5160RC0/install/perl-5.16.0-RC0/lib/site_perl/5.16.0/Font/TTF/Maxp.pm line 151.
Use of uninitialized value $n[3] in numeric gt (>) at /home/cpansand/var/ctps/5160RC0/install/perl-5.16.0-RC0/lib/site_perl/5.16.0/Font/TTF/Maxp.pm line 151.
Use of uninitialized value in numeric gt (>) at /home/cpansand/var/ctps/5160RC0/install/perl-5.16.0-RC0/lib/site_perl/5.16.0/Font/TTF/Maxp.pm line 151.
Use of uninitialized value in numeric gt (>) at /home/cpansand/var/ctps/5160RC0/install/perl-5.16.0-RC0/lib/site_perl/5.16.0/Font/TTF/Maxp.pm line 151.
Use of uninitialized value $n[5] in numeric gt (>) at /home/cpansand/var/ctps/5160RC0/install/perl-5.16.0-RC0/lib/site_perl/5.16.0/Font/TTF/Maxp.pm line 151.
Use of uninitialized value in numeric gt (>) at /home/cpansand/var/ctps/5160RC0/install/perl-5.16.0-RC0/lib/site_perl/5.16.0/Font/TTF/Maxp.pm line 151.
Use of uninitialized value in numeric gt (>) at /home/cpansand/var/ctps/5160RC0/install/perl-5.16.0-RC0/lib/site_perl/5.16.0/Font/TTF/Maxp.pm line 151.
Use of uninitialized value $n[2] in numeric gt (>) at /home/cpansand/var/ctps/5160RC0/install/perl-5.16.0-RC0/lib/site_perl/5.16.0/Font/TTF/Maxp.pm line 151.
Use of uninitialized value in numeric gt (>) at /home/cpansand/var/ctps/5160RC0/install/perl-5.16.0-RC0/lib/site_perl/5.16.0/Font/TTF/Maxp.pm line 151.
Use of uninitialized value $n[3] in numeric gt (>) at /home/cpansand/var/ctps/5160RC0/install/perl-5.16.0-RC0/lib/site_perl/5.16.0/Font/TTF/Maxp.pm line 151.
Use of uninitialized value in numeric gt (>) at /home/cpansand/var/ctps/5160RC0/install/perl-5.16.0-RC0/lib/site_perl/5.16.0/Font/TTF/Maxp.pm line 151.
Use of uninitialized value $n[5] in numeric gt (>) at /home/cpansand/var/ctps/5160RC0/install/perl-5.16.0-RC0/lib/site_perl/5.16.0/Font/TTF/Maxp.pm line 151.
Use of uninitialized value in numeric gt (>) at /home/cpansand/var/ctps/5160RC0/install/perl-5.16.0-RC0/lib/site_perl/5.16.0/Font/TTF/Maxp.pm line 151.
Use of uninitialized value $n[2] in numeric gt (>) at /home/cpansand/var/ctps/5160RC0/install/perl-5.16.0-RC0/lib/site_perl/5.16.0/Font/TTF/Maxp.pm line 151.
Use of uninitialized value in numeric gt (>) at /home/cpansand/var/ctps/5160RC0/install/perl-5.16.0-RC0/lib/site_perl/5.16.0/Font/TTF/Maxp.pm line 151.
Use of uninitialized value $n[3] in numeric gt (>) at /home/cpansand/var/ctps/5160RC0/install/perl-5.16.0-RC0/lib/site_perl/5.16.0/Font/TTF/Maxp.pm line 151.
Use of uninitialized value in numeric gt (>) at /home/cpansand/var/ctps/5160RC0/install/perl-5.16.0-RC0/lib/site_perl/5.16.0/Font/TTF/Maxp.pm line 151.
Use of uninitialized value $n[5] in numeric gt (>) at /home/cpansand/var/ctps/5160RC0/install/perl-5.16.0-RC0/lib/site_perl/5.16.0/Font/TTF/Maxp.pm line 151.
Filehandle $fh opened only for output at /home/cpansand/var/ctps/5160RC0/install/perl-5.16.0-RC0/lib/5.16.0/i386-freebsd/IO/Handle.pm line 460.
Use of uninitialized value in pack at /home/cpansand/var/ctps/5160RC0/install/perl-5.16.0-RC0/lib/site_perl/5.16.0/Font/TTF/Cmap.pm line 330.
Use of uninitialized value in pack at /home/cpansand/var/ctps/5160RC0/install/perl-5.16.0-RC0/lib/site_perl/5.16.0/Font/TTF/Cmap.pm line 330.
Use of uninitialized value in pack at /home/cpansand/var/ctps/5160RC0/install/perl-5.16.0-RC0/lib/site_perl/5.16.0/Font/TTF/Cmap.pm line 330.
Use of uninitialized value in pack at /home/cpansand/var/ctps/5160RC0/install/perl-5.16.0-RC0/lib/site_perl/5.16.0/Font/TTF/Cmap.pm line 330.
Use of uninitialized value in pack at /home/cpansand/var/ctps/5160RC0/install/perl-5.16.0-RC0/lib/site_perl/5.16.0/Font/TTF/Cmap.pm line 330.
Use of uninitialized value in pack at /home/cpansand/var/ctps/5160RC0/install/perl-5.16.0-RC0/lib/site_perl/5.16.0/Font/TTF/Cmap.pm line 330.
Use of uninitialized value in pack at /home/cpansand/var/ctps/5160RC0/install/perl-5.16.0-RC0/lib/site_perl/5.16.0/Font/TTF/Cmap.pm line 330.
Use of uninitialized value in pack at /home/cpansand/var/ctps/5160RC0/install/perl-5.16.0-RC0/lib/site_perl/5.16.0/Font/TTF/Cmap.pm line 330.
Use of uninitialized value in pack at /home/cpansand/var/ctps/5160RC0/install/perl-5.16.0-RC0/lib/site_perl/5.16.0/Font/TTF/Cmap.pm line 330.
Use of uninitialized value in pack at /home/cpansand/var/ctps/5160RC0/install/perl-5.16.0-RC0/lib/site_perl/5.16.0/Font/TTF/Cmap.pm line 330.
Use of uninitialized value in pack at /home/cpansand/var/ctps/5160RC0/install/perl-5.16.0-RC0/lib/site_perl/5.16.0/Font/TTF/Cmap.pm line 330.
Use of uninitialized value in pack at /home/cpansand/var/ctps/5160RC0/install/perl-5.16.0-RC0/lib/site_perl/5.16.0/Font/TTF/Cmap.pm line 330.
Use of uninitialized value in pack at /home/cpansand/var/ctps/5160RC0/install/perl-5.16.0-RC0/lib/site_perl/5.16.0/Font/TTF/Cmap.pm line 330.
Use of uninitialized value in pack at /home/cpansand/var/ctps/5160RC0/install/perl-5.16.0-RC0/lib/site_perl/5.16.0/Font/TTF/Cmap.pm line 330.
Use of uninitialized value in pack at /home/cpansand/var/ctps/5160RC0/install/perl-5.16.0-RC0/lib/site_perl/5.16.0/Font/TTF/Cmap.pm line 330.
Use of uninitialized value in pack at /home/cpansand/var/ctps/5160RC0/install/perl-5.16.0-RC0/lib/site_perl/5.16.0/Font/TTF/Cmap.pm line 330.
Use of uninitialized value in pack at /home/cpansand/var/ctps/5160RC0/install/perl-5.16.0-RC0/lib/site_perl/5.16.0/Font/TTF/Cmap.pm line 330.
Use of uninitialized value in pack at /home/cpansand/var/ctps/5160RC0/install/perl-5.16.0-RC0/lib/site_perl/5.16.0/Font/TTF/Cmap.pm line 330.
Use of uninitialized value in pack at /home/cpansand/var/ctps/5160RC0/install/perl-5.16.0-RC0/lib/site_perl/5.16.0/Font/TTF/Cmap.pm line 330.
Use of uninitialized value in pack at /home/cpansand/var/ctps/5160RC0/install/perl-5.16.0-RC0/lib/site_perl/5.16.0/Font/TTF/Cmap.pm line 330.
Use of uninitialized value in pack at /home/cpansand/var/ctps/5160RC0/install/perl-5.16.0-RC0/lib/site_perl/5.16.0/Font/TTF/Cmap.pm line 330.
Use of uninitialized value in pack at /home/cpansand/var/ctps/5160RC0/install/perl-5.16.0-RC0/lib/site_perl/5.16.0/Font/TTF/Cmap.pm line 330.
Use of uninitialized value in pack at /home/cpansand/var/ctps/5160RC0/install/perl-5.16.0-RC0/lib/site_perl/5.16.0/Font/TTF/Cmap.pm line 330.
Use of uninitialized value in pack at /home/cpansand/var/ctps/5160RC0/install/perl-5.16.0-RC0/lib/site_perl/5.16.0/Font/TTF/Cmap.pm line 330.
Use of uninitialized value in pack at /home/cpansand/var/ctps/5160RC0/install/perl-5.16.0-RC0/lib/site_perl/5.16.0/Font/TTF/Cmap.pm line 330.
Use of uninitialized value in pack at /home/cpansand/var/ctps/5160RC0/install/perl-5.16.0-RC0/lib/site_perl/5.16.0/Font/TTF/Cmap.pm line 330.
Use of uninitialized value in pack at /home/cpansand/var/ctps/5160RC0/install/perl-5.16.0-RC0/lib/site_perl/5.16.0/Font/TTF/Cmap.pm line 330.
Use of uninitialized value in pack at /home/cpansand/var/ctps/5160RC0/install/perl-5.16.0-RC0/lib/site_perl/5.16.0/Font/TTF/Cmap.pm line 330.
Use of uninitialized value in pack at /home/cpansand/var/ctps/5160RC0/install/perl-5.16.0-RC0/lib/site_perl/5.16.0/Font/TTF/Cmap.pm line 330.
Use of uninitialized value in pack at /home/cpansand/var/ctps/5160RC0/install/perl-5.16.0-RC0/lib/site_perl/5.16.0/Font/TTF/Cmap.pm line 330.
Use of uninitialized value in pack at /home/cpansand/var/ctps/5160RC0/install/perl-5.16.0-RC0/lib/site_perl/5.16.0/Font/TTF/Cmap.pm line 330.
Use of uninitialized value in pack at /home/cpansand/var/ctps/5160RC0/install/perl-5.16.0-RC0/lib/site_perl/5.16.0/Font/TTF/Cmap.pm line 330.
Use of uninitialized value in pack at /home/cpansand/var/ctps/5160RC0/install/perl-5.16.0-RC0/lib/site_perl/5.16.0/Font/TTF/Cmap.pm line 330.
Use of uninitialized value in pack at /home/cpansand/var/ctps/5160RC0/install/perl-5.16.0-RC0/lib/site_perl/5.16.0/Font/TTF/Cmap.pm line 330.
Use of uninitialized value in pack at /home/cpansand/var/ctps/5160RC0/install/perl-5.16.0-RC0/lib/site_perl/5.16.0/Font/TTF/Cmap.pm line 330.
Use of uninitialized value in pack at /home/cpansand/var/ctps/5160RC0/install/perl-5.16.0-RC0/lib/site_perl/5.16.0/Font/TTF/Cmap.pm line 330.
Use of uninitialized value in pack at /home/cpansand/var/ctps/5160RC0/install/perl-5.16.0-RC0/lib/site_perl/5.16.0/Font/TTF/Cmap.pm line 330.
Use of uninitialized value in pack at /home/cpansand/var/ctps/5160RC0/install/perl-5.16.0-RC0/lib/site_perl/5.16.0/Font/TTF/Cmap.pm line 330.
Use of uninitialized value in pack at /home/cpansand/var/ctps/5160RC0/install/perl-5.16.0-RC0/lib/site_perl/5.16.0/Font/TTF/Cmap.pm line 330.
Use of uninitialized value in pack at /home/cpansand/var/ctps/5160RC0/install/perl-5.16.0-RC0/lib/site_perl/5.16.0/Font/TTF/Cmap.pm line 330.
Use of uninitialized value in pack at /home/cpansand/var/ctps/5160RC0/install/perl-5.16.0-RC0/lib/site_perl/5.16.0/Font/TTF/Cmap.pm line 330.
Use of uninitialized value in pack at /home/cpansand/var/ctps/5160RC0/install/perl-5.16.0-RC0/lib/site_perl/5.16.0/Font/TTF/Cmap.pm line 330.
Use of uninitialized value in pack at /home/cpansand/var/ctps/5160RC0/install/perl-5.16.0-RC0/lib/site_perl/5.16.0/Font/TTF/Cmap.pm line 330.
Use of uninitialized value in pack at /home/cpansand/var/ctps/5160RC0/install/perl-5.16.0-RC0/lib/site_perl/5.16.0/Font/TTF/Cmap.pm line 330.
Use of uninitialized value in pack at /home/cpansand/var/ctps/5160RC0/install/perl-5.16.0-RC0/lib/site_perl/5.16.0/Font/TTF/Cmap.pm line 330.
Use of uninitialized value in pack at /home/cpansand/var/ctps/5160RC0/install/perl-5.16.0-RC0/lib/site_perl/5.16.0/Font/TTF/Cmap.pm line 330.
Use of uninitialized value in pack at /home/cpansand/var/ctps/5160RC0/install/perl-5.16.0-RC0/lib/site_perl/5.16.0/Font/TTF/Cmap.pm line 330.
Use of uninitialized value in pack at /home/cpansand/var/ctps/5160RC0/install/perl-5.16.0-RC0/lib/site_perl/5.16.0/Font/TTF/Cmap.pm line 330.
Use of uninitialized value in pack at /home/cpansand/var/ctps/5160RC0/install/perl-5.16.0-RC0/lib/site_perl/5.16.0/Font/TTF/Cmap.pm line 330.
Use of uninitialized value in pack at /home/cpansand/var/ctps/5160RC0/install/perl-5.16.0-RC0/lib/site_perl/5.16.0/Font/TTF/Cmap.pm line 330.
Use of uninitialized value in pack at /home/cpansand/var/ctps/5160RC0/install/perl-5.16.0-RC0/lib/site_perl/5.16.0/Font/TTF/Cmap.pm line 330.
Use of uninitialized value in pack at /home/cpansand/var/ctps/5160RC0/install/perl-5.16.0-RC0/lib/site_perl/5.16.0/Font/TTF/Cmap.pm line 330.
Use of uninitialized value in pack at /home/cpansand/var/ctps/5160RC0/install/perl-5.16.0-RC0/lib/site_perl/5.16.0/Font/TTF/Cmap.pm line 330.
Use of uninitialized value in pack at /home/cpansand/var/ctps/5160RC0/install/perl-5.16.0-RC0/lib/site_perl/5.16.0/Font/TTF/Cmap.pm line 330.
Use of uninitialized value in pack at /home/cpansand/var/ctps/5160RC0/install/perl-5.16.0-RC0/lib/site_perl/5.16.0/Font/TTF/Cmap.pm line 330.
Use of uninitialized value in pack at /home/cpansand/var/ctps/5160RC0/install/perl-5.16.0-RC0/lib/site_perl/5.16.0/Font/TTF/Cmap.pm line 330.
Use of uninitialized value in pack at /home/cpansand/var/ctps/5160RC0/install/perl-5.16.0-RC0/lib/site_perl/5.16.0/Font/TTF/Cmap.pm line 330.
Use of uninitialized value in pack at /home/cpansand/var/ctps/5160RC0/install/perl-5.16.0-RC0/lib/site_perl/5.16.0/Font/TTF/Cmap.pm line 330.
Use of uninitialized value in pack at /home/cpansand/var/ctps/5160RC0/install/perl-5.16.0-RC0/lib/site_perl/5.16.0/Font/TTF/Cmap.pm line 330.
Use of uninitialized value in pack at /home/cpansand/var/ctps/5160RC0/install/perl-5.16.0-RC0/lib/site_perl/5.16.0/Font/TTF/Cmap.pm line 330.
Use of uninitialized value in pack at /home/cpansand/var/ctps/5160RC0/install/perl-5.16.0-RC0/lib/site_perl/5.16.0/Font/TTF/Cmap.pm line 330.
Use of uninitialized value in pack at /home/cpansand/var/ctps/5160RC0/install/perl-5.16.0-RC0/lib/site_perl/5.16.0/Font/TTF/Cmap.pm line 330.
Use of uninitialized value in pack at /home/cpansand/var/ctps/5160RC0/install/perl-5.16.0-RC0/lib/site_perl/5.16.0/Font/TTF/Cmap.pm line 330.
Use of uninitialized value in pack at /home/cpansand/var/ctps/5160RC0/install/perl-5.16.0-RC0/lib/site_perl/5.16.0/Font/TTF/Cmap.pm line 330.
Use of uninitialized value in pack at /home/cpansand/var/ctps/5160RC0/install/perl-5.16.0-RC0/lib/site_perl/5.16.0/Font/TTF/Cmap.pm line 330.
Use of uninitialized value in pack at /home/cpansand/var/ctps/5160RC0/install/perl-5.16.0-RC0/lib/site_perl/5.16.0/Font/TTF/Cmap.pm line 330.
Use of uninitialized value in pack at /home/cpansand/var/ctps/5160RC0/install/perl-5.16.0-RC0/lib/site_perl/5.16.0/Font/TTF/Cmap.pm line 330.
Use of uninitialized value in pack at /home/cpansand/var/ctps/5160RC0/install/perl-5.16.0-RC0/lib/site_perl/5.16.0/Font/TTF/Cmap.pm line 330.
Use of uninitialized value in pack at /home/cpansand/var/ctps/5160RC0/install/perl-5.16.0-RC0/lib/site_perl/5.16.0/Font/TTF/Cmap.pm line 330.
Use of uninitialized value in pack at /home/cpansand/var/ctps/5160RC0/install/perl-5.16.0-RC0/lib/site_perl/5.16.0/Font/TTF/Cmap.pm line 330.
Use of uninitialized value in pack at /home/cpansand/var/ctps/5160RC0/install/perl-5.16.0-RC0/lib/site_perl/5.16.0/Font/TTF/Cmap.pm line 330.
Use of uninitialized value in pack at /home/cpansand/var/ctps/5160RC0/install/perl-5.16.0-RC0/lib/site_perl/5.16.0/Font/TTF/Cmap.pm line 330.
Use of uninitialized value in pack at /home/cpansand/var/ctps/5160RC0/install/perl-5.16.0-RC0/lib/site_perl/5.16.0/Font/TTF/Cmap.pm line 330.
Use of uninitialized value in pack at /home/cpansand/var/ctps/5160RC0/install/perl-5.16.0-RC0/lib/site_perl/5.16.0/Font/TTF/Cmap.pm line 330.
Use of uninitialized value in pack at /home/cpansand/var/ctps/5160RC0/install/perl-5.16.0-RC0/lib/site_perl/5.16.0/Font/TTF/Cmap.pm line 330.
Use of uninitialized value in pack at /home/cpansand/var/ctps/5160RC0/install/perl-5.16.0-RC0/lib/site_perl/5.16.0/Font/TTF/Cmap.pm line 330.
Use of uninitialized value in pack at /home/cpansand/var/ctps/5160RC0/install/perl-5.16.0-RC0/lib/site_perl/5.16.0/Font/TTF/Cmap.pm line 330.
Use of uninitialized value in pack at /home/cpansand/var/ctps/5160RC0/install/perl-5.16.0-RC0/lib/site_perl/5.16.0/Font/TTF/Cmap.pm line 330.
Use of uninitialized value in pack at /home/cpansand/var/ctps/5160RC0/install/perl-5.16.0-RC0/lib/site_perl/5.16.0/Font/TTF/Cmap.pm line 330.
Use of uninitialized value in pack at /home/cpansand/var/ctps/5160RC0/install/perl-5.16.0-RC0/lib/site_perl/5.16.0/Font/TTF/Cmap.pm line 330.
Use of uninitialized value in pack at /home/cpansand/var/ctps/5160RC0/install/perl-5.16.0-RC0/lib/site_perl/5.16.0/Font/TTF/Cmap.pm line 330.
Use of uninitialized value in pack at /home/cpansand/var/ctps/5160RC0/install/perl-5.16.0-RC0/lib/site_perl/5.16.0/Font/TTF/Cmap.pm line 330.
Use of uninitialized value in pack at /home/cpansand/var/ctps/5160RC0/install/perl-5.16.0-RC0/lib/site_perl/5.16.0/Font/TTF/Cmap.pm line 330.
Use of uninitialized value in pack at /home/cpansand/var/ctps/5160RC0/install/perl-5.16.0-RC0/lib/site_perl/5.16.0/Font/TTF/Cmap.pm line 330.
Use of uninitialized value in pack at /home/cpansand/var/ctps/5160RC0/install/perl-5.16.0-RC0/lib/site_perl/5.16.0/Font/TTF/Cmap.pm line 330.
Use of uninitialized value in pack at /home/cpansand/var/ctps/5160RC0/install/perl-5.16.0-RC0/lib/site_perl/5.16.0/Font/TTF/Cmap.pm line 330.
Use of uninitialized value in pack at /home/cpansand/var/ctps/5160RC0/install/perl-5.16.0-RC0/lib/site_perl/5.16.0/Font/TTF/Cmap.pm line 330.
Use of uninitialized value in pack at /home/cpansand/var/ctps/5160RC0/install/perl-5.16.0-RC0/lib/site_perl/5.16.0/Font/TTF/Cmap.pm line 330.
Use of uninitialized value in pack at /home/cpansand/var/ctps/5160RC0/install/perl-5.16.0-RC0/lib/site_perl/5.16.0/Font/TTF/Cmap.pm line 330.
Use of uninitialized value in pack at /home/cpansand/var/ctps/5160RC0/install/perl-5.16.0-RC0/lib/site_perl/5.16.0/Font/TTF/Cmap.pm line 330.
Use of uninitialized value in pack at /home/cpansand/var/ctps/5160RC0/install/perl-5.16.0-RC0/lib/site_perl/5.16.0/Font/TTF/Cmap.pm line 330.
Use of uninitialized value in pack at /home/cpansand/var/ctps/5160RC0/install/perl-5.16.0-RC0/lib/site_perl/5.16.0/Font/TTF/Cmap.pm line 330.
Use of uninitialized value in pack at /home/cpansand/var/ctps/5160RC0/install/perl-5.16.0-RC0/lib/site_perl/5.16.0/Font/TTF/Cmap.pm line 330.
Use of uninitialized value in pack at /home/cpansand/var/ctps/5160RC0/install/perl-5.16.0-RC0/lib/site_perl/5.16.0/Font/TTF/Cmap.pm line 330.
Use of uninitialized value in pack at /home/cpansand/var/ctps/5160RC0/install/perl-5.16.0-RC0/lib/site_perl/5.16.0/Font/TTF/Cmap.pm line 330.
Use of uninitialized value in pack at /home/cpansand/var/ctps/5160RC0/install/perl-5.16.0-RC0/lib/site_perl/5.16.0/Font/TTF/Cmap.pm line 330.
Use of uninitialized value in pack at /home/cpansand/var/ctps/5160RC0/install/perl-5.16.0-RC0/lib/site_perl/5.16.0/Font/TTF/Cmap.pm line 330.
Use of uninitialized value in pack at /home/cpansand/var/ctps/5160RC0/install/perl-5.16.0-RC0/lib/site_perl/5.16.0/Font/TTF/Cmap.pm line 330.
Use of uninitialized value in pack at /home/cpansand/var/ctps/5160RC0/install/perl-5.16.0-RC0/lib/site_perl/5.16.0/Font/TTF/Cmap.pm line 330.
Use of uninitialized value in pack at /home/cpansand/var/ctps/5160RC0/install/perl-5.16.0-RC0/lib/site_perl/5.16.0/Font/TTF/Cmap.pm line 330.
Use of uninitialized value in pack at /home/cpansand/var/ctps/5160RC0/install/perl-5.16.0-RC0/lib/site_perl/5.16.0/Font/TTF/Cmap.pm line 330.
Use of uninitialized value in pack at /home/cpansand/var/ctps/5160RC0/install/perl-5.16.0-RC0/lib/site_perl/5.16.0/Font/TTF/Cmap.pm line 330.
Use of uninitialized value in pack at /home/cpansand/var/ctps/5160RC0/install/perl-5.16.0-RC0/lib/site_perl/5.16.0/Font/TTF/Cmap.pm line 330.
Use of uninitialized value in pack at /home/cpansand/var/ctps/5160RC0/install/perl-5.16.0-RC0/lib/site_perl/5.16.0/Font/TTF/Cmap.pm line 330.
Use of uninitialized value in pack at /home/cpansand/var/ctps/5160RC0/install/perl-5.16.0-RC0/lib/site_perl/5.16.0/Font/TTF/Cmap.pm line 330.
Use of uninitialized value in pack at /home/cpansand/var/ctps/5160RC0/install/perl-5.16.0-RC0/lib/site_perl/5.16.0/Font/TTF/Cmap.pm line 330.
Use of uninitialized value in pack at /home/cpansand/var/ctps/5160RC0/install/perl-5.16.0-RC0/lib/site_perl/5.16.0/Font/TTF/Cmap.pm line 330.
Use of uninitialized value in pack at /home/cpansand/var/ctps/5160RC0/install/perl-5.16.0-RC0/lib/site_perl/5.16.0/Font/TTF/Cmap.pm line 330.
Use of uninitialized value in pack at /home/cpansand/var/ctps/5160RC0/install/perl-5.16.0-RC0/lib/site_perl/5.16.0/Font/TTF/Cmap.pm line 330.
Use of uninitialized value in pack at /home/cpansand/var/ctps/5160RC0/install/perl-5.16.0-RC0/lib/site_perl/5.16.0/Font/TTF/Cmap.pm line 330.
Use of uninitialized value in pack at /home/cpansand/var/ctps/5160RC0/install/perl-5.16.0-RC0/lib/site_perl/5.16.0/Font/TTF/Cmap.pm line 330.
Use of uninitialized value in pack at /home/cpansand/var/ctps/5160RC0/install/perl-5.16.0-RC0/lib/site_perl/5.16.0/Font/TTF/Cmap.pm line 330.
Use of uninitialized value in pack at /home/cpansand/var/ctps/5160RC0/install/perl-5.16.0-RC0/lib/site_perl/5.16.0/Font/TTF/Cmap.pm line 330.
Use of uninitialized value in pack at /home/cpansand/var/ctps/5160RC0/install/perl-5.16.0-RC0/lib/site_perl/5.16.0/Font/TTF/Cmap.pm line 330.
Use of uninitialized value in pack at /home/cpansand/var/ctps/5160RC0/install/perl-5.16.0-RC0/lib/site_perl/5.16.0/Font/TTF/Cmap.pm line 330.
Use of uninitialized value in pack at /home/cpansand/var/ctps/5160RC0/install/perl-5.16.0-RC0/lib/site_perl/5.16.0/Font/TTF/Cmap.pm line 330.
Use of uninitialized value in pack at /home/cpansand/var/ctps/5160RC0/install/perl-5.16.0-RC0/lib/site_perl/5.16.0/Font/TTF/Cmap.pm line 330.
Use of uninitialized value in pack at /home/cpansand/var/ctps/5160RC0/install/perl-5.16.0-RC0/lib/site_perl/5.16.0/Font/TTF/Cmap.pm line 330.
Use of uninitialized value in pack at /home/cpansand/var/ctps/5160RC0/install/perl-5.16.0-RC0/lib/site_perl/5.16.0/Font/TTF/Cmap.pm line 330.
Use of uninitialized value in pack at /home/cpansand/var/ctps/5160RC0/install/perl-5.16.0-RC0/lib/site_perl/5.16.0/Font/TTF/Cmap.pm line 330.
Use of uninitialized value in pack at /home/cpansand/var/ctps/5160RC0/install/perl-5.16.0-RC0/lib/site_perl/5.16.0/Font/TTF/Cmap.pm line 330.
Use of uninitialized value in pack at /home/cpansand/var/ctps/5160RC0/install/perl-5.16.0-RC0/lib/site_perl/5.16.0/Font/TTF/Cmap.pm line 330.
Use of uninitialized value in pack at /home/cpansand/var/ctps/5160RC0/install/perl-5.16.0-RC0/lib/site_perl/5.16.0/Font/TTF/Cmap.pm line 330.
Use of uninitialized value in pack at /home/cpansand/var/ctps/5160RC0/install/perl-5.16.0-RC0/lib/site_perl/5.16.0/Font/TTF/Cmap.pm line 330.
Use of uninitialized value in pack at /home/cpansand/var/ctps/5160RC0/install/perl-5.16.0-RC0/lib/site_perl/5.16.0/Font/TTF/Cmap.pm line 330.
Use of uninitialized value in pack at /home/cpansand/var/ctps/5160RC0/install/perl-5.16.0-RC0/lib/site_perl/5.16.0/Font/TTF/Cmap.pm line 330.
Use of uninitialized value in pack at /home/cpansand/var/ctps/5160RC0/install/perl-5.16.0-RC0/lib/site_perl/5.16.0/Font/TTF/Cmap.pm line 330.
Use of uninitialized value in pack at /home/cpansand/var/ctps/5160RC0/install/perl-5.16.0-RC0/lib/site_perl/5.16.0/Font/TTF/Cmap.pm line 330.
Use of uninitialized value in pack at /home/cpansand/var/ctps/5160RC0/install/perl-5.16.0-RC0/lib/site_perl/5.16.0/Font/TTF/Cmap.pm line 330.
Use of uninitialized value in pack at /home/cpansand/var/ctps/5160RC0/install/perl-5.16.0-RC0/lib/site_perl/5.16.0/Font/TTF/Cmap.pm line 330.
Use of uninitialized value in pack at /home/cpansand/var/ctps/5160RC0/install/perl-5.16.0-RC0/lib/site_perl/5.16.0/Font/TTF/Cmap.pm line 330.
Use of uninitialized value in pack at /home/cpansand/var/ctps/5160RC0/install/perl-5.16.0-RC0/lib/site_perl/5.16.0/Font/TTF/Cmap.pm line 330.
Use of uninitialized value in pack at /home/cpansand/var/ctps/5160RC0/install/perl-5.16.0-RC0/lib/site_perl/5.16.0/Font/TTF/Cmap.pm line 330.
Use of uninitialized value in pack at /home/cpansand/var/ctps/5160RC0/install/perl-5.16.0-RC0/lib/site_perl/5.16.0/Font/TTF/Cmap.pm line 330.
Use of uninitialized value in pack at /home/cpansand/var/ctps/5160RC0/install/perl-5.16.0-RC0/lib/site_perl/5.16.0/Font/TTF/Cmap.pm line 330.
Use of uninitialized value in pack at /home/cpansand/var/ctps/5160RC0/install/perl-5.16.0-RC0/lib/site_perl/5.16.0/Font/TTF/Cmap.pm line 330.
Use of uninitialized value in pack at /home/cpansand/var/ctps/5160RC0/install/perl-5.16.0-RC0/lib/site_perl/5.16.0/Font/TTF/Cmap.pm line 330.
Use of uninitialized value in pack at /home/cpansand/var/ctps/5160RC0/install/perl-5.16.0-RC0/lib/site_perl/5.16.0/Font/TTF/Cmap.pm line 330.
Use of uninitialized value in pack at /home/cpansand/var/ctps/5160RC0/install/perl-5.16.0-RC0/lib/site_perl/5.16.0/Font/TTF/Cmap.pm line 330.
Use of uninitialized value in pack at /home/cpansand/var/ctps/5160RC0/install/perl-5.16.0-RC0/lib/site_perl/5.16.0/Font/TTF/Cmap.pm line 330.
Use of uninitialized value in pack at /home/cpansand/var/ctps/5160RC0/install/perl-5.16.0-RC0/lib/site_perl/5.16.0/Font/TTF/Cmap.pm line 330.
Use of uninitialized value in pack at /home/cpansand/var/ctps/5160RC0/install/perl-5.16.0-RC0/lib/site_perl/5.16.0/Font/TTF/Cmap.pm line 330.
Use of uninitialized value in pack at /home/cpansand/var/ctps/5160RC0/install/perl-5.16.0-RC0/lib/site_perl/5.16.0/Font/TTF/Cmap.pm line 330.
Use of uninitialized value in pack at /home/cpansand/var/ctps/5160RC0/install/perl-5.16.0-RC0/lib/site_perl/5.16.0/Font/TTF/Cmap.pm line 330.
Use of uninitialized value in pack at /home/cpansand/var/ctps/5160RC0/install/perl-5.16.0-RC0/lib/site_perl/5.16.0/Font/TTF/Cmap.pm line 330.
Use of uninitialized value in pack at /home/cpansand/var/ctps/5160RC0/install/perl-5.16.0-RC0/lib/site_perl/5.16.0/Font/TTF/Cmap.pm line 330.
Use of uninitialized value in pack at /home/cpansand/var/ctps/5160RC0/install/perl-5.16.0-RC0/lib/site_perl/5.16.0/Font/TTF/Cmap.pm line 330.
Use of uninitialized value in pack at /home/cpansand/var/ctps/5160RC0/install/perl-5.16.0-RC0/lib/site_perl/5.16.0/Font/TTF/Cmap.pm line 330.
Use of uninitialized value in pack at /home/cpansand/var/ctps/5160RC0/install/perl-5.16.0-RC0/lib/site_perl/5.16.0/Font/TTF/Cmap.pm line 330.
Use of uninitialized value in pack at /home/cpansand/var/ctps/5160RC0/install/perl-5.16.0-RC0/lib/site_perl/5.16.0/Font/TTF/Cmap.pm line 330.
Use of uninitialized value in pack at /home/cpansand/var/ctps/5160RC0/install/perl-5.16.0-RC0/lib/site_perl/5.16.0/Font/TTF/Cmap.pm line 330.
Use of uninitialized value in pack at /home/cpansand/var/ctps/5160RC0/install/perl-5.16.0-RC0/lib/site_perl/5.16.0/Font/TTF/Cmap.pm line 330.
Use of uninitialized value in pack at /home/cpansand/var/ctps/5160RC0/install/perl-5.16.0-RC0/lib/site_perl/5.16.0/Font/TTF/Cmap.pm line 330.
Use of uninitialized value in pack at /home/cpansand/var/ctps/5160RC0/install/perl-5.16.0-RC0/lib/site_perl/5.16.0/Font/TTF/Cmap.pm line 330.
Use of uninitialized value in pack at /home/cpansand/var/ctps/5160RC0/install/perl-5.16.0-RC0/lib/site_perl/5.16.0/Font/TTF/Cmap.pm line 330.
Use of uninitialized value in pack at /home/cpansand/var/ctps/5160RC0/install/perl-5.16.0-RC0/lib/site_perl/5.16.0/Font/TTF/Cmap.pm line 330.
Use of uninitialized value in pack at /home/cpansand/var/ctps/5160RC0/install/perl-5.16.0-RC0/lib/site_perl/5.16.0/Font/TTF/Cmap.pm line 330.
Use of uninitialized value in pack at /home/cpansand/var/ctps/5160RC0/install/perl-5.16.0-RC0/lib/site_perl/5.16.0/Font/TTF/Cmap.pm line 330.
Use of uninitialized value in pack at /home/cpansand/var/ctps/5160RC0/install/perl-5.16.0-RC0/lib/site_perl/5.16.0/Font/TTF/Cmap.pm line 330.
Use of uninitialized value in pack at /home/cpansand/var/ctps/5160RC0/install/perl-5.16.0-RC0/lib/site_perl/5.16.0/Font/TTF/Cmap.pm line 330.
Use of uninitialized value in pack at /home/cpansand/var/ctps/5160RC0/install/perl-5.16.0-RC0/lib/site_perl/5.16.0/Font/TTF/Cmap.pm line 330.
Use of uninitialized value in pack at /home/cpansand/var/ctps/5160RC0/install/perl-5.16.0-RC0/lib/site_perl/5.16.0/Font/TTF/Cmap.pm line 330.
Use of uninitialized value in pack at /home/cpansand/var/ctps/5160RC0/install/perl-5.16.0-RC0/lib/site_perl/5.16.0/Font/TTF/Cmap.pm line 330.
Use of uninitialized value in pack at /home/cpansand/var/ctps/5160RC0/install/perl-5.16.0-RC0/lib/site_perl/5.16.0/Font/TTF/Cmap.pm line 330.
Use of uninitialized value in pack at /home/cpansand/var/ctps/5160RC0/install/perl-5.16.0-RC0/lib/site_perl/5.16.0/Font/TTF/Cmap.pm line 330.
Use of uninitialized value in pack at /home/cpansand/var/ctps/5160RC0/install/perl-5.16.0-RC0/lib/site_perl/5.16.0/Font/TTF/Cmap.pm line 330.
Use of uninitialized value in pack at /home/cpansand/var/ctps/5160RC0/install/perl-5.16.0-RC0/lib/site_perl/5.16.0/Font/TTF/Cmap.pm line 330.
Use of uninitialized value in pack at /home/cpansand/var/ctps/5160RC0/install/perl-5.16.0-RC0/lib/site_perl/5.16.0/Font/TTF/Cmap.pm line 330.
Use of uninitialized value in pack at /home/cpansand/var/ctps/5160RC0/install/perl-5.16.0-RC0/lib/site_perl/5.16.0/Font/TTF/Cmap.pm line 330.
Use of uninitialized value in pack at /home/cpansand/var/ctps/5160RC0/install/perl-5.16.0-RC0/lib/site_perl/5.16.0/Font/TTF/Cmap.pm line 330.
Use of uninitialized value in pack at /home/cpansand/var/ctps/5160RC0/install/perl-5.16.0-RC0/lib/site_perl/5.16.0/Font/TTF/Cmap.pm line 330.
Use of uninitialized value in pack at /home/cpansand/var/ctps/5160RC0/install/perl-5.16.0-RC0/lib/site_perl/5.16.0/Font/TTF/Cmap.pm line 330.
Use of uninitialized value in pack at /home/cpansand/var/ctps/5160RC0/install/perl-5.16.0-RC0/lib/site_perl/5.16.0/Font/TTF/Cmap.pm line 330.
Use of uninitialized value in pack at /home/cpansand/var/ctps/5160RC0/install/perl-5.16.0-RC0/lib/site_perl/5.16.0/Font/TTF/Cmap.pm line 330.
Use of uninitialized value in pack at /home/cpansand/var/ctps/5160RC0/install/perl-5.16.0-RC0/lib/site_perl/5.16.0/Font/TTF/Cmap.pm line 330.
Use of uninitialized value in pack at /home/cpansand/var/ctps/5160RC0/install/perl-5.16.0-RC0/lib/site_perl/5.16.0/Font/TTF/Cmap.pm line 330.
Use of uninitialized value in pack at /home/cpansand/var/ctps/5160RC0/install/perl-5.16.0-RC0/lib/site_perl/5.16.0/Font/TTF/Cmap.pm line 330.
Use of uninitialized value in pack at /home/cpansand/var/ctps/5160RC0/install/perl-5.16.0-RC0/lib/site_perl/5.16.0/Font/TTF/Cmap.pm line 330.
Use of uninitialized value in pack at /home/cpansand/var/ctps/5160RC0/install/perl-5.16.0-RC0/lib/site_perl/5.16.0/Font/TTF/Cmap.pm line 330.
Use of uninitialized value in pack at /home/cpansand/var/ctps/5160RC0/install/perl-5.16.0-RC0/lib/site_perl/5.16.0/Font/TTF/Cmap.pm line 330.
Use of uninitialized value in pack at /home/cpansand/var/ctps/5160RC0/install/perl-5.16.0-RC0/lib/site_perl/5.16.0/Font/TTF/Cmap.pm line 330.
Use of uninitialized value in pack at /home/cpansand/var/ctps/5160RC0/install/perl-5.16.0-RC0/lib/site_perl/5.16.0/Font/TTF/Cmap.pm line 330.
Use of uninitialized value in pack at /home/cpansand/var/ctps/5160RC0/install/perl-5.16.0-RC0/lib/site_perl/5.16.0/Font/TTF/Cmap.pm line 330.
Use of uninitialized value in pack at /home/cpansand/var/ctps/5160RC0/install/perl-5.16.0-RC0/lib/site_perl/5.16.0/Font/TTF/Cmap.pm line 330.
Use of uninitialized value in pack at /home/cpansand/var/ctps/5160RC0/install/perl-5.16.0-RC0/lib/site_perl/5.16.0/Font/TTF/Cmap.pm line 330.
Use of uninitialized value in pack at /home/cpansand/var/ctps/5160RC0/install/perl-5.16.0-RC0/lib/site_perl/5.16.0/Font/TTF/Cmap.pm line 330.
Use of uninitialized value in pack at /home/cpansand/var/ctps/5160RC0/install/perl-5.16.0-RC0/lib/site_perl/5.16.0/Font/TTF/Cmap.pm line 330.
Use of uninitialized value in pack at /home/cpansand/var/ctps/5160RC0/install/perl-5.16.0-RC0/lib/site_perl/5.16.0/Font/TTF/Cmap.pm line 330.
Use of uninitialized value in pack at /home/cpansand/var/ctps/5160RC0/install/perl-5.16.0-RC0/lib/site_perl/5.16.0/Font/TTF/Cmap.pm line 330.
Use of uninitialized value in pack at /home/cpansand/var/ctps/5160RC0/install/perl-5.16.0-RC0/lib/site_perl/5.16.0/Font/TTF/Cmap.pm line 330.
Use of uninitialized value in pack at /home/cpansand/var/ctps/5160RC0/install/perl-5.16.0-RC0/lib/site_perl/5.16.0/Font/TTF/Cmap.pm line 330.
Use of uninitialized value in pack at /home/cpansand/var/ctps/5160RC0/install/perl-5.16.0-RC0/lib/site_perl/5.16.0/Font/TTF/Cmap.pm line 330.
Use of uninitialized value in pack at /home/cpansand/var/ctps/5160RC0/install/perl-5.16.0-RC0/lib/site_perl/5.16.0/Font/TTF/Cmap.pm line 330.
Use of uninitialized value in pack at /home/cpansand/var/ctps/5160RC0/install/perl-5.16.0-RC0/lib/site_perl/5.16.0/Font/TTF/Cmap.pm line 330.
Use of uninitialized value in pack at /home/cpansand/var/ctps/5160RC0/install/perl-5.16.0-RC0/lib/site_perl/5.16.0/Font/TTF/Cmap.pm line 330.
Use of uninitialized value in pack at /home/cpansand/var/ctps/5160RC0/install/perl-5.16.0-RC0/lib/site_perl/5.16.0/Font/TTF/Cmap.pm line 330.
Use of uninitialized value in pack at /home/cpansand/var/ctps/5160RC0/install/perl-5.16.0-RC0/lib/site_perl/5.16.0/Font/TTF/Cmap.pm line 330.
Use of uninitialized value in pack at /home/cpansand/var/ctps/5160RC0/install/perl-5.16.0-RC0/lib/site_perl/5.16.0/Font/TTF/Cmap.pm line 330.
Use of uninitialized value in pack at /home/cpansand/var/ctps/5160RC0/install/perl-5.16.0-RC0/lib/site_perl/5.16.0/Font/TTF/Cmap.pm line 330.
Use of uninitialized value in pack at /home/cpansand/var/ctps/5160RC0/install/perl-5.16.0-RC0/lib/site_perl/5.16.0/Font/TTF/Cmap.pm line 330.
Use of uninitialized value in pack at /home/cpansand/var/ctps/5160RC0/install/perl-5.16.0-RC0/lib/site_perl/5.16.0/Font/TTF/Cmap.pm line 330.
Use of uninitialized value in pack at /home/cpansand/var/ctps/5160RC0/install/perl-5.16.0-RC0/lib/site_perl/5.16.0/Font/TTF/Cmap.pm line 330.
Use of uninitialized value in pack at /home/cpansand/var/ctps/5160RC0/install/perl-5.16.0-RC0/lib/site_perl/5.16.0/Font/TTF/Cmap.pm line 330.
Use of uninitialized value in pack at /home/cpansand/var/ctps/5160RC0/install/perl-5.16.0-RC0/lib/site_perl/5.16.0/Font/TTF/Cmap.pm line 330.
Use of uninitialized value in pack at /home/cpansand/var/ctps/5160RC0/install/perl-5.16.0-RC0/lib/site_perl/5.16.0/Font/TTF/Cmap.pm line 330.
Use of uninitialized value in pack at /home/cpansand/var/ctps/5160RC0/install/perl-5.16.0-RC0/lib/site_perl/5.16.0/Font/TTF/Cmap.pm line 330.
Use of uninitialized value in pack at /home/cpansand/var/ctps/5160RC0/install/perl-5.16.0-RC0/lib/site_perl/5.16.0/Font/TTF/Cmap.pm line 330.
Use of uninitialized value in pack at /home/cpansand/var/ctps/5160RC0/install/perl-5.16.0-RC0/lib/site_perl/5.16.0/Font/TTF/Cmap.pm line 330.
Use of uninitialized value in pack at /home/cpansand/var/ctps/5160RC0/install/perl-5.16.0-RC0/lib/site_perl/5.16.0/Font/TTF/Cmap.pm line 330.
Use of uninitialized value in pack at /home/cpansand/var/ctps/5160RC0/install/perl-5.16.0-RC0/lib/site_perl/5.16.0/Font/TTF/Cmap.pm line 330.
Use of uninitialized value in pack at /home/cpansand/var/ctps/5160RC0/install/perl-5.16.0-RC0/lib/site_perl/5.16.0/Font/TTF/Cmap.pm line 330.
Use of uninitialized value in pack at /home/cpansand/var/ctps/5160RC0/install/perl-5.16.0-RC0/lib/site_perl/5.16.0/Font/TTF/Cmap.pm line 330.
Use of uninitialized value in pack at /home/cpansand/var/ctps/5160RC0/install/perl-5.16.0-RC0/lib/site_perl/5.16.0/Font/TTF/Cmap.pm line 330.
Use of uninitialized value in pack at /home/cpansand/var/ctps/5160RC0/install/perl-5.16.0-RC0/lib/site_perl/5.16.0/Font/TTF/Cmap.pm line 330.
Use of uninitialized value in pack at /home/cpansand/var/ctps/5160RC0/install/perl-5.16.0-RC0/lib/site_perl/5.16.0/Font/TTF/Cmap.pm line 330.
Use of uninitialized value in pack at /home/cpansand/var/ctps/5160RC0/install/perl-5.16.0-RC0/lib/site_perl/5.16.0/Font/TTF/Cmap.pm line 330.
Use of uninitialized value in pack at /home/cpansand/var/ctps/5160RC0/install/perl-5.16.0-RC0/lib/site_perl/5.16.0/Font/TTF/Cmap.pm line 330.
Use of uninitialized value in pack at /home/cpansand/var/ctps/5160RC0/install/perl-5.16.0-RC0/lib/site_perl/5.16.0/Font/TTF/Cmap.pm line 330.
Use of uninitialized value in pack at /home/cpansand/var/ctps/5160RC0/install/perl-5.16.0-RC0/lib/site_perl/5.16.0/Font/TTF/Cmap.pm line 330.
Use of uninitialized value in pack at /home/cpansand/var/ctps/5160RC0/install/perl-5.16.0-RC0/lib/site_perl/5.16.0/Font/TTF/Cmap.pm line 330.
Use of uninitialized value in pack at /home/cpansand/var/ctps/5160RC0/install/perl-5.16.0-RC0/lib/site_perl/5.16.0/Font/TTF/Cmap.pm line 330.
Use of uninitialized value in pack at /home/cpansand/var/ctps/5160RC0/install/perl-5.16.0-RC0/lib/site_perl/5.16.0/Font/TTF/Cmap.pm line 330.
Use of uninitialized value in pack at /home/cpansand/var/ctps/5160RC0/install/perl-5.16.0-RC0/lib/site_perl/5.16.0/Font/TTF/Cmap.pm line 330.
Use of uninitialized value in pack at /home/cpansand/var/ctps/5160RC0/install/perl-5.16.0-RC0/lib/site_perl/5.16.0/Font/TTF/Cmap.pm line 330.
Use of uninitialized value in pack at /home/cpansand/var/ctps/5160RC0/install/perl-5.16.0-RC0/lib/site_perl/5.16.0/Font/TTF/Cmap.pm line 330.
Use of uninitialized value in pack at /home/cpansand/var/ctps/5160RC0/install/perl-5.16.0-RC0/lib/site_perl/5.16.0/Font/TTF/Cmap.pm line 330.
Use of uninitialized value in pack at /home/cpansand/var/ctps/5160RC0/install/perl-5.16.0-RC0/lib/site_perl/5.16.0/Font/TTF/Cmap.pm line 330.
Use of uninitialized value in pack at /home/cpansand/var/ctps/5160RC0/install/perl-5.16.0-RC0/lib/site_perl/5.16.0/Font/TTF/Cmap.pm line 330.
Use of uninitialized value in pack at /home/cpansand/var/ctps/5160RC0/install/perl-5.16.0-RC0/lib/site_perl/5.16.0/Font/TTF/Cmap.pm line 330.
Use of uninitialized value in pack at /home/cpansand/var/ctps/5160RC0/install/perl-5.16.0-RC0/lib/site_perl/5.16.0/Font/TTF/Cmap.pm line 330.
Use of uninitialized value in pack at /home/cpansand/var/ctps/5160RC0/install/perl-5.16.0-RC0/lib/site_perl/5.16.0/Font/TTF/Cmap.pm line 330.
Use of uninitialized value in pack at /home/cpansand/var/ctps/5160RC0/install/perl-5.16.0-RC0/lib/site_perl/5.16.0/Font/TTF/Cmap.pm line 330.
Use of uninitialized value in pack at /home/cpansand/var/ctps/5160RC0/install/perl-5.16.0-RC0/lib/site_perl/5.16.0/Font/TTF/Cmap.pm line 330.
Use of uninitialized value in pack at /home/cpansand/var/ctps/5160RC0/install/perl-5.16.0-RC0/lib/site_perl/5.16.0/Font/TTF/Cmap.pm line 330.
Use of uninitialized value in pack at /home/cpansand/var/ctps/5160RC0/install/perl-5.16.0-RC0/lib/site_perl/5.16.0/Font/TTF/Cmap.pm line 330.
Use of uninitialized value in pack at /home/cpansand/var/ctps/5160RC0/install/perl-5.16.0-RC0/lib/site_perl/5.16.0/Font/TTF/Cmap.pm line 330.
Use of uninitialized value in pack at /home/cpansand/var/ctps/5160RC0/install/perl-5.16.0-RC0/lib/site_perl/5.16.0/Font/TTF/Cmap.pm line 330.
Use of uninitialized value in pack at /home/cpansand/var/ctps/5160RC0/install/perl-5.16.0-RC0/lib/site_perl/5.16.0/Font/TTF/Cmap.pm line 330.
Use of uninitialized value in pack at /home/cpansand/var/ctps/5160RC0/install/perl-5.16.0-RC0/lib/site_perl/5.16.0/Font/TTF/Cmap.pm line 330.
Use of uninitialized value in pack at /home/cpansand/var/ctps/5160RC0/install/perl-5.16.0-RC0/lib/site_perl/5.16.0/Font/TTF/Cmap.pm line 330.
Use of uninitialized value in pack at /home/cpansand/var/ctps/5160RC0/install/perl-5.16.0-RC0/lib/site_perl/5.16.0/Font/TTF/Cmap.pm line 330.
Use of uninitialized value in pack at /home/cpansand/var/ctps/5160RC0/install/perl-5.16.0-RC0/lib/site_perl/5.16.0/Font/TTF/Cmap.pm line 330.
Use of uninitialized value in pack at /home/cpansand/var/ctps/5160RC0/install/perl-5.16.0-RC0/lib/site_perl/5.16.0/Font/TTF/Cmap.pm line 330.
Use of uninitialized value in pack at /home/cpansand/var/ctps/5160RC0/install/perl-5.16.0-RC0/lib/site_perl/5.16.0/Font/TTF/Cmap.pm line 330.
Use of uninitialized value in pack at /home/cpansand/var/ctps/5160RC0/install/perl-5.16.0-RC0/lib/site_perl/5.16.0/Font/TTF/Cmap.pm line 330.
Use of uninitialized value in pack at /home/cpansand/var/ctps/5160RC0/install/perl-5.16.0-RC0/lib/site_perl/5.16.0/Font/TTF/Cmap.pm line 330.
Use of uninitialized value in pack at /home/cpansand/var/ctps/5160RC0/install/perl-5.16.0-RC0/lib/site_perl/5.16.0/Font/TTF/Cmap.pm line 330.
Use of uninitialized value in pack at /home/cpansand/var/ctps/5160RC0/install/perl-5.16.0-RC0/lib/site_perl/5.16.0/Font/TTF/Cmap.pm line 330.
Use of uninitialized value in pack at /home/cpansand/var/ctps/5160RC0/install/perl-5.16.0-RC0/lib/site_perl/5.16.0/Font/TTF/Cmap.pm line 330.
Use of uninitialized value in pack at /home/cpansand/var/ctps/5160RC0/install/perl-5.16.0-RC0/lib/site_perl/5.16.0/Font/TTF/Cmap.pm line 330.
Filehandle $fh opened only for output at /home/cpansand/var/ctps/5160RC0/install/perl-5.16.0-RC0/lib/5.16.0/i386-freebsd/IO/Handle.pm line 460.
Filehandle $fh opened only for output at /home/cpansand/var/ctps/5160RC0/install/perl-5.16.0-RC0/lib/5.16.0/i386-freebsd/IO/Handle.pm line 460.
Filehandle $fh opened only for output at /home/cpansand/var/ctps/5160RC0/install/perl-5.16.0-RC0/lib/5.16.0/i386-freebsd/IO/Handle.pm line 460.
Filehandle $fh opened only for output at /home/cpansand/var/ctps/5160RC0/install/perl-5.16.0-RC0/lib/5.16.0/i386-freebsd/IO/Handle.pm line 460.
Argument " CSUM" isn't numeric in sort at /home/cpansand/var/ctps/5160RC0/install/perl-5.16.0-RC0/lib/site_perl/5.16.0/Font/TTF/Hdmx.pm line 83.
Argument " isDirty" isn't numeric in sort at /home/cpansand/var/ctps/5160RC0/install/perl-5.16.0-RC0/lib/site_perl/5.16.0/Font/TTF/Hdmx.pm line 83.
Argument " LENGTH" isn't numeric in sort at /home/cpansand/var/ctps/5160RC0/install/perl-5.16.0-RC0/lib/site_perl/5.16.0/Font/TTF/Hdmx.pm line 83.
Argument " NAME" isn't numeric in sort at /home/cpansand/var/ctps/5160RC0/install/perl-5.16.0-RC0/lib/site_perl/5.16.0/Font/TTF/Hdmx.pm line 83.
Argument " OFFSET" isn't numeric in sort at /home/cpansand/var/ctps/5160RC0/install/perl-5.16.0-RC0/lib/site_perl/5.16.0/Font/TTF/Hdmx.pm line 83.
Argument " INFILE" isn't numeric in sort at /home/cpansand/var/ctps/5160RC0/install/perl-5.16.0-RC0/lib/site_perl/5.16.0/Font/TTF/Hdmx.pm line 83.
Argument " subsetdone" isn't numeric in sort at /home/cpansand/var/ctps/5160RC0/install/perl-5.16.0-RC0/lib/site_perl/5.16.0/Font/TTF/Hdmx.pm line 83.
Argument " PARENT" isn't numeric in sort at /home/cpansand/var/ctps/5160RC0/install/perl-5.16.0-RC0/lib/site_perl/5.16.0/Font/TTF/Hdmx.pm line 83.
Argument "Version" isn't numeric in sort at /home/cpansand/var/ctps/5160RC0/install/perl-5.16.0-RC0/lib/site_perl/5.16.0/Font/TTF/Hdmx.pm line 83.
Argument " ZLENGTH" isn't numeric in sort at /home/cpansand/var/ctps/5160RC0/install/perl-5.16.0-RC0/lib/site_perl/5.16.0/Font/TTF/Hdmx.pm line 83.
Argument " read" isn't numeric in sort at /home/cpansand/var/ctps/5160RC0/install/perl-5.16.0-RC0/lib/site_perl/5.16.0/Font/TTF/Hdmx.pm line 83.
Argument "Num" isn't numeric in sort at /home/cpansand/var/ctps/5160RC0/install/perl-5.16.0-RC0/lib/site_perl/5.16.0/Font/TTF/Hdmx.pm line 83.
Filehandle $fh opened only for output at /home/cpansand/var/ctps/5160RC0/install/perl-5.16.0-RC0/lib/5.16.0/i386-freebsd/IO/Handle.pm line 460.
Filehandle $fh opened only for output at /home/cpansand/var/ctps/5160RC0/install/perl-5.16.0-RC0/lib/5.16.0/i386-freebsd/IO/Handle.pm line 460.
Filehandle $fh opened only for output at /home/cpansand/var/ctps/5160RC0/install/perl-5.16.0-RC0/lib/5.16.0/i386-freebsd/IO/Handle.pm line 460.
Filehandle $fh opened only for output at /home/cpansand/var/ctps/5160RC0/install/perl-5.16.0-RC0/lib/5.16.0/i386-freebsd/IO/Handle.pm line 460.
Filehandle $fh opened only for output at /home/cpansand/var/ctps/5160RC0/install/perl-5.16.0-RC0/lib/5.16.0/i386-freebsd/IO/Handle.pm line 460.
Filehandle $fh opened only for output at /home/cpansand/var/ctps/5160RC0/install/perl-5.16.0-RC0/lib/5.16.0/i386-freebsd/IO/Handle.pm line 460.
Filehandle $fh opened only for output at /home/cpansand/var/ctps/5160RC0/install/perl-5.16.0-RC0/lib/5.16.0/i386-freebsd/IO/Handle.pm line 460.
Filehandle $fh opened only for output at /home/cpansand/var/ctps/5160RC0/install/perl-5.16.0-RC0/lib/5.16.0/i386-freebsd/IO/Handle.pm line 460.
Filehandle $fh opened only for output at /home/cpansand/var/ctps/5160RC0/install/perl-5.16.0-RC0/lib/5.16.0/i386-freebsd/IO/Handle.pm line 460.
Filehandle $fh opened only for output at /home/cpansand/var/ctps/5160RC0/install/perl-5.16.0-RC0/lib/5.16.0/i386-freebsd/IO/Handle.pm line 460.
Use of uninitialized value in array element at /home/cpansand/var/ctps/5160RC0/install/perl-5.16.0-RC0/lib/site_perl/5.16.0/Font/TTF/OS_2.pm line 301.
Use of uninitialized value in array element at /home/cpansand/var/ctps/5160RC0/install/perl-5.16.0-RC0/lib/site_perl/5.16.0/Font/TTF/OS_2.pm line 301.
Use of uninitialized value in array element at /home/cpansand/var/ctps/5160RC0/install/perl-5.16.0-RC0/lib/site_perl/5.16.0/Font/TTF/OS_2.pm line 301.
Use of uninitialized value in array element at /home/cpansand/var/ctps/5160RC0/install/perl-5.16.0-RC0/lib/site_perl/5.16.0/Font/TTF/OS_2.pm line 301.
Use of uninitialized value in array element at /home/cpansand/var/ctps/5160RC0/install/perl-5.16.0-RC0/lib/site_perl/5.16.0/Font/TTF/OS_2.pm line 301.
Use of uninitialized value in array element at /home/cpansand/var/ctps/5160RC0/install/perl-5.16.0-RC0/lib/site_perl/5.16.0/Font/TTF/OS_2.pm line 301.
Use of uninitialized value in array element at /home/cpansand/var/ctps/5160RC0/install/perl-5.16.0-RC0/lib/site_perl/5.16.0/Font/TTF/OS_2.pm line 301.
Use of uninitialized value in array element at /home/cpansand/var/ctps/5160RC0/install/perl-5.16.0-RC0/lib/site_perl/5.16.0/Font/TTF/OS_2.pm line 301.
Use of uninitialized value in array element at /home/cpansand/var/ctps/5160RC0/install/perl-5.16.0-RC0/lib/site_perl/5.16.0/Font/TTF/OS_2.pm line 301.
Use of uninitialized value in array element at /home/cpansand/var/ctps/5160RC0/install/perl-5.16.0-RC0/lib/site_perl/5.16.0/Font/TTF/OS_2.pm line 301.
Use of uninitialized value in array element at /home/cpansand/var/ctps/5160RC0/install/perl-5.16.0-RC0/lib/site_perl/5.16.0/Font/TTF/OS_2.pm line 301.
Use of uninitialized value in array element at /home/cpansand/var/ctps/5160RC0/install/perl-5.16.0-RC0/lib/site_perl/5.16.0/Font/TTF/OS_2.pm line 301.
Use of uninitialized value in array element at /home/cpansand/var/ctps/5160RC0/install/perl-5.16.0-RC0/lib/site_perl/5.16.0/Font/TTF/OS_2.pm line 301.
Use of uninitialized value in array element at /home/cpansand/var/ctps/5160RC0/install/perl-5.16.0-RC0/lib/site_perl/5.16.0/Font/TTF/OS_2.pm line 301.
Use of uninitialized value in array element at /home/cpansand/var/ctps/5160RC0/install/perl-5.16.0-RC0/lib/site_perl/5.16.0/Font/TTF/OS_2.pm line 301.
Use of uninitialized value in array element at /home/cpansand/var/ctps/5160RC0/install/perl-5.16.0-RC0/lib/site_perl/5.16.0/Font/TTF/OS_2.pm line 301.
Use of uninitialized value in array element at /home/cpansand/var/ctps/5160RC0/install/perl-5.16.0-RC0/lib/site_perl/5.16.0/Font/TTF/OS_2.pm line 301.
Use of uninitialized value in array element at /home/cpansand/var/ctps/5160RC0/install/perl-5.16.0-RC0/lib/site_perl/5.16.0/Font/TTF/OS_2.pm line 301.
Use of uninitialized value in array element at /home/cpansand/var/ctps/5160RC0/install/perl-5.16.0-RC0/lib/site_perl/5.16.0/Font/TTF/OS_2.pm line 301.
Use of uninitialized value in array element at /home/cpansand/var/ctps/5160RC0/install/perl-5.16.0-RC0/lib/site_perl/5.16.0/Font/TTF/OS_2.pm line 301.
Use of uninitialized value in array element at /home/cpansand/var/ctps/5160RC0/install/perl-5.16.0-RC0/lib/site_perl/5.16.0/Font/TTF/OS_2.pm line 301.
Use of uninitialized value in array element at /home/cpansand/var/ctps/5160RC0/install/perl-5.16.0-RC0/lib/site_perl/5.16.0/Font/TTF/OS_2.pm line 301.
Use of uninitialized value in array element at /home/cpansand/var/ctps/5160RC0/install/perl-5.16.0-RC0/lib/site_perl/5.16.0/Font/TTF/OS_2.pm line 301.
Use of uninitialized value in array element at /home/cpansand/var/ctps/5160RC0/install/perl-5.16.0-RC0/lib/site_perl/5.16.0/Font/TTF/OS_2.pm line 301.
Use of uninitialized value in array element at /home/cpansand/var/ctps/5160RC0/install/perl-5.16.0-RC0/lib/site_perl/5.16.0/Font/TTF/OS_2.pm line 303.
Use of uninitialized value $xMin in numeric lt (<) at /home/cpansand/var/ctps/5160RC0/install/perl-5.16.0-RC0/lib/site_perl/5.16.0/Font/TTF/Head.pm line 170.
Use of uninitialized value $yMin in numeric lt (<) at /home/cpansand/var/ctps/5160RC0/install/perl-5.16.0-RC0/lib/site_perl/5.16.0/Font/TTF/Head.pm line 171.
Use of uninitialized value $xMax in numeric gt (>) at /home/cpansand/var/ctps/5160RC0/install/perl-5.16.0-RC0/lib/site_perl/5.16.0/Font/TTF/Head.pm line 172.
Use of uninitialized value $yMax in numeric gt (>) at /home/cpansand/var/ctps/5160RC0/install/perl-5.16.0-RC0/lib/site_perl/5.16.0/Font/TTF/Head.pm line 173.
Use of uninitialized value $maw in numeric gt (>) at /home/cpansand/var/ctps/5160RC0/install/perl-5.16.0-RC0/lib/site_perl/5.16.0/Font/TTF/Hhea.pm line 132.
Use of uninitialized value $mlsb in numeric lt (<) at /home/cpansand/var/ctps/5160RC0/install/perl-5.16.0-RC0/lib/site_perl/5.16.0/Font/TTF/Hhea.pm line 133.
Use of uninitialized value $mrsb in numeric lt (<) at /home/cpansand/var/ctps/5160RC0/install/perl-5.16.0-RC0/lib/site_perl/5.16.0/Font/TTF/Hhea.pm line 134.
Use of uninitialized value $mext in numeric gt (>) at /home/cpansand/var/ctps/5160RC0/install/perl-5.16.0-RC0/lib/site_perl/5.16.0/Font/TTF/Hhea.pm line 135.
Use of uninitialized value in numeric gt (>) at /home/cpansand/var/ctps/5160RC0/install/perl-5.16.0-RC0/lib/site_perl/5.16.0/Font/TTF/Maxp.pm line 151.
Use of uninitialized value in numeric gt (>) at /home/cpansand/var/ctps/5160RC0/install/perl-5.16.0-RC0/lib/site_perl/5.16.0/Font/TTF/Maxp.pm line 151.
Use of uninitialized value in numeric gt (>) at /home/cpansand/var/ctps/5160RC0/install/perl-5.16.0-RC0/lib/site_perl/5.16.0/Font/TTF/Maxp.pm line 151.
Use of uninitialized value $n[2] in numeric gt (>) at /home/cpansand/var/ctps/5160RC0/install/perl-5.16.0-RC0/lib/site_perl/5.16.0/Font/TTF/Maxp.pm line 151.
Use of uninitialized value in numeric gt (>) at /home/cpansand/var/ctps/5160RC0/install/perl-5.16.0-RC0/lib/site_perl/5.16.0/Font/TTF/Maxp.pm line 151.
Use of uninitialized value $n[3] in numeric gt (>) at /home/cpansand/var/ctps/5160RC0/install/perl-5.16.0-RC0/lib/site_perl/5.16.0/Font/TTF/Maxp.pm line 151.
Use of uninitialized value in numeric gt (>) at /home/cpansand/var/ctps/5160RC0/install/perl-5.16.0-RC0/lib/site_perl/5.16.0/Font/TTF/Maxp.pm line 151.
Use of uninitialized value in numeric gt (>) at /home/cpansand/var/ctps/5160RC0/install/perl-5.16.0-RC0/lib/site_perl/5.16.0/Font/TTF/Maxp.pm line 151.
Use of uninitialized value $n[5] in numeric gt (>) at /home/cpansand/var/ctps/5160RC0/install/perl-5.16.0-RC0/lib/site_perl/5.16.0/Font/TTF/Maxp.pm line 151.
Use of uninitialized value in numeric gt (>) at /home/cpansand/var/ctps/5160RC0/install/perl-5.16.0-RC0/lib/site_perl/5.16.0/Font/TTF/Maxp.pm line 151.
Use of uninitialized value in numeric gt (>) at /home/cpansand/var/ctps/5160RC0/install/perl-5.16.0-RC0/lib/site_perl/5.16.0/Font/TTF/Maxp.pm line 151.
Use of uninitialized value $n[2] in numeric gt (>) at /home/cpansand/var/ctps/5160RC0/install/perl-5.16.0-RC0/lib/site_perl/5.16.0/Font/TTF/Maxp.pm line 151.
Use of uninitialized value in numeric gt (>) at /home/cpansand/var/ctps/5160RC0/install/perl-5.16.0-RC0/lib/site_perl/5.16.0/Font/TTF/Maxp.pm line 151.
Use of uninitialized value $n[3] in numeric gt (>) at /home/cpansand/var/ctps/5160RC0/install/perl-5.16.0-RC0/lib/site_perl/5.16.0/Font/TTF/Maxp.pm line 151.
Use of uninitialized value in numeric gt (>) at /home/cpansand/var/ctps/5160RC0/install/perl-5.16.0-RC0/lib/site_perl/5.16.0/Font/TTF/Maxp.pm line 151.
Use of uninitialized value $n[5] in numeric gt (>) at /home/cpansand/var/ctps/5160RC0/install/perl-5.16.0-RC0/lib/site_perl/5.16.0/Font/TTF/Maxp.pm line 151.
Use of uninitialized value in numeric gt (>) at /home/cpansand/var/ctps/5160RC0/install/perl-5.16.0-RC0/lib/site_perl/5.16.0/Font/TTF/Maxp.pm line 151.
Use of uninitialized value $n[2] in numeric gt (>) at /home/cpansand/var/ctps/5160RC0/install/perl-5.16.0-RC0/lib/site_perl/5.16.0/Font/TTF/Maxp.pm line 151.
Use of uninitialized value in numeric gt (>) at /home/cpansand/var/ctps/5160RC0/install/perl-5.16.0-RC0/lib/site_perl/5.16.0/Font/TTF/Maxp.pm line 151.
Use of uninitialized value $n[3] in numeric gt (>) at /home/cpansand/var/ctps/5160RC0/install/perl-5.16.0-RC0/lib/site_perl/5.16.0/Font/TTF/Maxp.pm line 151.
Use of uninitialized value in numeric gt (>) at /home/cpansand/var/ctps/5160RC0/install/perl-5.16.0-RC0/lib/site_perl/5.16.0/Font/TTF/Maxp.pm line 151.
Use of uninitialized value $n[5] in numeric gt (>) at /home/cpansand/var/ctps/5160RC0/install/perl-5.16.0-RC0/lib/site_perl/5.16.0/Font/TTF/Maxp.pm line 151.
Filehandle $fh opened only for output at /home/cpansand/var/ctps/5160RC0/install/perl-5.16.0-RC0/lib/5.16.0/i386-freebsd/IO/Handle.pm line 460.
Use of uninitialized value in pack at /home/cpansand/var/ctps/5160RC0/install/perl-5.16.0-RC0/lib/site_perl/5.16.0/Font/TTF/Cmap.pm line 330.
Use of uninitialized value in pack at /home/cpansand/var/ctps/5160RC0/install/perl-5.16.0-RC0/lib/site_perl/5.16.0/Font/TTF/Cmap.pm line 330.
Use of uninitialized value in pack at /home/cpansand/var/ctps/5160RC0/install/perl-5.16.0-RC0/lib/site_perl/5.16.0/Font/TTF/Cmap.pm line 330.
Use of uninitialized value in pack at /home/cpansand/var/ctps/5160RC0/install/perl-5.16.0-RC0/lib/site_perl/5.16.0/Font/TTF/Cmap.pm line 330.
Use of uninitialized value in pack at /home/cpansand/var/ctps/5160RC0/install/perl-5.16.0-RC0/lib/site_perl/5.16.0/Font/TTF/Cmap.pm line 330.
Use of uninitialized value in pack at /home/cpansand/var/ctps/5160RC0/install/perl-5.16.0-RC0/lib/site_perl/5.16.0/Font/TTF/Cmap.pm line 330.
Use of uninitialized value in pack at /home/cpansand/var/ctps/5160RC0/install/perl-5.16.0-RC0/lib/site_perl/5.16.0/Font/TTF/Cmap.pm line 330.
Use of uninitialized value in pack at /home/cpansand/var/ctps/5160RC0/install/perl-5.16.0-RC0/lib/site_perl/5.16.0/Font/TTF/Cmap.pm line 330.
Use of uninitialized value in pack at /home/cpansand/var/ctps/5160RC0/install/perl-5.16.0-RC0/lib/site_perl/5.16.0/Font/TTF/Cmap.pm line 330.
Use of uninitialized value in pack at /home/cpansand/var/ctps/5160RC0/install/perl-5.16.0-RC0/lib/site_perl/5.16.0/Font/TTF/Cmap.pm line 330.
Use of uninitialized value in pack at /home/cpansand/var/ctps/5160RC0/install/perl-5.16.0-RC0/lib/site_perl/5.16.0/Font/TTF/Cmap.pm line 330.
Use of uninitialized value in pack at /home/cpansand/var/ctps/5160RC0/install/perl-5.16.0-RC0/lib/site_perl/5.16.0/Font/TTF/Cmap.pm line 330.
Use of uninitialized value in pack at /home/cpansand/var/ctps/5160RC0/install/perl-5.16.0-RC0/lib/site_perl/5.16.0/Font/TTF/Cmap.pm line 330.
Use of uninitialized value in pack at /home/cpansand/var/ctps/5160RC0/install/perl-5.16.0-RC0/lib/site_perl/5.16.0/Font/TTF/Cmap.pm line 330.
Use of uninitialized value in pack at /home/cpansand/var/ctps/5160RC0/install/perl-5.16.0-RC0/lib/site_perl/5.16.0/Font/TTF/Cmap.pm line 330.
Use of uninitialized value in pack at /home/cpansand/var/ctps/5160RC0/install/perl-5.16.0-RC0/lib/site_perl/5.16.0/Font/TTF/Cmap.pm line 330.
Use of uninitialized value in pack at /home/cpansand/var/ctps/5160RC0/install/perl-5.16.0-RC0/lib/site_perl/5.16.0/Font/TTF/Cmap.pm line 330.
Use of uninitialized value in pack at /home/cpansand/var/ctps/5160RC0/install/perl-5.16.0-RC0/lib/site_perl/5.16.0/Font/TTF/Cmap.pm line 330.
Use of uninitialized value in pack at /home/cpansand/var/ctps/5160RC0/install/perl-5.16.0-RC0/lib/site_perl/5.16.0/Font/TTF/Cmap.pm line 330.
Use of uninitialized value in pack at /home/cpansand/var/ctps/5160RC0/install/perl-5.16.0-RC0/lib/site_perl/5.16.0/Font/TTF/Cmap.pm line 330.
Use of uninitialized value in pack at /home/cpansand/var/ctps/5160RC0/install/perl-5.16.0-RC0/lib/site_perl/5.16.0/Font/TTF/Cmap.pm line 330.
Use of uninitialized value in pack at /home/cpansand/var/ctps/5160RC0/install/perl-5.16.0-RC0/lib/site_perl/5.16.0/Font/TTF/Cmap.pm line 330.
Use of uninitialized value in pack at /home/cpansand/var/ctps/5160RC0/install/perl-5.16.0-RC0/lib/site_perl/5.16.0/Font/TTF/Cmap.pm line 330.
Use of uninitialized value in pack at /home/cpansand/var/ctps/5160RC0/install/perl-5.16.0-RC0/lib/site_perl/5.16.0/Font/TTF/Cmap.pm line 330.
Use of uninitialized value in pack at /home/cpansand/var/ctps/5160RC0/install/perl-5.16.0-RC0/lib/site_perl/5.16.0/Font/TTF/Cmap.pm line 330.
Use of uninitialized value in pack at /home/cpansand/var/ctps/5160RC0/install/perl-5.16.0-RC0/lib/site_perl/5.16.0/Font/TTF/Cmap.pm line 330.
Use of uninitialized value in pack at /home/cpansand/var/ctps/5160RC0/install/perl-5.16.0-RC0/lib/site_perl/5.16.0/Font/TTF/Cmap.pm line 330.
Use of uninitialized value in pack at /home/cpansand/var/ctps/5160RC0/install/perl-5.16.0-RC0/lib/site_perl/5.16.0/Font/TTF/Cmap.pm line 330.
Use of uninitialized value in pack at /home/cpansand/var/ctps/5160RC0/install/perl-5.16.0-RC0/lib/site_perl/5.16.0/Font/TTF/Cmap.pm line 330.
Use of uninitialized value in pack at /home/cpansand/var/ctps/5160RC0/install/perl-5.16.0-RC0/lib/site_perl/5.16.0/Font/TTF/Cmap.pm line 330.
Use of uninitialized value in pack at /home/cpansand/var/ctps/5160RC0/install/perl-5.16.0-RC0/lib/site_perl/5.16.0/Font/TTF/Cmap.pm line 330.
Use of uninitialized value in pack at /home/cpansand/var/ctps/5160RC0/install/perl-5.16.0-RC0/lib/site_perl/5.16.0/Font/TTF/Cmap.pm line 330.
Use of uninitialized value in pack at /home/cpansand/var/ctps/5160RC0/install/perl-5.16.0-RC0/lib/site_perl/5.16.0/Font/TTF/Cmap.pm line 330.
Use of uninitialized value in pack at /home/cpansand/var/ctps/5160RC0/install/perl-5.16.0-RC0/lib/site_perl/5.16.0/Font/TTF/Cmap.pm line 330.
Use of uninitialized value in pack at /home/cpansand/var/ctps/5160RC0/install/perl-5.16.0-RC0/lib/site_perl/5.16.0/Font/TTF/Cmap.pm line 330.
Use of uninitialized value in pack at /home/cpansand/var/ctps/5160RC0/install/perl-5.16.0-RC0/lib/site_perl/5.16.0/Font/TTF/Cmap.pm line 330.
Use of uninitialized value in pack at /home/cpansand/var/ctps/5160RC0/install/perl-5.16.0-RC0/lib/site_perl/5.16.0/Font/TTF/Cmap.pm line 330.
Use of uninitialized value in pack at /home/cpansand/var/ctps/5160RC0/install/perl-5.16.0-RC0/lib/site_perl/5.16.0/Font/TTF/Cmap.pm line 330.
Use of uninitialized value in pack at /home/cpansand/var/ctps/5160RC0/install/perl-5.16.0-RC0/lib/site_perl/5.16.0/Font/TTF/Cmap.pm line 330.
Use of uninitialized value in pack at /home/cpansand/var/ctps/5160RC0/install/perl-5.16.0-RC0/lib/site_perl/5.16.0/Font/TTF/Cmap.pm line 330.
Use of uninitialized value in pack at /home/cpansand/var/ctps/5160RC0/install/perl-5.16.0-RC0/lib/site_perl/5.16.0/Font/TTF/Cmap.pm line 330.
Use of uninitialized value in pack at /home/cpansand/var/ctps/5160RC0/install/perl-5.16.0-RC0/lib/site_perl/5.16.0/Font/TTF/Cmap.pm line 330.
Use of uninitialized value in pack at /home/cpansand/var/ctps/5160RC0/install/perl-5.16.0-RC0/lib/site_perl/5.16.0/Font/TTF/Cmap.pm line 330.
Use of uninitialized value in pack at /home/cpansand/var/ctps/5160RC0/install/perl-5.16.0-RC0/lib/site_perl/5.16.0/Font/TTF/Cmap.pm line 330.
Use of uninitialized value in pack at /home/cpansand/var/ctps/5160RC0/install/perl-5.16.0-RC0/lib/site_perl/5.16.0/Font/TTF/Cmap.pm line 330.
Use of uninitialized value in pack at /home/cpansand/var/ctps/5160RC0/install/perl-5.16.0-RC0/lib/site_perl/5.16.0/Font/TTF/Cmap.pm line 330.
Use of uninitialized value in pack at /home/cpansand/var/ctps/5160RC0/install/perl-5.16.0-RC0/lib/site_perl/5.16.0/Font/TTF/Cmap.pm line 330.
Use of uninitialized value in pack at /home/cpansand/var/ctps/5160RC0/install/perl-5.16.0-RC0/lib/site_perl/5.16.0/Font/TTF/Cmap.pm line 330.
Use of uninitialized value in pack at /home/cpansand/var/ctps/5160RC0/install/perl-5.16.0-RC0/lib/site_perl/5.16.0/Font/TTF/Cmap.pm line 330.
Use of uninitialized value in pack at /home/cpansand/var/ctps/5160RC0/install/perl-5.16.0-RC0/lib/site_perl/5.16.0/Font/TTF/Cmap.pm line 330.
Use of uninitialized value in pack at /home/cpansand/var/ctps/5160RC0/install/perl-5.16.0-RC0/lib/site_perl/5.16.0/Font/TTF/Cmap.pm line 330.
Use of uninitialized value in pack at /home/cpansand/var/ctps/5160RC0/install/perl-5.16.0-RC0/lib/site_perl/5.16.0/Font/TTF/Cmap.pm line 330.
Use of uninitialized value in pack at /home/cpansand/var/ctps/5160RC0/install/perl-5.16.0-RC0/lib/site_perl/5.16.0/Font/TTF/Cmap.pm line 330.
Use of uninitialized value in pack at /home/cpansand/var/ctps/5160RC0/install/perl-5.16.0-RC0/lib/site_perl/5.16.0/Font/TTF/Cmap.pm line 330.
Use of uninitialized value in pack at /home/cpansand/var/ctps/5160RC0/install/perl-5.16.0-RC0/lib/site_perl/5.16.0/Font/TTF/Cmap.pm line 330.
Use of uninitialized value in pack at /home/cpansand/var/ctps/5160RC0/install/perl-5.16.0-RC0/lib/site_perl/5.16.0/Font/TTF/Cmap.pm line 330.
Use of uninitialized value in pack at /home/cpansand/var/ctps/5160RC0/install/perl-5.16.0-RC0/lib/site_perl/5.16.0/Font/TTF/Cmap.pm line 330.
Use of uninitialized value in pack at /home/cpansand/var/ctps/5160RC0/install/perl-5.16.0-RC0/lib/site_perl/5.16.0/Font/TTF/Cmap.pm line 330.
Use of uninitialized value in pack at /home/cpansand/var/ctps/5160RC0/install/perl-5.16.0-RC0/lib/site_perl/5.16.0/Font/TTF/Cmap.pm line 330.
Use of uninitialized value in pack at /home/cpansand/var/ctps/5160RC0/install/perl-5.16.0-RC0/lib/site_perl/5.16.0/Font/TTF/Cmap.pm line 330.
Use of uninitialized value in pack at /home/cpansand/var/ctps/5160RC0/install/perl-5.16.0-RC0/lib/site_perl/5.16.0/Font/TTF/Cmap.pm line 330.
Use of uninitialized value in pack at /home/cpansand/var/ctps/5160RC0/install/perl-5.16.0-RC0/lib/site_perl/5.16.0/Font/TTF/Cmap.pm line 330.
Use of uninitialized value in pack at /home/cpansand/var/ctps/5160RC0/install/perl-5.16.0-RC0/lib/site_perl/5.16.0/Font/TTF/Cmap.pm line 330.
Use of uninitialized value in pack at /home/cpansand/var/ctps/5160RC0/install/perl-5.16.0-RC0/lib/site_perl/5.16.0/Font/TTF/Cmap.pm line 330.
Use of uninitialized value in pack at /home/cpansand/var/ctps/5160RC0/install/perl-5.16.0-RC0/lib/site_perl/5.16.0/Font/TTF/Cmap.pm line 330.
Use of uninitialized value in pack at /home/cpansand/var/ctps/5160RC0/install/perl-5.16.0-RC0/lib/site_perl/5.16.0/Font/TTF/Cmap.pm line 330.
Use of uninitialized value in pack at /home/cpansand/var/ctps/5160RC0/install/perl-5.16.0-RC0/lib/site_perl/5.16.0/Font/TTF/Cmap.pm line 330.
Use of uninitialized value in pack at /home/cpansand/var/ctps/5160RC0/install/perl-5.16.0-RC0/lib/site_perl/5.16.0/Font/TTF/Cmap.pm line 330.
Use of uninitialized value in pack at /home/cpansand/var/ctps/5160RC0/install/perl-5.16.0-RC0/lib/site_perl/5.16.0/Font/TTF/Cmap.pm line 330.
Use of uninitialized value in pack at /home/cpansand/var/ctps/5160RC0/install/perl-5.16.0-RC0/lib/site_perl/5.16.0/Font/TTF/Cmap.pm line 330.
Use of uninitialized value in pack at /home/cpansand/var/ctps/5160RC0/install/perl-5.16.0-RC0/lib/site_perl/5.16.0/Font/TTF/Cmap.pm line 330.
Use of uninitialized value in pack at /home/cpansand/var/ctps/5160RC0/install/perl-5.16.0-RC0/lib/site_perl/5.16.0/Font/TTF/Cmap.pm line 330.
Use of uninitialized value in pack at /home/cpansand/var/ctps/5160RC0/install/perl-5.16.0-RC0/lib/site_perl/5.16.0/Font/TTF/Cmap.pm line 330.
Use of uninitialized value in pack at /home/cpansand/var/ctps/5160RC0/install/perl-5.16.0-RC0/lib/site_perl/5.16.0/Font/TTF/Cmap.pm line 330.
Use of uninitialized value in pack at /home/cpansand/var/ctps/5160RC0/install/perl-5.16.0-RC0/lib/site_perl/5.16.0/Font/TTF/Cmap.pm line 330.
Use of uninitialized value in pack at /home/cpansand/var/ctps/5160RC0/install/perl-5.16.0-RC0/lib/site_perl/5.16.0/Font/TTF/Cmap.pm line 330.
Use of uninitialized value in pack at /home/cpansand/var/ctps/5160RC0/install/perl-5.16.0-RC0/lib/site_perl/5.16.0/Font/TTF/Cmap.pm line 330.
Use of uninitialized value in pack at /home/cpansand/var/ctps/5160RC0/install/perl-5.16.0-RC0/lib/site_perl/5.16.0/Font/TTF/Cmap.pm line 330.
Use of uninitialized value in pack at /home/cpansand/var/ctps/5160RC0/install/perl-5.16.0-RC0/lib/site_perl/5.16.0/Font/TTF/Cmap.pm line 330.
Use of uninitialized value in pack at /home/cpansand/var/ctps/5160RC0/install/perl-5.16.0-RC0/lib/site_perl/5.16.0/Font/TTF/Cmap.pm line 330.
Use of uninitialized value in pack at /home/cpansand/var/ctps/5160RC0/install/perl-5.16.0-RC0/lib/site_perl/5.16.0/Font/TTF/Cmap.pm line 330.
Use of uninitialized value in pack at /home/cpansand/var/ctps/5160RC0/install/perl-5.16.0-RC0/lib/site_perl/5.16.0/Font/TTF/Cmap.pm line 330.
Use of uninitialized value in pack at /home/cpansand/var/ctps/5160RC0/install/perl-5.16.0-RC0/lib/site_perl/5.16.0/Font/TTF/Cmap.pm line 330.
Use of uninitialized value in pack at /home/cpansand/var/ctps/5160RC0/install/perl-5.16.0-RC0/lib/site_perl/5.16.0/Font/TTF/Cmap.pm line 330.
Use of uninitialized value in pack at /home/cpansand/var/ctps/5160RC0/install/perl-5.16.0-RC0/lib/site_perl/5.16.0/Font/TTF/Cmap.pm line 330.
Use of uninitialized value in pack at /home/cpansand/var/ctps/5160RC0/install/perl-5.16.0-RC0/lib/site_perl/5.16.0/Font/TTF/Cmap.pm line 330.
Use of uninitialized value in pack at /home/cpansand/var/ctps/5160RC0/install/perl-5.16.0-RC0/lib/site_perl/5.16.0/Font/TTF/Cmap.pm line 330.
Use of uninitialized value in pack at /home/cpansand/var/ctps/5160RC0/install/perl-5.16.0-RC0/lib/site_perl/5.16.0/Font/TTF/Cmap.pm line 330.
Use of uninitialized value in pack at /home/cpansand/var/ctps/5160RC0/install/perl-5.16.0-RC0/lib/site_perl/5.16.0/Font/TTF/Cmap.pm line 330.
Use of uninitialized value in pack at /home/cpansand/var/ctps/5160RC0/install/perl-5.16.0-RC0/lib/site_perl/5.16.0/Font/TTF/Cmap.pm line 330.
Use of uninitialized value in pack at /home/cpansand/var/ctps/5160RC0/install/perl-5.16.0-RC0/lib/site_perl/5.16.0/Font/TTF/Cmap.pm line 330.
Use of uninitialized value in pack at /home/cpansand/var/ctps/5160RC0/install/perl-5.16.0-RC0/lib/site_perl/5.16.0/Font/TTF/Cmap.pm line 330.
Use of uninitialized value in pack at /home/cpansand/var/ctps/5160RC0/install/perl-5.16.0-RC0/lib/site_perl/5.16.0/Font/TTF/Cmap.pm line 330.
Use of uninitialized value in pack at /home/cpansand/var/ctps/5160RC0/install/perl-5.16.0-RC0/lib/site_perl/5.16.0/Font/TTF/Cmap.pm line 330.
Use of uninitialized value in pack at /home/cpansand/var/ctps/5160RC0/install/perl-5.16.0-RC0/lib/site_perl/5.16.0/Font/TTF/Cmap.pm line 330.
Use of uninitialized value in pack at /home/cpansand/var/ctps/5160RC0/install/perl-5.16.0-RC0/lib/site_perl/5.16.0/Font/TTF/Cmap.pm line 330.
Use of uninitialized value in pack at /home/cpansand/var/ctps/5160RC0/install/perl-5.16.0-RC0/lib/site_perl/5.16.0/Font/TTF/Cmap.pm line 330.
Use of uninitialized value in pack at /home/cpansand/var/ctps/5160RC0/install/perl-5.16.0-RC0/lib/site_perl/5.16.0/Font/TTF/Cmap.pm line 330.
Use of uninitialized value in pack at /home/cpansand/var/ctps/5160RC0/install/perl-5.16.0-RC0/lib/site_perl/5.16.0/Font/TTF/Cmap.pm line 330.
Use of uninitialized value in pack at /home/cpansand/var/ctps/5160RC0/install/perl-5.16.0-RC0/lib/site_perl/5.16.0/Font/TTF/Cmap.pm line 330.
Use of uninitialized value in pack at /home/cpansand/var/ctps/5160RC0/install/perl-5.16.0-RC0/lib/site_perl/5.16.0/Font/TTF/Cmap.pm line 330.
Use of uninitialized value in pack at /home/cpansand/var/ctps/5160RC0/install/perl-5.16.0-RC0/lib/site_perl/5.16.0/Font/TTF/Cmap.pm line 330.
Use of uninitialized value in pack at /home/cpansand/var/ctps/5160RC0/install/perl-5.16.0-RC0/lib/site_perl/5.16.0/Font/TTF/Cmap.pm line 330.
Use of uninitialized value in pack at /home/cpansand/var/ctps/5160RC0/install/perl-5.16.0-RC0/lib/site_perl/5.16.0/Font/TTF/Cmap.pm line 330.
Use of uninitialized value in pack at /home/cpansand/var/ctps/5160RC0/install/perl-5.16.0-RC0/lib/site_perl/5.16.0/Font/TTF/Cmap.pm line 330.
Use of uninitialized value in pack at /home/cpansand/var/ctps/5160RC0/install/perl-5.16.0-RC0/lib/site_perl/5.16.0/Font/TTF/Cmap.pm line 330.
Use of uninitialized value in pack at /home/cpansand/var/ctps/5160RC0/install/perl-5.16.0-RC0/lib/site_perl/5.16.0/Font/TTF/Cmap.pm line 330.
Use of uninitialized value in pack at /home/cpansand/var/ctps/5160RC0/install/perl-5.16.0-RC0/lib/site_perl/5.16.0/Font/TTF/Cmap.pm line 330.
Use of uninitialized value in pack at /home/cpansand/var/ctps/5160RC0/install/perl-5.16.0-RC0/lib/site_perl/5.16.0/Font/TTF/Cmap.pm line 330.
Use of uninitialized value in pack at /home/cpansand/var/ctps/5160RC0/install/perl-5.16.0-RC0/lib/site_perl/5.16.0/Font/TTF/Cmap.pm line 330.
Use of uninitialized value in pack at /home/cpansand/var/ctps/5160RC0/install/perl-5.16.0-RC0/lib/site_perl/5.16.0/Font/TTF/Cmap.pm line 330.
Use of uninitialized value in pack at /home/cpansand/var/ctps/5160RC0/install/perl-5.16.0-RC0/lib/site_perl/5.16.0/Font/TTF/Cmap.pm line 330.
Use of uninitialized value in pack at /home/cpansand/var/ctps/5160RC0/install/perl-5.16.0-RC0/lib/site_perl/5.16.0/Font/TTF/Cmap.pm line 330.
Use of uninitialized value in pack at /home/cpansand/var/ctps/5160RC0/install/perl-5.16.0-RC0/lib/site_perl/5.16.0/Font/TTF/Cmap.pm line 330.
Use of uninitialized value in pack at /home/cpansand/var/ctps/5160RC0/install/perl-5.16.0-RC0/lib/site_perl/5.16.0/Font/TTF/Cmap.pm line 330.
Use of uninitialized value in pack at /home/cpansand/var/ctps/5160RC0/install/perl-5.16.0-RC0/lib/site_perl/5.16.0/Font/TTF/Cmap.pm line 330.
Use of uninitialized value in pack at /home/cpansand/var/ctps/5160RC0/install/perl-5.16.0-RC0/lib/site_perl/5.16.0/Font/TTF/Cmap.pm line 330.
Use of uninitialized value in pack at /home/cpansand/var/ctps/5160RC0/install/perl-5.16.0-RC0/lib/site_perl/5.16.0/Font/TTF/Cmap.pm line 330.
Use of uninitialized value in pack at /home/cpansand/var/ctps/5160RC0/install/perl-5.16.0-RC0/lib/site_perl/5.16.0/Font/TTF/Cmap.pm line 330.
Use of uninitialized value in pack at /home/cpansand/var/ctps/5160RC0/install/perl-5.16.0-RC0/lib/site_perl/5.16.0/Font/TTF/Cmap.pm line 330.
Use of uninitialized value in pack at /home/cpansand/var/ctps/5160RC0/install/perl-5.16.0-RC0/lib/site_perl/5.16.0/Font/TTF/Cmap.pm line 330.
Use of uninitialized value in pack at /home/cpansand/var/ctps/5160RC0/install/perl-5.16.0-RC0/lib/site_perl/5.16.0/Font/TTF/Cmap.pm line 330.
Use of uninitialized value in pack at /home/cpansand/var/ctps/5160RC0/install/perl-5.16.0-RC0/lib/site_perl/5.16.0/Font/TTF/Cmap.pm line 330.
Use of uninitialized value in pack at /home/cpansand/var/ctps/5160RC0/install/perl-5.16.0-RC0/lib/site_perl/5.16.0/Font/TTF/Cmap.pm line 330.
Use of uninitialized value in pack at /home/cpansand/var/ctps/5160RC0/install/perl-5.16.0-RC0/lib/site_perl/5.16.0/Font/TTF/Cmap.pm line 330.
Use of uninitialized value in pack at /home/cpansand/var/ctps/5160RC0/install/perl-5.16.0-RC0/lib/site_perl/5.16.0/Font/TTF/Cmap.pm line 330.
Use of uninitialized value in pack at /home/cpansand/var/ctps/5160RC0/install/perl-5.16.0-RC0/lib/site_perl/5.16.0/Font/TTF/Cmap.pm line 330.
Use of uninitialized value in pack at /home/cpansand/var/ctps/5160RC0/install/perl-5.16.0-RC0/lib/site_perl/5.16.0/Font/TTF/Cmap.pm line 330.
Use of uninitialized value in pack at /home/cpansand/var/ctps/5160RC0/install/perl-5.16.0-RC0/lib/site_perl/5.16.0/Font/TTF/Cmap.pm line 330.
Use of uninitialized value in pack at /home/cpansand/var/ctps/5160RC0/install/perl-5.16.0-RC0/lib/site_perl/5.16.0/Font/TTF/Cmap.pm line 330.
Use of uninitialized value in pack at /home/cpansand/var/ctps/5160RC0/install/perl-5.16.0-RC0/lib/site_perl/5.16.0/Font/TTF/Cmap.pm line 330.
Use of uninitialized value in pack at /home/cpansand/var/ctps/5160RC0/install/perl-5.16.0-RC0/lib/site_perl/5.16.0/Font/TTF/Cmap.pm line 330.
Use of uninitialized value in pack at /home/cpansand/var/ctps/5160RC0/install/perl-5.16.0-RC0/lib/site_perl/5.16.0/Font/TTF/Cmap.pm line 330.
Use of uninitialized value in pack at /home/cpansand/var/ctps/5160RC0/install/perl-5.16.0-RC0/lib/site_perl/5.16.0/Font/TTF/Cmap.pm line 330.
Use of uninitialized value in pack at /home/cpansand/var/ctps/5160RC0/install/perl-5.16.0-RC0/lib/site_perl/5.16.0/Font/TTF/Cmap.pm line 330.
Use of uninitialized value in pack at /home/cpansand/var/ctps/5160RC0/install/perl-5.16.0-RC0/lib/site_perl/5.16.0/Font/TTF/Cmap.pm line 330.
Use of uninitialized value in pack at /home/cpansand/var/ctps/5160RC0/install/perl-5.16.0-RC0/lib/site_perl/5.16.0/Font/TTF/Cmap.pm line 330.
Use of uninitialized value in pack at /home/cpansand/var/ctps/5160RC0/install/perl-5.16.0-RC0/lib/site_perl/5.16.0/Font/TTF/Cmap.pm line 330.
Use of uninitialized value in pack at /home/cpansand/var/ctps/5160RC0/install/perl-5.16.0-RC0/lib/site_perl/5.16.0/Font/TTF/Cmap.pm line 330.
Use of uninitialized value in pack at /home/cpansand/var/ctps/5160RC0/install/perl-5.16.0-RC0/lib/site_perl/5.16.0/Font/TTF/Cmap.pm line 330.
Use of uninitialized value in pack at /home/cpansand/var/ctps/5160RC0/install/perl-5.16.0-RC0/lib/site_perl/5.16.0/Font/TTF/Cmap.pm line 330.
Use of uninitialized value in pack at /home/cpansand/var/ctps/5160RC0/install/perl-5.16.0-RC0/lib/site_perl/5.16.0/Font/TTF/Cmap.pm line 330.
Use of uninitialized value in pack at /home/cpansand/var/ctps/5160RC0/install/perl-5.16.0-RC0/lib/site_perl/5.16.0/Font/TTF/Cmap.pm line 330.
Use of uninitialized value in pack at /home/cpansand/var/ctps/5160RC0/install/perl-5.16.0-RC0/lib/site_perl/5.16.0/Font/TTF/Cmap.pm line 330.
Use of uninitialized value in pack at /home/cpansand/var/ctps/5160RC0/install/perl-5.16.0-RC0/lib/site_perl/5.16.0/Font/TTF/Cmap.pm line 330.
Use of uninitialized value in pack at /home/cpansand/var/ctps/5160RC0/install/perl-5.16.0-RC0/lib/site_perl/5.16.0/Font/TTF/Cmap.pm line 330.
Use of uninitialized value in pack at /home/cpansand/var/ctps/5160RC0/install/perl-5.16.0-RC0/lib/site_perl/5.16.0/Font/TTF/Cmap.pm line 330.
Use of uninitialized value in pack at /home/cpansand/var/ctps/5160RC0/install/perl-5.16.0-RC0/lib/site_perl/5.16.0/Font/TTF/Cmap.pm line 330.
Use of uninitialized value in pack at /home/cpansand/var/ctps/5160RC0/install/perl-5.16.0-RC0/lib/site_perl/5.16.0/Font/TTF/Cmap.pm line 330.
Use of uninitialized value in pack at /home/cpansand/var/ctps/5160RC0/install/perl-5.16.0-RC0/lib/site_perl/5.16.0/Font/TTF/Cmap.pm line 330.
Use of uninitialized value in pack at /home/cpansand/var/ctps/5160RC0/install/perl-5.16.0-RC0/lib/site_perl/5.16.0/Font/TTF/Cmap.pm line 330.
Use of uninitialized value in pack at /home/cpansand/var/ctps/5160RC0/install/perl-5.16.0-RC0/lib/site_perl/5.16.0/Font/TTF/Cmap.pm line 330.
Use of uninitialized value in pack at /home/cpansand/var/ctps/5160RC0/install/perl-5.16.0-RC0/lib/site_perl/5.16.0/Font/TTF/Cmap.pm line 330.
Use of uninitialized value in pack at /home/cpansand/var/ctps/5160RC0/install/perl-5.16.0-RC0/lib/site_perl/5.16.0/Font/TTF/Cmap.pm line 330.
Use of uninitialized value in pack at /home/cpansand/var/ctps/5160RC0/install/perl-5.16.0-RC0/lib/site_perl/5.16.0/Font/TTF/Cmap.pm line 330.
Use of uninitialized value in pack at /home/cpansand/var/ctps/5160RC0/install/perl-5.16.0-RC0/lib/site_perl/5.16.0/Font/TTF/Cmap.pm line 330.
Use of uninitialized value in pack at /home/cpansand/var/ctps/5160RC0/install/perl-5.16.0-RC0/lib/site_perl/5.16.0/Font/TTF/Cmap.pm line 330.
Use of uninitialized value in pack at /home/cpansand/var/ctps/5160RC0/install/perl-5.16.0-RC0/lib/site_perl/5.16.0/Font/TTF/Cmap.pm line 330.
Use of uninitialized value in pack at /home/cpansand/var/ctps/5160RC0/install/perl-5.16.0-RC0/lib/site_perl/5.16.0/Font/TTF/Cmap.pm line 330.
Use of uninitialized value in pack at /home/cpansand/var/ctps/5160RC0/install/perl-5.16.0-RC0/lib/site_perl/5.16.0/Font/TTF/Cmap.pm line 330.
Use of uninitialized value in pack at /home/cpansand/var/ctps/5160RC0/install/perl-5.16.0-RC0/lib/site_perl/5.16.0/Font/TTF/Cmap.pm line 330.
Use of uninitialized value in pack at /home/cpansand/var/ctps/5160RC0/install/perl-5.16.0-RC0/lib/site_perl/5.16.0/Font/TTF/Cmap.pm line 330.
Use of uninitialized value in pack at /home/cpansand/var/ctps/5160RC0/install/perl-5.16.0-RC0/lib/site_perl/5.16.0/Font/TTF/Cmap.pm line 330.
Use of uninitialized value in pack at /home/cpansand/var/ctps/5160RC0/install/perl-5.16.0-RC0/lib/site_perl/5.16.0/Font/TTF/Cmap.pm line 330.
Use of uninitialized value in pack at /home/cpansand/var/ctps/5160RC0/install/perl-5.16.0-RC0/lib/site_perl/5.16.0/Font/TTF/Cmap.pm line 330.
Use of uninitialized value in pack at /home/cpansand/var/ctps/5160RC0/install/perl-5.16.0-RC0/lib/site_perl/5.16.0/Font/TTF/Cmap.pm line 330.
Use of uninitialized value in pack at /home/cpansand/var/ctps/5160RC0/install/perl-5.16.0-RC0/lib/site_perl/5.16.0/Font/TTF/Cmap.pm line 330.
Use of uninitialized value in pack at /home/cpansand/var/ctps/5160RC0/install/perl-5.16.0-RC0/lib/site_perl/5.16.0/Font/TTF/Cmap.pm line 330.
Use of uninitialized value in pack at /home/cpansand/var/ctps/5160RC0/install/perl-5.16.0-RC0/lib/site_perl/5.16.0/Font/TTF/Cmap.pm line 330.
Use of uninitialized value in pack at /home/cpansand/var/ctps/5160RC0/install/perl-5.16.0-RC0/lib/site_perl/5.16.0/Font/TTF/Cmap.pm line 330.
Use of uninitialized value in pack at /home/cpansand/var/ctps/5160RC0/install/perl-5.16.0-RC0/lib/site_perl/5.16.0/Font/TTF/Cmap.pm line 330.
Use of uninitialized value in pack at /home/cpansand/var/ctps/5160RC0/install/perl-5.16.0-RC0/lib/site_perl/5.16.0/Font/TTF/Cmap.pm line 330.
Use of uninitialized value in pack at /home/cpansand/var/ctps/5160RC0/install/perl-5.16.0-RC0/lib/site_perl/5.16.0/Font/TTF/Cmap.pm line 330.
Use of uninitialized value in pack at /home/cpansand/var/ctps/5160RC0/install/perl-5.16.0-RC0/lib/site_perl/5.16.0/Font/TTF/Cmap.pm line 330.
Use of uninitialized value in pack at /home/cpansand/var/ctps/5160RC0/install/perl-5.16.0-RC0/lib/site_perl/5.16.0/Font/TTF/Cmap.pm line 330.
Use of uninitialized value in pack at /home/cpansand/var/ctps/5160RC0/install/perl-5.16.0-RC0/lib/site_perl/5.16.0/Font/TTF/Cmap.pm line 330.
Use of uninitialized value in pack at /home/cpansand/var/ctps/5160RC0/install/perl-5.16.0-RC0/lib/site_perl/5.16.0/Font/TTF/Cmap.pm line 330.
Use of uninitialized value in pack at /home/cpansand/var/ctps/5160RC0/install/perl-5.16.0-RC0/lib/site_perl/5.16.0/Font/TTF/Cmap.pm line 330.
Use of uninitialized value in pack at /home/cpansand/var/ctps/5160RC0/install/perl-5.16.0-RC0/lib/site_perl/5.16.0/Font/TTF/Cmap.pm line 330.
Use of uninitialized value in pack at /home/cpansand/var/ctps/5160RC0/install/perl-5.16.0-RC0/lib/site_perl/5.16.0/Font/TTF/Cmap.pm line 330.
Use of uninitialized value in pack at /home/cpansand/var/ctps/5160RC0/install/perl-5.16.0-RC0/lib/site_perl/5.16.0/Font/TTF/Cmap.pm line 330.
Use of uninitialized value in pack at /home/cpansand/var/ctps/5160RC0/install/perl-5.16.0-RC0/lib/site_perl/5.16.0/Font/TTF/Cmap.pm line 330.
Use of uninitialized value in pack at /home/cpansand/var/ctps/5160RC0/install/perl-5.16.0-RC0/lib/site_perl/5.16.0/Font/TTF/Cmap.pm line 330.
Use of uninitialized value in pack at /home/cpansand/var/ctps/5160RC0/install/perl-5.16.0-RC0/lib/site_perl/5.16.0/Font/TTF/Cmap.pm line 330.
Use of uninitialized value in pack at /home/cpansand/var/ctps/5160RC0/install/perl-5.16.0-RC0/lib/site_perl/5.16.0/Font/TTF/Cmap.pm line 330.
Use of uninitialized value in pack at /home/cpansand/var/ctps/5160RC0/install/perl-5.16.0-RC0/lib/site_perl/5.16.0/Font/TTF/Cmap.pm line 330.
Use of uninitialized value in pack at /home/cpansand/var/ctps/5160RC0/install/perl-5.16.0-RC0/lib/site_perl/5.16.0/Font/TTF/Cmap.pm line 330.
Use of uninitialized value in pack at /home/cpansand/var/ctps/5160RC0/install/perl-5.16.0-RC0/lib/site_perl/5.16.0/Font/TTF/Cmap.pm line 330.
Use of uninitialized value in pack at /home/cpansand/var/ctps/5160RC0/install/perl-5.16.0-RC0/lib/site_perl/5.16.0/Font/TTF/Cmap.pm line 330.
Use of uninitialized value in pack at /home/cpansand/var/ctps/5160RC0/install/perl-5.16.0-RC0/lib/site_perl/5.16.0/Font/TTF/Cmap.pm line 330.
Use of uninitialized value in pack at /home/cpansand/var/ctps/5160RC0/install/perl-5.16.0-RC0/lib/site_perl/5.16.0/Font/TTF/Cmap.pm line 330.
Use of uninitialized value in pack at /home/cpansand/var/ctps/5160RC0/install/perl-5.16.0-RC0/lib/site_perl/5.16.0/Font/TTF/Cmap.pm line 330.
Use of uninitialized value in pack at /home/cpansand/var/ctps/5160RC0/install/perl-5.16.0-RC0/lib/site_perl/5.16.0/Font/TTF/Cmap.pm line 330.
Use of uninitialized value in pack at /home/cpansand/var/ctps/5160RC0/install/perl-5.16.0-RC0/lib/site_perl/5.16.0/Font/TTF/Cmap.pm line 330.
Use of uninitialized value in pack at /home/cpansand/var/ctps/5160RC0/install/perl-5.16.0-RC0/lib/site_perl/5.16.0/Font/TTF/Cmap.pm line 330.
Use of uninitialized value in pack at /home/cpansand/var/ctps/5160RC0/install/perl-5.16.0-RC0/lib/site_perl/5.16.0/Font/TTF/Cmap.pm line 330.
Use of uninitialized value in pack at /home/cpansand/var/ctps/5160RC0/install/perl-5.16.0-RC0/lib/site_perl/5.16.0/Font/TTF/Cmap.pm line 330.
Use of uninitialized value in pack at /home/cpansand/var/ctps/5160RC0/install/perl-5.16.0-RC0/lib/site_perl/5.16.0/Font/TTF/Cmap.pm line 330.
Use of uninitialized value in pack at /home/cpansand/var/ctps/5160RC0/install/perl-5.16.0-RC0/lib/site_perl/5.16.0/Font/TTF/Cmap.pm line 330.
Use of uninitialized value in pack at /home/cpansand/var/ctps/5160RC0/install/perl-5.16.0-RC0/lib/site_perl/5.16.0/Font/TTF/Cmap.pm line 330.
Use of uninitialized value in pack at /home/cpansand/var/ctps/5160RC0/install/perl-5.16.0-RC0/lib/site_perl/5.16.0/Font/TTF/Cmap.pm line 330.
Use of uninitialized value in pack at /home/cpansand/var/ctps/5160RC0/install/perl-5.16.0-RC0/lib/site_perl/5.16.0/Font/TTF/Cmap.pm line 330.
Use of uninitialized value in pack at /home/cpansand/var/ctps/5160RC0/install/perl-5.16.0-RC0/lib/site_perl/5.16.0/Font/TTF/Cmap.pm line 330.
Use of uninitialized value in pack at /home/cpansand/var/ctps/5160RC0/install/perl-5.16.0-RC0/lib/site_perl/5.16.0/Font/TTF/Cmap.pm line 330.
Use of uninitialized value in pack at /home/cpansand/var/ctps/5160RC0/install/perl-5.16.0-RC0/lib/site_perl/5.16.0/Font/TTF/Cmap.pm line 330.
Use of uninitialized value in pack at /home/cpansand/var/ctps/5160RC0/install/perl-5.16.0-RC0/lib/site_perl/5.16.0/Font/TTF/Cmap.pm line 330.
Use of uninitialized value in pack at /home/cpansand/var/ctps/5160RC0/install/perl-5.16.0-RC0/lib/site_perl/5.16.0/Font/TTF/Cmap.pm line 330.
Use of uninitialized value in pack at /home/cpansand/var/ctps/5160RC0/install/perl-5.16.0-RC0/lib/site_perl/5.16.0/Font/TTF/Cmap.pm line 330.
Use of uninitialized value in pack at /home/cpansand/var/ctps/5160RC0/install/perl-5.16.0-RC0/lib/site_perl/5.16.0/Font/TTF/Cmap.pm line 330.
Use of uninitialized value in pack at /home/cpansand/var/ctps/5160RC0/install/perl-5.16.0-RC0/lib/site_perl/5.16.0/Font/TTF/Cmap.pm line 330.
Use of uninitialized value in pack at /home/cpansand/var/ctps/5160RC0/install/perl-5.16.0-RC0/lib/site_perl/5.16.0/Font/TTF/Cmap.pm line 330.
Use of uninitialized value in pack at /home/cpansand/var/ctps/5160RC0/install/perl-5.16.0-RC0/lib/site_perl/5.16.0/Font/TTF/Cmap.pm line 330.
Use of uninitialized value in pack at /home/cpansand/var/ctps/5160RC0/install/perl-5.16.0-RC0/lib/site_perl/5.16.0/Font/TTF/Cmap.pm line 330.
Use of uninitialized value in pack at /home/cpansand/var/ctps/5160RC0/install/perl-5.16.0-RC0/lib/site_perl/5.16.0/Font/TTF/Cmap.pm line 330.
Use of uninitialized value in pack at /home/cpansand/var/ctps/5160RC0/install/perl-5.16.0-RC0/lib/site_perl/5.16.0/Font/TTF/Cmap.pm line 330.
Use of uninitialized value in pack at /home/cpansand/var/ctps/5160RC0/install/perl-5.16.0-RC0/lib/site_perl/5.16.0/Font/TTF/Cmap.pm line 330.
Use of uninitialized value in pack at /home/cpansand/var/ctps/5160RC0/install/perl-5.16.0-RC0/lib/site_perl/5.16.0/Font/TTF/Cmap.pm line 330.
Use of uninitialized value in pack at /home/cpansand/var/ctps/5160RC0/install/perl-5.16.0-RC0/lib/site_perl/5.16.0/Font/TTF/Cmap.pm line 330.
Use of uninitialized value in pack at /home/cpansand/var/ctps/5160RC0/install/perl-5.16.0-RC0/lib/site_perl/5.16.0/Font/TTF/Cmap.pm line 330.
Use of uninitialized value in pack at /home/cpansand/var/ctps/5160RC0/install/perl-5.16.0-RC0/lib/site_perl/5.16.0/Font/TTF/Cmap.pm line 330.
Use of uninitialized value in pack at /home/cpansand/var/ctps/5160RC0/install/perl-5.16.0-RC0/lib/site_perl/5.16.0/Font/TTF/Cmap.pm line 330.
Use of uninitialized value in pack at /home/cpansand/var/ctps/5160RC0/install/perl-5.16.0-RC0/lib/site_perl/5.16.0/Font/TTF/Cmap.pm line 330.
Use of uninitialized value in pack at /home/cpansand/var/ctps/5160RC0/install/perl-5.16.0-RC0/lib/site_perl/5.16.0/Font/TTF/Cmap.pm line 330.
Use of uninitialized value in pack at /home/cpansand/var/ctps/5160RC0/install/perl-5.16.0-RC0/lib/site_perl/5.16.0/Font/TTF/Cmap.pm line 330.
Use of uninitialized value in pack at /home/cpansand/var/ctps/5160RC0/install/perl-5.16.0-RC0/lib/site_perl/5.16.0/Font/TTF/Cmap.pm line 330.
Use of uninitialized value in pack at /home/cpansand/var/ctps/5160RC0/install/perl-5.16.0-RC0/lib/site_perl/5.16.0/Font/TTF/Cmap.pm line 330.
Use of uninitialized value in pack at /home/cpansand/var/ctps/5160RC0/install/perl-5.16.0-RC0/lib/site_perl/5.16.0/Font/TTF/Cmap.pm line 330.
Use of uninitialized value in pack at /home/cpansand/var/ctps/5160RC0/install/perl-5.16.0-RC0/lib/site_perl/5.16.0/Font/TTF/Cmap.pm line 330.
Use of uninitialized value in pack at /home/cpansand/var/ctps/5160RC0/install/perl-5.16.0-RC0/lib/site_perl/5.16.0/Font/TTF/Cmap.pm line 330.
Use of uninitialized value in pack at /home/cpansand/var/ctps/5160RC0/install/perl-5.16.0-RC0/lib/site_perl/5.16.0/Font/TTF/Cmap.pm line 330.
Use of uninitialized value in pack at /home/cpansand/var/ctps/5160RC0/install/perl-5.16.0-RC0/lib/site_perl/5.16.0/Font/TTF/Cmap.pm line 330.
Use of uninitialized value in pack at /home/cpansand/var/ctps/5160RC0/install/perl-5.16.0-RC0/lib/site_perl/5.16.0/Font/TTF/Cmap.pm line 330.
Use of uninitialized value in pack at /home/cpansand/var/ctps/5160RC0/install/perl-5.16.0-RC0/lib/site_perl/5.16.0/Font/TTF/Cmap.pm line 330.
Use of uninitialized value in pack at /home/cpansand/var/ctps/5160RC0/install/perl-5.16.0-RC0/lib/site_perl/5.16.0/Font/TTF/Cmap.pm line 330.
Use of uninitialized value in pack at /home/cpansand/var/ctps/5160RC0/install/perl-5.16.0-RC0/lib/site_perl/5.16.0/Font/TTF/Cmap.pm line 330.
Use of uninitialized value in pack at /home/cpansand/var/ctps/5160RC0/install/perl-5.16.0-RC0/lib/site_perl/5.16.0/Font/TTF/Cmap.pm line 330.
Use of uninitialized value in pack at /home/cpansand/var/ctps/5160RC0/install/perl-5.16.0-RC0/lib/site_perl/5.16.0/Font/TTF/Cmap.pm line 330.
Use of uninitialized value in pack at /home/cpansand/var/ctps/5160RC0/install/perl-5.16.0-RC0/lib/site_perl/5.16.0/Font/TTF/Cmap.pm line 330.
Use of uninitialized value in pack at /home/cpansand/var/ctps/5160RC0/install/perl-5.16.0-RC0/lib/site_perl/5.16.0/Font/TTF/Cmap.pm line 330.
Use of uninitialized value in pack at /home/cpansand/var/ctps/5160RC0/install/perl-5.16.0-RC0/lib/site_perl/5.16.0/Font/TTF/Cmap.pm line 330.
Use of uninitialized value in pack at /home/cpansand/var/ctps/5160RC0/install/perl-5.16.0-RC0/lib/site_perl/5.16.0/Font/TTF/Cmap.pm line 330.
Use of uninitialized value in pack at /home/cpansand/var/ctps/5160RC0/install/perl-5.16.0-RC0/lib/site_perl/5.16.0/Font/TTF/Cmap.pm line 330.
Use of uninitialized value in pack at /home/cpansand/var/ctps/5160RC0/install/perl-5.16.0-RC0/lib/site_perl/5.16.0/Font/TTF/Cmap.pm line 330.
Use of uninitialized value in pack at /home/cpansand/var/ctps/5160RC0/install/perl-5.16.0-RC0/lib/site_perl/5.16.0/Font/TTF/Cmap.pm line 330.
Use of uninitialized value in pack at /home/cpansand/var/ctps/5160RC0/install/perl-5.16.0-RC0/lib/site_perl/5.16.0/Font/TTF/Cmap.pm line 330.
Use of uninitialized value in pack at /home/cpansand/var/ctps/5160RC0/install/perl-5.16.0-RC0/lib/site_perl/5.16.0/Font/TTF/Cmap.pm line 330.
Use of uninitialized value in pack at /home/cpansand/var/ctps/5160RC0/install/perl-5.16.0-RC0/lib/site_perl/5.16.0/Font/TTF/Cmap.pm line 330.
Use of uninitialized value in pack at /home/cpansand/var/ctps/5160RC0/install/perl-5.16.0-RC0/lib/site_perl/5.16.0/Font/TTF/Cmap.pm line 330.
Use of uninitialized value in pack at /home/cpansand/var/ctps/5160RC0/install/perl-5.16.0-RC0/lib/site_perl/5.16.0/Font/TTF/Cmap.pm line 330.
Use of uninitialized value in pack at /home/cpansand/var/ctps/5160RC0/install/perl-5.16.0-RC0/lib/site_perl/5.16.0/Font/TTF/Cmap.pm line 330.
Filehandle $fh opened only for output at /home/cpansand/var/ctps/5160RC0/install/perl-5.16.0-RC0/lib/5.16.0/i386-freebsd/IO/Handle.pm line 460.
Filehandle $fh opened only for output at /home/cpansand/var/ctps/5160RC0/install/perl-5.16.0-RC0/lib/5.16.0/i386-freebsd/IO/Handle.pm line 460.
Filehandle $fh opened only for output at /home/cpansand/var/ctps/5160RC0/install/perl-5.16.0-RC0/lib/5.16.0/i386-freebsd/IO/Handle.pm line 460.
Filehandle $fh opened only for output at /home/cpansand/var/ctps/5160RC0/install/perl-5.16.0-RC0/lib/5.16.0/i386-freebsd/IO/Handle.pm line 460.
Argument " CSUM" isn't numeric in sort at /home/cpansand/var/ctps/5160RC0/install/perl-5.16.0-RC0/lib/site_perl/5.16.0/Font/TTF/Hdmx.pm line 83.
Argument " isDirty" isn't numeric in sort at /home/cpansand/var/ctps/5160RC0/install/perl-5.16.0-RC0/lib/site_perl/5.16.0/Font/TTF/Hdmx.pm line 83.
Argument " LENGTH" isn't numeric in sort at /home/cpansand/var/ctps/5160RC0/install/perl-5.16.0-RC0/lib/site_perl/5.16.0/Font/TTF/Hdmx.pm line 83.
Argument " NAME" isn't numeric in sort at /home/cpansand/var/ctps/5160RC0/install/perl-5.16.0-RC0/lib/site_perl/5.16.0/Font/TTF/Hdmx.pm line 83.
Argument " OFFSET" isn't numeric in sort at /home/cpansand/var/ctps/5160RC0/install/perl-5.16.0-RC0/lib/site_perl/5.16.0/Font/TTF/Hdmx.pm line 83.
Argument " INFILE" isn't numeric in sort at /home/cpansand/var/ctps/5160RC0/install/perl-5.16.0-RC0/lib/site_perl/5.16.0/Font/TTF/Hdmx.pm line 83.
Argument " subsetdone" isn't numeric in sort at /home/cpansand/var/ctps/5160RC0/install/perl-5.16.0-RC0/lib/site_perl/5.16.0/Font/TTF/Hdmx.pm line 83.
Argument " PARENT" isn't numeric in sort at /home/cpansand/var/ctps/5160RC0/install/perl-5.16.0-RC0/lib/site_perl/5.16.0/Font/TTF/Hdmx.pm line 83.
Argument "Version" isn't numeric in sort at /home/cpansand/var/ctps/5160RC0/install/perl-5.16.0-RC0/lib/site_perl/5.16.0/Font/TTF/Hdmx.pm line 83.
Argument " ZLENGTH" isn't numeric in sort at /home/cpansand/var/ctps/5160RC0/install/perl-5.16.0-RC0/lib/site_perl/5.16.0/Font/TTF/Hdmx.pm line 83.
Argument " read" isn't numeric in sort at /home/cpansand/var/ctps/5160RC0/install/perl-5.16.0-RC0/lib/site_perl/5.16.0/Font/TTF/Hdmx.pm line 83.
Argument "Num" isn't numeric in sort at /home/cpansand/var/ctps/5160RC0/install/perl-5.16.0-RC0/lib/site_perl/5.16.0/Font/TTF/Hdmx.pm line 83.
Filehandle $fh opened only for output at /home/cpansand/var/ctps/5160RC0/install/perl-5.16.0-RC0/lib/5.16.0/i386-freebsd/IO/Handle.pm line 460.
Filehandle $fh opened only for output at /home/cpansand/var/ctps/5160RC0/install/perl-5.16.0-RC0/lib/5.16.0/i386-freebsd/IO/Handle.pm line 460.
Filehandle $fh opened only for output at /home/cpansand/var/ctps/5160RC0/install/perl-5.16.0-RC0/lib/5.16.0/i386-freebsd/IO/Handle.pm line 460.
Filehandle $fh opened only for output at /home/cpansand/var/ctps/5160RC0/install/perl-5.16.0-RC0/lib/5.16.0/i386-freebsd/IO/Handle.pm line 460.
Filehandle $fh opened only for output at /home/cpansand/var/ctps/5160RC0/install/perl-5.16.0-RC0/lib/5.16.0/i386-freebsd/IO/Handle.pm line 460.
Filehandle $fh opened only for output at /home/cpansand/var/ctps/5160RC0/install/perl-5.16.0-RC0/lib/5.16.0/i386-freebsd/IO/Handle.pm line 460.
Filehandle $fh opened only for output at /home/cpansand/var/ctps/5160RC0/install/perl-5.16.0-RC0/lib/5.16.0/i386-freebsd/IO/Handle.pm line 460.
Filehandle $fh opened only for output at /home/cpansand/var/ctps/5160RC0/install/perl-5.16.0-RC0/lib/5.16.0/i386-freebsd/IO/Handle.pm line 460.
Filehandle $fh opened only for output at /home/cpansand/var/ctps/5160RC0/install/perl-5.16.0-RC0/lib/5.16.0/i386-freebsd/IO/Handle.pm line 460.
Filehandle $fh opened only for output at /home/cpansand/var/ctps/5160RC0/install/perl-5.16.0-RC0/lib/5.16.0/i386-freebsd/IO/Handle.pm line 460.
t/basic.t ..................... ok
Use of uninitialized value $_[0] in hash element at /home/cpansand/var/ctps/5160RC0/install/perl-5.16.0-RC0/lib/site_perl/5.16.0/Dancer/Plugin/Cache/CHI.pm line 48.
Use of uninitialized value $_[0] in hash element at /home/cpansand/var/ctps/5160RC0/install/perl-5.16.0-RC0/lib/site_perl/5.16.0/Dancer/Plugin/Cache/CHI.pm line 48.
Use of uninitialized value in array element at /home/cpansand/var/ctps/5160RC0/install/perl-5.16.0-RC0/lib/site_perl/5.16.0/Font/TTF/OS_2.pm line 301.
Use of uninitialized value in array element at /home/cpansand/var/ctps/5160RC0/install/perl-5.16.0-RC0/lib/site_perl/5.16.0/Font/TTF/OS_2.pm line 301.
Use of uninitialized value in array element at /home/cpansand/var/ctps/5160RC0/install/perl-5.16.0-RC0/lib/site_perl/5.16.0/Font/TTF/OS_2.pm line 301.
Use of uninitialized value in array element at /home/cpansand/var/ctps/5160RC0/install/perl-5.16.0-RC0/lib/site_perl/5.16.0/Font/TTF/OS_2.pm line 301.
Use of uninitialized value in array element at /home/cpansand/var/ctps/5160RC0/install/perl-5.16.0-RC0/lib/site_perl/5.16.0/Font/TTF/OS_2.pm line 301.
Use of uninitialized value in array element at /home/cpansand/var/ctps/5160RC0/install/perl-5.16.0-RC0/lib/site_perl/5.16.0/Font/TTF/OS_2.pm line 301.
Use of uninitialized value in array element at /home/cpansand/var/ctps/5160RC0/install/perl-5.16.0-RC0/lib/site_perl/5.16.0/Font/TTF/OS_2.pm line 301.
Use of uninitialized value in array element at /home/cpansand/var/ctps/5160RC0/install/perl-5.16.0-RC0/lib/site_perl/5.16.0/Font/TTF/OS_2.pm line 301.
Use of uninitialized value in array element at /home/cpansand/var/ctps/5160RC0/install/perl-5.16.0-RC0/lib/site_perl/5.16.0/Font/TTF/OS_2.pm line 301.
Use of uninitialized value in array element at /home/cpansand/var/ctps/5160RC0/install/perl-5.16.0-RC0/lib/site_perl/5.16.0/Font/TTF/OS_2.pm line 301.
Use of uninitialized value in array element at /home/cpansand/var/ctps/5160RC0/install/perl-5.16.0-RC0/lib/site_perl/5.16.0/Font/TTF/OS_2.pm line 301.
Use of uninitialized value in array element at /home/cpansand/var/ctps/5160RC0/install/perl-5.16.0-RC0/lib/site_perl/5.16.0/Font/TTF/OS_2.pm line 301.
Use of uninitialized value in array element at /home/cpansand/var/ctps/5160RC0/install/perl-5.16.0-RC0/lib/site_perl/5.16.0/Font/TTF/OS_2.pm line 301.
Use of uninitialized value in array element at /home/cpansand/var/ctps/5160RC0/install/perl-5.16.0-RC0/lib/site_perl/5.16.0/Font/TTF/OS_2.pm line 301.
Use of uninitialized value in array element at /home/cpansand/var/ctps/5160RC0/install/perl-5.16.0-RC0/lib/site_perl/5.16.0/Font/TTF/OS_2.pm line 301.
Use of uninitialized value in array element at /home/cpansand/var/ctps/5160RC0/install/perl-5.16.0-RC0/lib/site_perl/5.16.0/Font/TTF/OS_2.pm line 301.
Use of uninitialized value in array element at /home/cpansand/var/ctps/5160RC0/install/perl-5.16.0-RC0/lib/site_perl/5.16.0/Font/TTF/OS_2.pm line 301.
Use of uninitialized value in array element at /home/cpansand/var/ctps/5160RC0/install/perl-5.16.0-RC0/lib/site_perl/5.16.0/Font/TTF/OS_2.pm line 301.
Use of uninitialized value in array element at /home/cpansand/var/ctps/5160RC0/install/perl-5.16.0-RC0/lib/site_perl/5.16.0/Font/TTF/OS_2.pm line 301.
Use of uninitialized value in array element at /home/cpansand/var/ctps/5160RC0/install/perl-5.16.0-RC0/lib/site_perl/5.16.0/Font/TTF/OS_2.pm line 301.
Use of uninitialized value in array element at /home/cpansand/var/ctps/5160RC0/install/perl-5.16.0-RC0/lib/site_perl/5.16.0/Font/TTF/OS_2.pm line 301.
Use of uninitialized value in array element at /home/cpansand/var/ctps/5160RC0/install/perl-5.16.0-RC0/lib/site_perl/5.16.0/Font/TTF/OS_2.pm line 301.
Use of uninitialized value in array element at /home/cpansand/var/ctps/5160RC0/install/perl-5.16.0-RC0/lib/site_perl/5.16.0/Font/TTF/OS_2.pm line 301.
Use of uninitialized value in array element at /home/cpansand/var/ctps/5160RC0/install/perl-5.16.0-RC0/lib/site_perl/5.16.0/Font/TTF/OS_2.pm line 301.
Use of uninitialized value in array element at /home/cpansand/var/ctps/5160RC0/install/perl-5.16.0-RC0/lib/site_perl/5.16.0/Font/TTF/OS_2.pm line 303.
Use of uninitialized value $xMin in numeric lt (<) at /home/cpansand/var/ctps/5160RC0/install/perl-5.16.0-RC0/lib/site_perl/5.16.0/Font/TTF/Head.pm line 170.
Use of uninitialized value $yMin in numeric lt (<) at /home/cpansand/var/ctps/5160RC0/install/perl-5.16.0-RC0/lib/site_perl/5.16.0/Font/TTF/Head.pm line 171.
Use of uninitialized value $xMax in numeric gt (>) at /home/cpansand/var/ctps/5160RC0/install/perl-5.16.0-RC0/lib/site_perl/5.16.0/Font/TTF/Head.pm line 172.
Use of uninitialized value $yMax in numeric gt (>) at /home/cpansand/var/ctps/5160RC0/install/perl-5.16.0-RC0/lib/site_perl/5.16.0/Font/TTF/Head.pm line 173.
Use of uninitialized value $maw in numeric gt (>) at /home/cpansand/var/ctps/5160RC0/install/perl-5.16.0-RC0/lib/site_perl/5.16.0/Font/TTF/Hhea.pm line 132.
Use of uninitialized value $mlsb in numeric lt (<) at /home/cpansand/var/ctps/5160RC0/install/perl-5.16.0-RC0/lib/site_perl/5.16.0/Font/TTF/Hhea.pm line 133.
Use of uninitialized value $mrsb in numeric lt (<) at /home/cpansand/var/ctps/5160RC0/install/perl-5.16.0-RC0/lib/site_perl/5.16.0/Font/TTF/Hhea.pm line 134.
Use of uninitialized value $mext in numeric gt (>) at /home/cpansand/var/ctps/5160RC0/install/perl-5.16.0-RC0/lib/site_perl/5.16.0/Font/TTF/Hhea.pm line 135.
Use of uninitialized value in numeric gt (>) at /home/cpansand/var/ctps/5160RC0/install/perl-5.16.0-RC0/lib/site_perl/5.16.0/Font/TTF/Maxp.pm line 151.
Use of uninitialized value in numeric gt (>) at /home/cpansand/var/ctps/5160RC0/install/perl-5.16.0-RC0/lib/site_perl/5.16.0/Font/TTF/Maxp.pm line 151.
Use of uninitialized value in numeric gt (>) at /home/cpansand/var/ctps/5160RC0/install/perl-5.16.0-RC0/lib/site_perl/5.16.0/Font/TTF/Maxp.pm line 151.
Use of uninitialized value $n[2] in numeric gt (>) at /home/cpansand/var/ctps/5160RC0/install/perl-5.16.0-RC0/lib/site_perl/5.16.0/Font/TTF/Maxp.pm line 151.
Use of uninitialized value in numeric gt (>) at /home/cpansand/var/ctps/5160RC0/install/perl-5.16.0-RC0/lib/site_perl/5.16.0/Font/TTF/Maxp.pm line 151.
Use of uninitialized value $n[3] in numeric gt (>) at /home/cpansand/var/ctps/5160RC0/install/perl-5.16.0-RC0/lib/site_perl/5.16.0/Font/TTF/Maxp.pm line 151.
Use of uninitialized value in numeric gt (>) at /home/cpansand/var/ctps/5160RC0/install/perl-5.16.0-RC0/lib/site_perl/5.16.0/Font/TTF/Maxp.pm line 151.
Use of uninitialized value in numeric gt (>) at /home/cpansand/var/ctps/5160RC0/install/perl-5.16.0-RC0/lib/site_perl/5.16.0/Font/TTF/Maxp.pm line 151.
Use of uninitialized value $n[5] in numeric gt (>) at /home/cpansand/var/ctps/5160RC0/install/perl-5.16.0-RC0/lib/site_perl/5.16.0/Font/TTF/Maxp.pm line 151.
Use of uninitialized value in numeric gt (>) at /home/cpansand/var/ctps/5160RC0/install/perl-5.16.0-RC0/lib/site_perl/5.16.0/Font/TTF/Maxp.pm line 151.
Use of uninitialized value in numeric gt (>) at /home/cpansand/var/ctps/5160RC0/install/perl-5.16.0-RC0/lib/site_perl/5.16.0/Font/TTF/Maxp.pm line 151.
Use of uninitialized value $n[2] in numeric gt (>) at /home/cpansand/var/ctps/5160RC0/install/perl-5.16.0-RC0/lib/site_perl/5.16.0/Font/TTF/Maxp.pm line 151.
Use of uninitialized value in numeric gt (>) at /home/cpansand/var/ctps/5160RC0/install/perl-5.16.0-RC0/lib/site_perl/5.16.0/Font/TTF/Maxp.pm line 151.
Use of uninitialized value $n[3] in numeric gt (>) at /home/cpansand/var/ctps/5160RC0/install/perl-5.16.0-RC0/lib/site_perl/5.16.0/Font/TTF/Maxp.pm line 151.
Use of uninitialized value in numeric gt (>) at /home/cpansand/var/ctps/5160RC0/install/perl-5.16.0-RC0/lib/site_perl/5.16.0/Font/TTF/Maxp.pm line 151.
Use of uninitialized value $n[5] in numeric gt (>) at /home/cpansand/var/ctps/5160RC0/install/perl-5.16.0-RC0/lib/site_perl/5.16.0/Font/TTF/Maxp.pm line 151.
Use of uninitialized value in numeric gt (>) at /home/cpansand/var/ctps/5160RC0/install/perl-5.16.0-RC0/lib/site_perl/5.16.0/Font/TTF/Maxp.pm line 151.
Use of uninitialized value $n[2] in numeric gt (>) at /home/cpansand/var/ctps/5160RC0/install/perl-5.16.0-RC0/lib/site_perl/5.16.0/Font/TTF/Maxp.pm line 151.
Use of uninitialized value in numeric gt (>) at /home/cpansand/var/ctps/5160RC0/install/perl-5.16.0-RC0/lib/site_perl/5.16.0/Font/TTF/Maxp.pm line 151.
Use of uninitialized value $n[3] in numeric gt (>) at /home/cpansand/var/ctps/5160RC0/install/perl-5.16.0-RC0/lib/site_perl/5.16.0/Font/TTF/Maxp.pm line 151.
Use of uninitialized value in numeric gt (>) at /home/cpansand/var/ctps/5160RC0/install/perl-5.16.0-RC0/lib/site_perl/5.16.0/Font/TTF/Maxp.pm line 151.
Use of uninitialized value $n[5] in numeric gt (>) at /home/cpansand/var/ctps/5160RC0/install/perl-5.16.0-RC0/lib/site_perl/5.16.0/Font/TTF/Maxp.pm line 151.
Filehandle $fh opened only for output at /home/cpansand/var/ctps/5160RC0/install/perl-5.16.0-RC0/lib/5.16.0/i386-freebsd/IO/Handle.pm line 460.
Use of uninitialized value in pack at /home/cpansand/var/ctps/5160RC0/install/perl-5.16.0-RC0/lib/site_perl/5.16.0/Font/TTF/Cmap.pm line 330.
Use of uninitialized value in pack at /home/cpansand/var/ctps/5160RC0/install/perl-5.16.0-RC0/lib/site_perl/5.16.0/Font/TTF/Cmap.pm line 330.
Use of uninitialized value in pack at /home/cpansand/var/ctps/5160RC0/install/perl-5.16.0-RC0/lib/site_perl/5.16.0/Font/TTF/Cmap.pm line 330.
Use of uninitialized value in pack at /home/cpansand/var/ctps/5160RC0/install/perl-5.16.0-RC0/lib/site_perl/5.16.0/Font/TTF/Cmap.pm line 330.
Use of uninitialized value in pack at /home/cpansand/var/ctps/5160RC0/install/perl-5.16.0-RC0/lib/site_perl/5.16.0/Font/TTF/Cmap.pm line 330.
Use of uninitialized value in pack at /home/cpansand/var/ctps/5160RC0/install/perl-5.16.0-RC0/lib/site_perl/5.16.0/Font/TTF/Cmap.pm line 330.
Use of uninitialized value in pack at /home/cpansand/var/ctps/5160RC0/install/perl-5.16.0-RC0/lib/site_perl/5.16.0/Font/TTF/Cmap.pm line 330.
Use of uninitialized value in pack at /home/cpansand/var/ctps/5160RC0/install/perl-5.16.0-RC0/lib/site_perl/5.16.0/Font/TTF/Cmap.pm line 330.
Use of uninitialized value in pack at /home/cpansand/var/ctps/5160RC0/install/perl-5.16.0-RC0/lib/site_perl/5.16.0/Font/TTF/Cmap.pm line 330.
Use of uninitialized value in pack at /home/cpansand/var/ctps/5160RC0/install/perl-5.16.0-RC0/lib/site_perl/5.16.0/Font/TTF/Cmap.pm line 330.
Use of uninitialized value in pack at /home/cpansand/var/ctps/5160RC0/install/perl-5.16.0-RC0/lib/site_perl/5.16.0/Font/TTF/Cmap.pm line 330.
Use of uninitialized value in pack at /home/cpansand/var/ctps/5160RC0/install/perl-5.16.0-RC0/lib/site_perl/5.16.0/Font/TTF/Cmap.pm line 330.
Use of uninitialized value in pack at /home/cpansand/var/ctps/5160RC0/install/perl-5.16.0-RC0/lib/site_perl/5.16.0/Font/TTF/Cmap.pm line 330.
Use of uninitialized value in pack at /home/cpansand/var/ctps/5160RC0/install/perl-5.16.0-RC0/lib/site_perl/5.16.0/Font/TTF/Cmap.pm line 330.
Use of uninitialized value in pack at /home/cpansand/var/ctps/5160RC0/install/perl-5.16.0-RC0/lib/site_perl/5.16.0/Font/TTF/Cmap.pm line 330.
Use of uninitialized value in pack at /home/cpansand/var/ctps/5160RC0/install/perl-5.16.0-RC0/lib/site_perl/5.16.0/Font/TTF/Cmap.pm line 330.
Use of uninitialized value in pack at /home/cpansand/var/ctps/5160RC0/install/perl-5.16.0-RC0/lib/site_perl/5.16.0/Font/TTF/Cmap.pm line 330.
Use of uninitialized value in pack at /home/cpansand/var/ctps/5160RC0/install/perl-5.16.0-RC0/lib/site_perl/5.16.0/Font/TTF/Cmap.pm line 330.
Use of uninitialized value in pack at /home/cpansand/var/ctps/5160RC0/install/perl-5.16.0-RC0/lib/site_perl/5.16.0/Font/TTF/Cmap.pm line 330.
Use of uninitialized value in pack at /home/cpansand/var/ctps/5160RC0/install/perl-5.16.0-RC0/lib/site_perl/5.16.0/Font/TTF/Cmap.pm line 330.
Use of uninitialized value in pack at /home/cpansand/var/ctps/5160RC0/install/perl-5.16.0-RC0/lib/site_perl/5.16.0/Font/TTF/Cmap.pm line 330.
Use of uninitialized value in pack at /home/cpansand/var/ctps/5160RC0/install/perl-5.16.0-RC0/lib/site_perl/5.16.0/Font/TTF/Cmap.pm line 330.
Use of uninitialized value in pack at /home/cpansand/var/ctps/5160RC0/install/perl-5.16.0-RC0/lib/site_perl/5.16.0/Font/TTF/Cmap.pm line 330.
Use of uninitialized value in pack at /home/cpansand/var/ctps/5160RC0/install/perl-5.16.0-RC0/lib/site_perl/5.16.0/Font/TTF/Cmap.pm line 330.
Use of uninitialized value in pack at /home/cpansand/var/ctps/5160RC0/install/perl-5.16.0-RC0/lib/site_perl/5.16.0/Font/TTF/Cmap.pm line 330.
Use of uninitialized value in pack at /home/cpansand/var/ctps/5160RC0/install/perl-5.16.0-RC0/lib/site_perl/5.16.0/Font/TTF/Cmap.pm line 330.
Use of uninitialized value in pack at /home/cpansand/var/ctps/5160RC0/install/perl-5.16.0-RC0/lib/site_perl/5.16.0/Font/TTF/Cmap.pm line 330.
Use of uninitialized value in pack at /home/cpansand/var/ctps/5160RC0/install/perl-5.16.0-RC0/lib/site_perl/5.16.0/Font/TTF/Cmap.pm line 330.
Use of uninitialized value in pack at /home/cpansand/var/ctps/5160RC0/install/perl-5.16.0-RC0/lib/site_perl/5.16.0/Font/TTF/Cmap.pm line 330.
Use of uninitialized value in pack at /home/cpansand/var/ctps/5160RC0/install/perl-5.16.0-RC0/lib/site_perl/5.16.0/Font/TTF/Cmap.pm line 330.
Use of uninitialized value in pack at /home/cpansand/var/ctps/5160RC0/install/perl-5.16.0-RC0/lib/site_perl/5.16.0/Font/TTF/Cmap.pm line 330.
Use of uninitialized value in pack at /home/cpansand/var/ctps/5160RC0/install/perl-5.16.0-RC0/lib/site_perl/5.16.0/Font/TTF/Cmap.pm line 330.
Use of uninitialized value in pack at /home/cpansand/var/ctps/5160RC0/install/perl-5.16.0-RC0/lib/site_perl/5.16.0/Font/TTF/Cmap.pm line 330.
Use of uninitialized value in pack at /home/cpansand/var/ctps/5160RC0/install/perl-5.16.0-RC0/lib/site_perl/5.16.0/Font/TTF/Cmap.pm line 330.
Use of uninitialized value in pack at /home/cpansand/var/ctps/5160RC0/install/perl-5.16.0-RC0/lib/site_perl/5.16.0/Font/TTF/Cmap.pm line 330.
Use of uninitialized value in pack at /home/cpansand/var/ctps/5160RC0/install/perl-5.16.0-RC0/lib/site_perl/5.16.0/Font/TTF/Cmap.pm line 330.
Use of uninitialized value in pack at /home/cpansand/var/ctps/5160RC0/install/perl-5.16.0-RC0/lib/site_perl/5.16.0/Font/TTF/Cmap.pm line 330.
Use of uninitialized value in pack at /home/cpansand/var/ctps/5160RC0/install/perl-5.16.0-RC0/lib/site_perl/5.16.0/Font/TTF/Cmap.pm line 330.
Use of uninitialized value in pack at /home/cpansand/var/ctps/5160RC0/install/perl-5.16.0-RC0/lib/site_perl/5.16.0/Font/TTF/Cmap.pm line 330.
Use of uninitialized value in pack at /home/cpansand/var/ctps/5160RC0/install/perl-5.16.0-RC0/lib/site_perl/5.16.0/Font/TTF/Cmap.pm line 330.
Use of uninitialized value in pack at /home/cpansand/var/ctps/5160RC0/install/perl-5.16.0-RC0/lib/site_perl/5.16.0/Font/TTF/Cmap.pm line 330.
Use of uninitialized value in pack at /home/cpansand/var/ctps/5160RC0/install/perl-5.16.0-RC0/lib/site_perl/5.16.0/Font/TTF/Cmap.pm line 330.
Use of uninitialized value in pack at /home/cpansand/var/ctps/5160RC0/install/perl-5.16.0-RC0/lib/site_perl/5.16.0/Font/TTF/Cmap.pm line 330.
Use of uninitialized value in pack at /home/cpansand/var/ctps/5160RC0/install/perl-5.16.0-RC0/lib/site_perl/5.16.0/Font/TTF/Cmap.pm line 330.
Use of uninitialized value in pack at /home/cpansand/var/ctps/5160RC0/install/perl-5.16.0-RC0/lib/site_perl/5.16.0/Font/TTF/Cmap.pm line 330.
Use of uninitialized value in pack at /home/cpansand/var/ctps/5160RC0/install/perl-5.16.0-RC0/lib/site_perl/5.16.0/Font/TTF/Cmap.pm line 330.
Use of uninitialized value in pack at /home/cpansand/var/ctps/5160RC0/install/perl-5.16.0-RC0/lib/site_perl/5.16.0/Font/TTF/Cmap.pm line 330.
Use of uninitialized value in pack at /home/cpansand/var/ctps/5160RC0/install/perl-5.16.0-RC0/lib/site_perl/5.16.0/Font/TTF/Cmap.pm line 330.
Use of uninitialized value in pack at /home/cpansand/var/ctps/5160RC0/install/perl-5.16.0-RC0/lib/site_perl/5.16.0/Font/TTF/Cmap.pm line 330.
Use of uninitialized value in pack at /home/cpansand/var/ctps/5160RC0/install/perl-5.16.0-RC0/lib/site_perl/5.16.0/Font/TTF/Cmap.pm line 330.
Use of uninitialized value in pack at /home/cpansand/var/ctps/5160RC0/install/perl-5.16.0-RC0/lib/site_perl/5.16.0/Font/TTF/Cmap.pm line 330.
Use of uninitialized value in pack at /home/cpansand/var/ctps/5160RC0/install/perl-5.16.0-RC0/lib/site_perl/5.16.0/Font/TTF/Cmap.pm line 330.
Use of uninitialized value in pack at /home/cpansand/var/ctps/5160RC0/install/perl-5.16.0-RC0/lib/site_perl/5.16.0/Font/TTF/Cmap.pm line 330.
Use of uninitialized value in pack at /home/cpansand/var/ctps/5160RC0/install/perl-5.16.0-RC0/lib/site_perl/5.16.0/Font/TTF/Cmap.pm line 330.
Use of uninitialized value in pack at /home/cpansand/var/ctps/5160RC0/install/perl-5.16.0-RC0/lib/site_perl/5.16.0/Font/TTF/Cmap.pm line 330.
Use of uninitialized value in pack at /home/cpansand/var/ctps/5160RC0/install/perl-5.16.0-RC0/lib/site_perl/5.16.0/Font/TTF/Cmap.pm line 330.
Use of uninitialized value in pack at /home/cpansand/var/ctps/5160RC0/install/perl-5.16.0-RC0/lib/site_perl/5.16.0/Font/TTF/Cmap.pm line 330.
Use of uninitialized value in pack at /home/cpansand/var/ctps/5160RC0/install/perl-5.16.0-RC0/lib/site_perl/5.16.0/Font/TTF/Cmap.pm line 330.
Use of uninitialized value in pack at /home/cpansand/var/ctps/5160RC0/install/perl-5.16.0-RC0/lib/site_perl/5.16.0/Font/TTF/Cmap.pm line 330.
Use of uninitialized value in pack at /home/cpansand/var/ctps/5160RC0/install/perl-5.16.0-RC0/lib/site_perl/5.16.0/Font/TTF/Cmap.pm line 330.
Use of uninitialized value in pack at /home/cpansand/var/ctps/5160RC0/install/perl-5.16.0-RC0/lib/site_perl/5.16.0/Font/TTF/Cmap.pm line 330.
Use of uninitialized value in pack at /home/cpansand/var/ctps/5160RC0/install/perl-5.16.0-RC0/lib/site_perl/5.16.0/Font/TTF/Cmap.pm line 330.
Use of uninitialized value in pack at /home/cpansand/var/ctps/5160RC0/install/perl-5.16.0-RC0/lib/site_perl/5.16.0/Font/TTF/Cmap.pm line 330.
Use of uninitialized value in pack at /home/cpansand/var/ctps/5160RC0/install/perl-5.16.0-RC0/lib/site_perl/5.16.0/Font/TTF/Cmap.pm line 330.
Use of uninitialized value in pack at /home/cpansand/var/ctps/5160RC0/install/perl-5.16.0-RC0/lib/site_perl/5.16.0/Font/TTF/Cmap.pm line 330.
Use of uninitialized value in pack at /home/cpansand/var/ctps/5160RC0/install/perl-5.16.0-RC0/lib/site_perl/5.16.0/Font/TTF/Cmap.pm line 330.
Use of uninitialized value in pack at /home/cpansand/var/ctps/5160RC0/install/perl-5.16.0-RC0/lib/site_perl/5.16.0/Font/TTF/Cmap.pm line 330.
Use of uninitialized value in pack at /home/cpansand/var/ctps/5160RC0/install/perl-5.16.0-RC0/lib/site_perl/5.16.0/Font/TTF/Cmap.pm line 330.
Use of uninitialized value in pack at /home/cpansand/var/ctps/5160RC0/install/perl-5.16.0-RC0/lib/site_perl/5.16.0/Font/TTF/Cmap.pm line 330.
Use of uninitialized value in pack at /home/cpansand/var/ctps/5160RC0/install/perl-5.16.0-RC0/lib/site_perl/5.16.0/Font/TTF/Cmap.pm line 330.
Use of uninitialized value in pack at /home/cpansand/var/ctps/5160RC0/install/perl-5.16.0-RC0/lib/site_perl/5.16.0/Font/TTF/Cmap.pm line 330.
Use of uninitialized value in pack at /home/cpansand/var/ctps/5160RC0/install/perl-5.16.0-RC0/lib/site_perl/5.16.0/Font/TTF/Cmap.pm line 330.
Use of uninitialized value in pack at /home/cpansand/var/ctps/5160RC0/install/perl-5.16.0-RC0/lib/site_perl/5.16.0/Font/TTF/Cmap.pm line 330.
Use of uninitialized value in pack at /home/cpansand/var/ctps/5160RC0/install/perl-5.16.0-RC0/lib/site_perl/5.16.0/Font/TTF/Cmap.pm line 330.
Use of uninitialized value in pack at /home/cpansand/var/ctps/5160RC0/install/perl-5.16.0-RC0/lib/site_perl/5.16.0/Font/TTF/Cmap.pm line 330.
Use of uninitialized value in pack at /home/cpansand/var/ctps/5160RC0/install/perl-5.16.0-RC0/lib/site_perl/5.16.0/Font/TTF/Cmap.pm line 330.
Use of uninitialized value in pack at /home/cpansand/var/ctps/5160RC0/install/perl-5.16.0-RC0/lib/site_perl/5.16.0/Font/TTF/Cmap.pm line 330.
Use of uninitialized value in pack at /home/cpansand/var/ctps/5160RC0/install/perl-5.16.0-RC0/lib/site_perl/5.16.0/Font/TTF/Cmap.pm line 330.
Use of uninitialized value in pack at /home/cpansand/var/ctps/5160RC0/install/perl-5.16.0-RC0/lib/site_perl/5.16.0/Font/TTF/Cmap.pm line 330.
Use of uninitialized value in pack at /home/cpansand/var/ctps/5160RC0/install/perl-5.16.0-RC0/lib/site_perl/5.16.0/Font/TTF/Cmap.pm line 330.
Use of uninitialized value in pack at /home/cpansand/var/ctps/5160RC0/install/perl-5.16.0-RC0/lib/site_perl/5.16.0/Font/TTF/Cmap.pm line 330.
Use of uninitialized value in pack at /home/cpansand/var/ctps/5160RC0/install/perl-5.16.0-RC0/lib/site_perl/5.16.0/Font/TTF/Cmap.pm line 330.
Use of uninitialized value in pack at /home/cpansand/var/ctps/5160RC0/install/perl-5.16.0-RC0/lib/site_perl/5.16.0/Font/TTF/Cmap.pm line 330.
Use of uninitialized value in pack at /home/cpansand/var/ctps/5160RC0/install/perl-5.16.0-RC0/lib/site_perl/5.16.0/Font/TTF/Cmap.pm line 330.
Use of uninitialized value in pack at /home/cpansand/var/ctps/5160RC0/install/perl-5.16.0-RC0/lib/site_perl/5.16.0/Font/TTF/Cmap.pm line 330.
Use of uninitialized value in pack at /home/cpansand/var/ctps/5160RC0/install/perl-5.16.0-RC0/lib/site_perl/5.16.0/Font/TTF/Cmap.pm line 330.
Use of uninitialized value in pack at /home/cpansand/var/ctps/5160RC0/install/perl-5.16.0-RC0/lib/site_perl/5.16.0/Font/TTF/Cmap.pm line 330.
Use of uninitialized value in pack at /home/cpansand/var/ctps/5160RC0/install/perl-5.16.0-RC0/lib/site_perl/5.16.0/Font/TTF/Cmap.pm line 330.
Use of uninitialized value in pack at /home/cpansand/var/ctps/5160RC0/install/perl-5.16.0-RC0/lib/site_perl/5.16.0/Font/TTF/Cmap.pm line 330.
Use of uninitialized value in pack at /home/cpansand/var/ctps/5160RC0/install/perl-5.16.0-RC0/lib/site_perl/5.16.0/Font/TTF/Cmap.pm line 330.
Use of uninitialized value in pack at /home/cpansand/var/ctps/5160RC0/install/perl-5.16.0-RC0/lib/site_perl/5.16.0/Font/TTF/Cmap.pm line 330.
Use of uninitialized value in pack at /home/cpansand/var/ctps/5160RC0/install/perl-5.16.0-RC0/lib/site_perl/5.16.0/Font/TTF/Cmap.pm line 330.
Use of uninitialized value in pack at /home/cpansand/var/ctps/5160RC0/install/perl-5.16.0-RC0/lib/site_perl/5.16.0/Font/TTF/Cmap.pm line 330.
Use of uninitialized value in pack at /home/cpansand/var/ctps/5160RC0/install/perl-5.16.0-RC0/lib/site_perl/5.16.0/Font/TTF/Cmap.pm line 330.
Use of uninitialized value in pack at /home/cpansand/var/ctps/5160RC0/install/perl-5.16.0-RC0/lib/site_perl/5.16.0/Font/TTF/Cmap.pm line 330.
Use of uninitialized value in pack at /home/cpansand/var/ctps/5160RC0/install/perl-5.16.0-RC0/lib/site_perl/5.16.0/Font/TTF/Cmap.pm line 330.
Use of uninitialized value in pack at /home/cpansand/var/ctps/5160RC0/install/perl-5.16.0-RC0/lib/site_perl/5.16.0/Font/TTF/Cmap.pm line 330.
Use of uninitialized value in pack at /home/cpansand/var/ctps/5160RC0/install/perl-5.16.0-RC0/lib/site_perl/5.16.0/Font/TTF/Cmap.pm line 330.
Use of uninitialized value in pack at /home/cpansand/var/ctps/5160RC0/install/perl-5.16.0-RC0/lib/site_perl/5.16.0/Font/TTF/Cmap.pm line 330.
Use of uninitialized value in pack at /home/cpansand/var/ctps/5160RC0/install/perl-5.16.0-RC0/lib/site_perl/5.16.0/Font/TTF/Cmap.pm line 330.
Use of uninitialized value in pack at /home/cpansand/var/ctps/5160RC0/install/perl-5.16.0-RC0/lib/site_perl/5.16.0/Font/TTF/Cmap.pm line 330.
Use of uninitialized value in pack at /home/cpansand/var/ctps/5160RC0/install/perl-5.16.0-RC0/lib/site_perl/5.16.0/Font/TTF/Cmap.pm line 330.
Use of uninitialized value in pack at /home/cpansand/var/ctps/5160RC0/install/perl-5.16.0-RC0/lib/site_perl/5.16.0/Font/TTF/Cmap.pm line 330.
Use of uninitialized value in pack at /home/cpansand/var/ctps/5160RC0/install/perl-5.16.0-RC0/lib/site_perl/5.16.0/Font/TTF/Cmap.pm line 330.
Use of uninitialized value in pack at /home/cpansand/var/ctps/5160RC0/install/perl-5.16.0-RC0/lib/site_perl/5.16.0/Font/TTF/Cmap.pm line 330.
Use of uninitialized value in pack at /home/cpansand/var/ctps/5160RC0/install/perl-5.16.0-RC0/lib/site_perl/5.16.0/Font/TTF/Cmap.pm line 330.
Use of uninitialized value in pack at /home/cpansand/var/ctps/5160RC0/install/perl-5.16.0-RC0/lib/site_perl/5.16.0/Font/TTF/Cmap.pm line 330.
Use of uninitialized value in pack at /home/cpansand/var/ctps/5160RC0/install/perl-5.16.0-RC0/lib/site_perl/5.16.0/Font/TTF/Cmap.pm line 330.
Use of uninitialized value in pack at /home/cpansand/var/ctps/5160RC0/install/perl-5.16.0-RC0/lib/site_perl/5.16.0/Font/TTF/Cmap.pm line 330.
Use of uninitialized value in pack at /home/cpansand/var/ctps/5160RC0/install/perl-5.16.0-RC0/lib/site_perl/5.16.0/Font/TTF/Cmap.pm line 330.
Use of uninitialized value in pack at /home/cpansand/var/ctps/5160RC0/install/perl-5.16.0-RC0/lib/site_perl/5.16.0/Font/TTF/Cmap.pm line 330.
Use of uninitialized value in pack at /home/cpansand/var/ctps/5160RC0/install/perl-5.16.0-RC0/lib/site_perl/5.16.0/Font/TTF/Cmap.pm line 330.
Use of uninitialized value in pack at /home/cpansand/var/ctps/5160RC0/install/perl-5.16.0-RC0/lib/site_perl/5.16.0/Font/TTF/Cmap.pm line 330.
Use of uninitialized value in pack at /home/cpansand/var/ctps/5160RC0/install/perl-5.16.0-RC0/lib/site_perl/5.16.0/Font/TTF/Cmap.pm line 330.
Use of uninitialized value in pack at /home/cpansand/var/ctps/5160RC0/install/perl-5.16.0-RC0/lib/site_perl/5.16.0/Font/TTF/Cmap.pm line 330.
Use of uninitialized value in pack at /home/cpansand/var/ctps/5160RC0/install/perl-5.16.0-RC0/lib/site_perl/5.16.0/Font/TTF/Cmap.pm line 330.
Use of uninitialized value in pack at /home/cpansand/var/ctps/5160RC0/install/perl-5.16.0-RC0/lib/site_perl/5.16.0/Font/TTF/Cmap.pm line 330.
Use of uninitialized value in pack at /home/cpansand/var/ctps/5160RC0/install/perl-5.16.0-RC0/lib/site_perl/5.16.0/Font/TTF/Cmap.pm line 330.
Use of uninitialized value in pack at /home/cpansand/var/ctps/5160RC0/install/perl-5.16.0-RC0/lib/site_perl/5.16.0/Font/TTF/Cmap.pm line 330.
Use of uninitialized value in pack at /home/cpansand/var/ctps/5160RC0/install/perl-5.16.0-RC0/lib/site_perl/5.16.0/Font/TTF/Cmap.pm line 330.
Use of uninitialized value in pack at /home/cpansand/var/ctps/5160RC0/install/perl-5.16.0-RC0/lib/site_perl/5.16.0/Font/TTF/Cmap.pm line 330.
Use of uninitialized value in pack at /home/cpansand/var/ctps/5160RC0/install/perl-5.16.0-RC0/lib/site_perl/5.16.0/Font/TTF/Cmap.pm line 330.
Use of uninitialized value in pack at /home/cpansand/var/ctps/5160RC0/install/perl-5.16.0-RC0/lib/site_perl/5.16.0/Font/TTF/Cmap.pm line 330.
Use of uninitialized value in pack at /home/cpansand/var/ctps/5160RC0/install/perl-5.16.0-RC0/lib/site_perl/5.16.0/Font/TTF/Cmap.pm line 330.
Use of uninitialized value in pack at /home/cpansand/var/ctps/5160RC0/install/perl-5.16.0-RC0/lib/site_perl/5.16.0/Font/TTF/Cmap.pm line 330.
Use of uninitialized value in pack at /home/cpansand/var/ctps/5160RC0/install/perl-5.16.0-RC0/lib/site_perl/5.16.0/Font/TTF/Cmap.pm line 330.
Use of uninitialized value in pack at /home/cpansand/var/ctps/5160RC0/install/perl-5.16.0-RC0/lib/site_perl/5.16.0/Font/TTF/Cmap.pm line 330.
Use of uninitialized value in pack at /home/cpansand/var/ctps/5160RC0/install/perl-5.16.0-RC0/lib/site_perl/5.16.0/Font/TTF/Cmap.pm line 330.
Use of uninitialized value in pack at /home/cpansand/var/ctps/5160RC0/install/perl-5.16.0-RC0/lib/site_perl/5.16.0/Font/TTF/Cmap.pm line 330.
Use of uninitialized value in pack at /home/cpansand/var/ctps/5160RC0/install/perl-5.16.0-RC0/lib/site_perl/5.16.0/Font/TTF/Cmap.pm line 330.
Use of uninitialized value in pack at /home/cpansand/var/ctps/5160RC0/install/perl-5.16.0-RC0/lib/site_perl/5.16.0/Font/TTF/Cmap.pm line 330.
Use of uninitialized value in pack at /home/cpansand/var/ctps/5160RC0/install/perl-5.16.0-RC0/lib/site_perl/5.16.0/Font/TTF/Cmap.pm line 330.
Use of uninitialized value in pack at /home/cpansand/var/ctps/5160RC0/install/perl-5.16.0-RC0/lib/site_perl/5.16.0/Font/TTF/Cmap.pm line 330.
Use of uninitialized value in pack at /home/cpansand/var/ctps/5160RC0/install/perl-5.16.0-RC0/lib/site_perl/5.16.0/Font/TTF/Cmap.pm line 330.
Use of uninitialized value in pack at /home/cpansand/var/ctps/5160RC0/install/perl-5.16.0-RC0/lib/site_perl/5.16.0/Font/TTF/Cmap.pm line 330.
Use of uninitialized value in pack at /home/cpansand/var/ctps/5160RC0/install/perl-5.16.0-RC0/lib/site_perl/5.16.0/Font/TTF/Cmap.pm line 330.
Use of uninitialized value in pack at /home/cpansand/var/ctps/5160RC0/install/perl-5.16.0-RC0/lib/site_perl/5.16.0/Font/TTF/Cmap.pm line 330.
Use of uninitialized value in pack at /home/cpansand/var/ctps/5160RC0/install/perl-5.16.0-RC0/lib/site_perl/5.16.0/Font/TTF/Cmap.pm line 330.
Use of uninitialized value in pack at /home/cpansand/var/ctps/5160RC0/install/perl-5.16.0-RC0/lib/site_perl/5.16.0/Font/TTF/Cmap.pm line 330.
Use of uninitialized value in pack at /home/cpansand/var/ctps/5160RC0/install/perl-5.16.0-RC0/lib/site_perl/5.16.0/Font/TTF/Cmap.pm line 330.
Use of uninitialized value in pack at /home/cpansand/var/ctps/5160RC0/install/perl-5.16.0-RC0/lib/site_perl/5.16.0/Font/TTF/Cmap.pm line 330.
Use of uninitialized value in pack at /home/cpansand/var/ctps/5160RC0/install/perl-5.16.0-RC0/lib/site_perl/5.16.0/Font/TTF/Cmap.pm line 330.
Use of uninitialized value in pack at /home/cpansand/var/ctps/5160RC0/install/perl-5.16.0-RC0/lib/site_perl/5.16.0/Font/TTF/Cmap.pm line 330.
Use of uninitialized value in pack at /home/cpansand/var/ctps/5160RC0/install/perl-5.16.0-RC0/lib/site_perl/5.16.0/Font/TTF/Cmap.pm line 330.
Use of uninitialized value in pack at /home/cpansand/var/ctps/5160RC0/install/perl-5.16.0-RC0/lib/site_perl/5.16.0/Font/TTF/Cmap.pm line 330.
Use of uninitialized value in pack at /home/cpansand/var/ctps/5160RC0/install/perl-5.16.0-RC0/lib/site_perl/5.16.0/Font/TTF/Cmap.pm line 330.
Use of uninitialized value in pack at /home/cpansand/var/ctps/5160RC0/install/perl-5.16.0-RC0/lib/site_perl/5.16.0/Font/TTF/Cmap.pm line 330.
Use of uninitialized value in pack at /home/cpansand/var/ctps/5160RC0/install/perl-5.16.0-RC0/lib/site_perl/5.16.0/Font/TTF/Cmap.pm line 330.
Use of uninitialized value in pack at /home/cpansand/var/ctps/5160RC0/install/perl-5.16.0-RC0/lib/site_perl/5.16.0/Font/TTF/Cmap.pm line 330.
Use of uninitialized value in pack at /home/cpansand/var/ctps/5160RC0/install/perl-5.16.0-RC0/lib/site_perl/5.16.0/Font/TTF/Cmap.pm line 330.
Use of uninitialized value in pack at /home/cpansand/var/ctps/5160RC0/install/perl-5.16.0-RC0/lib/site_perl/5.16.0/Font/TTF/Cmap.pm line 330.
Use of uninitialized value in pack at /home/cpansand/var/ctps/5160RC0/install/perl-5.16.0-RC0/lib/site_perl/5.16.0/Font/TTF/Cmap.pm line 330.
Use of uninitialized value in pack at /home/cpansand/var/ctps/5160RC0/install/perl-5.16.0-RC0/lib/site_perl/5.16.0/Font/TTF/Cmap.pm line 330.
Use of uninitialized value in pack at /home/cpansand/var/ctps/5160RC0/install/perl-5.16.0-RC0/lib/site_perl/5.16.0/Font/TTF/Cmap.pm line 330.
Use of uninitialized value in pack at /home/cpansand/var/ctps/5160RC0/install/perl-5.16.0-RC0/lib/site_perl/5.16.0/Font/TTF/Cmap.pm line 330.
Use of uninitialized value in pack at /home/cpansand/var/ctps/5160RC0/install/perl-5.16.0-RC0/lib/site_perl/5.16.0/Font/TTF/Cmap.pm line 330.
Use of uninitialized value in pack at /home/cpansand/var/ctps/5160RC0/install/perl-5.16.0-RC0/lib/site_perl/5.16.0/Font/TTF/Cmap.pm line 330.
Use of uninitialized value in pack at /home/cpansand/var/ctps/5160RC0/install/perl-5.16.0-RC0/lib/site_perl/5.16.0/Font/TTF/Cmap.pm line 330.
Use of uninitialized value in pack at /home/cpansand/var/ctps/5160RC0/install/perl-5.16.0-RC0/lib/site_perl/5.16.0/Font/TTF/Cmap.pm line 330.
Use of uninitialized value in pack at /home/cpansand/var/ctps/5160RC0/install/perl-5.16.0-RC0/lib/site_perl/5.16.0/Font/TTF/Cmap.pm line 330.
Use of uninitialized value in pack at /home/cpansand/var/ctps/5160RC0/install/perl-5.16.0-RC0/lib/site_perl/5.16.0/Font/TTF/Cmap.pm line 330.
Use of uninitialized value in pack at /home/cpansand/var/ctps/5160RC0/install/perl-5.16.0-RC0/lib/site_perl/5.16.0/Font/TTF/Cmap.pm line 330.
Use of uninitialized value in pack at /home/cpansand/var/ctps/5160RC0/install/perl-5.16.0-RC0/lib/site_perl/5.16.0/Font/TTF/Cmap.pm line 330.
Use of uninitialized value in pack at /home/cpansand/var/ctps/5160RC0/install/perl-5.16.0-RC0/lib/site_perl/5.16.0/Font/TTF/Cmap.pm line 330.
Use of uninitialized value in pack at /home/cpansand/var/ctps/5160RC0/install/perl-5.16.0-RC0/lib/site_perl/5.16.0/Font/TTF/Cmap.pm line 330.
Use of uninitialized value in pack at /home/cpansand/var/ctps/5160RC0/install/perl-5.16.0-RC0/lib/site_perl/5.16.0/Font/TTF/Cmap.pm line 330.
Use of uninitialized value in pack at /home/cpansand/var/ctps/5160RC0/install/perl-5.16.0-RC0/lib/site_perl/5.16.0/Font/TTF/Cmap.pm line 330.
Use of uninitialized value in pack at /home/cpansand/var/ctps/5160RC0/install/perl-5.16.0-RC0/lib/site_perl/5.16.0/Font/TTF/Cmap.pm line 330.
Use of uninitialized value in pack at /home/cpansand/var/ctps/5160RC0/install/perl-5.16.0-RC0/lib/site_perl/5.16.0/Font/TTF/Cmap.pm line 330.
Use of uninitialized value in pack at /home/cpansand/var/ctps/5160RC0/install/perl-5.16.0-RC0/lib/site_perl/5.16.0/Font/TTF/Cmap.pm line 330.
Use of uninitialized value in pack at /home/cpansand/var/ctps/5160RC0/install/perl-5.16.0-RC0/lib/site_perl/5.16.0/Font/TTF/Cmap.pm line 330.
Use of uninitialized value in pack at /home/cpansand/var/ctps/5160RC0/install/perl-5.16.0-RC0/lib/site_perl/5.16.0/Font/TTF/Cmap.pm line 330.
Use of uninitialized value in pack at /home/cpansand/var/ctps/5160RC0/install/perl-5.16.0-RC0/lib/site_perl/5.16.0/Font/TTF/Cmap.pm line 330.
Use of uninitialized value in pack at /home/cpansand/var/ctps/5160RC0/install/perl-5.16.0-RC0/lib/site_perl/5.16.0/Font/TTF/Cmap.pm line 330.
Use of uninitialized value in pack at /home/cpansand/var/ctps/5160RC0/install/perl-5.16.0-RC0/lib/site_perl/5.16.0/Font/TTF/Cmap.pm line 330.
Use of uninitialized value in pack at /home/cpansand/var/ctps/5160RC0/install/perl-5.16.0-RC0/lib/site_perl/5.16.0/Font/TTF/Cmap.pm line 330.
Use of uninitialized value in pack at /home/cpansand/var/ctps/5160RC0/install/perl-5.16.0-RC0/lib/site_perl/5.16.0/Font/TTF/Cmap.pm line 330.
Use of uninitialized value in pack at /home/cpansand/var/ctps/5160RC0/install/perl-5.16.0-RC0/lib/site_perl/5.16.0/Font/TTF/Cmap.pm line 330.
Use of uninitialized value in pack at /home/cpansand/var/ctps/5160RC0/install/perl-5.16.0-RC0/lib/site_perl/5.16.0/Font/TTF/Cmap.pm line 330.
Use of uninitialized value in pack at /home/cpansand/var/ctps/5160RC0/install/perl-5.16.0-RC0/lib/site_perl/5.16.0/Font/TTF/Cmap.pm line 330.
Use of uninitialized value in pack at /home/cpansand/var/ctps/5160RC0/install/perl-5.16.0-RC0/lib/site_perl/5.16.0/Font/TTF/Cmap.pm line 330.
Use of uninitialized value in pack at /home/cpansand/var/ctps/5160RC0/install/perl-5.16.0-RC0/lib/site_perl/5.16.0/Font/TTF/Cmap.pm line 330.
Use of uninitialized value in pack at /home/cpansand/var/ctps/5160RC0/install/perl-5.16.0-RC0/lib/site_perl/5.16.0/Font/TTF/Cmap.pm line 330.
Use of uninitialized value in pack at /home/cpansand/var/ctps/5160RC0/install/perl-5.16.0-RC0/lib/site_perl/5.16.0/Font/TTF/Cmap.pm line 330.
Use of uninitialized value in pack at /home/cpansand/var/ctps/5160RC0/install/perl-5.16.0-RC0/lib/site_perl/5.16.0/Font/TTF/Cmap.pm line 330.
Use of uninitialized value in pack at /home/cpansand/var/ctps/5160RC0/install/perl-5.16.0-RC0/lib/site_perl/5.16.0/Font/TTF/Cmap.pm line 330.
Use of uninitialized value in pack at /home/cpansand/var/ctps/5160RC0/install/perl-5.16.0-RC0/lib/site_perl/5.16.0/Font/TTF/Cmap.pm line 330.
Use of uninitialized value in pack at /home/cpansand/var/ctps/5160RC0/install/perl-5.16.0-RC0/lib/site_perl/5.16.0/Font/TTF/Cmap.pm line 330.
Use of uninitialized value in pack at /home/cpansand/var/ctps/5160RC0/install/perl-5.16.0-RC0/lib/site_perl/5.16.0/Font/TTF/Cmap.pm line 330.
Use of uninitialized value in pack at /home/cpansand/var/ctps/5160RC0/install/perl-5.16.0-RC0/lib/site_perl/5.16.0/Font/TTF/Cmap.pm line 330.
Use of uninitialized value in pack at /home/cpansand/var/ctps/5160RC0/install/perl-5.16.0-RC0/lib/site_perl/5.16.0/Font/TTF/Cmap.pm line 330.
Use of uninitialized value in pack at /home/cpansand/var/ctps/5160RC0/install/perl-5.16.0-RC0/lib/site_perl/5.16.0/Font/TTF/Cmap.pm line 330.
Use of uninitialized value in pack at /home/cpansand/var/ctps/5160RC0/install/perl-5.16.0-RC0/lib/site_perl/5.16.0/Font/TTF/Cmap.pm line 330.
Use of uninitialized value in pack at /home/cpansand/var/ctps/5160RC0/install/perl-5.16.0-RC0/lib/site_perl/5.16.0/Font/TTF/Cmap.pm line 330.
Use of uninitialized value in pack at /home/cpansand/var/ctps/5160RC0/install/perl-5.16.0-RC0/lib/site_perl/5.16.0/Font/TTF/Cmap.pm line 330.
Use of uninitialized value in pack at /home/cpansand/var/ctps/5160RC0/install/perl-5.16.0-RC0/lib/site_perl/5.16.0/Font/TTF/Cmap.pm line 330.
Use of uninitialized value in pack at /home/cpansand/var/ctps/5160RC0/install/perl-5.16.0-RC0/lib/site_perl/5.16.0/Font/TTF/Cmap.pm line 330.
Use of uninitialized value in pack at /home/cpansand/var/ctps/5160RC0/install/perl-5.16.0-RC0/lib/site_perl/5.16.0/Font/TTF/Cmap.pm line 330.
Use of uninitialized value in pack at /home/cpansand/var/ctps/5160RC0/install/perl-5.16.0-RC0/lib/site_perl/5.16.0/Font/TTF/Cmap.pm line 330.
Use of uninitialized value in pack at /home/cpansand/var/ctps/5160RC0/install/perl-5.16.0-RC0/lib/site_perl/5.16.0/Font/TTF/Cmap.pm line 330.
Use of uninitialized value in pack at /home/cpansand/var/ctps/5160RC0/install/perl-5.16.0-RC0/lib/site_perl/5.16.0/Font/TTF/Cmap.pm line 330.
Use of uninitialized value in pack at /home/cpansand/var/ctps/5160RC0/install/perl-5.16.0-RC0/lib/site_perl/5.16.0/Font/TTF/Cmap.pm line 330.
Use of uninitialized value in pack at /home/cpansand/var/ctps/5160RC0/install/perl-5.16.0-RC0/lib/site_perl/5.16.0/Font/TTF/Cmap.pm line 330.
Use of uninitialized value in pack at /home/cpansand/var/ctps/5160RC0/install/perl-5.16.0-RC0/lib/site_perl/5.16.0/Font/TTF/Cmap.pm line 330.
Use of uninitialized value in pack at /home/cpansand/var/ctps/5160RC0/install/perl-5.16.0-RC0/lib/site_perl/5.16.0/Font/TTF/Cmap.pm line 330.
Use of uninitialized value in pack at /home/cpansand/var/ctps/5160RC0/install/perl-5.16.0-RC0/lib/site_perl/5.16.0/Font/TTF/Cmap.pm line 330.
Use of uninitialized value in pack at /home/cpansand/var/ctps/5160RC0/install/perl-5.16.0-RC0/lib/site_perl/5.16.0/Font/TTF/Cmap.pm line 330.
Use of uninitialized value in pack at /home/cpansand/var/ctps/5160RC0/install/perl-5.16.0-RC0/lib/site_perl/5.16.0/Font/TTF/Cmap.pm line 330.
Use of uninitialized value in pack at /home/cpansand/var/ctps/5160RC0/install/perl-5.16.0-RC0/lib/site_perl/5.16.0/Font/TTF/Cmap.pm line 330.
Use of uninitialized value in pack at /home/cpansand/var/ctps/5160RC0/install/perl-5.16.0-RC0/lib/site_perl/5.16.0/Font/TTF/Cmap.pm line 330.
Use of uninitialized value in pack at /home/cpansand/var/ctps/5160RC0/install/perl-5.16.0-RC0/lib/site_perl/5.16.0/Font/TTF/Cmap.pm line 330.
Use of uninitialized value in pack at /home/cpansand/var/ctps/5160RC0/install/perl-5.16.0-RC0/lib/site_perl/5.16.0/Font/TTF/Cmap.pm line 330.
Use of uninitialized value in pack at /home/cpansand/var/ctps/5160RC0/install/perl-5.16.0-RC0/lib/site_perl/5.16.0/Font/TTF/Cmap.pm line 330.
Use of uninitialized value in pack at /home/cpansand/var/ctps/5160RC0/install/perl-5.16.0-RC0/lib/site_perl/5.16.0/Font/TTF/Cmap.pm line 330.
Use of uninitialized value in pack at /home/cpansand/var/ctps/5160RC0/install/perl-5.16.0-RC0/lib/site_perl/5.16.0/Font/TTF/Cmap.pm line 330.
Use of uninitialized value in pack at /home/cpansand/var/ctps/5160RC0/install/perl-5.16.0-RC0/lib/site_perl/5.16.0/Font/TTF/Cmap.pm line 330.
Use of uninitialized value in pack at /home/cpansand/var/ctps/5160RC0/install/perl-5.16.0-RC0/lib/site_perl/5.16.0/Font/TTF/Cmap.pm line 330.
Use of uninitialized value in pack at /home/cpansand/var/ctps/5160RC0/install/perl-5.16.0-RC0/lib/site_perl/5.16.0/Font/TTF/Cmap.pm line 330.
Use of uninitialized value in pack at /home/cpansand/var/ctps/5160RC0/install/perl-5.16.0-RC0/lib/site_perl/5.16.0/Font/TTF/Cmap.pm line 330.
Use of uninitialized value in pack at /home/cpansand/var/ctps/5160RC0/install/perl-5.16.0-RC0/lib/site_perl/5.16.0/Font/TTF/Cmap.pm line 330.
Use of uninitialized value in pack at /home/cpansand/var/ctps/5160RC0/install/perl-5.16.0-RC0/lib/site_perl/5.16.0/Font/TTF/Cmap.pm line 330.
Use of uninitialized value in pack at /home/cpansand/var/ctps/5160RC0/install/perl-5.16.0-RC0/lib/site_perl/5.16.0/Font/TTF/Cmap.pm line 330.
Use of uninitialized value in pack at /home/cpansand/var/ctps/5160RC0/install/perl-5.16.0-RC0/lib/site_perl/5.16.0/Font/TTF/Cmap.pm line 330.
Use of uninitialized value in pack at /home/cpansand/var/ctps/5160RC0/install/perl-5.16.0-RC0/lib/site_perl/5.16.0/Font/TTF/Cmap.pm line 330.
Use of uninitialized value in pack at /home/cpansand/var/ctps/5160RC0/install/perl-5.16.0-RC0/lib/site_perl/5.16.0/Font/TTF/Cmap.pm line 330.
Use of uninitialized value in pack at /home/cpansand/var/ctps/5160RC0/install/perl-5.16.0-RC0/lib/site_perl/5.16.0/Font/TTF/Cmap.pm line 330.
Use of uninitialized value in pack at /home/cpansand/var/ctps/5160RC0/install/perl-5.16.0-RC0/lib/site_perl/5.16.0/Font/TTF/Cmap.pm line 330.
Use of uninitialized value in pack at /home/cpansand/var/ctps/5160RC0/install/perl-5.16.0-RC0/lib/site_perl/5.16.0/Font/TTF/Cmap.pm line 330.
Use of uninitialized value in pack at /home/cpansand/var/ctps/5160RC0/install/perl-5.16.0-RC0/lib/site_perl/5.16.0/Font/TTF/Cmap.pm line 330.
Use of uninitialized value in pack at /home/cpansand/var/ctps/5160RC0/install/perl-5.16.0-RC0/lib/site_perl/5.16.0/Font/TTF/Cmap.pm line 330.
Use of uninitialized value in pack at /home/cpansand/var/ctps/5160RC0/install/perl-5.16.0-RC0/lib/site_perl/5.16.0/Font/TTF/Cmap.pm line 330.
Use of uninitialized value in pack at /home/cpansand/var/ctps/5160RC0/install/perl-5.16.0-RC0/lib/site_perl/5.16.0/Font/TTF/Cmap.pm line 330.
Use of uninitialized value in pack at /home/cpansand/var/ctps/5160RC0/install/perl-5.16.0-RC0/lib/site_perl/5.16.0/Font/TTF/Cmap.pm line 330.
Use of uninitialized value in pack at /home/cpansand/var/ctps/5160RC0/install/perl-5.16.0-RC0/lib/site_perl/5.16.0/Font/TTF/Cmap.pm line 330.
Use of uninitialized value in pack at /home/cpansand/var/ctps/5160RC0/install/perl-5.16.0-RC0/lib/site_perl/5.16.0/Font/TTF/Cmap.pm line 330.
Use of uninitialized value in pack at /home/cpansand/var/ctps/5160RC0/install/perl-5.16.0-RC0/lib/site_perl/5.16.0/Font/TTF/Cmap.pm line 330.
Use of uninitialized value in pack at /home/cpansand/var/ctps/5160RC0/install/perl-5.16.0-RC0/lib/site_perl/5.16.0/Font/TTF/Cmap.pm line 330.
Use of uninitialized value in pack at /home/cpansand/var/ctps/5160RC0/install/perl-5.16.0-RC0/lib/site_perl/5.16.0/Font/TTF/Cmap.pm line 330.
Use of uninitialized value in pack at /home/cpansand/var/ctps/5160RC0/install/perl-5.16.0-RC0/lib/site_perl/5.16.0/Font/TTF/Cmap.pm line 330.
Use of uninitialized value in pack at /home/cpansand/var/ctps/5160RC0/install/perl-5.16.0-RC0/lib/site_perl/5.16.0/Font/TTF/Cmap.pm line 330.
Use of uninitialized value in pack at /home/cpansand/var/ctps/5160RC0/install/perl-5.16.0-RC0/lib/site_perl/5.16.0/Font/TTF/Cmap.pm line 330.
Use of uninitialized value in pack at /home/cpansand/var/ctps/5160RC0/install/perl-5.16.0-RC0/lib/site_perl/5.16.0/Font/TTF/Cmap.pm line 330.
Use of uninitialized value in pack at /home/cpansand/var/ctps/5160RC0/install/perl-5.16.0-RC0/lib/site_perl/5.16.0/Font/TTF/Cmap.pm line 330.
Use of uninitialized value in pack at /home/cpansand/var/ctps/5160RC0/install/perl-5.16.0-RC0/lib/site_perl/5.16.0/Font/TTF/Cmap.pm line 330.
Use of uninitialized value in pack at /home/cpansand/var/ctps/5160RC0/install/perl-5.16.0-RC0/lib/site_perl/5.16.0/Font/TTF/Cmap.pm line 330.
Use of uninitialized value in pack at /home/cpansand/var/ctps/5160RC0/install/perl-5.16.0-RC0/lib/site_perl/5.16.0/Font/TTF/Cmap.pm line 330.
Use of uninitialized value in pack at /home/cpansand/var/ctps/5160RC0/install/perl-5.16.0-RC0/lib/site_perl/5.16.0/Font/TTF/Cmap.pm line 330.
Use of uninitialized value in pack at /home/cpansand/var/ctps/5160RC0/install/perl-5.16.0-RC0/lib/site_perl/5.16.0/Font/TTF/Cmap.pm line 330.
Use of uninitialized value in pack at /home/cpansand/var/ctps/5160RC0/install/perl-5.16.0-RC0/lib/site_perl/5.16.0/Font/TTF/Cmap.pm line 330.
Use of uninitialized value in pack at /home/cpansand/var/ctps/5160RC0/install/perl-5.16.0-RC0/lib/site_perl/5.16.0/Font/TTF/Cmap.pm line 330.
Filehandle $fh opened only for output at /home/cpansand/var/ctps/5160RC0/install/perl-5.16.0-RC0/lib/5.16.0/i386-freebsd/IO/Handle.pm line 460.
Filehandle $fh opened only for output at /home/cpansand/var/ctps/5160RC0/install/perl-5.16.0-RC0/lib/5.16.0/i386-freebsd/IO/Handle.pm line 460.
Filehandle $fh opened only for output at /home/cpansand/var/ctps/5160RC0/install/perl-5.16.0-RC0/lib/5.16.0/i386-freebsd/IO/Handle.pm line 460.
Filehandle $fh opened only for output at /home/cpansand/var/ctps/5160RC0/install/perl-5.16.0-RC0/lib/5.16.0/i386-freebsd/IO/Handle.pm line 460.
Argument " CSUM" isn't numeric in sort at /home/cpansand/var/ctps/5160RC0/install/perl-5.16.0-RC0/lib/site_perl/5.16.0/Font/TTF/Hdmx.pm line 83.
Argument " isDirty" isn't numeric in sort at /home/cpansand/var/ctps/5160RC0/install/perl-5.16.0-RC0/lib/site_perl/5.16.0/Font/TTF/Hdmx.pm line 83.
Argument " LENGTH" isn't numeric in sort at /home/cpansand/var/ctps/5160RC0/install/perl-5.16.0-RC0/lib/site_perl/5.16.0/Font/TTF/Hdmx.pm line 83.
Argument " NAME" isn't numeric in sort at /home/cpansand/var/ctps/5160RC0/install/perl-5.16.0-RC0/lib/site_perl/5.16.0/Font/TTF/Hdmx.pm line 83.
Argument " OFFSET" isn't numeric in sort at /home/cpansand/var/ctps/5160RC0/install/perl-5.16.0-RC0/lib/site_perl/5.16.0/Font/TTF/Hdmx.pm line 83.
Argument " INFILE" isn't numeric in sort at /home/cpansand/var/ctps/5160RC0/install/perl-5.16.0-RC0/lib/site_perl/5.16.0/Font/TTF/Hdmx.pm line 83.
Argument " subsetdone" isn't numeric in sort at /home/cpansand/var/ctps/5160RC0/install/perl-5.16.0-RC0/lib/site_perl/5.16.0/Font/TTF/Hdmx.pm line 83.
Argument " PARENT" isn't numeric in sort at /home/cpansand/var/ctps/5160RC0/install/perl-5.16.0-RC0/lib/site_perl/5.16.0/Font/TTF/Hdmx.pm line 83.
Argument "Version" isn't numeric in sort at /home/cpansand/var/ctps/5160RC0/install/perl-5.16.0-RC0/lib/site_perl/5.16.0/Font/TTF/Hdmx.pm line 83.
Argument " ZLENGTH" isn't numeric in sort at /home/cpansand/var/ctps/5160RC0/install/perl-5.16.0-RC0/lib/site_perl/5.16.0/Font/TTF/Hdmx.pm line 83.
Argument " read" isn't numeric in sort at /home/cpansand/var/ctps/5160RC0/install/perl-5.16.0-RC0/lib/site_perl/5.16.0/Font/TTF/Hdmx.pm line 83.
Argument "Num" isn't numeric in sort at /home/cpansand/var/ctps/5160RC0/install/perl-5.16.0-RC0/lib/site_perl/5.16.0/Font/TTF/Hdmx.pm line 83.
Filehandle $fh opened only for output at /home/cpansand/var/ctps/5160RC0/install/perl-5.16.0-RC0/lib/5.16.0/i386-freebsd/IO/Handle.pm line 460.
Filehandle $fh opened only for output at /home/cpansand/var/ctps/5160RC0/install/perl-5.16.0-RC0/lib/5.16.0/i386-freebsd/IO/Handle.pm line 460.
Filehandle $fh opened only for output at /home/cpansand/var/ctps/5160RC0/install/perl-5.16.0-RC0/lib/5.16.0/i386-freebsd/IO/Handle.pm line 460.
Filehandle $fh opened only for output at /home/cpansand/var/ctps/5160RC0/install/perl-5.16.0-RC0/lib/5.16.0/i386-freebsd/IO/Handle.pm line 460.
Filehandle $fh opened only for output at /home/cpansand/var/ctps/5160RC0/install/perl-5.16.0-RC0/lib/5.16.0/i386-freebsd/IO/Handle.pm line 460.
Filehandle $fh opened only for output at /home/cpansand/var/ctps/5160RC0/install/perl-5.16.0-RC0/lib/5.16.0/i386-freebsd/IO/Handle.pm line 460.
Filehandle $fh opened only for output at /home/cpansand/var/ctps/5160RC0/install/perl-5.16.0-RC0/lib/5.16.0/i386-freebsd/IO/Handle.pm line 460.
Filehandle $fh opened only for output at /home/cpansand/var/ctps/5160RC0/install/perl-5.16.0-RC0/lib/5.16.0/i386-freebsd/IO/Handle.pm line 460.
Filehandle $fh opened only for output at /home/cpansand/var/ctps/5160RC0/install/perl-5.16.0-RC0/lib/5.16.0/i386-freebsd/IO/Handle.pm line 460.
Filehandle $fh opened only for output at /home/cpansand/var/ctps/5160RC0/install/perl-5.16.0-RC0/lib/5.16.0/i386-freebsd/IO/Handle.pm line 460.
Use of uninitialized value $_[0] in hash element at /home/cpansand/var/ctps/5160RC0/install/perl-5.16.0-RC0/lib/site_perl/5.16.0/Dancer/Plugin/Cache/CHI.pm line 48.
t/cache.t ..................... ok
All tests successful.
Files=4, Tests=10, 3 wallclock secs ( 0.05 usr 0.02 sys + 2.20 cusr 0.41 csys = 2.67 CPU)
Result: PASS
------------------------------
PREREQUISITES
------------------------------
Prerequisite modules loaded:
requires:
Module Need Have
-------------------------- ------ --------
Dancer 0 1.3115
Dancer::Plugin 0 0
Font::TTF::Font 0 0.39
Font::TTF::Scripts::Name 0 0
List::AllUtils 0 0.03
Moo 0 1.002000
MooX::Singleton 0 1.20
warnings 0 1.13
build_requires:
Module Need Have
-------------------------- ------ --------
Dancer::Plugin::Cache::CHI 0 1.3.0
Dancer::Test 0 0
File::Find 0 1.20
File::Temp 0 0.22
Module::Build 0.3601 0.4005
strict 0 1.07
Test::More 0.88 0.98
configure_requires:
Module Need Have
-------------------------- ------ --------
Module::Build 0.3601 0.4005
------------------------------
ENVIRONMENT AND OTHER CONTEXT
------------------------------
Environment variables:
DBIC_NO_WARN_BAD_PERL = 1
PATH = /usr/local/bin:/usr/X11R6/bin:/usr/X11/bin:/usr/perl5.8.0/bin:/usr/bin:/bin:/usr/local/sbin:/usr/sbin:/sbin:/usr/local/pilot/bin:/home/cpansand/bin/freebsd8.0:/home/cpansand/bin/sh:/home/cpansand/bin:/usr/X386/bin:/usr/games:/home/cpansand/devel:/usr/home/e/eserte/work/srezic-misc/scripts
PERL5LIB = /usr/local/src/CPAN/build/MooX-Singleton-1.20-8xhCXz/blib/arch:/usr/local/src/CPAN/build/MooX-Singleton-1.20-8xhCXz/blib/lib:/usr/local/src/CPAN/build/Dist-Zilla-TravisCI-1.03-K8lzQA/blib/arch:/usr/local/src/CPAN/build/Dist-Zilla-TravisCI-1.03-K8lzQA/blib/lib
PERL5OPT =
PERL5_CPANPLUS_IS_RUNNING = 23058
PERL5_CPAN_IS_RUNNING = 23058
PERL5_CPAN_IS_RUNNING_IN_RECURSION = 23038,23058
PERL_BATCH = yes
PERL_CPAN_REPORTER_CONFIG = /var/tmp/cpansmoker-1023/x2oYf1hUEZ_config.ini
PERL_CPAN_REPORTER_DIR = /home/cpansand/var/ctps/5160RC0/config/perl-5.16.0-RC0/cpanreporter
PERL_EXTUTILS_AUTOINSTALL = --defaultdeps
PERL_HTML_DISPLAY_CLASS = HTML::Display::Mozilla
SHELL = /usr/local/bin/zsh
TERM = screen
TMPDIR = /var/tmp/cpansmoker-1023
Perl special variables (and OS-specific diagnostics, for MSWin32):
$^X = /home2/cpansand/var/ctps/5160RC0/install/perl-5.16.0-RC0/bin/perl5.16.0
$UID/$EUID = 1023 / 1023
$GID = 1023 1023
$EGID = 1023 1023
Perl module toolchain versions installed:
Module Have
------------------- --------
CPAN 1.9800
CPAN::Meta 2.130880
Cwd 3.40
ExtUtils::CBuilder 0.280206
ExtUtils::Command 1.17
ExtUtils::Install 1.58
ExtUtils::MakeMaker 6.64
ExtUtils::Manifest 1.61
ExtUtils::ParseXS 3.16
File::Spec 3.40
JSON 2.57
JSON::PP 2.27200
Module::Build 0.4005
Module::Signature 0.70
Parse::CPAN::Meta 1.4404
Test::Harness 3.23
Test::More 0.98
YAML 0.84
YAML::Syck 1.22
version 0.9902
--
Summary of my perl5 (revision 5 version 16 subversion 0) configuration:
Platform:
osname=freebsd, osvers=8.0-release-p4, archname=i386-freebsd
uname='freebsd biokovo.herceg.de 8.0-release-p4 freebsd 8.0-release-p4 #0: mon jul 12 20:22:27 utc 2010 root@i386-builder.daemonology.net:usrobjusrsrcsysgeneric i386 '
config_args='-ds -e -Uversiononly -Dinstallusrbinperl=n -Dusedevel -Dprefix=/home/cpansand/var/ctps/5160RC0/install/perl-5.16.0-RC0'
hint=recommended, useposix=true, d_sigaction=define
useithreads=undef, usemultiplicity=undef
useperlio=define, d_sfio=undef, uselargefiles=define, usesocks=undef
use64bitint=undef, use64bitall=undef, uselongdouble=undef
usemymalloc=n, bincompat5005=undef
Compiler:
cc='cc', ccflags ='-DHAS_FPSETMASK -DHAS_FLOATINGPOINT_H -fno-strict-aliasing -pipe -fstack-protector -I/usr/local/include',
optimize='-O',
cppflags='-DHAS_FPSETMASK -DHAS_FLOATINGPOINT_H -fno-strict-aliasing -pipe -fstack-protector -I/usr/local/include'
ccversion='', gccversion='4.2.1 20070719 [FreeBSD]', gccosandvers=''
intsize=4, longsize=4, ptrsize=4, doublesize=8, byteorder=1234
d_longlong=define, longlongsize=8, d_longdbl=define, longdblsize=12
ivtype='long', ivsize=4, nvtype='double', nvsize=8, Off_t='off_t', lseeksize=8
alignbytes=4, prototype=define
Linker and Libraries:
ld='cc', ldflags ='-Wl,-E -fstack-protector -L/usr/local/lib'
libpth=/usr/lib /usr/local/lib
libs=-lgdbm -lm -lcrypt -lutil -lc
perllibs=-lm -lcrypt -lutil -lc
libc=, so=so, useshrplib=false, libperl=libperl.a
gnulibc_version=''
Dynamic Linking:
dlsrc=dl_dlopen.xs, dlext=so, d_dlsymun=undef, ccdlflags=' '
cccdlflags='-DPIC -fPIC', lddlflags='-shared -L/usr/local/lib -fstack-protector'
Characteristics of this binary (from libperl):
Compile-time options: HAS_TIMES PERLIO_LAYERS PERL_DONT_CREATE_GVSV
PERL_MALLOC_WRAP PERL_PRESERVE_IVUV PERL_USE_DEVEL
USE_LARGE_FILES USE_LOCALE USE_LOCALE_COLLATE
USE_LOCALE_CTYPE USE_LOCALE_NUMERIC USE_PERLIO
USE_PERL_ATOF
Locally applied patches:
RC0
Built under freebsd
Compiled at May 11 2012 21:05:05
%ENV:
PERL5LIB="/usr/local/src/CPAN/build/MooX-Singleton-1.20-8xhCXz/blib/arch:/usr/local/src/CPAN/build/MooX-Singleton-1.20-8xhCXz/blib/lib:/usr/local/src/CPAN/build/Dist-Zilla-TravisCI-1.03-K8lzQA/blib/arch:/usr/local/src/CPAN/build/Dist-Zilla-TravisCI-1.03-K8lzQA/blib/lib"
PERL5OPT=""
PERL5_CPANPLUS_IS_RUNNING="23058"
PERL5_CPAN_IS_RUNNING="23058"
PERL5_CPAN_IS_RUNNING_IN_RECURSION="23038,23058"
PERL_BATCH="yes"
PERL_CPAN_REPORTER_CONFIG="/var/tmp/cpansmoker-1023/x2oYf1hUEZ_config.ini"
PERL_CPAN_REPORTER_DIR="/home/cpansand/var/ctps/5160RC0/config/perl-5.16.0-RC0/cpanreporter"
PERL_EXTUTILS_AUTOINSTALL="--defaultdeps"
PERL_HTML_DISPLAY_CLASS="HTML::Display::Mozilla"
@INC:
/usr/local/src/CPAN/build/MooX-Singleton-1.20-8xhCXz/blib/arch
/usr/local/src/CPAN/build/MooX-Singleton-1.20-8xhCXz/blib/lib
/usr/local/src/CPAN/build/Dist-Zilla-TravisCI-1.03-K8lzQA/blib/arch
/usr/local/src/CPAN/build/Dist-Zilla-TravisCI-1.03-K8lzQA/blib/lib
/home/cpansand/var/ctps/5160RC0/install/perl-5.16.0-RC0/lib/site_perl/5.16.0/i386-freebsd
/home/cpansand/var/ctps/5160RC0/install/perl-5.16.0-RC0/lib/site_perl/5.16.0
/home/cpansand/var/ctps/5160RC0/install/perl-5.16.0-RC0/lib/5.16.0/i386-freebsd
/home/cpansand/var/ctps/5160RC0/install/perl-5.16.0-RC0/lib/5.16.0
.