Mail-ListDetector v1.04 Perl 5 v5.12.5 x86_64-linux

Status
Pass
From
Slaven Rezić (SREZIC)
Dist
Mail-ListDetector v1.04
Platform
Perl 5 v5.12.5 x86_64-linux
Date
2018-03-05 08:19:03
ID
dd91c99c-204d-11e8-a995-df650fbd938d
This distribution has been tested as part of the CPAN Testers
project, supporting the Perl programming language.  See
http://wiki.cpantesters.org/ for more information or email
questions to cpan-testers-discuss@perl.org


--
Dear Michael Stevens,

This is a computer-generated report for Mail-ListDetector-1.04
on perl 5.12.5, created by CPAN-Reporter-1.2018.

Thank you for uploading your work to CPAN.  Congratulations!
All tests were successful.

Sections of this report:

    * Tester comments
    * Program output
    * Prerequisites
    * Environment and other context

------------------------------
TESTER COMMENTS
------------------------------

Additional comments from tester:

none provided

------------------------------
PROGRAM OUTPUT
------------------------------

Output from '/usr/bin/make test':

PERL_DL_NONLAZY=1 "/bbbike/perl-5.12.5/bin/perl" "-MExtUtils::Command::MM" "-MTest::Harness" "-e" "undef *Test::Harness::Switches; test_harness(0, 'blib/lib', 'blib/arch')" t/*.t
Couldn't require Email::Abstract::Courriel : Specification contains unknown keys: [isa] at /opt/perl-5.12.5/lib/site_perl/5.12.5/Courriel/Header.pm line 34.
Compilation failed in require at /opt/perl-5.12.5/lib/site_perl/5.12.5/Courriel/Headers.pm line 9.
BEGIN failed--compilation aborted at /opt/perl-5.12.5/lib/site_perl/5.12.5/Courriel/Headers.pm line 9.
Compilation failed in require at /opt/perl-5.12.5/lib/site_perl/5.12.5/Courriel.pm line 11.
BEGIN failed--compilation aborted at /opt/perl-5.12.5/lib/site_perl/5.12.5/Courriel.pm line 11.
Compilation failed in require at /opt/perl-5.12.5/lib/site_perl/5.12.5/Email/Abstract/Courriel.pm line 8.
BEGIN failed--compilation aborted at /opt/perl-5.12.5/lib/site_perl/5.12.5/Email/Abstract/Courriel.pm line 8.
Compilation failed in require at /opt/perl-5.12.5/lib/site_perl/5.12.5/Module/Runtime.pm line 317.
 at /opt/perl-5.12.5/lib/site_perl/5.12.5/Module/Pluggable.pm line 32.
t/01_require.t ............... ok
Couldn't require Email::Abstract::Courriel : Specification contains unknown keys: [isa] at /opt/perl-5.12.5/lib/site_perl/5.12.5/Courriel/Header.pm line 34.
Compilation failed in require at /opt/perl-5.12.5/lib/site_perl/5.12.5/Courriel/Headers.pm line 9.
BEGIN failed--compilation aborted at /opt/perl-5.12.5/lib/site_perl/5.12.5/Courriel/Headers.pm line 9.
Compilation failed in require at /opt/perl-5.12.5/lib/site_perl/5.12.5/Courriel.pm line 11.
BEGIN failed--compilation aborted at /opt/perl-5.12.5/lib/site_perl/5.12.5/Courriel.pm line 11.
Compilation failed in require at /opt/perl-5.12.5/lib/site_perl/5.12.5/Email/Abstract/Courriel.pm line 8.
BEGIN failed--compilation aborted at /opt/perl-5.12.5/lib/site_perl/5.12.5/Email/Abstract/Courriel.pm line 8.
Compilation failed in require at /opt/perl-5.12.5/lib/site_perl/5.12.5/Module/Runtime.pm line 317.
 at /opt/perl-5.12.5/lib/site_perl/5.12.5/Module/Pluggable.pm line 32.
t/02_regular_mail.t .......... ok
Couldn't require Email::Abstract::Courriel : Specification contains unknown keys: [isa] at /opt/perl-5.12.5/lib/site_perl/5.12.5/Courriel/Header.pm line 34.
Compilation failed in require at /opt/perl-5.12.5/lib/site_perl/5.12.5/Courriel/Headers.pm line 9.
BEGIN failed--compilation aborted at /opt/perl-5.12.5/lib/site_perl/5.12.5/Courriel/Headers.pm line 9.
Compilation failed in require at /opt/perl-5.12.5/lib/site_perl/5.12.5/Courriel.pm line 11.
BEGIN failed--compilation aborted at /opt/perl-5.12.5/lib/site_perl/5.12.5/Courriel.pm line 11.
Compilation failed in require at /opt/perl-5.12.5/lib/site_perl/5.12.5/Email/Abstract/Courriel.pm line 8.
BEGIN failed--compilation aborted at /opt/perl-5.12.5/lib/site_perl/5.12.5/Email/Abstract/Courriel.pm line 8.
Compilation failed in require at /opt/perl-5.12.5/lib/site_perl/5.12.5/Module/Runtime.pm line 317.
 at /opt/perl-5.12.5/lib/site_perl/5.12.5/Module/Pluggable.pm line 32.
t/03_mailman.t ............... ok
Couldn't require Email::Abstract::Courriel : Specification contains unknown keys: [isa] at /opt/perl-5.12.5/lib/site_perl/5.12.5/Courriel/Header.pm line 34.
Compilation failed in require at /opt/perl-5.12.5/lib/site_perl/5.12.5/Courriel/Headers.pm line 9.
BEGIN failed--compilation aborted at /opt/perl-5.12.5/lib/site_perl/5.12.5/Courriel/Headers.pm line 9.
Compilation failed in require at /opt/perl-5.12.5/lib/site_perl/5.12.5/Courriel.pm line 11.
BEGIN failed--compilation aborted at /opt/perl-5.12.5/lib/site_perl/5.12.5/Courriel.pm line 11.
Compilation failed in require at /opt/perl-5.12.5/lib/site_perl/5.12.5/Email/Abstract/Courriel.pm line 8.
BEGIN failed--compilation aborted at /opt/perl-5.12.5/lib/site_perl/5.12.5/Email/Abstract/Courriel.pm line 8.
Compilation failed in require at /opt/perl-5.12.5/lib/site_perl/5.12.5/Module/Runtime.pm line 317.
 at /opt/perl-5.12.5/lib/site_perl/5.12.5/Module/Pluggable.pm line 32.
t/04_ezmlm.t ................. ok
Couldn't require Email::Abstract::Courriel : Specification contains unknown keys: [isa] at /opt/perl-5.12.5/lib/site_perl/5.12.5/Courriel/Header.pm line 34.
Compilation failed in require at /opt/perl-5.12.5/lib/site_perl/5.12.5/Courriel/Headers.pm line 9.
BEGIN failed--compilation aborted at /opt/perl-5.12.5/lib/site_perl/5.12.5/Courriel/Headers.pm line 9.
Compilation failed in require at /opt/perl-5.12.5/lib/site_perl/5.12.5/Courriel.pm line 11.
BEGIN failed--compilation aborted at /opt/perl-5.12.5/lib/site_perl/5.12.5/Courriel.pm line 11.
Compilation failed in require at /opt/perl-5.12.5/lib/site_perl/5.12.5/Email/Abstract/Courriel.pm line 8.
BEGIN failed--compilation aborted at /opt/perl-5.12.5/lib/site_perl/5.12.5/Email/Abstract/Courriel.pm line 8.
Compilation failed in require at /opt/perl-5.12.5/lib/site_perl/5.12.5/Module/Runtime.pm line 317.
 at /opt/perl-5.12.5/lib/site_perl/5.12.5/Module/Pluggable.pm line 32.
t/05_smartlist.t ............. ok
Couldn't require Email::Abstract::Courriel : Specification contains unknown keys: [isa] at /opt/perl-5.12.5/lib/site_perl/5.12.5/Courriel/Header.pm line 34.
Compilation failed in require at /opt/perl-5.12.5/lib/site_perl/5.12.5/Courriel/Headers.pm line 9.
BEGIN failed--compilation aborted at /opt/perl-5.12.5/lib/site_perl/5.12.5/Courriel/Headers.pm line 9.
Compilation failed in require at /opt/perl-5.12.5/lib/site_perl/5.12.5/Courriel.pm line 11.
BEGIN failed--compilation aborted at /opt/perl-5.12.5/lib/site_perl/5.12.5/Courriel.pm line 11.
Compilation failed in require at /opt/perl-5.12.5/lib/site_perl/5.12.5/Email/Abstract/Courriel.pm line 8.
BEGIN failed--compilation aborted at /opt/perl-5.12.5/lib/site_perl/5.12.5/Email/Abstract/Courriel.pm line 8.
Compilation failed in require at /opt/perl-5.12.5/lib/site_perl/5.12.5/Module/Runtime.pm line 317.
 at /opt/perl-5.12.5/lib/site_perl/5.12.5/Module/Pluggable.pm line 32.
t/06_majordomo.t ............. ok
Couldn't require Email::Abstract::Courriel : Specification contains unknown keys: [isa] at /opt/perl-5.12.5/lib/site_perl/5.12.5/Courriel/Header.pm line 34.
Compilation failed in require at /opt/perl-5.12.5/lib/site_perl/5.12.5/Courriel/Headers.pm line 9.
BEGIN failed--compilation aborted at /opt/perl-5.12.5/lib/site_perl/5.12.5/Courriel/Headers.pm line 9.
Compilation failed in require at /opt/perl-5.12.5/lib/site_perl/5.12.5/Courriel.pm line 11.
BEGIN failed--compilation aborted at /opt/perl-5.12.5/lib/site_perl/5.12.5/Courriel.pm line 11.
Compilation failed in require at /opt/perl-5.12.5/lib/site_perl/5.12.5/Email/Abstract/Courriel.pm line 8.
BEGIN failed--compilation aborted at /opt/perl-5.12.5/lib/site_perl/5.12.5/Email/Abstract/Courriel.pm line 8.
Compilation failed in require at /opt/perl-5.12.5/lib/site_perl/5.12.5/Module/Runtime.pm line 317.
 at /opt/perl-5.12.5/lib/site_perl/5.12.5/Module/Pluggable.pm line 32.
t/07_sympa.t ................. ok
Couldn't require Email::Abstract::Courriel : Specification contains unknown keys: [isa] at /opt/perl-5.12.5/lib/site_perl/5.12.5/Courriel/Header.pm line 34.
Compilation failed in require at /opt/perl-5.12.5/lib/site_perl/5.12.5/Courriel/Headers.pm line 9.
BEGIN failed--compilation aborted at /opt/perl-5.12.5/lib/site_perl/5.12.5/Courriel/Headers.pm line 9.
Compilation failed in require at /opt/perl-5.12.5/lib/site_perl/5.12.5/Courriel.pm line 11.
BEGIN failed--compilation aborted at /opt/perl-5.12.5/lib/site_perl/5.12.5/Courriel.pm line 11.
Compilation failed in require at /opt/perl-5.12.5/lib/site_perl/5.12.5/Email/Abstract/Courriel.pm line 8.
BEGIN failed--compilation aborted at /opt/perl-5.12.5/lib/site_perl/5.12.5/Email/Abstract/Courriel.pm line 8.
Compilation failed in require at /opt/perl-5.12.5/lib/site_perl/5.12.5/Module/Runtime.pm line 317.
 at /opt/perl-5.12.5/lib/site_perl/5.12.5/Module/Pluggable.pm line 32.
t/08_listar.t ................ ok
Couldn't require Email::Abstract::Courriel : Specification contains unknown keys: [isa] at /opt/perl-5.12.5/lib/site_perl/5.12.5/Courriel/Header.pm line 34.
Compilation failed in require at /opt/perl-5.12.5/lib/site_perl/5.12.5/Courriel/Headers.pm line 9.
BEGIN failed--compilation aborted at /opt/perl-5.12.5/lib/site_perl/5.12.5/Courriel/Headers.pm line 9.
Compilation failed in require at /opt/perl-5.12.5/lib/site_perl/5.12.5/Courriel.pm line 11.
BEGIN failed--compilation aborted at /opt/perl-5.12.5/lib/site_perl/5.12.5/Courriel.pm line 11.
Compilation failed in require at /opt/perl-5.12.5/lib/site_perl/5.12.5/Email/Abstract/Courriel.pm line 8.
BEGIN failed--compilation aborted at /opt/perl-5.12.5/lib/site_perl/5.12.5/Email/Abstract/Courriel.pm line 8.
Compilation failed in require at /opt/perl-5.12.5/lib/site_perl/5.12.5/Module/Runtime.pm line 317.
 at /opt/perl-5.12.5/lib/site_perl/5.12.5/Module/Pluggable.pm line 32.
t/09_yahoogroups.t ........... ok
Couldn't require Email::Abstract::Courriel : Specification contains unknown keys: [isa] at /opt/perl-5.12.5/lib/site_perl/5.12.5/Courriel/Header.pm line 34.
Compilation failed in require at /opt/perl-5.12.5/lib/site_perl/5.12.5/Courriel/Headers.pm line 9.
BEGIN failed--compilation aborted at /opt/perl-5.12.5/lib/site_perl/5.12.5/Courriel/Headers.pm line 9.
Compilation failed in require at /opt/perl-5.12.5/lib/site_perl/5.12.5/Courriel.pm line 11.
BEGIN failed--compilation aborted at /opt/perl-5.12.5/lib/site_perl/5.12.5/Courriel.pm line 11.
Compilation failed in require at /opt/perl-5.12.5/lib/site_perl/5.12.5/Email/Abstract/Courriel.pm line 8.
BEGIN failed--compilation aborted at /opt/perl-5.12.5/lib/site_perl/5.12.5/Email/Abstract/Courriel.pm line 8.
Compilation failed in require at /opt/perl-5.12.5/lib/site_perl/5.12.5/Module/Runtime.pm line 317.
 at /opt/perl-5.12.5/lib/site_perl/5.12.5/Module/Pluggable.pm line 32.
t/10_mailman_dot.t ........... ok
Couldn't require Email::Abstract::Courriel : Specification contains unknown keys: [isa] at /opt/perl-5.12.5/lib/site_perl/5.12.5/Courriel/Header.pm line 34.
Compilation failed in require at /opt/perl-5.12.5/lib/site_perl/5.12.5/Courriel/Headers.pm line 9.
BEGIN failed--compilation aborted at /opt/perl-5.12.5/lib/site_perl/5.12.5/Courriel/Headers.pm line 9.
Compilation failed in require at /opt/perl-5.12.5/lib/site_perl/5.12.5/Courriel.pm line 11.
BEGIN failed--compilation aborted at /opt/perl-5.12.5/lib/site_perl/5.12.5/Courriel.pm line 11.
Compilation failed in require at /opt/perl-5.12.5/lib/site_perl/5.12.5/Email/Abstract/Courriel.pm line 8.
BEGIN failed--compilation aborted at /opt/perl-5.12.5/lib/site_perl/5.12.5/Email/Abstract/Courriel.pm line 8.
Compilation failed in require at /opt/perl-5.12.5/lib/site_perl/5.12.5/Module/Runtime.pm line 317.
 at /opt/perl-5.12.5/lib/site_perl/5.12.5/Module/Pluggable.pm line 32.
t/12_ecartis.t ............... ok
Couldn't require Email::Abstract::Courriel : Specification contains unknown keys: [isa] at /opt/perl-5.12.5/lib/site_perl/5.12.5/Courriel/Header.pm line 34.
Compilation failed in require at /opt/perl-5.12.5/lib/site_perl/5.12.5/Courriel/Headers.pm line 9.
BEGIN failed--compilation aborted at /opt/perl-5.12.5/lib/site_perl/5.12.5/Courriel/Headers.pm line 9.
Compilation failed in require at /opt/perl-5.12.5/lib/site_perl/5.12.5/Courriel.pm line 11.
BEGIN failed--compilation aborted at /opt/perl-5.12.5/lib/site_perl/5.12.5/Courriel.pm line 11.
Compilation failed in require at /opt/perl-5.12.5/lib/site_perl/5.12.5/Email/Abstract/Courriel.pm line 8.
BEGIN failed--compilation aborted at /opt/perl-5.12.5/lib/site_perl/5.12.5/Email/Abstract/Courriel.pm line 8.
Compilation failed in require at /opt/perl-5.12.5/lib/site_perl/5.12.5/Module/Runtime.pm line 317.
 at /opt/perl-5.12.5/lib/site_perl/5.12.5/Module/Pluggable.pm line 32.
t/13_fml.t ................... ok
Couldn't require Email::Abstract::Courriel : Specification contains unknown keys: [isa] at /opt/perl-5.12.5/lib/site_perl/5.12.5/Courriel/Header.pm line 34.
Compilation failed in require at /opt/perl-5.12.5/lib/site_perl/5.12.5/Courriel/Headers.pm line 9.
BEGIN failed--compilation aborted at /opt/perl-5.12.5/lib/site_perl/5.12.5/Courriel/Headers.pm line 9.
Compilation failed in require at /opt/perl-5.12.5/lib/site_perl/5.12.5/Courriel.pm line 11.
BEGIN failed--compilation aborted at /opt/perl-5.12.5/lib/site_perl/5.12.5/Courriel.pm line 11.
Compilation failed in require at /opt/perl-5.12.5/lib/site_perl/5.12.5/Email/Abstract/Courriel.pm line 8.
BEGIN failed--compilation aborted at /opt/perl-5.12.5/lib/site_perl/5.12.5/Email/Abstract/Courriel.pm line 8.
Compilation failed in require at /opt/perl-5.12.5/lib/site_perl/5.12.5/Module/Runtime.pm line 317.
 at /opt/perl-5.12.5/lib/site_perl/5.12.5/Module/Pluggable.pm line 32.
t/14_communigatepro.t ........ ok
Couldn't require Email::Abstract::Courriel : Specification contains unknown keys: [isa] at /opt/perl-5.12.5/lib/site_perl/5.12.5/Courriel/Header.pm line 34.
Compilation failed in require at /opt/perl-5.12.5/lib/site_perl/5.12.5/Courriel/Headers.pm line 9.
BEGIN failed--compilation aborted at /opt/perl-5.12.5/lib/site_perl/5.12.5/Courriel/Headers.pm line 9.
Compilation failed in require at /opt/perl-5.12.5/lib/site_perl/5.12.5/Courriel.pm line 11.
BEGIN failed--compilation aborted at /opt/perl-5.12.5/lib/site_perl/5.12.5/Courriel.pm line 11.
Compilation failed in require at /opt/perl-5.12.5/lib/site_perl/5.12.5/Email/Abstract/Courriel.pm line 8.
BEGIN failed--compilation aborted at /opt/perl-5.12.5/lib/site_perl/5.12.5/Email/Abstract/Courriel.pm line 8.
Compilation failed in require at /opt/perl-5.12.5/lib/site_perl/5.12.5/Module/Runtime.pm line 317.
 at /opt/perl-5.12.5/lib/site_perl/5.12.5/Module/Pluggable.pm line 32.
t/15_listbox.t ............... ok
Couldn't require Email::Abstract::Courriel : Specification contains unknown keys: [isa] at /opt/perl-5.12.5/lib/site_perl/5.12.5/Courriel/Header.pm line 34.
Compilation failed in require at /opt/perl-5.12.5/lib/site_perl/5.12.5/Courriel/Headers.pm line 9.
BEGIN failed--compilation aborted at /opt/perl-5.12.5/lib/site_perl/5.12.5/Courriel/Headers.pm line 9.
Compilation failed in require at /opt/perl-5.12.5/lib/site_perl/5.12.5/Courriel.pm line 11.
BEGIN failed--compilation aborted at /opt/perl-5.12.5/lib/site_perl/5.12.5/Courriel.pm line 11.
Compilation failed in require at /opt/perl-5.12.5/lib/site_perl/5.12.5/Email/Abstract/Courriel.pm line 8.
BEGIN failed--compilation aborted at /opt/perl-5.12.5/lib/site_perl/5.12.5/Email/Abstract/Courriel.pm line 8.
Compilation failed in require at /opt/perl-5.12.5/lib/site_perl/5.12.5/Module/Runtime.pm line 317.
 at /opt/perl-5.12.5/lib/site_perl/5.12.5/Module/Pluggable.pm line 32.
t/16_fml_announce.t .......... ok
Couldn't require Email::Abstract::Courriel : Specification contains unknown keys: [isa] at /opt/perl-5.12.5/lib/site_perl/5.12.5/Courriel/Header.pm line 34.
Compilation failed in require at /opt/perl-5.12.5/lib/site_perl/5.12.5/Courriel/Headers.pm line 9.
BEGIN failed--compilation aborted at /opt/perl-5.12.5/lib/site_perl/5.12.5/Courriel/Headers.pm line 9.
Compilation failed in require at /opt/perl-5.12.5/lib/site_perl/5.12.5/Courriel.pm line 11.
BEGIN failed--compilation aborted at /opt/perl-5.12.5/lib/site_perl/5.12.5/Courriel.pm line 11.
Compilation failed in require at /opt/perl-5.12.5/lib/site_perl/5.12.5/Email/Abstract/Courriel.pm line 8.
BEGIN failed--compilation aborted at /opt/perl-5.12.5/lib/site_perl/5.12.5/Email/Abstract/Courriel.pm line 8.
Compilation failed in require at /opt/perl-5.12.5/lib/site_perl/5.12.5/Module/Runtime.pm line 317.
 at /opt/perl-5.12.5/lib/site_perl/5.12.5/Module/Pluggable.pm line 32.
t/17_listserv.t .............. ok
Couldn't require Email::Abstract::Courriel : Specification contains unknown keys: [isa] at /opt/perl-5.12.5/lib/site_perl/5.12.5/Courriel/Header.pm line 34.
Compilation failed in require at /opt/perl-5.12.5/lib/site_perl/5.12.5/Courriel/Headers.pm line 9.
BEGIN failed--compilation aborted at /opt/perl-5.12.5/lib/site_perl/5.12.5/Courriel/Headers.pm line 9.
Compilation failed in require at /opt/perl-5.12.5/lib/site_perl/5.12.5/Courriel.pm line 11.
BEGIN failed--compilation aborted at /opt/perl-5.12.5/lib/site_perl/5.12.5/Courriel.pm line 11.
Compilation failed in require at /opt/perl-5.12.5/lib/site_perl/5.12.5/Email/Abstract/Courriel.pm line 8.
BEGIN failed--compilation aborted at /opt/perl-5.12.5/lib/site_perl/5.12.5/Email/Abstract/Courriel.pm line 8.
Compilation failed in require at /opt/perl-5.12.5/lib/site_perl/5.12.5/Module/Runtime.pm line 317.
 at /opt/perl-5.12.5/lib/site_perl/5.12.5/Module/Pluggable.pm line 32.
t/18_listserv.t .............. ok
Couldn't require Email::Abstract::Courriel : Specification contains unknown keys: [isa] at /opt/perl-5.12.5/lib/site_perl/5.12.5/Courriel/Header.pm line 34.
Compilation failed in require at /opt/perl-5.12.5/lib/site_perl/5.12.5/Courriel/Headers.pm line 9.
BEGIN failed--compilation aborted at /opt/perl-5.12.5/lib/site_perl/5.12.5/Courriel/Headers.pm line 9.
Compilation failed in require at /opt/perl-5.12.5/lib/site_perl/5.12.5/Courriel.pm line 11.
BEGIN failed--compilation aborted at /opt/perl-5.12.5/lib/site_perl/5.12.5/Courriel.pm line 11.
Compilation failed in require at /opt/perl-5.12.5/lib/site_perl/5.12.5/Email/Abstract/Courriel.pm line 8.
BEGIN failed--compilation aborted at /opt/perl-5.12.5/lib/site_perl/5.12.5/Email/Abstract/Courriel.pm line 8.
Compilation failed in require at /opt/perl-5.12.5/lib/site_perl/5.12.5/Module/Runtime.pm line 317.
 at /opt/perl-5.12.5/lib/site_perl/5.12.5/Module/Pluggable.pm line 32.
t/19_communigate.t ........... ok
Couldn't require Email::Abstract::Courriel : Specification contains unknown keys: [isa] at /opt/perl-5.12.5/lib/site_perl/5.12.5/Courriel/Header.pm line 34.
Compilation failed in require at /opt/perl-5.12.5/lib/site_perl/5.12.5/Courriel/Headers.pm line 9.
BEGIN failed--compilation aborted at /opt/perl-5.12.5/lib/site_perl/5.12.5/Courriel/Headers.pm line 9.
Compilation failed in require at /opt/perl-5.12.5/lib/site_perl/5.12.5/Courriel.pm line 11.
BEGIN failed--compilation aborted at /opt/perl-5.12.5/lib/site_perl/5.12.5/Courriel.pm line 11.
Compilation failed in require at /opt/perl-5.12.5/lib/site_perl/5.12.5/Email/Abstract/Courriel.pm line 8.
BEGIN failed--compilation aborted at /opt/perl-5.12.5/lib/site_perl/5.12.5/Email/Abstract/Courriel.pm line 8.
Compilation failed in require at /opt/perl-5.12.5/lib/site_perl/5.12.5/Module/Runtime.pm line 317.
 at /opt/perl-5.12.5/lib/site_perl/5.12.5/Module/Pluggable.pm line 32.
t/20_communigatepro.t ........ ok
Couldn't require Email::Abstract::Courriel : Specification contains unknown keys: [isa] at /opt/perl-5.12.5/lib/site_perl/5.12.5/Courriel/Header.pm line 34.
Compilation failed in require at /opt/perl-5.12.5/lib/site_perl/5.12.5/Courriel/Headers.pm line 9.
BEGIN failed--compilation aborted at /opt/perl-5.12.5/lib/site_perl/5.12.5/Courriel/Headers.pm line 9.
Compilation failed in require at /opt/perl-5.12.5/lib/site_perl/5.12.5/Courriel.pm line 11.
BEGIN failed--compilation aborted at /opt/perl-5.12.5/lib/site_perl/5.12.5/Courriel.pm line 11.
Compilation failed in require at /opt/perl-5.12.5/lib/site_perl/5.12.5/Email/Abstract/Courriel.pm line 8.
BEGIN failed--compilation aborted at /opt/perl-5.12.5/lib/site_perl/5.12.5/Email/Abstract/Courriel.pm line 8.
Compilation failed in require at /opt/perl-5.12.5/lib/site_perl/5.12.5/Module/Runtime.pm line 317.
 at /opt/perl-5.12.5/lib/site_perl/5.12.5/Module/Pluggable.pm line 32.
t/21_rfc2919.t ............... ok
Couldn't require Email::Abstract::Courriel : Specification contains unknown keys: [isa] at /opt/perl-5.12.5/lib/site_perl/5.12.5/Courriel/Header.pm line 34.
Compilation failed in require at /opt/perl-5.12.5/lib/site_perl/5.12.5/Courriel/Headers.pm line 9.
BEGIN failed--compilation aborted at /opt/perl-5.12.5/lib/site_perl/5.12.5/Courriel/Headers.pm line 9.
Compilation failed in require at /opt/perl-5.12.5/lib/site_perl/5.12.5/Courriel.pm line 11.
BEGIN failed--compilation aborted at /opt/perl-5.12.5/lib/site_perl/5.12.5/Courriel.pm line 11.
Compilation failed in require at /opt/perl-5.12.5/lib/site_perl/5.12.5/Email/Abstract/Courriel.pm line 8.
BEGIN failed--compilation aborted at /opt/perl-5.12.5/lib/site_perl/5.12.5/Email/Abstract/Courriel.pm line 8.
Compilation failed in require at /opt/perl-5.12.5/lib/site_perl/5.12.5/Module/Runtime.pm line 317.
 at /opt/perl-5.12.5/lib/site_perl/5.12.5/Module/Pluggable.pm line 32.
t/22_listserv.t .............. ok
Couldn't require Email::Abstract::Courriel : Specification contains unknown keys: [isa] at /opt/perl-5.12.5/lib/site_perl/5.12.5/Courriel/Header.pm line 34.
Compilation failed in require at /opt/perl-5.12.5/lib/site_perl/5.12.5/Courriel/Headers.pm line 9.
BEGIN failed--compilation aborted at /opt/perl-5.12.5/lib/site_perl/5.12.5/Courriel/Headers.pm line 9.
Compilation failed in require at /opt/perl-5.12.5/lib/site_perl/5.12.5/Courriel.pm line 11.
BEGIN failed--compilation aborted at /opt/perl-5.12.5/lib/site_perl/5.12.5/Courriel.pm line 11.
Compilation failed in require at /opt/perl-5.12.5/lib/site_perl/5.12.5/Email/Abstract/Courriel.pm line 8.
BEGIN failed--compilation aborted at /opt/perl-5.12.5/lib/site_perl/5.12.5/Email/Abstract/Courriel.pm line 8.
Compilation failed in require at /opt/perl-5.12.5/lib/site_perl/5.12.5/Module/Runtime.pm line 317.
 at /opt/perl-5.12.5/lib/site_perl/5.12.5/Module/Pluggable.pm line 32.
t/23_autoshare.t ............. ok
Couldn't require Email::Abstract::Courriel : Specification contains unknown keys: [isa] at /opt/perl-5.12.5/lib/site_perl/5.12.5/Courriel/Header.pm line 34.
Compilation failed in require at /opt/perl-5.12.5/lib/site_perl/5.12.5/Courriel/Headers.pm line 9.
BEGIN failed--compilation aborted at /opt/perl-5.12.5/lib/site_perl/5.12.5/Courriel/Headers.pm line 9.
Compilation failed in require at /opt/perl-5.12.5/lib/site_perl/5.12.5/Courriel.pm line 11.
BEGIN failed--compilation aborted at /opt/perl-5.12.5/lib/site_perl/5.12.5/Courriel.pm line 11.
Compilation failed in require at /opt/perl-5.12.5/lib/site_perl/5.12.5/Email/Abstract/Courriel.pm line 8.
BEGIN failed--compilation aborted at /opt/perl-5.12.5/lib/site_perl/5.12.5/Email/Abstract/Courriel.pm line 8.
Compilation failed in require at /opt/perl-5.12.5/lib/site_perl/5.12.5/Module/Runtime.pm line 317.
 at /opt/perl-5.12.5/lib/site_perl/5.12.5/Module/Pluggable.pm line 32.
t/24_autoshare.t ............. ok
Couldn't require Email::Abstract::Courriel : Specification contains unknown keys: [isa] at /opt/perl-5.12.5/lib/site_perl/5.12.5/Courriel/Header.pm line 34.
Compilation failed in require at /opt/perl-5.12.5/lib/site_perl/5.12.5/Courriel/Headers.pm line 9.
BEGIN failed--compilation aborted at /opt/perl-5.12.5/lib/site_perl/5.12.5/Courriel/Headers.pm line 9.
Compilation failed in require at /opt/perl-5.12.5/lib/site_perl/5.12.5/Courriel.pm line 11.
BEGIN failed--compilation aborted at /opt/perl-5.12.5/lib/site_perl/5.12.5/Courriel.pm line 11.
Compilation failed in require at /opt/perl-5.12.5/lib/site_perl/5.12.5/Email/Abstract/Courriel.pm line 8.
BEGIN failed--compilation aborted at /opt/perl-5.12.5/lib/site_perl/5.12.5/Email/Abstract/Courriel.pm line 8.
Compilation failed in require at /opt/perl-5.12.5/lib/site_perl/5.12.5/Module/Runtime.pm line 317.
 at /opt/perl-5.12.5/lib/site_perl/5.12.5/Module/Pluggable.pm line 32.
t/25_letterrip.t ............. ok
Couldn't require Email::Abstract::Courriel : Specification contains unknown keys: [isa] at /opt/perl-5.12.5/lib/site_perl/5.12.5/Courriel/Header.pm line 34.
Compilation failed in require at /opt/perl-5.12.5/lib/site_perl/5.12.5/Courriel/Headers.pm line 9.
BEGIN failed--compilation aborted at /opt/perl-5.12.5/lib/site_perl/5.12.5/Courriel/Headers.pm line 9.
Compilation failed in require at /opt/perl-5.12.5/lib/site_perl/5.12.5/Courriel.pm line 11.
BEGIN failed--compilation aborted at /opt/perl-5.12.5/lib/site_perl/5.12.5/Courriel.pm line 11.
Compilation failed in require at /opt/perl-5.12.5/lib/site_perl/5.12.5/Email/Abstract/Courriel.pm line 8.
BEGIN failed--compilation aborted at /opt/perl-5.12.5/lib/site_perl/5.12.5/Email/Abstract/Courriel.pm line 8.
Compilation failed in require at /opt/perl-5.12.5/lib/site_perl/5.12.5/Module/Runtime.pm line 317.
 at /opt/perl-5.12.5/lib/site_perl/5.12.5/Module/Pluggable.pm line 32.
t/26_letterrip.t ............. ok
Couldn't require Email::Abstract::Courriel : Specification contains unknown keys: [isa] at /opt/perl-5.12.5/lib/site_perl/5.12.5/Courriel/Header.pm line 34.
Compilation failed in require at /opt/perl-5.12.5/lib/site_perl/5.12.5/Courriel/Headers.pm line 9.
BEGIN failed--compilation aborted at /opt/perl-5.12.5/lib/site_perl/5.12.5/Courriel/Headers.pm line 9.
Compilation failed in require at /opt/perl-5.12.5/lib/site_perl/5.12.5/Courriel.pm line 11.
BEGIN failed--compilation aborted at /opt/perl-5.12.5/lib/site_perl/5.12.5/Courriel.pm line 11.
Compilation failed in require at /opt/perl-5.12.5/lib/site_perl/5.12.5/Email/Abstract/Courriel.pm line 8.
BEGIN failed--compilation aborted at /opt/perl-5.12.5/lib/site_perl/5.12.5/Email/Abstract/Courriel.pm line 8.
Compilation failed in require at /opt/perl-5.12.5/lib/site_perl/5.12.5/Module/Runtime.pm line 317.
 at /opt/perl-5.12.5/lib/site_perl/5.12.5/Module/Pluggable.pm line 32.
t/27_liststar.t .............. ok
Couldn't require Email::Abstract::Courriel : Specification contains unknown keys: [isa] at /opt/perl-5.12.5/lib/site_perl/5.12.5/Courriel/Header.pm line 34.
Compilation failed in require at /opt/perl-5.12.5/lib/site_perl/5.12.5/Courriel/Headers.pm line 9.
BEGIN failed--compilation aborted at /opt/perl-5.12.5/lib/site_perl/5.12.5/Courriel/Headers.pm line 9.
Compilation failed in require at /opt/perl-5.12.5/lib/site_perl/5.12.5/Courriel.pm line 11.
BEGIN failed--compilation aborted at /opt/perl-5.12.5/lib/site_perl/5.12.5/Courriel.pm line 11.
Compilation failed in require at /opt/perl-5.12.5/lib/site_perl/5.12.5/Email/Abstract/Courriel.pm line 8.
BEGIN failed--compilation aborted at /opt/perl-5.12.5/lib/site_perl/5.12.5/Email/Abstract/Courriel.pm line 8.
Compilation failed in require at /opt/perl-5.12.5/lib/site_perl/5.12.5/Module/Runtime.pm line 317.
 at /opt/perl-5.12.5/lib/site_perl/5.12.5/Module/Pluggable.pm line 32.
t/28_liststar.t .............. ok
Couldn't require Email::Abstract::Courriel : Specification contains unknown keys: [isa] at /opt/perl-5.12.5/lib/site_perl/5.12.5/Courriel/Header.pm line 34.
Compilation failed in require at /opt/perl-5.12.5/lib/site_perl/5.12.5/Courriel/Headers.pm line 9.
BEGIN failed--compilation aborted at /opt/perl-5.12.5/lib/site_perl/5.12.5/Courriel/Headers.pm line 9.
Compilation failed in require at /opt/perl-5.12.5/lib/site_perl/5.12.5/Courriel.pm line 11.
BEGIN failed--compilation aborted at /opt/perl-5.12.5/lib/site_perl/5.12.5/Courriel.pm line 11.
Compilation failed in require at /opt/perl-5.12.5/lib/site_perl/5.12.5/Email/Abstract/Courriel.pm line 8.
BEGIN failed--compilation aborted at /opt/perl-5.12.5/lib/site_perl/5.12.5/Email/Abstract/Courriel.pm line 8.
Compilation failed in require at /opt/perl-5.12.5/lib/site_perl/5.12.5/Module/Runtime.pm line 317.
 at /opt/perl-5.12.5/lib/site_perl/5.12.5/Module/Pluggable.pm line 32.
t/29_liststar.t .............. ok
Couldn't require Email::Abstract::Courriel : Specification contains unknown keys: [isa] at /opt/perl-5.12.5/lib/site_perl/5.12.5/Courriel/Header.pm line 34.
Compilation failed in require at /opt/perl-5.12.5/lib/site_perl/5.12.5/Courriel/Headers.pm line 9.
BEGIN failed--compilation aborted at /opt/perl-5.12.5/lib/site_perl/5.12.5/Courriel/Headers.pm line 9.
Compilation failed in require at /opt/perl-5.12.5/lib/site_perl/5.12.5/Courriel.pm line 11.
BEGIN failed--compilation aborted at /opt/perl-5.12.5/lib/site_perl/5.12.5/Courriel.pm line 11.
Compilation failed in require at /opt/perl-5.12.5/lib/site_perl/5.12.5/Email/Abstract/Courriel.pm line 8.
BEGIN failed--compilation aborted at /opt/perl-5.12.5/lib/site_perl/5.12.5/Email/Abstract/Courriel.pm line 8.
Compilation failed in require at /opt/perl-5.12.5/lib/site_perl/5.12.5/Module/Runtime.pm line 317.
 at /opt/perl-5.12.5/lib/site_perl/5.12.5/Module/Pluggable.pm line 32.
t/30_liststar.t .............. ok
Couldn't require Email::Abstract::Courriel : Specification contains unknown keys: [isa] at /opt/perl-5.12.5/lib/site_perl/5.12.5/Courriel/Header.pm line 34.
Compilation failed in require at /opt/perl-5.12.5/lib/site_perl/5.12.5/Courriel/Headers.pm line 9.
BEGIN failed--compilation aborted at /opt/perl-5.12.5/lib/site_perl/5.12.5/Courriel/Headers.pm line 9.
Compilation failed in require at /opt/perl-5.12.5/lib/site_perl/5.12.5/Courriel.pm line 11.
BEGIN failed--compilation aborted at /opt/perl-5.12.5/lib/site_perl/5.12.5/Courriel.pm line 11.
Compilation failed in require at /opt/perl-5.12.5/lib/site_perl/5.12.5/Email/Abstract/Courriel.pm line 8.
BEGIN failed--compilation aborted at /opt/perl-5.12.5/lib/site_perl/5.12.5/Email/Abstract/Courriel.pm line 8.
Compilation failed in require at /opt/perl-5.12.5/lib/site_perl/5.12.5/Module/Runtime.pm line 317.
 at /opt/perl-5.12.5/lib/site_perl/5.12.5/Module/Pluggable.pm line 32.
t/31_lyris.t ................. ok
Couldn't require Email::Abstract::Courriel : Specification contains unknown keys: [isa] at /opt/perl-5.12.5/lib/site_perl/5.12.5/Courriel/Header.pm line 34.
Compilation failed in require at /opt/perl-5.12.5/lib/site_perl/5.12.5/Courriel/Headers.pm line 9.
BEGIN failed--compilation aborted at /opt/perl-5.12.5/lib/site_perl/5.12.5/Courriel/Headers.pm line 9.
Compilation failed in require at /opt/perl-5.12.5/lib/site_perl/5.12.5/Courriel.pm line 11.
BEGIN failed--compilation aborted at /opt/perl-5.12.5/lib/site_perl/5.12.5/Courriel.pm line 11.
Compilation failed in require at /opt/perl-5.12.5/lib/site_perl/5.12.5/Email/Abstract/Courriel.pm line 8.
BEGIN failed--compilation aborted at /opt/perl-5.12.5/lib/site_perl/5.12.5/Email/Abstract/Courriel.pm line 8.
Compilation failed in require at /opt/perl-5.12.5/lib/site_perl/5.12.5/Module/Runtime.pm line 317.
 at /opt/perl-5.12.5/lib/site_perl/5.12.5/Module/Pluggable.pm line 32.
t/32_lyris.t ................. ok
Couldn't require Email::Abstract::Courriel : Specification contains unknown keys: [isa] at /opt/perl-5.12.5/lib/site_perl/5.12.5/Courriel/Header.pm line 34.
Compilation failed in require at /opt/perl-5.12.5/lib/site_perl/5.12.5/Courriel/Headers.pm line 9.
BEGIN failed--compilation aborted at /opt/perl-5.12.5/lib/site_perl/5.12.5/Courriel/Headers.pm line 9.
Compilation failed in require at /opt/perl-5.12.5/lib/site_perl/5.12.5/Courriel.pm line 11.
BEGIN failed--compilation aborted at /opt/perl-5.12.5/lib/site_perl/5.12.5/Courriel.pm line 11.
Compilation failed in require at /opt/perl-5.12.5/lib/site_perl/5.12.5/Email/Abstract/Courriel.pm line 8.
BEGIN failed--compilation aborted at /opt/perl-5.12.5/lib/site_perl/5.12.5/Email/Abstract/Courriel.pm line 8.
Compilation failed in require at /opt/perl-5.12.5/lib/site_perl/5.12.5/Module/Runtime.pm line 317.
 at /opt/perl-5.12.5/lib/site_perl/5.12.5/Module/Pluggable.pm line 32.
t/33_lyris.t ................. ok
Couldn't require Email::Abstract::Courriel : Specification contains unknown keys: [isa] at /opt/perl-5.12.5/lib/site_perl/5.12.5/Courriel/Header.pm line 34.
Compilation failed in require at /opt/perl-5.12.5/lib/site_perl/5.12.5/Courriel/Headers.pm line 9.
BEGIN failed--compilation aborted at /opt/perl-5.12.5/lib/site_perl/5.12.5/Courriel/Headers.pm line 9.
Compilation failed in require at /opt/perl-5.12.5/lib/site_perl/5.12.5/Courriel.pm line 11.
BEGIN failed--compilation aborted at /opt/perl-5.12.5/lib/site_perl/5.12.5/Courriel.pm line 11.
Compilation failed in require at /opt/perl-5.12.5/lib/site_perl/5.12.5/Email/Abstract/Courriel.pm line 8.
BEGIN failed--compilation aborted at /opt/perl-5.12.5/lib/site_perl/5.12.5/Email/Abstract/Courriel.pm line 8.
Compilation failed in require at /opt/perl-5.12.5/lib/site_perl/5.12.5/Module/Runtime.pm line 317.
 at /opt/perl-5.12.5/lib/site_perl/5.12.5/Module/Pluggable.pm line 32.
t/34_lyris.t ................. ok
Couldn't require Email::Abstract::Courriel : Specification contains unknown keys: [isa] at /opt/perl-5.12.5/lib/site_perl/5.12.5/Courriel/Header.pm line 34.
Compilation failed in require at /opt/perl-5.12.5/lib/site_perl/5.12.5/Courriel/Headers.pm line 9.
BEGIN failed--compilation aborted at /opt/perl-5.12.5/lib/site_perl/5.12.5/Courriel/Headers.pm line 9.
Compilation failed in require at /opt/perl-5.12.5/lib/site_perl/5.12.5/Courriel.pm line 11.
BEGIN failed--compilation aborted at /opt/perl-5.12.5/lib/site_perl/5.12.5/Courriel.pm line 11.
Compilation failed in require at /opt/perl-5.12.5/lib/site_perl/5.12.5/Email/Abstract/Courriel.pm line 8.
BEGIN failed--compilation aborted at /opt/perl-5.12.5/lib/site_perl/5.12.5/Email/Abstract/Courriel.pm line 8.
Compilation failed in require at /opt/perl-5.12.5/lib/site_perl/5.12.5/Module/Runtime.pm line 317.
 at /opt/perl-5.12.5/lib/site_perl/5.12.5/Module/Pluggable.pm line 32.
t/35_lyris.t ................. ok
Couldn't require Email::Abstract::Courriel : Specification contains unknown keys: [isa] at /opt/perl-5.12.5/lib/site_perl/5.12.5/Courriel/Header.pm line 34.
Compilation failed in require at /opt/perl-5.12.5/lib/site_perl/5.12.5/Courriel/Headers.pm line 9.
BEGIN failed--compilation aborted at /opt/perl-5.12.5/lib/site_perl/5.12.5/Courriel/Headers.pm line 9.
Compilation failed in require at /opt/perl-5.12.5/lib/site_perl/5.12.5/Courriel.pm line 11.
BEGIN failed--compilation aborted at /opt/perl-5.12.5/lib/site_perl/5.12.5/Courriel.pm line 11.
Compilation failed in require at /opt/perl-5.12.5/lib/site_perl/5.12.5/Email/Abstract/Courriel.pm line 8.
BEGIN failed--compilation aborted at /opt/perl-5.12.5/lib/site_perl/5.12.5/Email/Abstract/Courriel.pm line 8.
Compilation failed in require at /opt/perl-5.12.5/lib/site_perl/5.12.5/Module/Runtime.pm line 317.
 at /opt/perl-5.12.5/lib/site_perl/5.12.5/Module/Pluggable.pm line 32.
t/36_lyris.t ................. ok
Couldn't require Email::Abstract::Courriel : Specification contains unknown keys: [isa] at /opt/perl-5.12.5/lib/site_perl/5.12.5/Courriel/Header.pm line 34.
Compilation failed in require at /opt/perl-5.12.5/lib/site_perl/5.12.5/Courriel/Headers.pm line 9.
BEGIN failed--compilation aborted at /opt/perl-5.12.5/lib/site_perl/5.12.5/Courriel/Headers.pm line 9.
Compilation failed in require at /opt/perl-5.12.5/lib/site_perl/5.12.5/Courriel.pm line 11.
BEGIN failed--compilation aborted at /opt/perl-5.12.5/lib/site_perl/5.12.5/Courriel.pm line 11.
Compilation failed in require at /opt/perl-5.12.5/lib/site_perl/5.12.5/Email/Abstract/Courriel.pm line 8.
BEGIN failed--compilation aborted at /opt/perl-5.12.5/lib/site_perl/5.12.5/Email/Abstract/Courriel.pm line 8.
Compilation failed in require at /opt/perl-5.12.5/lib/site_perl/5.12.5/Module/Runtime.pm line 317.
 at /opt/perl-5.12.5/lib/site_perl/5.12.5/Module/Pluggable.pm line 32.
t/37_impossible_majordomo.t .. ok
Couldn't require Email::Abstract::Courriel : Specification contains unknown keys: [isa] at /opt/perl-5.12.5/lib/site_perl/5.12.5/Courriel/Header.pm line 34.
Compilation failed in require at /opt/perl-5.12.5/lib/site_perl/5.12.5/Courriel/Headers.pm line 9.
BEGIN failed--compilation aborted at /opt/perl-5.12.5/lib/site_perl/5.12.5/Courriel/Headers.pm line 9.
Compilation failed in require at /opt/perl-5.12.5/lib/site_perl/5.12.5/Courriel.pm line 11.
BEGIN failed--compilation aborted at /opt/perl-5.12.5/lib/site_perl/5.12.5/Courriel.pm line 11.
Compilation failed in require at /opt/perl-5.12.5/lib/site_perl/5.12.5/Email/Abstract/Courriel.pm line 8.
BEGIN failed--compilation aborted at /opt/perl-5.12.5/lib/site_perl/5.12.5/Email/Abstract/Courriel.pm line 8.
Compilation failed in require at /opt/perl-5.12.5/lib/site_perl/5.12.5/Module/Runtime.pm line 317.
 at /opt/perl-5.12.5/lib/site_perl/5.12.5/Module/Pluggable.pm line 32.
t/38_majordomo.t ............. ok
Couldn't require Email::Abstract::Courriel : Specification contains unknown keys: [isa] at /opt/perl-5.12.5/lib/site_perl/5.12.5/Courriel/Header.pm line 34.
Compilation failed in require at /opt/perl-5.12.5/lib/site_perl/5.12.5/Courriel/Headers.pm line 9.
BEGIN failed--compilation aborted at /opt/perl-5.12.5/lib/site_perl/5.12.5/Courriel/Headers.pm line 9.
Compilation failed in require at /opt/perl-5.12.5/lib/site_perl/5.12.5/Courriel.pm line 11.
BEGIN failed--compilation aborted at /opt/perl-5.12.5/lib/site_perl/5.12.5/Courriel.pm line 11.
Compilation failed in require at /opt/perl-5.12.5/lib/site_perl/5.12.5/Email/Abstract/Courriel.pm line 8.
BEGIN failed--compilation aborted at /opt/perl-5.12.5/lib/site_perl/5.12.5/Email/Abstract/Courriel.pm line 8.
Compilation failed in require at /opt/perl-5.12.5/lib/site_perl/5.12.5/Module/Runtime.pm line 317.
 at /opt/perl-5.12.5/lib/site_perl/5.12.5/Module/Pluggable.pm line 32.
t/39_googlegroups.t .......... ok
Couldn't require Email::Abstract::Courriel : Specification contains unknown keys: [isa] at /opt/perl-5.12.5/lib/site_perl/5.12.5/Courriel/Header.pm line 34.
Compilation failed in require at /opt/perl-5.12.5/lib/site_perl/5.12.5/Courriel/Headers.pm line 9.
BEGIN failed--compilation aborted at /opt/perl-5.12.5/lib/site_perl/5.12.5/Courriel/Headers.pm line 9.
Compilation failed in require at /opt/perl-5.12.5/lib/site_perl/5.12.5/Courriel.pm line 11.
BEGIN failed--compilation aborted at /opt/perl-5.12.5/lib/site_perl/5.12.5/Courriel.pm line 11.
Compilation failed in require at /opt/perl-5.12.5/lib/site_perl/5.12.5/Email/Abstract/Courriel.pm line 8.
BEGIN failed--compilation aborted at /opt/perl-5.12.5/lib/site_perl/5.12.5/Email/Abstract/Courriel.pm line 8.
Compilation failed in require at /opt/perl-5.12.5/lib/site_perl/5.12.5/Module/Runtime.pm line 317.
 at /opt/perl-5.12.5/lib/site_perl/5.12.5/Module/Pluggable.pm line 32.
t/40_onelist.t ............... ok
t/41_pod.t ................... ok
Couldn't require Email::Abstract::Courriel : Specification contains unknown keys: [isa] at /opt/perl-5.12.5/lib/site_perl/5.12.5/Courriel/Header.pm line 34.
Compilation failed in require at /opt/perl-5.12.5/lib/site_perl/5.12.5/Courriel/Headers.pm line 9.
BEGIN failed--compilation aborted at /opt/perl-5.12.5/lib/site_perl/5.12.5/Courriel/Headers.pm line 9.
Compilation failed in require at /opt/perl-5.12.5/lib/site_perl/5.12.5/Courriel.pm line 11.
BEGIN failed--compilation aborted at /opt/perl-5.12.5/lib/site_perl/5.12.5/Courriel.pm line 11.
Compilation failed in require at /opt/perl-5.12.5/lib/site_perl/5.12.5/Email/Abstract/Courriel.pm line 8.
BEGIN failed--compilation aborted at /opt/perl-5.12.5/lib/site_perl/5.12.5/Email/Abstract/Courriel.pm line 8.
Compilation failed in require at /opt/perl-5.12.5/lib/site_perl/5.12.5/Module/Runtime.pm line 317.
 at /opt/perl-5.12.5/lib/site_perl/5.12.5/Module/Pluggable.pm line 32.
t/42_pod_coverage.t .......... ok
All tests successful.
Files=41, Tests=240, 28 wallclock secs ( 0.08 usr  0.16 sys + 11.33 cusr  2.17 csys = 13.74 CPU)
Result: PASS

------------------------------
PREREQUISITES
------------------------------

Prerequisite modules loaded:

requires:

    Module              Need  Have    
    ------------------- ----- --------
    Carp                0     1.38    
    Email::Abstract     3.001 3.008   
    Email::Valid        0.182 1.202   
    Mail::Internet      2.04  2.17    
    Test::More          0.08  1.302125
    URI                 1.1   1.73    

build_requires:

    Module              Need  Have    
    ------------------- ----- --------
    ExtUtils::MakeMaker 0     7.32    

configure_requires:

    Module              Need  Have    
    ------------------- ----- --------
    ExtUtils::MakeMaker 0     7.32    


------------------------------
ENVIRONMENT AND OTHER CONTEXT
------------------------------

Environment variables:

    LANG = C
    PATH = /usr/local/bin:/usr/bin:/bin:/usr/local/sbin:/usr/sbin:/sbin:/home/cpansand/bin/linux-gnu:/home/cpansand/bin/sh:/home/cpansand/bin:/usr/games:/home/cpansand/devel:/home/eserte/src/srezic-misc/scripts
    PERL5LIB = /home/cpansand/.cpan/build/2018030503/Class-DBI-v3.0.17-2/blib/arch:/home/cpansand/.cpan/build/2018030503/Class-DBI-v3.0.17-2/blib/lib:/home/cpansand/.cpan/build/2018030503/UNIVERSAL-moniker-0.08-2/blib/arch:/home/cpansand/.cpan/build/2018030503/UNIVERSAL-moniker-0.08-2/blib/lib:/home/cpansand/.cpan/build/2018030503/Ima-DBI-0.35-2/blib/arch:/home/cpansand/.cpan/build/2018030503/Ima-DBI-0.35-2/blib/lib:/home/cpansand/.cpan/build/2018030503/DBIx-ContextualFetch-1.03-2/blib/arch:/home/cpansand/.cpan/build/2018030503/DBIx-ContextualFetch-1.03-2/blib/lib
    PERL5OPT = 
    PERL5_CPANPLUS_IS_RUNNING = 3458
    PERL5_CPAN_IS_RUNNING = 3458
    PERL5_CPAN_IS_RUNNING_IN_RECURSION = 22347,3458
    PERLDOC = -MPod::Perldoc::ToTextOverstrike
    PERL_BATCH = yes
    PERL_CANARY_STABILITY_NOPROMPT = 1
    PERL_CPAN_REPORTER_CONFIG = /var/tmp/cpansmoker-1023/2018030503/cpanreporter_001_config.ini
    PERL_EXTUTILS_AUTOINSTALL = --defaultdeps
    SHELL = /bin/zsh
    TERM = screen
    TMPDIR = /var/tmp/cpansmoker-1023/2018030503

Perl special variables (and OS-specific diagnostics, for MSWin32):

    $^X = /bbbike/perl-5.12.5/bin/perl
    $UID/$EUID = 1023 / 1023
    $GID = 1023 1023
    $EGID = 1023 1023

Perl module toolchain versions installed:

    Module              Have    
    ------------------- --------
    CPAN                2.16    
    CPAN::Meta          2.150010
    Cwd                 3.62    
    ExtUtils::CBuilder  0.280230
    ExtUtils::Command   7.32    
    ExtUtils::Install   2.12    
    ExtUtils::MakeMaker 7.32    
    ExtUtils::Manifest  1.70    
    ExtUtils::ParseXS   3.30    
    File::Spec          3.62    
    JSON                2.94    
    JSON::PP            2.27400 
    Module::Build       0.4224  
    Module::Signature   0.81    
    Parse::CPAN::Meta   2.150010
    Test::Harness       3.41    
    Test::More          1.302125
    YAML                1.23    
    YAML::Syck          1.30    
    version             0.9916  


--

Summary of my perl5 (revision 5 version 12 subversion 5) configuration:
   
  Platform:
    osname=linux, osvers=3.16.0-4-amd64, archname=x86_64-linux
    uname='linux eserte 3.16.0-4-amd64 #1 smp debian 3.16.7-ckt25-2 (2016-04-08) x86_64 gnulinux '
    config_args='-ds -e -Dprefix=/opt/perl-5.12.5 -Dcf_email=srezic@cpan.org'
    hint=recommended, useposix=true, d_sigaction=define
    useithreads=undef, usemultiplicity=undef
    useperlio=define, d_sfio=undef, uselargefiles=define, usesocks=undef
    use64bitint=define, use64bitall=define, uselongdouble=undef
    usemymalloc=n, bincompat5005=undef
  Compiler:
    cc='cc', ccflags ='-fno-strict-aliasing -pipe -fstack-protector -I/usr/local/include -D_LARGEFILE_SOURCE -D_FILE_OFFSET_BITS=64',
    optimize='-O2',
    cppflags='-fno-strict-aliasing -pipe -fstack-protector -I/usr/local/include'
    ccversion='', gccversion='4.9.2', gccosandvers=''
    intsize=4, longsize=8, ptrsize=8, doublesize=8, byteorder=12345678
    d_longlong=define, longlongsize=8, d_longdbl=define, longdblsize=16
    ivtype='long', ivsize=8, nvtype='double', nvsize=8, Off_t='off_t', lseeksize=8
    alignbytes=8, prototype=define
  Linker and Libraries:
    ld='cc', ldflags =' -fstack-protector -L/usr/local/lib'
    libpth=/usr/local/lib /lib/x86_64-linux-gnu /lib/../lib /usr/lib/x86_64-linux-gnu /usr/lib/../lib /lib /usr/lib
    libs=-lnsl -lgdbm -ldb -ldl -lm -lcrypt -lutil -lc -lgdbm_compat
    perllibs=-lnsl -ldl -lm -lcrypt -lutil -lc
    libc=libc-2.19.so, so=so, useshrplib=false, libperl=libperl.a
    gnulibc_version='2.19'
  Dynamic Linking:
    dlsrc=dl_dlopen.xs, dlext=so, d_dlsymun=undef, ccdlflags='-Wl,-E'
    cccdlflags='-fPIC', lddlflags='-shared -O2 -L/usr/local/lib -fstack-protector'


Characteristics of this binary (from libperl): 
  Compile-time options: PERL_DONT_CREATE_GVSV PERL_MALLOC_WRAP USE_64_BIT_ALL
                        USE_64_BIT_INT USE_LARGE_FILES USE_PERLIO
                        USE_PERL_ATOF
  Locally applied patches:
	Devel::PatchPerl 1.42
  Built under linux
  Compiled at May  7 2016 10:05:30
  %ENV:
    PERL5LIB="/home/cpansand/.cpan/build/2018030503/Class-DBI-v3.0.17-2/blib/arch:/home/cpansand/.cpan/build/2018030503/Class-DBI-v3.0.17-2/blib/lib:/home/cpansand/.cpan/build/2018030503/UNIVERSAL-moniker-0.08-2/blib/arch:/home/cpansand/.cpan/build/2018030503/UNIVERSAL-moniker-0.08-2/blib/lib:/home/cpansand/.cpan/build/2018030503/Ima-DBI-0.35-2/blib/arch:/home/cpansand/.cpan/build/2018030503/Ima-DBI-0.35-2/blib/lib:/home/cpansand/.cpan/build/2018030503/DBIx-ContextualFetch-1.03-2/blib/arch:/home/cpansand/.cpan/build/2018030503/DBIx-ContextualFetch-1.03-2/blib/lib"
    PERL5OPT=""
    PERL5_CPANPLUS_IS_RUNNING="3458"
    PERL5_CPAN_IS_RUNNING="3458"
    PERL5_CPAN_IS_RUNNING_IN_RECURSION="22347,3458"
    PERLDOC="-MPod::Perldoc::ToTextOverstrike"
    PERL_BATCH="yes"
    PERL_CANARY_STABILITY_NOPROMPT="1"
    PERL_CPAN_REPORTER_CONFIG="/var/tmp/cpansmoker-1023/2018030503/cpanreporter_001_config.ini"
    PERL_EXTUTILS_AUTOINSTALL="--defaultdeps"
  @INC:
    /home/cpansand/.cpan/build/2018030503/Class-DBI-v3.0.17-2/blib/arch
    /home/cpansand/.cpan/build/2018030503/Class-DBI-v3.0.17-2/blib/lib
    /home/cpansand/.cpan/build/2018030503/UNIVERSAL-moniker-0.08-2/blib/arch
    /home/cpansand/.cpan/build/2018030503/UNIVERSAL-moniker-0.08-2/blib/lib
    /home/cpansand/.cpan/build/2018030503/Ima-DBI-0.35-2/blib/arch
    /home/cpansand/.cpan/build/2018030503/Ima-DBI-0.35-2/blib/lib
    /home/cpansand/.cpan/build/2018030503/DBIx-ContextualFetch-1.03-2/blib/arch
    /home/cpansand/.cpan/build/2018030503/DBIx-ContextualFetch-1.03-2/blib/lib
    /opt/perl-5.12.5/lib/site_perl/5.12.5/x86_64-linux
    /opt/perl-5.12.5/lib/site_perl/5.12.5
    /opt/perl-5.12.5/lib/5.12.5/x86_64-linux
    /opt/perl-5.12.5/lib/5.12.5
    .