Report for Dist-Zilla-PluginBundle-Author-LESPEA-1.008000

Back
From: metabase:user:30ae4450-2aae-11df-837a-5e0a49663a4f
Subject: PASS Dist-Zilla-PluginBundle-Author-LESPEA-1.008000 v5.16.1 
Date: 2014-05-24T15:25:12Z

This distribution has been tested as part of the CPAN Testers
project, supporting the Perl programming language.  See
http://wiki.cpantesters.org/ for more information or email
questions to cpan-testers-discuss@perl.org


--
Dear Adam Lesperance,

This is a computer-generated report for Dist-Zilla-PluginBundle-Author-LESPEA-1.008000
on perl 5.16.1, created by CPAN-Reporter-1.2010_01.

Thank you for uploading your work to CPAN.  Congratulations!
All tests were successful.

Sections of this report:

    * Tester comments
    * Program output
    * Prerequisites
    * Environment and other context

------------------------------
TESTER COMMENTS
------------------------------

Additional comments from tester:

this report is from an automated smoke testing program
and was not reviewed by a human for accuracy

------------------------------
PROGRAM OUTPUT
------------------------------

Output from 'C:\strawberry5161\perl\bin\perl.exe ./Build test':

t/00-compile.t .................. ok
# 
# 
# Generated by Dist::Zilla::Plugin::ReportVersions::Tiny v1.10
# perl: 5.016001 (wanted 5.010) on MSWin32 from C:\strawberry5161\perl\bin\perl.exe
# 
# CPAN::Meta::YAML                              => 0.008      (want any version)
# Carp                                          => 1.26       (want any version)
# Dist::Zilla                                   => 5.019      (want 4.300000)
# Dist::Zilla::Plugin::ArchiveRelease           => 4.00       (want any version)
# Dist::Zilla::Plugin::Authority                => 1.006      (want any version)
# Dist::Zilla::Plugin::AutoMetaResources        => 1.20       (want any version)
# Dist::Zilla::Plugin::AutoPrereqs              => 5.019      (want any version)
# Dist::Zilla::Plugin::Bootstrap::lib           => 0.04000001 (want any version)
# Dist::Zilla::Plugin::ConfirmRelease           => 5.019      (want any version)
# Dist::Zilla::Plugin::ConsistentVersionTest    => 0.02       (want any version)
# Dist::Zilla::Plugin::CopyFilesFromBuild       => 0.103510   (want any version)
# Dist::Zilla::Plugin::DualBuilders             => 1.001      (want any version)
# Dist::Zilla::Plugin::ExecDir                  => 5.019      (want any version)
# Dist::Zilla::Plugin::ExtraTests               => 5.019      (want any version)
# Dist::Zilla::Plugin::FakeRelease              => 5.019      (want any version)
# Dist::Zilla::Plugin::GatherDir                => 5.019      (want any version)
# Dist::Zilla::Plugin::HasVersionTests          => 1.101420   (want any version)
# Dist::Zilla::Plugin::InstallGuide             => 1.200001   (want any version)
# Dist::Zilla::Plugin::License                  => 5.019      (want any version)
# Dist::Zilla::Plugin::MakeMaker                => 5.019      (want any version)
# Dist::Zilla::Plugin::Manifest                 => 5.019      (want any version)
# Dist::Zilla::Plugin::ManifestSkip             => 5.019      (want any version)
# Dist::Zilla::Plugin::MetaConfig               => 5.019      (want any version)
# Dist::Zilla::Plugin::MetaJSON                 => 5.019      (want any version)
# Dist::Zilla::Plugin::MetaNoIndex              => 5.019      (want any version)
# Dist::Zilla::Plugin::MetaTests                => 5.019      (want any version)
# Dist::Zilla::Plugin::MetaYAML                 => 5.019      (want any version)
# Dist::Zilla::Plugin::MinimumPerl              => 1.003      (want any version)
# Dist::Zilla::Plugin::ModuleBuild              => 5.019      (want any version)
# Dist::Zilla::Plugin::NextRelease              => 5.019      (want any version)
# Dist::Zilla::Plugin::PkgVersion               => 5.019      (want any version)
# Dist::Zilla::Plugin::PodCoverageTests         => 5.019      (want any version)
# Dist::Zilla::Plugin::PodSyntaxTests           => 5.019      (want any version)
# Dist::Zilla::Plugin::PodWeaver                => 3.102000   (want any version)
# Dist::Zilla::Plugin::PruneCruft               => 5.019      (want any version)
# Dist::Zilla::Plugin::ReadmeAnyFromPod         => 0.131500   (want any version)
# Dist::Zilla::Plugin::ReportVersions::Tiny     => 1.10       (want any version)
# Dist::Zilla::Plugin::ShareDir                 => 5.019      (want any version)
# Dist::Zilla::Plugin::SpellingCommonMistakesTests => 1.001000   (want any version)
# Dist::Zilla::Plugin::Test::CPAN::Changes      => 0.008      (want 0.005)  
# Dist::Zilla::Plugin::Test::Compile            => 2.034      (want 1.112400)
# Dist::Zilla::Plugin::Test::DistManifest       => 2.000004   (want v2.0.1) 
# Dist::Zilla::Plugin::Test::EOL                => 0.12       (want 0.12)   
# Dist::Zilla::Plugin::Test::Kwalitee           => 2.06       (want any version)
# Dist::Zilla::Plugin::Test::MinimumVersion     => 2.000005   (want v2.0.1) 
# Dist::Zilla::Plugin::Test::NoTabs             => 0.05       (want any version)
# Dist::Zilla::Plugin::Test::Perl::Critic       => 2.112410   (want 2.112410)
# Dist::Zilla::Plugin::Test::Portability        => 2.000005   (want v2.0.1) 
# Dist::Zilla::Plugin::Test::Synopsis           => 2.000004   (want v2.0.1) 
# Dist::Zilla::Plugin::TestRelease              => 5.019      (want any version)
# Dist::Zilla::Plugin::UploadToCPAN             => 5.019      (want any version)
# Dist::Zilla::Role::MintingProfile::ShareDir   => 5.019      (want any version)
# Dist::Zilla::Role::PluginBundle::Easy         => 5.019      (want any version)
# File::ShareDir::Install                       => 0.08       (want 0.03)   
# File::Spec                                    => 3.40       (want any version)
# IO::Handle                                    => 1.33       (want any version)
# IPC::Open3                                    => 1.12       (want any version)
# Module::Build                                 => 0.4007     (want 0.3601) 
# Moose                                         => 2.1005     (want 2.0)    
# Perl::Critic                                  => 1.119      (want 1.118)  
# Perl::Critic::Bangs                           => 1.10       (want 1.08)   
# Perl::Critic::Lax                             => 0.010      (want any version)
# Perl::Critic::Pulp                            => 80         (want any version)
# Perl::Critic::StricterSubs                    => 0.03       (want any version)
# Perl::Critic::Swift                           => v1.0.3     (want any version)
# Perl::MinimumVersion                          => 1.32       (want any version)
# Perl::OSType                                  => 1.002      (want any version)
# Perl::PrereqScanner                           => 1.017      (want any version)
# Pod::Coverage::TrustPod                       => 0.100002   (want any version)
# Pod::Elemental::Transformer::List             => 0.101620   (want any version)
# Pod::Spell                                    => 1.10       (want any version)
# Pod::Weaver                                   => 3.101640   (want 3.101632)
# Pod::Weaver::Config::Assembler                => 3.101640   (want any version)
# Pod::Weaver::Section::Installation            => 1.101421   (want any version)
# Pod::Weaver::Section::SeeAlso                 => 1.002      (want any version)
# Pod::Weaver::Section::Support                 => 1.005      (want any version)
# Pod::Weaver::Section::WarrantyDisclaimer      => 0.121290   (want any version)
# Test::CPAN::Meta                              => 0.23       (want any version)
# Test::More                                    => 0.98       (want 0.88)   
# Test::Perl::Critic                            => 1.02       (want any version)
# Test::Pod::Content                            => 0.0.6      (want any version)
# namespace::autoclean                          => 0.13       (want any version)
# strict                                        => 1.07       (want any version)
# utf8                                          => 1.09       (want any version)
# warnings                                      => 1.13       (want any version)
# 
# Thanks for using my code.  I hope it works for you.
# If not, please try and include this output in the bug report.
# That will help me reproduce the issue and solve your problem.
# 
t/000-report-versions-tiny.t .... ok
t/author-critic.t ............... skipped: these tests are for testing by the author
t/author-test-eol.t ............. skipped: these tests are for testing by the author
t/release-common_spelling.t ..... skipped: these tests are for release candidate testing
t/release-consistent-version.t .. skipped: these tests are for release candidate testing
t/release-cpan-changes.t ........ skipped: these tests are for release candidate testing
t/release-dist-manifest.t ....... skipped: these tests are for release candidate testing
t/release-distmeta.t ............ skipped: these tests are for release candidate testing
t/release-has-version.t ......... skipped: these tests are for release candidate testing
t/release-kwalitee.t ............ skipped: these tests are for release candidate testing
t/release-minimum-version.t ..... skipped: these tests are for release candidate testing
t/release-no-tabs.t ............. skipped: these tests are for release candidate testing
t/release-pod-coverage.t ........ skipped: these tests are for release candidate testing
t/release-pod-syntax.t .......... skipped: these tests are for release candidate testing
All tests successful.
Files=15, Tests=4, 12 wallclock secs ( 0.07 usr +  0.07 sys =  0.14 CPU)
Result: PASS

------------------------------
PREREQUISITES
------------------------------

Prerequisite modules loaded:

requires:

    Module                                           Need     Have      
    ------------------------------------------------ -------- ----------
    Carp                                             0        1.26      
    CPAN::Meta::YAML                                 0        0.008     
    Dist::Zilla                                      4.300000 5.019     
    Dist::Zilla::Plugin::ArchiveRelease              0        4.00      
    Dist::Zilla::Plugin::Authority                   0        1.006     
    Dist::Zilla::Plugin::AutoMetaResources           0        1.20      
    Dist::Zilla::Plugin::AutoPrereqs                 0        5.019     
    Dist::Zilla::Plugin::ConfirmRelease              0        5.019     
    Dist::Zilla::Plugin::ConsistentVersionTest       0        0.02      
    Dist::Zilla::Plugin::CopyFilesFromBuild          0        0.103510  
    Dist::Zilla::Plugin::DualBuilders                0        1.001     
    Dist::Zilla::Plugin::ExecDir                     0        5.019     
    Dist::Zilla::Plugin::ExtraTests                  0        5.019     
    Dist::Zilla::Plugin::FakeRelease                 0        5.019     
    Dist::Zilla::Plugin::GatherDir                   0        5.019     
    Dist::Zilla::Plugin::HasVersionTests             0        1.101420  
    Dist::Zilla::Plugin::InstallGuide                0        1.200001  
    Dist::Zilla::Plugin::License                     0        5.019     
    Dist::Zilla::Plugin::MakeMaker                   0        5.019     
    Dist::Zilla::Plugin::Manifest                    0        5.019     
    Dist::Zilla::Plugin::ManifestSkip                0        5.019     
    Dist::Zilla::Plugin::MetaConfig                  0        5.019     
    Dist::Zilla::Plugin::MetaJSON                    0        5.019     
    Dist::Zilla::Plugin::MetaNoIndex                 0        5.019     
    Dist::Zilla::Plugin::MetaTests                   0        5.019     
    Dist::Zilla::Plugin::MetaYAML                    0        5.019     
    Dist::Zilla::Plugin::MinimumPerl                 0        1.003     
    Dist::Zilla::Plugin::ModuleBuild                 0        5.019     
    Dist::Zilla::Plugin::NextRelease                 0        5.019     
    Dist::Zilla::Plugin::PkgVersion                  0        5.019     
    Dist::Zilla::Plugin::PodCoverageTests            0        5.019     
    Dist::Zilla::Plugin::PodSyntaxTests              0        5.019     
    Dist::Zilla::Plugin::PodWeaver                   0        3.102000  
    Dist::Zilla::Plugin::PruneCruft                  0        5.019     
    Dist::Zilla::Plugin::ReadmeAnyFromPod            0        0.131500  
    Dist::Zilla::Plugin::ReportVersions::Tiny        0        1.10      
    Dist::Zilla::Plugin::ShareDir                    0        5.019     
    Dist::Zilla::Plugin::SpellingCommonMistakesTests 0        1.001000  
    Dist::Zilla::Plugin::Test::Compile               1.112400 2.034     
    Dist::Zilla::Plugin::Test::CPAN::Changes         0.005    0.008     
    Dist::Zilla::Plugin::Test::DistManifest          v2.0.1   2.000004  
    Dist::Zilla::Plugin::Test::EOL                   0.12     0.12      
    Dist::Zilla::Plugin::Test::Kwalitee              0        2.06      
    Dist::Zilla::Plugin::Test::MinimumVersion        v2.0.1   2.000005  
    Dist::Zilla::Plugin::Test::NoTabs                0        0.05      
    Dist::Zilla::Plugin::Test::Perl::Critic          2.112410 2.112410  
    Dist::Zilla::Plugin::Test::Portability           v2.0.1   2.000005  
    Dist::Zilla::Plugin::Test::Synopsis              v2.0.1   2.000004  
    Dist::Zilla::Plugin::TestRelease                 0        5.019     
    Dist::Zilla::Plugin::UploadToCPAN                0        5.019     
    Dist::Zilla::Role::MintingProfile::ShareDir      0        5.019     
    Dist::Zilla::Role::PluginBundle::Easy            0        5.019     
    File::ShareDir                                   1.00     1.03      
    Moose                                            2.0      2.1005    
    namespace::autoclean                             0        0.13      
    perl                                             5.010    5.016001  
    Perl::Critic                                     1.118    1.119     
    Perl::Critic::Bangs                              1.08     1.10      
    Perl::Critic::Lax                                0        0.010     
    Perl::Critic::Pulp                               0        80        
    Perl::Critic::StricterSubs                       0        0.03      
    Perl::Critic::Swift                              0        v1.0.3    
    Perl::MinimumVersion                             0        1.32      
    Perl::OSType                                     0        1.002     
    Perl::PrereqScanner                              0        1.017     
    Pod::Coverage::TrustPod                          0        0.100002  
    Pod::Elemental::Transformer::List                0        0.101620  
    Pod::Spell                                       0        1.10      
    Pod::Weaver                                      3.101632 3.101640  
    Pod::Weaver::Config::Assembler                   0        3.101640  
    Pod::Weaver::Section::Installation               0        1.101421  
    Pod::Weaver::Section::SeeAlso                    0        1.002     
    Pod::Weaver::Section::Support                    0        1.005     
    Pod::Weaver::Section::WarrantyDisclaimer         0        0.121290  
    strict                                           0        1.07      
    Test::CPAN::Meta                                 0        0.23      
    Test::Perl::Critic                               0        1.02      
    Test::Pod::Content                               0        0.0.6     
    utf8                                             0        1.09      
    warnings                                         0        1.13      

build_requires:

    Module                                           Need     Have      
    ------------------------------------------------ -------- ----------
    Dist::Zilla::Plugin::Bootstrap::lib              0        0.04000001
    File::Spec                                       0        3.40      
    IO::Handle                                       0        1.33      
    IPC::Open3                                       0        1.12      
    Module::Build                                    0.3601   0.4007    
    perl                                             5.010    5.016001  
    Test::More                                       0.88     0.98      

configure_requires:

    Module                                           Need     Have      
    ------------------------------------------------ -------- ----------
    File::ShareDir::Install                          0.03     0.08      
    Module::Build                                    0.3601   0.4007    


------------------------------
ENVIRONMENT AND OTHER CONTEXT
------------------------------

Environment variables:

    AUTOMATED_TESTING = 1
    COMSPEC = C:\WINDOWS\system32\cmd.exe
    NUMBER_OF_PROCESSORS = 1
    PATH = C:\Program Files\Far Manager\;C:\WINDOWS\system32;C:\WINDOWS;C:\WINDOWS\System32\Wbem;C:\strawberry5161\c\bin;C:\strawberry5161\perl\site\bin;C:\strawberry5161\perl\bin
    PERL5LIB = C:\strawberry5161\cpan\build\Dist-Zilla-Plugin-Test-EOL-0.12-ejkIDH/blib/arch;C:\strawberry5161\cpan\build\Dist-Zilla-Plugin-Test-EOL-0.12-ejkIDH/blib/lib;C:\strawberry5161\cpan\build\Dist-Zilla-5.019-WtPQz9/blib/arch;C:\strawberry5161\cpan\build\Dist-Zilla-5.019-WtPQz9/blib/lib;C:\strawberry5161\cpan\build\App-Cmd-0.323-JL5lRo/blib/arch;C:\strawberry5161\cpan\build\App-Cmd-0.323-JL5lRo/blib/lib;C:\strawberry5161\cpan\build\Getopt-Long-2.42-EzUyBE/blib/arch;C:\strawberry5161\cpan\build\Getopt-Long-2.42-EzUyBE/blib/lib;C:\strawberry5161\cpan\build\Data-Section-0.200006-dnpEvK/blib/arch;C:\strawberry5161\cpan\build\Data-Section-0.200006-dnpEvK/blib/lib;C:\strawberry5161\cpan\build\Mixin-Linewise-0.106-_4QV9_/blib/arch;C:\strawberry5161\cpan\build\Mixin-Linewise-0.106-_4QV9_/blib/lib;C:\strawberry5161\cpan\build\PerlIO-utf8_strict-0.004-ga5Q9R/blib/arch;C:\strawberry5161\cpan\build\PerlIO-utf8_strict-0.004-ga5Q9R/blib/lib;C:\strawberry5161\cpan\build\File-ShareDir-Install-0.08-hxqN1M/blib/arch;C:\strawberry5161\cpan\build\File-ShareDir-Install-0.08-hxqN1M/blib/lib
    PERL5OPT = 
    PERL5_CPANPLUS_IS_RUNNING = 10208
    PERL5_CPAN_IS_RUNNING = 10208
    PERL5_CPAN_IS_RUNNING_IN_RECURSION = 1096,10208
    PERL_CR_SMOKER_CURRENT = Dist-Zilla-PluginBundle-Author-LESPEA-1.008000
    PERL_EXTUTILS_AUTOINSTALL = --defaultdeps
    PERL_MM_USE_DEFAULT = 1
    PROCESSOR_IDENTIFIER = x86 Family 16 Model 5 Stepping 3, AuthenticAMD
    TEMP = C:\DOCUME~1\c\LOCALS~1\Temp
    TERM = dumb

Perl special variables (and OS-specific diagnostics, for MSWin32):

    $^X = C:\strawberry5161\perl\bin\perl.exe
    $UID/$EUID = 0 / 0
    $GID = 0
    $EGID = 0
    Win32::GetOSName = WinXP/.Net
    Win32::GetOSVersion = Service Pack 3, 5, 1, 2600, 2, 3, 0, 256, 1
    Win32::FsType = NTFS
    Win32::IsAdminUser = 1

Perl module toolchain versions installed:

    Module              Have    
    ------------------- --------
    CPAN                2.00    
    CPAN::Meta          2.132661
    Cwd                 3.40    
    ExtUtils::CBuilder  0.280206
    ExtUtils::Command   1.17    
    ExtUtils::Install   1.58    
    ExtUtils::MakeMaker 6.63_02 
    ExtUtils::Manifest  1.61    
    ExtUtils::ParseXS   3.16    
    File::Spec          3.40    
    JSON                2.59    
    JSON::PP            2.27200 
    Module::Build       0.4007  
    Module::Signature   0.68    
    Parse::CPAN::Meta   1.4404  
    Test::Harness       3.29    
    Test::More          0.98    
    YAML                0.84    
    YAML::Syck          1.27    
    version             0.9904  


--

Summary of my perl5 (revision 5 version 16 subversion 1) configuration:
   
  Platform:
    osname=MSWin32, osvers=4.0, archname=MSWin32-x86-multi-thread
    uname='Win32 strawberry-perl 5.16.1.1 #1 Thu Aug  9 09:54:46 2012 i386'
    config_args='undef'
    hint=recommended, useposix=true, d_sigaction=undef
    useithreads=define, usemultiplicity=define
    useperlio=define, d_sfio=undef, uselargefiles=define, usesocks=undef
    use64bitint=undef, use64bitall=undef, uselongdouble=undef
    usemymalloc=n, bincompat5005=undef
  Compiler:
    cc='gcc', ccflags =' -s -O2 -DWIN32  -DPERL_TEXTMODE_SCRIPTS -DPERL_IMPLICIT_CONTEXT -DPERL_IMPLICIT_SYS -fno-strict-aliasing -mms-bitfields',
    optimize='-s -O2',
    cppflags='-DWIN32'
    ccversion='', gccversion='4.6.3', gccosandvers=''
    intsize=4, longsize=4, ptrsize=4, doublesize=8, byteorder=1234
    d_longlong=undef, longlongsize=8, d_longdbl=define, longdblsize=12
    ivtype='long', ivsize=4, nvtype='double', nvsize=8, Off_t='long long', lseeksize=8
    alignbytes=8, prototype=define
  Linker and Libraries:
    ld='g++', ldflags ='-s -L"C:\strawberry5161\perl\lib\CORE" -L"C:\strawberry5161\c\lib"'
    libpth=C:\strawberry5161\c\lib C:\strawberry5161\c\i686-w64-mingw32\lib
    libs=-lmoldname -lkernel32 -luser32 -lgdi32 -lwinspool -lcomdlg32 -ladvapi32 -lshell32 -lole32 -loleaut32 -lnetapi32 -luuid -lws2_32 -lmpr -lwinmm -lversion -lodbc32 -lodbccp32 -lcomctl32
    perllibs=-lmoldname -lkernel32 -luser32 -lgdi32 -lwinspool -lcomdlg32 -ladvapi32 -lshell32 -lole32 -loleaut32 -lnetapi32 -luuid -lws2_32 -lmpr -lwinmm -lversion -lodbc32 -lodbccp32 -lcomctl32
    libc=, so=dll, useshrplib=true, libperl=libperl516.a
    gnulibc_version=''
  Dynamic Linking:
    dlsrc=dl_win32.xs, dlext=dll, d_dlsymun=undef, ccdlflags=' '
    cccdlflags=' ', lddlflags='-mdll -s -L"C:\strawberry5161\perl\lib\CORE" -L"C:\strawberry5161\c\lib"'


Characteristics of this binary (from libperl): 
  Compile-time options: HAS_TIMES HAVE_INTERP_INTERN MULTIPLICITY
                        PERLIO_LAYERS PERL_DONT_CREATE_GVSV
                        PERL_IMPLICIT_CONTEXT PERL_IMPLICIT_SYS
                        PERL_MALLOC_WRAP PERL_PRESERVE_IVUV PL_OP_SLAB_ALLOC
                        USE_ITHREADS USE_LARGE_FILES USE_LOCALE
                        USE_LOCALE_COLLATE USE_LOCALE_CTYPE
                        USE_LOCALE_NUMERIC USE_PERLIO USE_PERL_ATOF
  Built under MSWin32
  Compiled at Aug  9 2012 10:03:09
  %ENV:
    PERL5LIB="C:\strawberry5161\cpan\build\Dist-Zilla-Plugin-Test-EOL-0.12-ejkIDH/blib/arch;C:\strawberry5161\cpan\build\Dist-Zilla-Plugin-Test-EOL-0.12-ejkIDH/blib/lib;C:\strawberry5161\cpan\build\Dist-Zilla-5.019-WtPQz9/blib/arch;C:\strawberry5161\cpan\build\Dist-Zilla-5.019-WtPQz9/blib/lib;C:\strawberry5161\cpan\build\App-Cmd-0.323-JL5lRo/blib/arch;C:\strawberry5161\cpan\build\App-Cmd-0.323-JL5lRo/blib/lib;C:\strawberry5161\cpan\build\Getopt-Long-2.42-EzUyBE/blib/arch;C:\strawberry5161\cpan\build\Getopt-Long-2.42-EzUyBE/blib/lib;C:\strawberry5161\cpan\build\Data-Section-0.200006-dnpEvK/blib/arch;C:\strawberry5161\cpan\build\Data-Section-0.200006-dnpEvK/blib/lib;C:\strawberry5161\cpan\build\Mixin-Linewise-0.106-_4QV9_/blib/arch;C:\strawberry5161\cpan\build\Mixin-Linewise-0.106-_4QV9_/blib/lib;C:\strawberry5161\cpan\build\PerlIO-utf8_strict-0.004-ga5Q9R/blib/arch;C:\strawberry5161\cpan\build\PerlIO-utf8_strict-0.004-ga5Q9R/blib/lib;C:\strawberry5161\cpan\build\File-ShareDir-Install-0.08-hxqN1M/blib/arch;C:\strawberry5161\cpan\build\File-ShareDir-Install-0.08-hxqN1M/blib/lib"
    PERL5_CPANPLUS_IS_RUNNING="10208"
    PERL5_CPAN_IS_RUNNING="10208"
    PERL5_CPAN_IS_RUNNING_IN_RECURSION="1096,10208"
    PERL_CR_SMOKER_CURRENT="Dist-Zilla-PluginBundle-Author-LESPEA-1.008000"
    PERL_EXTUTILS_AUTOINSTALL="--defaultdeps"
    PERL_MM_USE_DEFAULT="1"
  @INC:
    C:\strawberry5161\cpan\build\Dist-Zilla-Plugin-Test-EOL-0.12-ejkIDH/blib/arch
    C:\strawberry5161\cpan\build\Dist-Zilla-Plugin-Test-EOL-0.12-ejkIDH/blib/lib
    C:\strawberry5161\cpan\build\Dist-Zilla-5.019-WtPQz9/blib/arch
    C:\strawberry5161\cpan\build\Dist-Zilla-5.019-WtPQz9/blib/lib
    C:\strawberry5161\cpan\build\App-Cmd-0.323-JL5lRo/blib/arch
    C:\strawberry5161\cpan\build\App-Cmd-0.323-JL5lRo/blib/lib
    C:\strawberry5161\cpan\build\Getopt-Long-2.42-EzUyBE/blib/arch
    C:\strawberry5161\cpan\build\Getopt-Long-2.42-EzUyBE/blib/lib
    C:\strawberry5161\cpan\build\Data-Section-0.200006-dnpEvK/blib/arch
    C:\strawberry5161\cpan\build\Data-Section-0.200006-dnpEvK/blib/lib
    C:\strawberry5161\cpan\build\Mixin-Linewise-0.106-_4QV9_/blib/arch
    C:\strawberry5161\cpan\build\Mixin-Linewise-0.106-_4QV9_/blib/lib
    C:\strawberry5161\cpan\build\PerlIO-utf8_strict-0.004-ga5Q9R/blib/arch
    C:\strawberry5161\cpan\build\PerlIO-utf8_strict-0.004-ga5Q9R/blib/lib
    C:\strawberry5161\cpan\build\File-ShareDir-Install-0.08-hxqN1M/blib/arch
    C:\strawberry5161\cpan\build\File-ShareDir-Install-0.08-hxqN1M/blib/lib
    C:/strawberry5161/perl/site/lib
    C:/strawberry5161/perl/vendor/lib
    C:/strawberry5161/perl/lib
    .