Module-Pluggable v6.3 Perl 5 v5.42.0 x86_64-linux-thread-multi
- Status
- Pass
- From
- Nick Alcock
- Dist
-
Module-Pluggable v6.3
- Platform
- Perl 5 v5.42.0 x86_64-linux-thread-multi
- Date
- 2025-10-11 16:39:33
- ID
- ddaed8c8-a6c0-11f0-8301-8c01af203f54
This distribution has been tested as part of the CPAN Testers
project, supporting the Perl programming language. See
http://wiki.cpantesters.org/ for more information or email
questions to cpan-testers-discuss@perl.org
--
Dear Simon Wistow,
This is a computer-generated report for Module-Pluggable-6.3
on perl 5.42.0, created by CPAN-Reporter-1.2020.
Thank you for uploading your work to CPAN. Congratulations!
All tests were successful.
Sections of this report:
* Tester comments
* Program output
* Prerequisites
* Environment and other context
------------------------------
TESTER COMMENTS
------------------------------
Additional comments from tester:
none provided
------------------------------
PROGRAM OUTPUT
------------------------------
Output from '/usr/bin/make test':
PERL_DL_NONLAZY=1 "/pkg/perl/5.42.0/usr/bin/perl" "-MExtUtils::Command::MM" "-MTest::Harness" "-e" "undef *Test::Harness::Switches; test_harness(0, 'blib/lib', 'blib/arch')" t/*.t
t/01use.t .................... ok
t/02alsoworks.t .............. ok
t/02works.t .................. ok
t/02works_taint.t ............ ok
t/03diffname.t ............... ok
t/04acmedir.t ................ ok
t/04acmedir_single.t ......... ok
t/04acmepath.t ............... ok
t/04acmepath_single.t ........ ok
t/05postpath.t ............... ok
t/06multipath.t .............. ok
t/07instantiate.t ............ ok
t/08nothing.t ................ ok
t/09require.t ................ ok
t/10innerpack.t .............. ok
t/10innerpack_inner.t ........ ok
t/10innerpack_noinner.t ...... ok
t/10innerpack_onefile.t ...... ok
t/10innerpack_override.t ..... ok
t/10innerpack_super.t ........ ok
t/11usetwice.t ............... ok
t/12only.t ................... ok
t/12onlyarray.t .............. ok
t/12onlyregex.t .............. ok
t/12onlyrequire.t ............ ok
t/13except.t ................. ok
t/13exceptarray.t ............ ok
t/13exceptregex.t ............ ok
t/14package.t ................ ok
t/15topicsafe.t .............. ok
t/16different_extension.t .... ok
t/17devel_inner_package.t .... ok
t/18skipped_package.t ........ ok
t/19can_ok_clobber.t ......... ok
t/20dodgy_files.t ............ ok
t/21editor_junk.t ............ ok
t/22trigger.t ................ ok
t/23depth.t .................. ok
t/24local_inc_object.t ....... ok
t/24local_inc_package.t ...... ok
t/25single_letter_package.t .. ok
t/26inc_hook.t ............... ok
t/27app_fatpacker.t .......... skipped: App::FatPacker >= 0.10.0 not available
t/28appledouble.t ............ ok
t/29unreadable.t ............. skipped: Running as root
All tests successful.
Files=45, Tests=186, 3 wallclock secs ( 0.13 usr 0.03 sys + 2.75 cusr 0.28 csys = 3.19 CPU)
Result: PASS
------------------------------
PREREQUISITES
------------------------------
Prerequisite modules loaded:
requires:
Module Need Have
--------------------- ----- --------
Exporter 5.57 5.79
File::Basename 0 2.86
File::Find 0 1.44
File::Spec 3.00 3.94
File::Spec::Functions 0 3.94
if 0 0.0610
perl 5.006 5.042000
Scalar::Util 0 1.68_01
strict 0 1.14
build_requires:
Module Need Have
--------------------- ----- --------
base 0 2.27
Cwd 0 3.94
Data::Dumper 0 2.192
ExtUtils::MakeMaker 0 7.76
File::Copy 0 2.41
File::Find 0 1.44
File::Path 0 2.18
File::Spec::Functions 0 3.94
File::Temp 0 0.2311
FindBin 0 1.54
strict 0 1.14
Test::More 0 1.302214
warnings 0 1.74
configure_requires:
Module Need Have
--------------------- ----- --------
ExtUtils::MakeMaker 0 7.76
opt_requires:
Module Need Have
--------------------- ----- --------
Module::Runtime 0.012 0.018
------------------------------
ENVIRONMENT AND OTHER CONTEXT
------------------------------
Environment variables:
LANG = en_GB.UTF-8
LC_COLLATE = C
PATH = /usr/sbin:/usr/bin:/usr/games
PERL5LIB =
PERL5OPT =
PERL5_CPANPLUS_IS_RUNNING = 25257
PERL5_CPAN_IS_RUNNING = 25257
PERL_USE_UNSAFE_INC = 1
SHELL = /bin/bash
TERM = vte
Perl special variables (and OS-specific diagnostics, for MSWin32):
$^X = /pkg/perl/5.42.0/usr/bin/perl
$UID/$EUID = 0 / 0
$GID = 0 0 1 2 3 4 6 10 11 16 25 72 73 80 81 89
$EGID = 0 0 1 2 3 4 6 10 11 16 25 72 73 80 81 89
Perl module toolchain versions installed:
Module Have
------------------- --------
CPAN 2.38
CPAN::Meta 2.150010
Cwd 3.94
ExtUtils::CBuilder 0.280242
ExtUtils::Command 7.76
ExtUtils::Install 2.22
ExtUtils::MakeMaker 7.76
ExtUtils::Manifest 1.75
ExtUtils::ParseXS 3.57
File::Spec 3.94
JSON 4.10
JSON::PP 4.16
Module::Build 0.4234
Module::Signature 0.93
Parse::CPAN::Meta 2.150010
Test2 1.302214
Test::Harness 3.50
Test::More 1.302214
YAML 1.31
YAML::Syck n/a
version 0.9933
--
Summary of my perl5 (revision 5 version 42 subversion 0) configuration:
Platform:
osname=linux
osvers=6.15.6-00002-g0d4613ee4427-dirty
archname=x86_64-linux-thread-multi
uname='linux loom 6.15.6-00002-g0d4613ee4427-dirty #2 smp sun jul 13 12:35:56 bst 2025 x86_64 gnulinux '
config_args='-d -e -Duseithreads -D privlib=/usr/lib/perl5/5.42 -D sitelib=/usr/lib/perl5/site_perl/5.42 -D optimize=-std=gnu17 -fzero-init-padding-bits=unions -gdwarf-4 -feliminate-unused-debug-types -fvar-tracking-assignments -O2 -pipe '
hint=recommended
useposix=true
d_sigaction=define
useithreads=define
usemultiplicity=define
use64bitint=define
use64bitall=define
uselongdouble=undef
usemymalloc=n
default_inc_excludes_dot=define
Compiler:
cc='gcc'
ccflags ='-D_REENTRANT -D_GNU_SOURCE -D_REENTRANT -D_GNU_SOURCE -g -fno-strict-aliasing -D_LARGEFILE_SOURCE -D_FILE_OFFSET_BITS=64 -pipe -fstack-protector-strong -fwrapv -feliminate-unused-debug-types -fvar-tracking-assignments -fstack-clash-protection -fno-lto -D_LARGEFILE_SOURCE -D_FILE_OFFSET_BITS=64 -D_FORTIFY_SOURCE=2'
optimize='-std=gnu17 -fzero-init-padding-bits=unions -gdwarf-4 -feliminate-unused-debug-types -fvar-tracking-assignments -O2 -pipe '
cppflags='-D_REENTRANT -D_GNU_SOURCE -D_REENTRANT -D_GNU_SOURCE -g -fno-strict-aliasing -D_LARGEFILE_SOURCE -D_FILE_OFFSET_BITS=64 -pipe -fstack-protector-strong -fwrapv -feliminate-unused-debug-types -fvar-tracking-assignments -fstack-clash-protection -fno-lto'
ccversion=''
gccversion='15.1.1 20250722'
gccosandvers=''
intsize=4
longsize=8
ptrsize=8
doublesize=8
byteorder=12345678
doublekind=3
d_longlong=define
longlongsize=8
d_longdbl=define
longdblsize=16
longdblkind=3
ivtype='long'
ivsize=8
nvtype='double'
nvsize=8
Off_t='off_t'
lseeksize=8
alignbytes=8
prototype=define
Linker and Libraries:
ld='gcc'
ldflags ='-Wl,--enable-new-dtags -fstack-protector-strong -L/usr/local/lib'
libpth=/usr/lib /lib /usr/local/lib
libs=-lpthread -lgdbm -ldb -ldl -lm -lcrypt -lutil -lc -lgdbm_compat
perllibs=-lpthread -ldl -lm -lcrypt -lutil -lc
libc=/lib/64/libc.so.6
so=so
useshrplib=true
libperl=libperl.so
gnulibc_version='2.41'
Dynamic Linking:
dlsrc=dl_dlopen.xs
dlext=so
d_dlsymun=undef
ccdlflags='-Wl,-E -Wl,-rpath,/usr/lib/perl5/5.42/x86_64-linux-thread-multi/CORE'
cccdlflags='-fPIC'
lddlflags='-shared -std=gnu17 -fzero-init-padding-bits=unions -gdwarf-4 -feliminate-unused-debug-types -fvar-tracking-assignments -O2 -pipe -L/usr/local/lib -fstack-protector-strong'
Characteristics of this binary (from libperl):
Compile-time options:
HAS_LONG_DOUBLE
HAS_STRTOLD
HAS_TIMES
MULTIPLICITY
PERLIO_LAYERS
PERL_COPY_ON_WRITE
PERL_DONT_CREATE_GVSV
PERL_HASH_FUNC_SIPHASH13
PERL_HASH_USE_SBOX32
PERL_MALLOC_WRAP
PERL_OP_PARENT
PERL_PRESERVE_IVUV
PERL_USE_SAFE_PUTENV
USE_64_BIT_ALL
USE_64_BIT_INT
USE_ITHREADS
USE_LARGE_FILES
USE_LOCALE
USE_LOCALE_COLLATE
USE_LOCALE_CTYPE
USE_LOCALE_NUMERIC
USE_LOCALE_TIME
USE_PERLIO
USE_PERL_ATOF
USE_REENTRANT_API
USE_THREAD_SAFE_LOCALE
Built under linux
Compiled at Oct 11 2025 16:22:39
%ENV:
PERL5LIB=""
PERL5OPT=""
PERL5_CPANPLUS_IS_RUNNING="25257"
PERL5_CPAN_IS_RUNNING="25257"
PERL_USE_UNSAFE_INC="1"
@INC:
/usr/lib/perl5/site_perl/5.42/x86_64-linux-thread-multi
/usr/lib/perl5/site_perl/5.42
/usr/lib/perl5/5.42/x86_64-linux-thread-multi
/usr/lib/perl5/5.42
.