Back
From: metabase:user:7df99472-de84-11e0-8421-5334ad21bd5f
Subject: PASS Class-MakeMethods-1.01 v5.14.1 Mac OS X
Date: 2011-09-15T05:23:38Z
This distribution has been tested as part of the CPAN Testers
project, supporting the Perl programming language. See
http://wiki.cpantesters.org/ for more information or email
questions to cpan-testers-discuss@perl.org
--
Dear Matthew Simon Cavalletto,
This is a computer-generated report for Class-MakeMethods-1.01
on perl 5.14.1, created by CPAN-Reporter-1.2002.
Thank you for uploading your work to CPAN. Congratulations!
All tests were successful.
Sections of this report:
* Tester comments
* Program output
* Prerequisites
* Environment and other context
------------------------------
TESTER COMMENTS
------------------------------
Additional comments from tester:
none provided
------------------------------
PROGRAM OUTPUT
------------------------------
Output from '/usr/bin/make test':
PERL_DL_NONLAZY=1 /Users/greeneg/Lang/Perl/bin/perl "-Iblib/lib" "-Iblib/arch" test.pl
test.pl: Searching for test scripts in .
test.pl: Found 121 .t files for test harness.
./tests/access/attribute_stnd_hash.t .................... ok
./tests/access/autoload_stnd_hash.t ..................... ok
./tests/access/autoload_typemap.t ....................... ok
./tests/access/import_version.t ......................... ok
./tests/basic/array_scalar.t ............................ ok
./tests/basic/declarations.t ............................ ok
./tests/basic/global_hash.t ............................. ok
./tests/basic/global_scalar.t ........................... ok
./tests/basic/hash_scalar.t ............................. ok
./tests/composite/declarations.t ........................ ok
./tests/composite/hash.t ................................ ok
./tests/composite/inheritable.t ......................... ok
./tests/composite/inheritable_hash.t .................... ok
./tests/composite/inheritable_hook.t .................... ok
./tests/composite/patch.t ............................... ok
./tests/evaled/hash_scalar.t ............................ ok
./tests/standard/standard_declarations.t ................ ok
./tests/standard/standard_hash.t ........................ ok
./tests/standard/standard_inheritable.t ................. ok
./tests/standard/standard_inheritable_hash.t ............ ok
./tests/template/abstract.t ............................. ok
./tests/template/array_number.t ......................... ok
./tests/template/array_object.t ......................... ok
./tests/template/array_scalar.t ......................... ok
./tests/template/class_array.t .......................... ok
./tests/template/class_scalar.t ......................... ok
./tests/template/classvar_array.t ....................... ok
./tests/template/classvar_scalar.t ...................... ok
./tests/template/clone.t ................................ ok
./tests/template/declaration.t .......................... ok
./tests/template/doc_examples.t ......................... ok
./tests/template/doc_extending.t ........................ ok
./tests/template/global_array.t ......................... ok
./tests/template/global_code.t .......................... ok
./tests/template/global_hash.t .......................... ok
./tests/template/global_scalar.t ........................ ok
./tests/template/global_scalar_lvalue.t ................. ok
./tests/template/hash_array.t ........................... ok
./tests/template/hash_array_getset.t .................... ok
./tests/template/hash_array_lvalue.t .................... ok
./tests/template/hash_array_object.t .................... ok
./tests/template/hash_boolean.t ......................... ok
./tests/template/hash_code.t ............................ ok
./tests/template/hash_copy.t ............................ ok
./tests/template/hash_counter.t ......................... ok
./tests/template/hash_counter_closure.t ................. ok
./tests/template/hash_hash.t ............................ ok
./tests/template/hash_hash_array.t ...................... ok
./tests/template/hash_method.t .......................... ok
./tests/template/hash_new.t ............................. ok
./tests/template/hash_number.t .......................... ok
./tests/template/hash_number_interfaces.t ............... ok
./tests/template/hash_object.t .......................... ok
./tests/template/hash_scalar.t .......................... ok
./tests/template/hash_scalar_closure.t .................. ok
./tests/template/hash_scalar_interfaces.t ............... ok
./tests/template/hash_scalar_lvalue.t ................... ok
./tests/template/hash_string_concat.t ................... ok
./tests/template/hash_string_index.t .................... ok
./tests/template/hash_string_index_create.t ............. ok
./tests/template/hash_struct.t .......................... ok
./tests/template/hash_tiedhash.t ........................ ok
./tests/template/inherit_scalar.t ....................... ok
./tests/template/insideout_array.t ...................... ok
./tests/template/insideout_bool_i.t ..................... ok
./tests/template/insideout_scalar.t ..................... ok
./tests/template/modifier_private.t ..................... ok
./tests/template/package_scalar.t ....................... ok
./tests/template/scalar_bits.t .......................... ok
./tests/template/scalar_counter.t ....................... ok
./tests/utility/inheritable.t ........................... ok
./tests/utility/text_builder.t .......................... ok
./tests/xemulator/accessors/chained.t ................... ok
./tests/xemulator/accessors/classic.t ................... ok
./tests/xemulator/accessors/default.t ................... ok
./tests/xemulator/accessors/invalid.t ................... ok
./tests/xemulator/class_accessor/class_accessor_fast.t .. ok
./tests/xemulator/class_inheritable/emulate.t ........... ok
./tests/xemulator/class_inheritable/transparent.t ....... ok
./tests/xemulator/class_methodmaker/abstract.t .......... ok
./tests/xemulator/class_methodmaker/boolean.092.t ....... ok
./tests/xemulator/class_methodmaker/boolean.t ........... ok
./tests/xemulator/class_methodmaker/code.t .............. ok
./tests/xemulator/class_methodmaker/copy.t .............. ok
./tests/xemulator/class_methodmaker/counter.t ........... ok
./tests/xemulator/class_methodmaker/get_concat.092.t .... ok
./tests/xemulator/class_methodmaker/get_concat.t ........ ok
./tests/xemulator/class_methodmaker/get_set.092.t ....... ok
./tests/xemulator/class_methodmaker/get_set.t ........... ok
./tests/xemulator/class_methodmaker/grouped_fields.t .... ok
./tests/xemulator/class_methodmaker/hash.092.t .......... ok
./tests/xemulator/class_methodmaker/hash.t .............. ok
./tests/xemulator/class_methodmaker/hash_of_lists.t ..... ok
./tests/xemulator/class_methodmaker/key_attrib.t ........ ok
./tests/xemulator/class_methodmaker/key_with_create.t ... ok
./tests/xemulator/class_methodmaker/list.092.t .......... ok
./tests/xemulator/class_methodmaker/list.104.t .......... ok
./tests/xemulator/class_methodmaker/list.t .............. ok
./tests/xemulator/class_methodmaker/listed_attrib.t ..... ok
./tests/xemulator/class_methodmaker/method.t ............ ok
./tests/xemulator/class_methodmaker/new.092.t ........... ok
./tests/xemulator/class_methodmaker/new.102.t ........... ok
./tests/xemulator/class_methodmaker/new.t ............... ok
./tests/xemulator/class_methodmaker/object.092.t ........ ok
./tests/xemulator/class_methodmaker/object.t ............ ok
./tests/xemulator/class_methodmaker/object_list.102.t ... ok
./tests/xemulator/class_methodmaker/object_list.t ....... ok
./tests/xemulator/class_methodmaker/static_get_set.t .... ok
./tests/xemulator/class_methodmaker/static_hash.092.t ... ok
./tests/xemulator/class_methodmaker/static_hash.t ....... ok
./tests/xemulator/class_methodmaker/static_list.t ....... ok
./tests/xemulator/class_methodmaker/struct.t ............ ok
./tests/xemulator/class_methodmaker/sugar.092.t ......... ok
./tests/xemulator/class_methodmaker/tie_hash.t .......... ok
./tests/xemulator/class_singleton/emulate.t ............. ok
./tests/xemulator/class_singleton/transparent.t ......... ok
./tests/xemulator/class_struct/emulate.t ................ ok
./tests/xemulator/class_struct/equivalent.t ............. ok
./tests/xemulator/mcoder/getset.t ....................... ok
./tests/xemulator/mcoder/proxies.t ...................... ok
./tests/xemulator/mcoder/sugar.t ........................ ok
All tests successful.
Files=121, Tests=1760, 5 wallclock secs ( 0.50 usr 0.24 sys + 3.04 cusr 0.64 csys = 4.42 CPU)
Result: PASS
------------------------------
PREREQUISITES
------------------------------
Prerequisite modules loaded:
build_requires:
Module Need Have
------------------- ---- ----
ExtUtils::MakeMaker 0 6.59
------------------------------
ENVIRONMENT AND OTHER CONTEXT
------------------------------
Environment variables:
LANG = en_US.UTF-8
LC_ALL = en_US.UTF-8
LC_CTYPE = C
MOD_PERL_API_VERSION = 2
PATH = /Users/greeneg/Lang/Perl/bin:/Users/greeneg/Lang/Perl/sbin:/Users/greeneg/Lang/Perl/bin:/opt/local/bin:/opt/local/sbin:/Users/greeneg/Lang/Perl/bin:/Users/greeneg/Lang/Perl/sbin:/Users/greeneg/Lang/Perl/bin:/opt/local/bin:/opt/local/sbin:/usr/bin:/bin:/usr/sbin:/sbin:/usr/local/bin:/usr/X11/bin:/usr/local/git/bin:/usr/local/MacGPG2/bin
PERL5LIB =
PERL5OPT =
PERL5_CPANPLUS_IS_RUNNING = 8296
PERL5_CPAN_IS_RUNNING = 8296
SHELL = /bin/zsh
TERM = xterm-256color
TMPDIR = /var/folders/4r/q8z8fy2j1kd6rc8vks0hy08h000102/T/
Perl special variables (and OS-specific diagnostics, for MSWin32):
$^X = /Users/greeneg/Lang/Perl/bin/perl
$UID/$EUID = 1026 / 1026
$GID = 20 20 502 80 401 12 33 62 79 81 98 100 204 402
$EGID = 20 20 502 80 401 12 33 62 79 81 98 100 204 402
Perl module toolchain versions installed:
Module Have
------------------- --------
CPAN 1.9800
CPAN::Meta 2.112150
Cwd 3.36
ExtUtils::CBuilder 0.280203
ExtUtils::Command 1.17
ExtUtils::Install 1.56
ExtUtils::MakeMaker 6.59
ExtUtils::Manifest 1.60
ExtUtils::ParseXS 3.04
File::Spec 3.33
JSON 2.53
JSON::PP 2.27200
Module::Build 0.3800
Module::Signature 0.68
Parse::CPAN::Meta 1.4401
Test::Harness 3.23
Test::More 0.98
YAML 0.73
YAML::Syck 1.17
version 0.94
--
Summary of my perl5 (revision 5 version 14 subversion 1) configuration:
Platform:
osname=darwin, osvers=11.1.0, archname=darwin-thread-multi-ld-2level
uname='darwin skuld.tolharadys.net 11.1.0 darwin kernel version 11.1.0: tue jul 26 16:07:11 pdt 2011; root:xnu-1699.22.81~1release_x86_64 x86_64 '
config_args=''
hint=recommended, useposix=true, d_sigaction=define
useithreads=define, usemultiplicity=define
useperlio=define, d_sfio=undef, uselargefiles=define, usesocks=undef
use64bitint=define, use64bitall=define, uselongdouble=define
usemymalloc=n, bincompat5005=undef
Compiler:
cc='cc', ccflags ='-fno-common -DPERL_DARWIN -fno-strict-aliasing -pipe -fstack-protector -I/opt/local/include',
optimize='-O3',
cppflags='-fno-common -DPERL_DARWIN -fno-strict-aliasing -pipe -fstack-protector -I/opt/local/include'
ccversion='', gccversion='4.2.1 (Based on Apple Inc. build 5658) (LLVM build 2335.15.00)', gccosandvers=''
intsize=4, longsize=8, ptrsize=8, doublesize=8, byteorder=12345678
d_longlong=define, longlongsize=8, d_longdbl=define, longdblsize=16
ivtype='long', ivsize=8, nvtype='long double', nvsize=16, Off_t='off_t', lseeksize=8
alignbytes=8, prototype=define
Linker and Libraries:
ld='env MACOSX_DEPLOYMENT_TARGET=10.3 cc', ldflags =' -fstack-protector -L/opt/local/lib'
libpth=/opt/local/lib /usr/lib
libs=-lgdbm -ldbm -ldl -lm -lutil -lc
perllibs=-ldl -lm -lutil -lc
libc=, so=dylib, useshrplib=true, libperl=libperl.dylib
gnulibc_version=''
Dynamic Linking:
dlsrc=dl_dlopen.xs, dlext=bundle, d_dlsymun=undef, ccdlflags=' '
cccdlflags=' ', lddlflags=' -bundle -undefined dynamic_lookup -L/opt/local/lib -fstack-protector'
Characteristics of this binary (from libperl):
Compile-time options: MULTIPLICITY PERL_DONT_CREATE_GVSV
PERL_IMPLICIT_CONTEXT PERL_MALLOC_WRAP
PERL_PRESERVE_IVUV USE_64_BIT_ALL USE_64_BIT_INT
USE_ITHREADS USE_LARGE_FILES USE_LONG_DOUBLE
USE_PERLIO USE_PERL_ATOF
Built under darwin
Compiled at Sep 12 2011 23:48:29
%ENV:
PERL5LIB=""
PERL5OPT=""
PERL5_CPANPLUS_IS_RUNNING="8296"
PERL5_CPAN_IS_RUNNING="8296"
@INC:
/Users/greeneg/Lang/Perl/lib/perl5/site_perl/5.14.1/darwin-thread-multi-ld-2level
/Users/greeneg/Lang/Perl/lib/perl5/site_perl/5.14.1
/Users/greeneg/Lang/Perl/lib/perl5/5.14.1/darwin-thread-multi-ld-2level
/Users/greeneg/Lang/Perl/lib/perl5/5.14.1
.