Back
From: metabase:user:5bbb2efa-715f-11e3-8cc1-b2993ff2e0c7
Subject: PASS DateTime-Format-Oracle-0.06 v5.22.0 GNU/Linux
Date: 2015-06-10T13:44:50Z
This distribution has been tested as part of the CPAN Testers
project, supporting the Perl programming language. See
http://wiki.cpantesters.org/ for more information or email
questions to cpan-testers-discuss@perl.org
--
Dear KOLIBRIE,
This is a computer-generated report for DateTime-Format-Oracle-0.06
on perl 5.22.0, created by App::cpanminus::reporter 0.11 (1.7036).
Thank you for uploading your work to CPAN. Congratulations!
All tests were successful.
Sections of this report:
* Tester comments
* Program output
* Prerequisites
* Environment and other context
------------------------------
TESTER COMMENTS
------------------------------
Additional comments from tester:
none provided
------------------------------
PROGRAM OUTPUT
------------------------------
Output from '':
Building and testing DateTime-Format-Oracle-0.06
cp lib/DateTime/Format/Oracle.pm blib/lib/DateTime/Format/Oracle.pm
Manifying 1 pod document
PERL_DL_NONLAZY=1 "/home/ollisg/perl5/perlbrew/perls/perl-5.22.0/bin/perl" "-MExtUtils::Command::MM" "-MTest::Harness" "-e" "undef *Test::Harness::Switches; test_harness(0, 'blib/lib', 'blib/arch')" t/*.t
Unescaped left brace in regex is deprecated, passed through in regex; marked by <-- HERE in m/
(%{ <-- HERE \w+})
/ at /home/ollisg/.perlbrew/libs/perl-5.22.0@dev/lib/perl5/Convert/NLS_DATE_FORMAT.pm line 116.
t/defaults.t .......... ok
Unescaped left brace in regex is deprecated, passed through in regex; marked by <-- HERE in m/
(%{ <-- HERE \w+})
/ at /home/ollisg/.perlbrew/libs/perl-5.22.0@dev/lib/perl5/Convert/NLS_DATE_FORMAT.pm line 116.
t/format_datetime.t ... ok
Unescaped left brace in regex is deprecated, passed through in regex; marked by <-- HERE in m/
(%{ <-- HERE \w+})
/ at /home/ollisg/.perlbrew/libs/perl-5.22.0@dev/lib/perl5/Convert/NLS_DATE_FORMAT.pm line 116.
t/format_timestamp.t .. ok
Unescaped left brace in regex is deprecated, passed through in regex; marked by <-- HERE in m/
(%{ <-- HERE \w+})
/ at /home/ollisg/.perlbrew/libs/perl-5.22.0@dev/lib/perl5/Convert/NLS_DATE_FORMAT.pm line 116.
t/parse_datetime.t .... ok
Unescaped left brace in regex is deprecated, passed through in regex; marked by <-- HERE in m/
(%{ <-- HERE \w+})
/ at /home/ollisg/.perlbrew/libs/perl-5.22.0@dev/lib/perl5/Convert/NLS_DATE_FORMAT.pm line 116.
t/parse_timestamp.t ... ok
All tests successful.
Files=5, Tests=76, 0 wallclock secs ( 0.02 usr 0.03 sys + 0.57 cusr 0.09 csys = 0.71 CPU)
Result: PASS
------------------------------
PREREQUISITES
------------------------------
Prerequisite modules loaded:
No requirements found
------------------------------
ENVIRONMENT AND OTHER CONTEXT
------------------------------
Environment variables:
LANG = en_US.utf8
LC_COLLATE = C
MANPATH_WITHOUT_PERLBREW = /home/ollisg/.perlbrew/libs/perl-5.22.0@dev/man:/home/ollisg/.perlbrew/libs/perl-5.22.0@dev/man:/usr/local/man:/usr/local/share/man:/usr/share/man
PATH = /home/ollisg/opt/clang/3.6.1/bin/:/home/ollisg/.perlbrew/libs/perl-5.22.0@dev/bin:/home/ollisg/perl5/perlbrew/bin:/home/ollisg/perl5/perlbrew/perls/perl-5.22.0/bin:/home/ollisg/.perlbrew/libs/perl-5.22.0@dev/bin:/home/ollisg/.perlbrew/libs/perl-5.22.0@dev/bin:/home/ollisg/opt/clang/3.6.1/bin/:/usr/local/bin:/usr/bin:/bin:/usr/games
PATH_WITHOUT_PERLBREW = /home/ollisg/.perlbrew/libs/perl-5.22.0@dev/bin:/home/ollisg/.perlbrew/libs/perl-5.22.0@dev/bin:/home/ollisg/opt/clang/3.6.1/bin/:/usr/local/bin:/usr/bin:/bin:/usr/games
PERL5LIB = /home/ollisg/.perlbrew/libs/perl-5.22.0@dev/lib/perl5
PERLBREW_CSHRC_VERSION = 0.73
PERLBREW_HOME = /home/ollisg/.perlbrew
PERLBREW_LIB = dev
PERLBREW_MANPATH = /home/ollisg/.perlbrew/libs/perl-5.22.0@dev/man:/home/ollisg/perl5/perlbrew/perls/perl-5.22.0/man
PERLBREW_PATH = /home/ollisg/.perlbrew/libs/perl-5.22.0@dev/bin:/home/ollisg/perl5/perlbrew/bin:/home/ollisg/perl5/perlbrew/perls/perl-5.22.0/bin
PERLBREW_PERL = perl-5.22.0
PERLBREW_ROOT = /home/ollisg/perl5/perlbrew
PERLBREW_VERSION = 0.73
PERL_CPANM_OPT = --mirror /home/ollisg/minicpan --mirror-only
PERL_LOCAL_LIB_ROOT = /home/ollisg/.perlbrew/libs/perl-5.22.0@dev
PERL_MB_OPT = --install_base /home/ollisg/.perlbrew/libs/perl-5.22.0@dev
PERL_MM_OPT = INSTALL_BASE=/home/ollisg/.perlbrew/libs/perl-5.22.0@dev
SHELL = /bin/tcsh
TERM = screen
Perl special variables (and OS-specific diagnostics, for MSWin32):
EGID = 1000 27 1000
EUID = 1000
EXECUTABLE_NAME = /home/ollisg/perl5/perlbrew/perls/perl-5.22.0/bin/perl
GID = 1000 27 1000
UID = 1000
Perl module toolchain versions installed:
Module Have
------------------- --------
CPAN 2.11
CPAN::Meta 2.150005
Cwd 3.56
ExtUtils::CBuilder 0.280223
ExtUtils::Command 1.20
ExtUtils::Install 2.04
ExtUtils::MakeMaker 7.04_01
ExtUtils::Manifest 1.70
ExtUtils::ParseXS 3.28
File::Spec 3.56
JSON 2.90
JSON::PP 2.27300
Module::Build 0.4212
Module::Signature n/a
Parse::CPAN::Meta 1.4417
Test::Harness 3.35
Test::More 1.001014
YAML 1.15
YAML::Syck n/a
version 0.9912
--
Summary of my perl5 (revision 5 version 22 subversion 0) configuration:
Platform:
osname=linux, osvers=4.0.4-x86_64-linode57, archname=x86_64-linux
uname='linux li394-42 4.0.4-x86_64-linode57 #1 smp thu may 21 11:01:47 edt 2015 x86_64 gnulinux '
config_args='-de -Dprefix=/home/ollisg/perl5/perlbrew/perls/perl-5.22.0 -Dcc=clang -Aeval:scriptdir=/home/ollisg/perl5/perlbrew/perls/perl-5.22.0/bin'
hint=recommended, useposix=true, d_sigaction=define
useithreads=undef, usemultiplicity=undef
use64bitint=define, use64bitall=define, uselongdouble=undef
usemymalloc=n, bincompat5005=undef
Compiler:
cc='clang', ccflags ='-fno-strict-aliasing -pipe -fstack-protector-strong -I/usr/local/include -D_LARGEFILE_SOURCE -D_FILE_OFFSET_BITS=64 -D_FORTIFY_SOURCE=2',
optimize='-O2',
cppflags='-fno-strict-aliasing -pipe -fstack-protector-strong -I/usr/local/include'
ccversion='', gccversion='4.2.1 Compatible Clang 3.6.1 (tags/RELEASE_361/final)', gccosandvers=''
intsize=4, longsize=8, ptrsize=8, doublesize=8, byteorder=12345678, doublekind=3
d_longlong=define, longlongsize=8, d_longdbl=define, longdblsize=16, longdblkind=3
ivtype='long', ivsize=8, nvtype='double', nvsize=8, Off_t='off_t', lseeksize=8
alignbytes=8, prototype=define
Linker and Libraries:
ld='clang', ldflags =' -fstack-protector-strong -L/usr/local/lib'
libpth=/usr/local/lib /usr/include/x86_64-linux-gnu /usr/lib /lib/x86_64-linux-gnu /lib/../lib /usr/lib/x86_64-linux-gnu /usr/lib/../lib /lib
libs=-lpthread -lnsl -ldl -lm -lcrypt -lutil -lc
perllibs=-lpthread -lnsl -ldl -lm -lcrypt -lutil -lc
libc=libc-2.19.so, so=so, useshrplib=false, libperl=libperl.a
gnulibc_version='2.19'
Dynamic Linking:
dlsrc=dl_dlopen.xs, dlext=so, d_dlsymun=undef, ccdlflags='-Wl,-E'
cccdlflags='-fPIC', lddlflags='-shared -O2 -L/usr/local/lib -fstack-protector-strong'
Characteristics of this binary (from libperl):
Compile-time options: HAS_TIMES PERLIO_LAYERS PERL_DONT_CREATE_GVSV
PERL_HASH_FUNC_ONE_AT_A_TIME_HARD PERL_MALLOC_WRAP
PERL_NEW_COPY_ON_WRITE PERL_PRESERVE_IVUV
USE_64_BIT_ALL USE_64_BIT_INT USE_LARGE_FILES
USE_LOCALE USE_LOCALE_COLLATE USE_LOCALE_CTYPE
USE_LOCALE_NUMERIC USE_LOCALE_TIME USE_PERLIO
USE_PERL_ATOF
Locally applied patches:
Devel::PatchPerl 1.34
Built under linux
Compiled at Jun 10 2015 06:28:57
%ENV:
PERL5LIB="/home/ollisg/.perlbrew/libs/perl-5.22.0@dev/lib/perl5"
PERLBREW_CSHRC_VERSION="0.73"
PERLBREW_HOME="/home/ollisg/.perlbrew"
PERLBREW_LIB="dev"
PERLBREW_MANPATH="/home/ollisg/.perlbrew/libs/perl-5.22.0@dev/man:/home/ollisg/perl5/perlbrew/perls/perl-5.22.0/man"
PERLBREW_PATH="/home/ollisg/.perlbrew/libs/perl-5.22.0@dev/bin:/home/ollisg/perl5/perlbrew/bin:/home/ollisg/perl5/perlbrew/perls/perl-5.22.0/bin"
PERLBREW_PERL="perl-5.22.0"
PERLBREW_ROOT="/home/ollisg/perl5/perlbrew"
PERLBREW_VERSION="0.73"
PERL_CPANM_OPT="--mirror /home/ollisg/minicpan --mirror-only"
PERL_LOCAL_LIB_ROOT="/home/ollisg/.perlbrew/libs/perl-5.22.0@dev"
PERL_MB_OPT="--install_base /home/ollisg/.perlbrew/libs/perl-5.22.0@dev"
PERL_MM_OPT="INSTALL_BASE=/home/ollisg/.perlbrew/libs/perl-5.22.0@dev"
@INC:
/home/ollisg/.perlbrew/libs/perl-5.22.0@dev/lib/perl5/x86_64-linux
/home/ollisg/.perlbrew/libs/perl-5.22.0@dev/lib/perl5
/home/ollisg/perl5/perlbrew/perls/perl-5.22.0/lib/site_perl/5.22.0/x86_64-linux
/home/ollisg/perl5/perlbrew/perls/perl-5.22.0/lib/site_perl/5.22.0
/home/ollisg/perl5/perlbrew/perls/perl-5.22.0/lib/5.22.0/x86_64-linux
/home/ollisg/perl5/perlbrew/perls/perl-5.22.0/lib/5.22.0
.