Chart vv2.403.9 Perl 5 v5.37.7 x86_64-linux-thread-multi
- Status
- Pass
- From
- Andreas J. König (ANDK)
- Dist
-
Chart vv2.403.9
- Platform
- Perl 5 v5.37.7 x86_64-linux-thread-multi
- Date
- 2023-01-19 15:20:54
- ID
- ddc4e390-980c-11ed-931e-dba04e93e27b
This distribution has been tested as part of the CPAN Testers
project, supporting the Perl programming language. See
http://wiki.cpantesters.org/ for more information or email
questions to cpan-testers-discuss@perl.org
--
Dear Herbert Breunung,
This is a computer-generated report for Chart-v2.403.9
on perl 5.37.7, created by CPAN-Reporter-1.2018.
Thank you for uploading your work to CPAN. Congratulations!
All tests were successful.
Sections of this report:
* Tester comments
* Program output
* Prerequisites
* Environment and other context
------------------------------
TESTER COMMENTS
------------------------------
Additional comments from tester:
this report is from an automated smoke testing program
and was not reviewed by a human for accuracy
------------------------------
PROGRAM OUTPUT
------------------------------
Output from '/usr/bin/make test':
PERL_DL_NONLAZY=1 "/tmp/basesmoker-reloperl-zkvw/bin/perl" "-MExtUtils::Command::MM" "-MTest::Harness" "-e" "undef *Test::Harness::Switches; test_harness(0, 'blib/lib', 'blib/arch')" t/*.t
t/bars.t ........... ok
t/bars_10.t ........ ok
t/bars_11.t ........ ok
t/bars_12.t ........ ok
t/bars_2.t ......... ok
t/bars_3.t ......... ok
t/bars_4.t ......... ok
t/bars_5.t ......... ok
t/bars_6.t ......... ok
t/bars_7.t ......... ok
t/bars_8.t ......... ok
t/bars_9.t ......... ok
t/composite.t ...... ok
t/composite_1.t .... ok
t/composite_2.t .... ok
t/composite_3.t .... ok
t/composite_4.t .... ok
t/composite_5.t .... ok
t/composite_6.t .... ok
t/composite_7.t .... ok
t/composite_8.t .... ok
t/composite_f.t .... ok
t/direction_1.t .... ok
t/direction_2.t .... ok
t/direction_3.t .... ok
t/direction_4.t .... ok
t/error_1.t ........ ok
t/error_2.t ........ ok
t/f_ticks.t ........ ok
t/f_ticks_1.t ...... ok
t/hbars_1.t ........ ok
t/hbars_2.t ........ ok
t/hbars_3.t ........ ok
t/hbars_4.t ........ ok
t/Humidity.t ....... ok
t/lines.t .......... ok
t/lines_1.t ........ ok
t/lines_2.t ........ ok
t/lines_3.t ........ ok
t/lines_4.t ........ ok
t/lines_5.t ........ ok
t/lines_6.t ........ ok
t/lines_7.t ........ ok
t/lines_8.t ........ ok
t/lines_9.t ........ ok
t/linespoints.t .... ok
t/linespoints_1.t .. ok
t/linespoints_2.t .. ok
t/linespoints_3.t .. ok
t/linespoints_4.t .. ok
t/linespoints_5.t .. ok
t/linespoints_6.t .. ok
t/linespoints_7.t .. ok
t/mapbars.t ........ ok
t/mapcomp.t ........ ok
t/Math_1_over_x.t .. ok
t/mountain.t ....... ok
t/mountain_2.t ..... ok
t/mountain_3.t ..... ok
t/mountain_4.t ..... ok
t/pareto_1.t ....... ok
t/pareto_2.t ....... ok
t/pareto_3.t ....... ok
t/pie_1.t .......... ok
t/pie_10.t ......... ok
t/pie_11.t ......... ok
t/pie_2.t .......... ok
t/pie_3.t .......... ok
t/pie_4.t .......... ok
t/pie_5.t .......... ok
t/pie_6.t .......... ok
t/pie_7.t .......... ok
t/pie_8.t .......... ok
t/pie_9.t .......... ok
t/points.t ......... ok
t/points_100.t ..... ok
t/points_2.t ....... ok
t/points_3.t ....... ok
t/points_4.t ....... ok
t/points_5.t ....... ok
t/scalarImage.t .... ok
t/split_1.t ........ ok
t/split_2.t ........ ok
t/stackedbars.t .... ok
t/stackedbars_2.t .. ok
t/stackedbars_3.t .. ok
t/stackedbars_4.t .. ok
All tests successful.
Files=87, Tests=89, 8 wallclock secs ( 0.29 usr 0.81 sys + 7.12 cusr 1.55 csys = 9.77 CPU)
Result: PASS
------------------------------
PREREQUISITES
------------------------------
Prerequisite modules loaded:
requires:
Module Need Have
------------------------ -------- --------
Carp 1.35 1.54
GD 2 2.76
Graphics::Toolkit::Color 1 1.05
perl 5.012000 5.037007
build_requires:
Module Need Have
------------------------ -------- --------
ExtUtils::MakeMaker 0 7.66
File::Temp 0.19 0.2311
Test::More 1.3 1.302191
Test::Warn 0.30 0.37
configure_requires:
Module Need Have
------------------------ -------- --------
ExtUtils::MakeMaker 0 7.66
------------------------------
ENVIRONMENT AND OTHER CONTEXT
------------------------------
Environment variables:
AUTOMATED_TESTING = 1
LANG = en_US.UTF-8
PATH = /home/sand/bin:/usr/local/bin:/usr/local/sbin:/usr/sbin:/usr/bin:/sbin:/bin:/usr/games:/usr/local/games:/snap/bin:/usr/local/perl/bin:/usr/X11/bin
PERL = /tmp/basesmoker-reloperl-zkvw/bin/perl
PERL5LIB = /tmp/loop_over_bdir-2019-uac5yV/CGI-Application-NetNewsIface-0.0204-0/blib/arch:/tmp/loop_over_bdir-2019-uac5yV/CGI-Application-NetNewsIface-0.0204-0/blib/lib:/tmp/loop_over_bdir-2019-uac5yV/LCFG-Build-Skeleton-0.5.0-0/blib/arch:/tmp/loop_over_bdir-2019-uac5yV/LCFG-Build-Skeleton-0.5.0-0/blib/lib
PERL5OPT =
PERL5_CPANPLUS_IS_RUNNING = 2027
PERL5_CPAN_IS_RUNNING = 2027
PERL_CANARY_STABILITY_NOPROMPT = 1
PERL_MM_USE_DEFAULT = 1
PERL_USE_UNSAFE_INC = 1
SHELL = /usr/bin/zsh
TERM = screen
Perl special variables (and OS-specific diagnostics, for MSWin32):
$^X = /tmp/basesmoker-reloperl-zkvw/bin/perl
$UID/$EUID = 1005 / 1005
$GID = 1005 1005
$EGID = 1005 1005
Perl module toolchain versions installed:
Module Have
------------------- --------
CPAN 2.34
CPAN::Meta 2.150010
Cwd 3.88
ExtUtils::CBuilder 0.280238
ExtUtils::Command 7.66
ExtUtils::Install 2.20
ExtUtils::MakeMaker 7.66
ExtUtils::Manifest 1.73
ExtUtils::ParseXS 3.49
File::Spec 3.88
JSON 4.10
JSON::PP 4.16
Module::Build 0.4232
Module::Signature 0.88
Parse::CPAN::Meta 2.150010
Test::Harness 3.44
Test::More 1.302191
YAML 1.30
YAML::Syck 1.34
version 0.9929
--
Summary of my perl5 (revision 5 version 37 subversion 7) configuration:
Commit id: b1163c2ae562670f2bf4c7700087f0c9d0ad8fe5
Platform:
osname=linux
osvers=5.4.0-136-generic
archname=x86_64-linux-thread-multi
uname='linux k93focal 5.4.0-136-generic #153-ubuntu smp thu nov 24 15:56:58 utc 2022 x86_64 x86_64 x86_64 gnulinux '
config_args='-Dprefix=/home/sand/src/perl/repoperls/installed-perls/host/k93focal/v5.37.7/d119 -Dmyhostname=k93focal -Dinstallusrbinperl=n -Uversiononly -Dusedevel -des -Ui_db -Dlibswanted=cl pthread socket inet nsl gdbm dbm malloc dl ld sun m crypt sec util c cposix posix ucb BSD gdbm_compat -Duseithreads -Uuselongdouble -DEBUGGING=both'
hint=recommended
useposix=true
d_sigaction=define
useithreads=define
usemultiplicity=define
use64bitint=define
use64bitall=define
uselongdouble=undef
usemymalloc=n
default_inc_excludes_dot=define
Compiler:
cc='cc'
ccflags ='-D_REENTRANT -D_GNU_SOURCE -fwrapv -DDEBUGGING -fno-strict-aliasing -pipe -fstack-protector-strong -I/usr/local/include -D_LARGEFILE_SOURCE -D_FILE_OFFSET_BITS=64'
optimize='-O2 -g'
cppflags='-D_REENTRANT -D_GNU_SOURCE -fwrapv -DDEBUGGING -fno-strict-aliasing -pipe -fstack-protector-strong -I/usr/local/include'
ccversion=''
gccversion='9.4.0'
gccosandvers=''
intsize=4
longsize=8
ptrsize=8
doublesize=8
byteorder=12345678
doublekind=3
d_longlong=define
longlongsize=8
d_longdbl=define
longdblsize=16
longdblkind=3
ivtype='long'
ivsize=8
nvtype='double'
nvsize=8
Off_t='off_t'
lseeksize=8
alignbytes=8
prototype=define
Linker and Libraries:
ld='cc'
ldflags =' -fstack-protector-strong -L/usr/local/lib'
libpth=/usr/local/lib /usr/lib/x86_64-linux-gnu /usr/lib /usr/lib64
libs=-lpthread -lnsl -ldl -lm -lcrypt -lutil -lc
perllibs=-lpthread -lnsl -ldl -lm -lcrypt -lutil -lc
libc=libc-2.31.so
so=so
useshrplib=false
libperl=libperl.a
gnulibc_version='2.31'
Dynamic Linking:
dlsrc=dl_dlopen.xs
dlext=so
d_dlsymun=undef
ccdlflags='-Wl,-E'
cccdlflags='-fPIC'
lddlflags='-shared -O2 -g -L/usr/local/lib -fstack-protector-strong'
Characteristics of this binary (from libperl):
Compile-time options:
DEBUGGING
HAS_TIMES
MULTIPLICITY
PERLIO_LAYERS
PERL_COPY_ON_WRITE
PERL_DONT_CREATE_GVSV
PERL_HASH_FUNC_SIPHASH13
PERL_HASH_USE_SBOX32
PERL_MALLOC_WRAP
PERL_OP_PARENT
PERL_PRESERVE_IVUV
PERL_TRACK_MEMPOOL
PERL_USE_DEVEL
PERL_USE_SAFE_PUTENV
USE_64_BIT_ALL
USE_64_BIT_INT
USE_ITHREADS
USE_LARGE_FILES
USE_LOCALE
USE_LOCALE_COLLATE
USE_LOCALE_CTYPE
USE_LOCALE_NUMERIC
USE_LOCALE_TIME
USE_PERLIO
USE_PERL_ATOF
USE_REENTRANT_API
USE_THREAD_SAFE_LOCALE
Built under linux
Compiled at Jan 17 2023 19:30:57
%ENV:
PERL="/tmp/basesmoker-reloperl-zkvw/bin/perl"
PERL5LIB="/tmp/loop_over_bdir-2019-uac5yV/CGI-Application-NetNewsIface-0.0204-0/blib/arch:/tmp/loop_over_bdir-2019-uac5yV/CGI-Application-NetNewsIface-0.0204-0/blib/lib:/tmp/loop_over_bdir-2019-uac5yV/LCFG-Build-Skeleton-0.5.0-0/blib/arch:/tmp/loop_over_bdir-2019-uac5yV/LCFG-Build-Skeleton-0.5.0-0/blib/lib"
PERL5OPT=""
PERL5_CPANPLUS_IS_RUNNING="2027"
PERL5_CPAN_IS_RUNNING="2027"
PERL_CANARY_STABILITY_NOPROMPT="1"
PERL_MM_USE_DEFAULT="1"
PERL_USE_UNSAFE_INC="1"
@INC:
/tmp/loop_over_bdir-2019-uac5yV/CGI-Application-NetNewsIface-0.0204-0/blib/arch
/tmp/loop_over_bdir-2019-uac5yV/CGI-Application-NetNewsIface-0.0204-0/blib/lib
/tmp/loop_over_bdir-2019-uac5yV/LCFG-Build-Skeleton-0.5.0-0/blib/arch
/tmp/loop_over_bdir-2019-uac5yV/LCFG-Build-Skeleton-0.5.0-0/blib/lib
/home/sand/src/perl/repoperls/installed-perls/host/k93focal/v5.37.7/d119/lib/site_perl/5.37.7/x86_64-linux-thread-multi
/home/sand/src/perl/repoperls/installed-perls/host/k93focal/v5.37.7/d119/lib/site_perl/5.37.7
/home/sand/src/perl/repoperls/installed-perls/host/k93focal/v5.37.7/d119/lib/5.37.7/x86_64-linux-thread-multi
/home/sand/src/perl/repoperls/installed-perls/host/k93focal/v5.37.7/d119/lib/5.37.7
.