Report for Test-DependentModules-0.26

Back
From: metabase:user:f0a1e540-adf3-11e5-b4d9-0267490dd990
Subject: PASS Test-DependentModules-0.26 v5.22.1 Mac OS X
Date: 2016-03-30T07:49:00Z

This distribution has been tested as part of the CPAN Testers
project, supporting the Perl programming language.  See
http://wiki.cpantesters.org/ for more information or email
questions to cpan-testers-discuss@perl.org


--
Dear Dave Rolsky,

This is a computer-generated report for Test-DependentModules-0.26
on perl 5.22.1, created by CPAN-Reporter-1.2017.

Thank you for uploading your work to CPAN.  Congratulations!
All tests were successful.

Sections of this report:

    * Tester comments
    * Program output
    * Prerequisites
    * Environment and other context

------------------------------
TESTER COMMENTS
------------------------------

Additional comments from tester:

none provided

------------------------------
PROGRAM OUTPUT
------------------------------

Output from '/opt/local/bin/make test':

PERL_DL_NONLAZY=1 "/opt/Perl/bin/perl" "-MExtUtils::Command::MM" "-MTest::Harness" "-e" "undef *Test::Harness::Switches; test_harness(0, 'blib/lib', 'blib/arch')" t/*.t
# 
# Versions for all modules listed in MYMETA.json (including optional ones):
# 
# === Configure Requires ===
# 
#     Module              Want Have
#     ------------------- ---- ----
#     ExtUtils::MakeMaker  any 7.10
# 
# === Build Requires ===
# 
#     Module              Want Have
#     ------------------- ---- ----
#     ExtUtils::MakeMaker  any 7.10
# 
# === Test Requires ===
# 
#     Module                Want     Have
#     --------------------- ---- --------
#     ExtUtils::MakeMaker    any     7.10
#     File::Copy::Recursive  any     0.38
#     File::Spec             any     3.62
#     Module::Build          any   0.4216
#     Module::Build::Tiny    any    0.039
#     Test::More            0.96 1.001014
# 
# === Test Recommends ===
# 
#     Module         Want     Have
#     ---------- -------- --------
#     CPAN::Meta 2.120900 2.150005
# 
# === Runtime Requires ===
# 
#     Module           Want     Have
#     ---------------- ---- --------
#     CPAN              any     2.11
#     CPAN::Shell       any   5.5005
#     Capture::Tiny     any     0.36
#     Cwd               any     3.62
#     Exporter          any     5.72
#     File::Path        any     2.12
#     File::Spec        any     3.62
#     File::Temp        any   0.2304
#     File::chdir       any   0.1010
#     IO::Handle::Util  any     0.01
#     IPC::Run3         any    0.048
#     Log::Dispatch     any     2.54
#     MetaCPAN::Client  any 1.013000
#     Test::Builder     any 1.001014
#     Try::Tiny         any     0.24
#     autodie           any     2.29
#     strict            any     1.09
#     warnings          any     1.34
# 
# === Runtime Recommends ===
# 
#     Module                  Want Have
#     --------------------- ------ ----
#     Parallel::ForkManager v0.7.6 1.17
# 
t/00-report-prereqs.t .......... ok
t/author-00-compile.t .......... skipped: these tests are for testing by the author
t/author-all-my-deps.t ......... skipped: these tests are for testing by the author
t/author-configure-requires.t .. skipped: these tests are for testing by the author
t/author-eol.t ................. skipped: these tests are for testing by the author
t/author-mojibake.t ............ skipped: these tests are for testing by the author
t/author-no-tabs.t ............. skipped: these tests are for testing by the author
t/author-pod-spell.t ........... skipped: these tests are for testing by the author
t/author-pod-syntax.t .......... skipped: these tests are for testing by the author
t/author-single-distros.t ...... skipped: these tests are for testing by the author
t/author-test-version.t ........ skipped: these tests are for testing by the author
t/author-two-distros.t ......... skipped: these tests are for testing by the author
t/basic.t ...................... ok
t/release-cpan-changes.t ....... skipped: these tests are for release candidate testing
t/release-pod-coverage.t ....... skipped: these tests are for release candidate testing
t/release-pod-linkcheck.t ...... skipped: these tests are for release candidate testing
t/release-pod-no404s.t ......... skipped: these tests are for release candidate testing
t/release-portability.t ........ skipped: these tests are for release candidate testing
t/release-tidyall.t ............ skipped: these tests are for release candidate testing
All tests successful.
Files=19, Tests=8,  8 wallclock secs ( 0.07 usr  0.05 sys +  4.90 cusr  1.31 csys =  6.33 CPU)
Result: PASS

------------------------------
PREREQUISITES
------------------------------

Prerequisite modules loaded:

requires:

    Module                Need     Have    
    --------------------- -------- --------
    autodie               0        2.29    
    Capture::Tiny         0        0.36    
    CPAN                  0        2.11    
    CPAN::Shell           0        5.5005  
    Cwd                   0        3.62    
    Exporter              0        5.72    
    File::chdir           0        0.1010  
    File::Path            0        2.12    
    File::Spec            0        3.62    
    File::Temp            0        0.2304  
    IO::Handle::Util      0        0.01    
    IPC::Run3             0        0.048   
    Log::Dispatch         0        2.54    
    MetaCPAN::Client      0        1.013000
    strict                0        1.09    
    Test::Builder         0        1.001014
    Try::Tiny             0        0.24    
    warnings              0        1.34    

build_requires:

    Module                Need     Have    
    --------------------- -------- --------
    ExtUtils::MakeMaker   0        7.10    
    File::Copy::Recursive 0        0.38    
    File::Spec            0        3.62    
    Module::Build         0        0.4216  
    Module::Build::Tiny   0        0.039   
    Test::More            0.96     1.001014

configure_requires:

    Module                Need     Have    
    --------------------- -------- --------
    ExtUtils::MakeMaker   0        7.10    

opt_requires:

    Module                Need     Have    
    --------------------- -------- --------
    Parallel::ForkManager v0.7.6   1.17    

opt_build_requires:

    Module                Need     Have    
    --------------------- -------- --------
    CPAN::Meta            2.120900 2.150005


------------------------------
ENVIRONMENT AND OTHER CONTEXT
------------------------------

Environment variables:

    LANG = en_US.UTF-8
    LC_ALL = en_US.UTF-8
    LC_CTYPE = C
    PATH = /opt/Perl/bin:/opt/Perl/sbin:/Users/ggreene/bin:/opt/local/bin:/opt/local/sbin:/opt/local/libexec/gnubin:/usr/local/mysql/bin:/Users/ggreene/Development/hrs:/Applications/Server.app/Contents/ServerRoot/usr/bin:/Applications/Server.app/Contents/ServerRoot/usr/sbin:/opt/X11/bin:/usr/local/bin:/usr/bin:/bin:/usr/sbin:/sbin
    PERL5LIB = 
    PERL5OPT = 
    PERL5_CPANPLUS_IS_RUNNING = 68802
    PERL5_CPAN_IS_RUNNING = 68802
    SHELL = /bin/zsh
    TERM = xterm
    TMPDIR = /var/folders/9n/_nl5z6w10qj1dsf18lqbf_w96n_pcq/T/

Perl special variables (and OS-specific diagnostics, for MSWin32):

    $^X = /opt/Perl/bin/perl
    $UID/$EUID = 1297439127 / 1297439127
    $GID = 582448329 582448329
    $EGID = 582448329 582448329

Perl module toolchain versions installed:

    Module              Have    
    ------------------- --------
    CPAN                2.11    
    CPAN::Meta          2.150005
    Cwd                 3.62    
    ExtUtils::CBuilder  0.280224
    ExtUtils::Command   7.10    
    ExtUtils::Install   2.04    
    ExtUtils::MakeMaker 7.10    
    ExtUtils::Manifest  1.70    
    ExtUtils::ParseXS   3.30    
    File::Spec          3.62    
    JSON                2.90    
    JSON::PP            2.27300 
    Module::Build       0.4216  
    Module::Signature   0.79    
    Parse::CPAN::Meta   1.4417  
    Test::Harness       3.36    
    Test::More          1.001014
    YAML                n/a     
    YAML::Syck          n/a     
    version             0.9916  


--

Summary of my perl5 (revision 5 version 22 subversion 1) configuration:
   
  Platform:
    osname=darwin, osvers=15.2.0, archname=darwin-thread-multi-ld-2level
    uname='darwin ggreene-mbp.local 15.2.0 darwin kernel version 15.2.0: fri nov 13 19:56:56 pst 2015; root:xnu-3248.20.55~2release_x86_64 x86_64 '
    config_args=''
    hint=recommended, useposix=true, d_sigaction=define
    useithreads=define, usemultiplicity=define
    use64bitint=define, use64bitall=define, uselongdouble=define
    usemymalloc=n, bincompat5005=undef
  Compiler:
    cc='cc', ccflags ='-fno-common -DPERL_DARWIN -fno-strict-aliasing -pipe -fstack-protector-strong -I/opt/local/include',
    optimize='-O3',
    cppflags='-fno-common -DPERL_DARWIN -fno-strict-aliasing -pipe -fstack-protector-strong -I/opt/local/include'
    ccversion='', gccversion='4.2.1 Compatible Apple LLVM 7.0.2 (clang-700.1.81)', gccosandvers=''
    intsize=4, longsize=8, ptrsize=8, doublesize=8, byteorder=12345678, doublekind=3
    d_longlong=define, longlongsize=8, d_longdbl=define, longdblsize=16, longdblkind=3
    ivtype='long', ivsize=8, nvtype='long double', nvsize=16, Off_t='off_t', lseeksize=8
    alignbytes=16, prototype=define
  Linker and Libraries:
    ld='env MACOSX_DEPLOYMENT_TARGET=10.9 cc', ldflags =' -fstack-protector-strong -L/opt/local/lib'
    libpth=/Applications/Xcode.app/Contents/Developer/Toolchains/XcodeDefault.xctoolchain/usr/bin/../lib/clang/7.0.2/lib /Applications/Xcode.app/Contents/Developer/Toolchains/XcodeDefault.xctoolchain/usr/lib /usr/lib /opt/local/lib /usr/local/mysql/lib
    libs=-lpthread -lgdbm -ldbm -ldl -lm -lutil -lc
    perllibs=-lpthread -ldl -lm -lutil -lc
    libc=, so=dylib, useshrplib=false, libperl=libperl.a
    gnulibc_version=''
  Dynamic Linking:
    dlsrc=dl_dlopen.xs, dlext=bundle, d_dlsymun=undef, ccdlflags=' '
    cccdlflags=' ', lddlflags=' -bundle -undefined dynamic_lookup -L/opt/local/lib -fstack-protector-strong'


Characteristics of this binary (from libperl): 
  Compile-time options: HAS_TIMES MULTIPLICITY PERLIO_LAYERS
                        PERL_DONT_CREATE_GVSV
                        PERL_HASH_FUNC_ONE_AT_A_TIME_HARD
                        PERL_IMPLICIT_CONTEXT PERL_MALLOC_WRAP
                        PERL_NEW_COPY_ON_WRITE PERL_PRESERVE_IVUV
                        USE_64_BIT_ALL USE_64_BIT_INT USE_ITHREADS
                        USE_LARGE_FILES USE_LOCALE USE_LOCALE_COLLATE
                        USE_LOCALE_CTYPE USE_LOCALE_NUMERIC USE_LOCALE_TIME
                        USE_LONG_DOUBLE USE_PERLIO USE_PERL_ATOF
  Built under darwin
  Compiled at Dec 28 2015 14:34:27
  %ENV:
    PERL5LIB=""
    PERL5OPT=""
    PERL5_CPANPLUS_IS_RUNNING="68802"
    PERL5_CPAN_IS_RUNNING="68802"
  @INC:
    /opt/Perl/lib/perl5/site_perl/5.22.1/darwin-thread-multi-ld-2level
    /opt/Perl/lib/perl5/site_perl/5.22.1
    /opt/Perl/lib/perl5/5.22.1/darwin-thread-multi-ld-2level
    /opt/Perl/lib/perl5/5.22.1
    .