Report for SWISH-Prog-KSx-0.21

Back
From: metabase:user:320bfe00-2aae-11df-837a-5e0a49663a4f
Subject: PASS SWISH-Prog-KSx-0.21 v5.20.1 RC1 GNU/Linux
Date: 2014-08-27T10:28:20Z

This distribution has been tested as part of the CPAN Testers
project, supporting the Perl programming language.  See
http://wiki.cpantesters.org/ for more information or email
questions to cpan-testers-discuss@perl.org


--
Dear Peter Karman,

This is a computer-generated report for SWISH-Prog-KSx-0.21
on perl 5.20.1, created by CPAN-Reporter-1.2011.

Thank you for uploading your work to CPAN.  Congratulations!
All tests were successful.

Sections of this report:

    * Tester comments
    * Program output
    * Prerequisites
    * Environment and other context

------------------------------
TESTER COMMENTS
------------------------------

Additional comments from tester:

this report is from an automated smoke testing program
and was not reviewed by a human for accuracy

------------------------------
PROGRAM OUTPUT
------------------------------

Output from '/usr/bin/make test':

PERL_DL_NONLAZY=1 /tmp/basesmoker-reloperl-T2aq/bin/perl "-MExtUtils::Command::MM" "-MTest::Harness" "-e" "undef *Test::Harness::Switches; test_harness(0, 'blib/lib', 'blib/arch')" t/*.t
# Testing SWISH::Prog::KSx 0.21 KinoSearch 0.315 , Perl 5.020001, /tmp/basesmoker-reloperl-T2aq/bin/perl
t/00-load.t ..................... ok
# 145
# t/test.html
# t/test.xml
# t/test.html
# t/test.xml
t/01-fs.t ....................... ok
t/02-leak-trace.t ............... ok
# pass 1
# pass 2
# pass 3
t/03-update-index.t ............. ok
t/04-auto-reconnect-searcher.t .. ok
t/05-utf8.t ..................... ok
t/pod-coverage.t ................ ok
t/pod.t ......................... ok
All tests successful.
Files=8, Tests=112,  2 wallclock secs ( 0.04 usr  0.01 sys +  2.14 cusr  0.23 csys =  2.42 CPU)
Result: PASS

------------------------------
PREREQUISITES
------------------------------

Prerequisite modules loaded:

requires:

    Module                      Need     Have    
    --------------------------- -------- --------
    KinoSearch                  0.313    0.315   
    Path::Class::File::Lockable 0        0.03    
    Path::Class::File::Stat     0.03     0.05    
    perl                        5.008003 5.020001
    Search::Query               0.17     0.304   
    Search::Query::Dialect::KSx 0.12     0.201   
    Sort::SQL                   0.06     0.08    
    SWISH::3                    1        1.000013
    SWISH::Prog                 0.55     0.75    
    Test::More                  0        1.001003

build_requires:

    Module                      Need     Have    
    --------------------------- -------- --------
    ExtUtils::MakeMaker         0        6.98    

configure_requires:

    Module                      Need     Have    
    --------------------------- -------- --------
    ExtUtils::MakeMaker         0        6.98    


------------------------------
ENVIRONMENT AND OTHER CONTEXT
------------------------------

Environment variables:

    AUTOMATED_TESTING = 1
    LANG = en_US.UTF-8
    LANGUAGE = en_US:en
    PATH = /usr/lib/ccache:/home/sand/bin:/usr/local/bin:/usr/bin:/bin:/usr/games:/usr/local/perl/bin:/usr/X11/bin:/sbin:/usr/sbin
    PERL5LIB = /tmp/loop_over_bdir-15375-EnJUC3/ProjectBuilder-0.12.2-uEIsYW/blib/arch:/tmp/loop_over_bdir-15375-EnJUC3/ProjectBuilder-0.12.2-uEIsYW/blib/lib:/tmp/loop_over_bdir-15375-EnJUC3/FusionInventory-Agent-2.3.10.1-_ZN1Vl/blib/arch:/tmp/loop_over_bdir-15375-EnJUC3/FusionInventory-Agent-2.3.10.1-_ZN1Vl/blib/lib
    PERL5OPT = 
    PERL5_CPANPLUS_IS_RUNNING = 31080
    PERL5_CPAN_IS_RUNNING = 31080
    PERL_MM_USE_DEFAULT = 1
    SHELL = /usr/bin/zsh
    TERM = screen

Perl special variables (and OS-specific diagnostics, for MSWin32):

    $^X = /tmp/basesmoker-reloperl-T2aq/bin/perl
    $UID/$EUID = 1005 / 1005
    $GID = 1005 1005
    $EGID = 1005 1005

Perl module toolchain versions installed:

    Module              Have    
    ------------------- --------
    CPAN                2.05    
    CPAN::Meta          2.142060
    Cwd                 3.48    
    ExtUtils::CBuilder  0.280217
    ExtUtils::Command   1.18    
    ExtUtils::Install   1.67    
    ExtUtils::MakeMaker 6.98    
    ExtUtils::Manifest  1.63    
    ExtUtils::ParseXS   3.24    
    File::Spec          3.48    
    JSON                2.90    
    JSON::PP            2.27203 
    Module::Build       0.4208  
    Module::Signature   0.73    
    Parse::CPAN::Meta   1.4414  
    Test::Harness       3.33    
    Test::More          1.001003
    YAML                1.09    
    YAML::Syck          1.27    
    version             0.9909  


--

Summary of my perl5 (revision 5 version 20 subversion 1) configuration:
   
  Platform:
    osname=linux, osvers=3.14-2-amd64, archname=x86_64-linux
    uname='linux k83 3.14-2-amd64 #1 smp debian 3.14.15-2 (2014-08-09) x86_64 gnulinux '
    config_args='-Dprefix=/home/sand/src/perl/repoperls/installed-perls/perl/perl-5.20.1-RC1/165a -Dmyhostname=k83 -Dinstallusrbinperl=n -Uversiononly -Dusedevel -des -Ui_db -Uuseithreads -Uuselongdouble -DDEBUGGING=-g'
    hint=recommended, useposix=true, d_sigaction=define
    useithreads=undef, usemultiplicity=undef
    use64bitint=define, use64bitall=define, uselongdouble=undef
    usemymalloc=n, bincompat5005=undef
  Compiler:
    cc='cc', ccflags ='-fwrapv -fno-strict-aliasing -pipe -fstack-protector -I/usr/local/include -D_LARGEFILE_SOURCE -D_FILE_OFFSET_BITS=64',
    optimize='-O2 -g',
    cppflags='-fwrapv -fno-strict-aliasing -pipe -fstack-protector -I/usr/local/include'
    ccversion='', gccversion='4.9.1', gccosandvers=''
    intsize=4, longsize=8, ptrsize=8, doublesize=8, byteorder=12345678
    d_longlong=define, longlongsize=8, d_longdbl=define, longdblsize=16
    ivtype='long', ivsize=8, nvtype='double', nvsize=8, Off_t='off_t', lseeksize=8
    alignbytes=8, prototype=define
  Linker and Libraries:
    ld='cc', ldflags =' -fstack-protector -L/usr/local/lib'
    libpth=/usr/local/lib /usr/lib/gcc/x86_64-linux-gnu/4.9/include-fixed /usr/include/x86_64-linux-gnu /usr/lib /lib/x86_64-linux-gnu /lib/../lib /usr/lib/x86_64-linux-gnu /usr/lib/../lib /lib
    libs=-lnsl -lgdbm -ldb -ldl -lm -lcrypt -lutil -lc -lgdbm_compat
    perllibs=-lnsl -ldl -lm -lcrypt -lutil -lc
    libc=libc-2.19.so, so=so, useshrplib=false, libperl=libperl.a
    gnulibc_version='2.19'
  Dynamic Linking:
    dlsrc=dl_dlopen.xs, dlext=so, d_dlsymun=undef, ccdlflags='-Wl,-E'
    cccdlflags='-fPIC', lddlflags='-shared -O2 -g -L/usr/local/lib -fstack-protector'


Characteristics of this binary (from libperl): 
  Compile-time options: HAS_TIMES PERLIO_LAYERS PERL_DONT_CREATE_GVSV
                        PERL_HASH_FUNC_ONE_AT_A_TIME_HARD PERL_MALLOC_WRAP
                        PERL_NEW_COPY_ON_WRITE PERL_PRESERVE_IVUV
                        PERL_USE_DEVEL USE_64_BIT_ALL USE_64_BIT_INT
                        USE_LARGE_FILES USE_LOCALE USE_LOCALE_COLLATE
                        USE_LOCALE_CTYPE USE_LOCALE_NUMERIC USE_PERLIO
                        USE_PERL_ATOF
  Locally applied patches:
	RC1
  Built under linux
  Compiled at Aug 26 2014 08:11:16
  %ENV:
    PERL5LIB="/tmp/loop_over_bdir-15375-EnJUC3/ProjectBuilder-0.12.2-uEIsYW/blib/arch:/tmp/loop_over_bdir-15375-EnJUC3/ProjectBuilder-0.12.2-uEIsYW/blib/lib:/tmp/loop_over_bdir-15375-EnJUC3/FusionInventory-Agent-2.3.10.1-_ZN1Vl/blib/arch:/tmp/loop_over_bdir-15375-EnJUC3/FusionInventory-Agent-2.3.10.1-_ZN1Vl/blib/lib"
    PERL5OPT=""
    PERL5_CPANPLUS_IS_RUNNING="31080"
    PERL5_CPAN_IS_RUNNING="31080"
    PERL_MM_USE_DEFAULT="1"
  @INC:
    /tmp/loop_over_bdir-15375-EnJUC3/ProjectBuilder-0.12.2-uEIsYW/blib/arch
    /tmp/loop_over_bdir-15375-EnJUC3/ProjectBuilder-0.12.2-uEIsYW/blib/lib
    /tmp/loop_over_bdir-15375-EnJUC3/FusionInventory-Agent-2.3.10.1-_ZN1Vl/blib/arch
    /tmp/loop_over_bdir-15375-EnJUC3/FusionInventory-Agent-2.3.10.1-_ZN1Vl/blib/lib
    /home/sand/src/perl/repoperls/installed-perls/perl/perl-5.20.1-RC1/165a/lib/site_perl/5.20.1/x86_64-linux
    /home/sand/src/perl/repoperls/installed-perls/perl/perl-5.20.1-RC1/165a/lib/site_perl/5.20.1
    /home/sand/src/perl/repoperls/installed-perls/perl/perl-5.20.1-RC1/165a/lib/5.20.1/x86_64-linux
    /home/sand/src/perl/repoperls/installed-perls/perl/perl-5.20.1-RC1/165a/lib/5.20.1
    .