Back
From: metabase:user:30ae4450-2aae-11df-837a-5e0a49663a4f
Subject: PASS Catalyst-Helper-Controller-DBIC-API-REST-0.09 v5.24.0
Date: 2017-01-06T13:26:10Z
This distribution has been tested as part of the CPAN Testers
project, supporting the Perl programming language. See
http://wiki.cpantesters.org/ for more information or email
questions to cpan-testers-discuss@perl.org
--
Dear Amiri Barksdale,
This is a computer-generated report for Catalyst-Helper-Controller-DBIC-API-REST-0.09
on perl 5.24.0, created by CPAN-Reporter-1.2018.
Thank you for uploading your work to CPAN. Congratulations!
All tests were successful.
Sections of this report:
* Tester comments
* Program output
* Prerequisites
* Environment and other context
------------------------------
TESTER COMMENTS
------------------------------
Additional comments from tester:
this report is from an automated smoke testing program
and was not reviewed by a human for accuracy
------------------------------
PROGRAM OUTPUT
------------------------------
Output from 'C:\STRAWB~1\c\bin\dmake.exe test':
"C:\Strawberry240\perl\bin\perl.exe" "-MExtUtils::Command::MM" "-MTest::Harness" "-e" "undef *Test::Harness::Switches; test_harness(0, 'blib\lib', 'blib\arch')" t/*.t
t/00-compile.t ............... ok
t/author-critic.t ............ skipped: these tests are for testing by the author
t/author-mojibake.t .......... skipped: these tests are for testing by the author
t/author-pod-coverage.t ...... skipped: these tests are for testing by the author
t/author-pod-syntax.t ........ skipped: these tests are for testing by the author
t/author-portability.t ....... skipped: these tests are for testing by the author
t/author-test-version.t ...... skipped: these tests are for testing by the author
t/create1.t .................. ok
[error] No value supplied for name and no default at C:\STRAWB~1\cpan\build\Catalyst-Controller-DBIC-API-2.006002-0/blib/lib/Catalyst/Controller/DBIC/API.pm line 426, <$fh> line 1.
# {"success":"false","messages":["No value supplied for name and no default"]}
t/create2.t .................. ok
[error] No object found for id '4' at C:\STRAWB~1\cpan\build\Catalyst-Controller-DBIC-API-2.006002-0/blib/lib/Catalyst/Controller/DBIC/API.pm line 218.
t/delete.t ................... ok
t/list.t ..................... ok
t/release-cpan-changes.t ..... skipped: these tests are for release candidate testing
t/release-distmeta.t ......... skipped: these tests are for release candidate testing
t/release-meta-json.t ........ skipped: these tests are for release candidate testing
t/release-minimum-version.t .. skipped: these tests are for release candidate testing
t/release-pod-linkcheck.t .... skipped: these tests are for release candidate testing
t/release-unused-vars.t ...... skipped: these tests are for release candidate testing
DBIx::Class::Storage::DBI::SQLite::_dbi_attrs_for_bind(): Non-integer value supplied for column 'me.trackid' despite the integer datatype at C:\STRAWB~1\cpan\build\Catalyst-Controller-DBIC-API-2.006002-0/blib/lib/Catalyst/Controller/DBIC/API.pm line 217
[error] No object found for id 'sdsdsdsd' at C:\STRAWB~1\cpan\build\Catalyst-Controller-DBIC-API-2.006002-0/blib/lib/Catalyst/Controller/DBIC/API.pm line 218, <$fh> line 1.
[error] No object found for id '3434234' at C:\STRAWB~1\cpan\build\Catalyst-Controller-DBIC-API-2.006002-0/blib/lib/Catalyst/Controller/DBIC/API.pm line 218, <$fh> line 1.
[error] No valid keys passed at C:\STRAWB~1\cpan\build\Catalyst-Controller-DBIC-API-2.006002-0/blib/lib/Catalyst/Controller/DBIC/API.pm line 447, <$fh> line 1.
t/update.t ................... ok
All tests successful.
Files=18, Tests=79, 26 wallclock secs ( 0.02 usr + 0.11 sys = 0.13 CPU)
Result: PASS
------------------------------
PREREQUISITES
------------------------------
Prerequisite modules loaded:
requires:
Module Need Have
------------------------------------- -------- --------
Class::Load 0 0.23
File::Spec 0 3.63
FindBin 0 1.51
lib 0 0.63
List::Util 0 1.47
namespace::autoclean 0 0.28
Path::Tiny 0 0.098
perl 5.006000 5.024000
strict 0 1.11
warnings 0 1.36
build_requires:
Module Need Have
------------------------------------- -------- --------
base 0 2.23
blib 1.01 1.06
bytes 0 1.05
Catalyst 0 5.90114
Catalyst::Controller 0 0
Catalyst::Controller::DBIC::API::REST 2.006002 2.006002
Catalyst::Helper 0 1.39
Catalyst::Model::DBIC::Schema 0 0.65
Catalyst::Utils 0 0
DBIx::Class::Core 0 0
DBIx::Class::ResultSet 0 0
DBIx::Class::Schema 0 0
ExtUtils::MakeMaker 0 7.24
File::Copy::Recursive 0 0.38
File::Path 0 2.12_01
File::Spec 0 3.63
HTTP::Request::Common 0 6.11
IO::Handle 0 1.36
IPC::Open3 0 1.20
JSON::XS 0 3.03
parent 0 0.236
Test::Deep 0 1.124
Test::More 0 1.302073
Test::WWW::Mechanize::Catalyst 0 0.60
URI 0 1.71
configure_requires:
Module Need Have
------------------------------------- -------- --------
ExtUtils::MakeMaker 0 7.24
------------------------------
ENVIRONMENT AND OTHER CONTEXT
------------------------------
Environment variables:
AUTOMATED_TESTING = 1
COMSPEC = C:\WINDOWS\system32\cmd.exe
NUMBER_OF_PROCESSORS = 1
PATH = C:\WINDOWS\system32;C:\WINDOWS;C:\WINDOWS\System32\Wbem;C:\Git\cmd;C:\Strawberry240\c\bin;C:\Strawberry240\perl\site\bin;C:\Strawberry240\perl\bin
PERL5LIB = C:\STRAWB~1\cpan\build\Catalyst-Controller-DBIC-API-2.006002-0/blib/arch;C:\STRAWB~1\cpan\build\Catalyst-Controller-DBIC-API-2.006002-0/blib/lib;C:\STRAWB~1\cpan\build\Data-DPath-Validator-0.093411-0/blib/arch;C:\STRAWB~1\cpan\build\Data-DPath-Validator-0.093411-0/blib/lib;C:\STRAWB~1\cpan\build\MooseX-Role-BuildInstanceOf-0.08-0/blib/arch;C:\STRAWB~1\cpan\build\MooseX-Role-BuildInstanceOf-0.08-0/blib/lib;C:\STRAWB~1\cpan\build\MooseX-Iterator-0.11-0/blib/arch;C:\STRAWB~1\cpan\build\MooseX-Iterator-0.11-0/blib/lib
PERL5OPT =
PERL5_CPANPLUS_IS_RUNNING = 1192
PERL5_CPAN_IS_RUNNING = 1192
PERL5_CPAN_IS_RUNNING_IN_RECURSION = 1896,1192
PERL_CR_SMOKER_CURRENT = Catalyst-Helper-Controller-DBIC-API-REST-0.09
PERL_CR_SMOKER_RUNONCE = 1
PERL_EXTUTILS_AUTOINSTALL = --defaultdeps
PERL_HASH_SEED = 0x11111111
PERL_MM_USE_DEFAULT = 1
PROCESSOR_IDENTIFIER = x86 Family 16 Model 5 Stepping 3, AuthenticAMD
TEMP = C:\DOCUME~1\a\LOCALS~1\Temp
Perl special variables (and OS-specific diagnostics, for MSWin32):
$^X = C:\Strawberry240\perl\bin\perl.exe
$UID/$EUID = 0 / 0
$GID = 0
$EGID = 0
Win32::GetOSName = WinXP/.Net
Win32::GetOSVersion = Service Pack 3, 5, 1, 2600, 2, 3, 0, 256, 1
Win32::FsType = NTFS
Win32::IsAdminUser = 1
Perl module toolchain versions installed:
Module Have
------------------- --------
CPAN 2.14
CPAN::Meta 2.150010
Cwd 3.63
ExtUtils::CBuilder 0.280225
ExtUtils::Command 7.24
ExtUtils::Install 2.04
ExtUtils::MakeMaker 7.24
ExtUtils::Manifest 1.70
ExtUtils::ParseXS 3.31
File::Spec 3.63
JSON 2.90
JSON::PP 2.27400
Module::Build 0.4220
Module::Signature 0.81
Parse::CPAN::Meta 2.150010
Test::Harness 3.36
Test::More 1.302073
YAML 1.21
YAML::Syck 1.29
version 0.9917
--
Summary of my perl5 (revision 5 version 24 subversion 0) configuration:
Platform:
osname=MSWin32, osvers=4.0, archname=MSWin32-x86-multi-thread
uname='Win32 strawberry-perl 5.24.0.1-beta1 #1 Thu Dec 29 16:46:05 2016 i386'
config_args='undef'
hint=recommended, useposix=true, d_sigaction=undef
useithreads=define, usemultiplicity=define
use64bitint=undef, use64bitall=undef, uselongdouble=undef
usemymalloc=n, bincompat5005=undef
Compiler:
cc='gcc', ccflags =' -s -O2 -DWIN32 -DPERL_TEXTMODE_SCRIPTS -DPERL_IMPLICIT_CONTEXT -DPERL_IMPLICIT_SYS -fwrapv -fno-strict-aliasing -mms-bitfields',
optimize='-s -O2',
cppflags='-DWIN32'
ccversion='', gccversion='4.9.2', gccosandvers=''
intsize=4, longsize=4, ptrsize=4, doublesize=8, byteorder=1234, doublekind=3
d_longlong=define, longlongsize=8, d_longdbl=define, longdblsize=12, longdblkind=3
ivtype='long', ivsize=4, nvtype='double', nvsize=8, Off_t='long long', lseeksize=8
alignbytes=8, prototype=define
Linker and Libraries:
ld='g++', ldflags ='-s -L"C:\STRAWB~1\perl\lib\CORE" -L"C:\STRAWB~1\c\lib"'
libpth=C:\STRAWB~1\c\lib C:\STRAWB~1\c\i686-w64-mingw32\lib C:\STRAWB~1\c\lib\gcc\i686-w64-mingw32\4.9.2
libs=-lmoldname -lkernel32 -luser32 -lgdi32 -lwinspool -lcomdlg32 -ladvapi32 -lshell32 -lole32 -loleaut32 -lnetapi32 -luuid -lws2_32 -lmpr -lwinmm -lversion -lodbc32 -lodbccp32 -lcomctl32
perllibs=-lmoldname -lkernel32 -luser32 -lgdi32 -lwinspool -lcomdlg32 -ladvapi32 -lshell32 -lole32 -loleaut32 -lnetapi32 -luuid -lws2_32 -lmpr -lwinmm -lversion -lodbc32 -lodbccp32 -lcomctl32
libc=, so=dll, useshrplib=true, libperl=libperl524.a
gnulibc_version=''
Dynamic Linking:
dlsrc=dl_win32.xs, dlext=xs.dll, d_dlsymun=undef, ccdlflags=' '
cccdlflags=' ', lddlflags='-mdll -s -L"C:\STRAWB~1\perl\lib\CORE" -L"C:\STRAWB~1\c\lib"'
Characteristics of this binary (from libperl):
Compile-time options: HAS_TIMES HAVE_INTERP_INTERN MULTIPLICITY
PERLIO_LAYERS PERL_COPY_ON_WRITE
PERL_DONT_CREATE_GVSV
PERL_HASH_FUNC_ONE_AT_A_TIME_HARD
PERL_IMPLICIT_CONTEXT PERL_IMPLICIT_SYS
PERL_MALLOC_WRAP PERL_PRESERVE_IVUV USE_ITHREADS
USE_LARGE_FILES USE_LOCALE USE_LOCALE_COLLATE
USE_LOCALE_CTYPE USE_LOCALE_NUMERIC USE_LOCALE_TIME
USE_PERLIO USE_PERL_ATOF
Built under MSWin32
Compiled at Dec 29 2016 16:55:33
%ENV:
PERL5LIB="C:\STRAWB~1\cpan\build\Catalyst-Controller-DBIC-API-2.006002-0/blib/arch;C:\STRAWB~1\cpan\build\Catalyst-Controller-DBIC-API-2.006002-0/blib/lib;C:\STRAWB~1\cpan\build\Data-DPath-Validator-0.093411-0/blib/arch;C:\STRAWB~1\cpan\build\Data-DPath-Validator-0.093411-0/blib/lib;C:\STRAWB~1\cpan\build\MooseX-Role-BuildInstanceOf-0.08-0/blib/arch;C:\STRAWB~1\cpan\build\MooseX-Role-BuildInstanceOf-0.08-0/blib/lib;C:\STRAWB~1\cpan\build\MooseX-Iterator-0.11-0/blib/arch;C:\STRAWB~1\cpan\build\MooseX-Iterator-0.11-0/blib/lib"
PERL5_CPANPLUS_IS_RUNNING="1192"
PERL5_CPAN_IS_RUNNING="1192"
PERL5_CPAN_IS_RUNNING_IN_RECURSION="1896,1192"
PERL_CR_SMOKER_CURRENT="Catalyst-Helper-Controller-DBIC-API-REST-0.09"
PERL_CR_SMOKER_RUNONCE="1"
PERL_EXTUTILS_AUTOINSTALL="--defaultdeps"
PERL_HASH_SEED="0x11111111"
PERL_MM_USE_DEFAULT="1"
@INC:
C:\STRAWB~1\cpan\build\Catalyst-Controller-DBIC-API-2.006002-0/blib/arch
C:\STRAWB~1\cpan\build\Catalyst-Controller-DBIC-API-2.006002-0/blib/lib
C:\STRAWB~1\cpan\build\Data-DPath-Validator-0.093411-0/blib/arch
C:\STRAWB~1\cpan\build\Data-DPath-Validator-0.093411-0/blib/lib
C:\STRAWB~1\cpan\build\MooseX-Role-BuildInstanceOf-0.08-0/blib/arch
C:\STRAWB~1\cpan\build\MooseX-Role-BuildInstanceOf-0.08-0/blib/lib
C:\STRAWB~1\cpan\build\MooseX-Iterator-0.11-0/blib/arch
C:\STRAWB~1\cpan\build\MooseX-Iterator-0.11-0/blib/lib
C:/Strawberry240/perl/site/lib
C:/Strawberry240/perl/vendor/lib
C:/Strawberry240/perl/lib
.