Report for HTML-Mason-1.52

Back
From: metabase:user:3198cbe2-2aae-11df-837a-5e0a49663a4f
Subject: PASS HTML-Mason-1.52 v5.16.3 GNU/Linux
Date: 2013-11-03T22:47:07Z

This distribution has been tested as part of the CPAN Testers
project, supporting the Perl programming language.  See
http://wiki.cpantesters.org/ for more information or email
questions to cpan-testers-discuss@perl.org


--
Dear Jonathan Swartz,

This is a computer-generated report for HTML-Mason-1.52
on perl 5.16.3, created by CPAN-Reporter-1.2010.

Thank you for uploading your work to CPAN.  Congratulations!
All tests were successful.

Sections of this report:

    * Tester comments
    * Program output
    * Prerequisites
    * Environment and other context

------------------------------
TESTER COMMENTS
------------------------------

Additional comments from tester:

this report is from an automated smoke testing program
and was not reviewed by a human for accuracy

------------------------------
PROGRAM OUTPUT
------------------------------

Output from '/usr/bin/make test':

PERL_DL_NONLAZY=1 /home/graham/perls/perl5.16.3-thread/bin/perl "-MExtUtils::Command::MM" "-MTest::Harness" "-e" "undef *Test::Harness::Switches; test_harness(0, 'blib/lib', 'blib/arch')" t/*.t t/author-live/*.t
t/01-syntax.t ............................. ok
t/01a-comp-calls.t ........................ ok
t/02-sections.t ........................... ok
t/02a-filter.t ............................ ok
t/04-misc.t ............................... ok
t/05-request.t ............................ ok
t/05a-stack-corruption.t .................. ok
t/06-compiler.t ........................... ok
t/06a-compiler_obj.t ...................... ok
t/06b-compiler-named-subs.t ............... ok
t/06c-compiler-spaces-path.t .............. ok
t/07-interp.t ............................. ok
t/07a-interp-mcr.t ........................ ok
t/07b-interp-static-source.t .............. ok
t/09-component.t .......................... ok
t/09a-comp_content.t ...................... ok
t/10-cache.t .............................. ok
t/10a-cache-1.0x.t ........................ ok
t/10b-cache-chi.t ......................... skipped: CHI 0.21+ is not installed
t/11-inherit.t ............................ ok
t/12-taint.t .............................. ok
t/13-errors.t ............................. ok
t/14-cgi.t ................................ ok
t/14a-fake_apache.t ....................... ok
t/15-subclass.t ........................... ok
t/17-print.t .............................. ok
t/18-leak.t ............................... ok
t/19-subrequest.t ......................... ok
t/20-plugins.t ............................ ok
t/21-escapes.t ............................ ok
t/22-path-security.t ...................... ok
Unhandled type: REGEXP at /home/graham/perls/perl5.16.3-thread/lib/site_perl/5.16.3/Devel/Cycle.pm line 107.
t/23-leak2.t .............................. ok
t/24-tools.t .............................. ok
t/25-flush-in-content.t ................... ok
t/25-log.t ................................ ok
t/99-pod.t ................................ ok
t/author-live/apache-filter.t ............. skipped: these tests are for testing by the author
t/author-live/cgi-no-handler.t ............ skipped: these tests are for testing by the author
t/author-live/cgi-with-handler.t .......... skipped: these tests are for testing by the author
t/author-live/CGIHandler.t ................ skipped: these tests are for testing by the author
t/author-live/libapreq-no-handler.t ....... skipped: these tests are for testing by the author
t/author-live/libapreq-with-handler.t ..... skipped: these tests are for testing by the author
t/author-live/multi-conf.t ................ skipped: these tests are for testing by the author
t/author-live/no-config.t ................. skipped: these tests are for testing by the author
t/author-live/set-content-type.t .......... skipped: these tests are for testing by the author
t/author-live/single-level-server-root.t .. skipped: these tests are for testing by the author
t/author-live/taint.t ..................... skipped: these tests are for testing by the author
All tests successful.
Files=47, Tests=558, 27 wallclock secs ( 0.36 usr  0.05 sys +  7.25 cusr  0.91 csys =  8.57 CPU)
Result: PASS

------------------------------
PREREQUISITES
------------------------------

Prerequisite modules loaded:

requires:

    Module              Need Have   
    ------------------- ---- -------
    Cache::Cache        1.00 1.06   
    CGI                 2.46 3.63   
    Class::Container    0.07 0.12   
    Exception::Class    1.15 1.37   
    File::Spec          0.8  3.40   
    HTML::Entities      0    3.69   
    Log::Any            0.08 0.15   
    Params::Validate    0.70 1.08   
    Scalar::Util        1.01 1.35   

build_requires:

    Module              Need Have   
    ------------------- ---- -------
    Test::Deep          0    0.110  

configure_requires:

    Module              Need Have   
    ------------------- ---- -------
    ExtUtils::MakeMaker 6.30 6.81_05


------------------------------
ENVIRONMENT AND OTHER CONTEXT
------------------------------

Environment variables:

    AUTOMATED_TESTING = 1
    LANG = en_GB.UTF-8
    LC_ADDRESS = en_GB.UTF-8
    LC_COLLATE = en_GB.UTF-8
    LC_CTYPE = en_GB.UTF-8
    LC_IDENTIFICATION = en_GB.UTF-8
    LC_MEASUREMENT = en_GB.UTF-8
    LC_MESSAGES = en_GB.UTF-8
    LC_MONETARY = en_GB.UTF-8
    LC_NAME = en_GB.UTF-8
    LC_NUMERIC = en_GB.UTF-8
    LC_PAPER = en_GB.UTF-8
    LC_TELEPHONE = en_GB.UTF-8
    LC_TIME = en_GB.UTF-8
    PATH = /home/graham/perls/perl5.16.3-thread/bin:/home/graham/perls/perl5.16.3-thread/bin:/usr/local/sbin:/usr/local/bin:/usr/bin:/usr/bin/core_perl
    PERL5LIB = 
    PERL5OPT = 
    PERL5_CPANPLUS_IS_RUNNING = 4351
    PERL5_CPAN_IS_RUNNING = 4351
    PERL5_CPAN_IS_RUNNING_IN_RECURSION = 25184,4351
    PERL_CR_SMOKER_CURRENT = Task-LiveDVD-FrankfurtPM-0.03
    PERL_EXTUTILS_AUTOINSTALL = --defaultdeps
    PERL_MM_USE_DEFAULT = 1
    SHELL = /bin/bash
    TERM = xterm

Perl special variables (and OS-specific diagnostics, for MSWin32):

    $^X = /home/graham/perls/perl5.16.3-thread/bin/perl
    $UID/$EUID = 1000 / 1000
    $GID = 100 10 100
    $EGID = 100 10 100

Perl module toolchain versions installed:

    Module              Have        
    ------------------- ------------
    CPAN                2.00        
    CPAN::Meta          2.132830    
    Cwd                 3.40        
    ExtUtils::CBuilder  0.280212    
    ExtUtils::Command   1.18        
    ExtUtils::Install   1.58        
    ExtUtils::MakeMaker 6.81_05     
    ExtUtils::Manifest  1.63        
    ExtUtils::ParseXS   3.22        
    File::Spec          3.40        
    JSON                2.90        
    JSON::PP            2.27203     
    Module::Build       0.39_01     
    Module::Signature   n/a         
    Parse::CPAN::Meta   1.4409      
    Test::Harness       3.29        
    Test::More          1.001001_001
    YAML                0.84        
    YAML::Syck          1.27        
    version             0.9904      


--

Summary of my perl5 (revision 5 version 16 subversion 3) configuration:
   
  Platform:
    osname=linux, osvers=3.11.6-1-arch, archname=x86_64-linux-thread-multi
    uname='linux arch002 3.11.6-1-arch #1 smp preempt fri oct 18 23:22:36 cest 2013 x86_64 gnulinux '
    config_args=''
    hint=recommended, useposix=true, d_sigaction=define
    useithreads=define, usemultiplicity=define
    useperlio=define, d_sfio=undef, uselargefiles=define, usesocks=undef
    use64bitint=define, use64bitall=define, uselongdouble=undef
    usemymalloc=n, bincompat5005=undef
  Compiler:
    cc='cc', ccflags ='-D_REENTRANT -D_GNU_SOURCE -fno-strict-aliasing -pipe -fstack-protector -I/usr/local/include -D_LARGEFILE_SOURCE -D_FILE_OFFSET_BITS=64',
    optimize='-O2',
    cppflags='-D_REENTRANT -D_GNU_SOURCE -fno-strict-aliasing -pipe -fstack-protector -I/usr/local/include'
    ccversion='', gccversion='4.8.2', gccosandvers=''
    intsize=4, longsize=8, ptrsize=8, doublesize=8, byteorder=12345678
    d_longlong=define, longlongsize=8, d_longdbl=define, longdblsize=16
    ivtype='long', ivsize=8, nvtype='double', nvsize=8, Off_t='off_t', lseeksize=8
    alignbytes=8, prototype=define
  Linker and Libraries:
    ld='cc', ldflags =' -fstack-protector -L/usr/local/lib'
    libpth=/usr/local/lib /lib/../lib /usr/lib/../lib /lib /usr/lib /lib64 /usr/lib64
    libs=-lnsl -lgdbm -ldb -ldl -lm -lcrypt -lutil -lpthread -lc -lgdbm_compat
    perllibs=-lnsl -ldl -lm -lcrypt -lutil -lpthread -lc
    libc=/lib/libc-2.18.so, so=so, useshrplib=false, libperl=libperl.a
    gnulibc_version='2.18'
  Dynamic Linking:
    dlsrc=dl_dlopen.xs, dlext=so, d_dlsymun=undef, ccdlflags='-Wl,-E'
    cccdlflags='-fPIC', lddlflags='-shared -O2 -L/usr/local/lib -fstack-protector'


Characteristics of this binary (from libperl): 
  Compile-time options: HAS_TIMES MULTIPLICITY PERLIO_LAYERS
                        PERL_DONT_CREATE_GVSV PERL_IMPLICIT_CONTEXT
                        PERL_MALLOC_WRAP PERL_PRESERVE_IVUV USE_64_BIT_ALL
                        USE_64_BIT_INT USE_ITHREADS USE_LARGE_FILES
                        USE_LOCALE USE_LOCALE_COLLATE USE_LOCALE_CTYPE
                        USE_LOCALE_NUMERIC USE_PERLIO USE_PERL_ATOF
                        USE_REENTRANT_API
  Built under linux
  Compiled at Nov  3 2013 12:08:50
  %ENV:
    PERL5LIB=""
    PERL5OPT=""
    PERL5_CPANPLUS_IS_RUNNING="4351"
    PERL5_CPAN_IS_RUNNING="4351"
    PERL5_CPAN_IS_RUNNING_IN_RECURSION="25184,4351"
    PERL_CR_SMOKER_CURRENT="Task-LiveDVD-FrankfurtPM-0.03"
    PERL_EXTUTILS_AUTOINSTALL="--defaultdeps"
    PERL_MM_USE_DEFAULT="1"
  @INC:
    /home/graham/perls/perl5.16.3-thread/lib/site_perl/5.16.3/x86_64-linux-thread-multi
    /home/graham/perls/perl5.16.3-thread/lib/site_perl/5.16.3
    /home/graham/perls/perl5.16.3-thread/lib/5.16.3/x86_64-linux-thread-multi
    /home/graham/perls/perl5.16.3-thread/lib/5.16.3
    .