Back
From: metabase:user:320bfe00-2aae-11df-837a-5e0a49663a4f
Subject: PASS Dist-Zilla-Plugin-Chrome-ExtraPrompt-0.008 v5.20.0 GNU/Linux
Date: 2015-04-04T22:28:07Z
This distribution has been tested as part of the CPAN Testers
project, supporting the Perl programming language. See
http://wiki.cpantesters.org/ for more information or email
questions to cpan-testers-discuss@perl.org
--
Dear Karen Etheridge,
This is a computer-generated report for Dist-Zilla-Plugin-Chrome-ExtraPrompt-0.008
on perl 5.20.0, created by CPAN-Reporter-1.2013.
Thank you for uploading your work to CPAN. Congratulations!
All tests were successful.
Sections of this report:
* Tester comments
* Program output
* Prerequisites
* Environment and other context
------------------------------
TESTER COMMENTS
------------------------------
Additional comments from tester:
this report is from an automated smoke testing program
and was not reviewed by a human for accuracy
------------------------------
PROGRAM OUTPUT
------------------------------
Output from './Build test':
#
# Versions for all modules listed in MYMETA.json (including optional ones):
#
# === Configure Requires ===
#
# Module Want Have
# ------------------- ----- -----
# Module::Build::Tiny 0.039 0.039
#
# === Test Requires ===
#
# Module Want Have
# ----------------------------------------- ----- --------
# Dist::Zilla::Chrome::Test any 5.034
# Dist::Zilla::MVP::Assembler::GlobalConfig any 5.034
# Dist::Zilla::MVP::Reader::Finder any 5.034
# Dist::Zilla::MVP::Section any 5.034
# Dist::Zilla::Role::BeforeBuild any 5.034
# ExtUtils::MakeMaker any 7.05_20
# File::Spec any 3.47
# Path::Tiny any 0.068
# Test::DZil any 5.034
# Test::Deep any 0.115
# Test::Fatal any 0.014
# Test::More 0.88 1.001014
# Test::Warnings 0.009 0.020
# if any 0.0603
# lib any 0.63
#
# === Test Recommends ===
#
# Module Want Have
# ---------- -------- --------
# CPAN::Meta 2.120900 2.150001
#
# === Runtime Requires ===
#
# Module Want Have
# ------------------------- ---- -------
# Dist::Zilla::Role::Plugin any 5.034
# File::Spec any 3.47
# IPC::Open3 any 1.16
# Moose any 2.1403
# Moose::Role any 2.1403
# POSIX any 1.38_03
# namespace::autoclean any 0.24
# strict any 1.08
# warnings any 1.23
#
# === Other Modules ===
#
# Module Have
# ------------- ----
# Pod::Coverage 0.23
#
t/00-report-prereqs.t .. ok
t/01-basic.t ........... ok
t/02-no-distini.t ...... ok
t/03-repeat-prompt.t ... ok
t/04-error.t ........... ok
t/zzz-check-breaks.t ... ok
All tests successful.
Files=6, Tests=9, 22 wallclock secs ( 0.04 usr 0.06 sys + 6.37 cusr 0.75 csys = 7.22 CPU)
Result: PASS
------------------------------
PREREQUISITES
------------------------------
Prerequisite modules loaded:
requires:
Module Need Have
----------------------------------------- ----- --------
Dist::Zilla::Role::Plugin 0 5.034
File::Spec 0 3.47
IPC::Open3 0 1.16
Moose 0 2.1403
Moose::Role 0 2.1403
namespace::autoclean 0 0.24
perl 5.006 5.020000
POSIX 0 1.38_03
strict 0 1.08
warnings 0 1.23
build_requires:
Module Need Have
----------------------------------------- ----- --------
Dist::Zilla::Chrome::Test 0 5.034
Dist::Zilla::MVP::Assembler::GlobalConfig 0 5.034
Dist::Zilla::MVP::Reader::Finder 0 5.034
Dist::Zilla::MVP::Section 0 5.034
Dist::Zilla::Role::BeforeBuild 0 5.034
ExtUtils::MakeMaker 0 7.05_20
File::Spec 0 3.47
if 0 0.0603
lib 0 0.63
Path::Tiny 0 0.068
perl 5.006 5.020000
Test::Deep 0 0.115
Test::DZil 0 5.034
Test::Fatal 0 0.014
Test::More 0.88 1.001014
Test::Warnings 0.009 0.020
configure_requires:
Module Need Have
----------------------------------------- ----- --------
Module::Build::Tiny 0.039 0.039
perl 5.006 5.020000
------------------------------
ENVIRONMENT AND OTHER CONTEXT
------------------------------
Environment variables:
AUTOMATED_TESTING = 1
LANG = en_US.UTF-8
LANGUAGE = en_US:en
PATH = /home/sand/bin:/usr/local/bin:/usr/bin:/bin:/usr/games:/usr/local/perl/bin:/usr/X11/bin:/sbin:/usr/sbin
PERL5LIB =
PERL5OPT =
PERL5_CPANPLUS_IS_RUNNING = 19209
PERL5_CPAN_IS_RUNNING = 19209
PERL_MM_USE_DEFAULT = 1
SHELL = /usr/bin/zsh
TERM = screen
Perl special variables (and OS-specific diagnostics, for MSWin32):
$^X = /home/sand/src/perl/repoperls/installed-perls/perl/v5.20.0/165a/bin/perl
$UID/$EUID = 1005 / 1005
$GID = 1005 1005
$EGID = 1005 1005
Perl module toolchain versions installed:
Module Have
------------------- --------
CPAN 2.10
CPAN::Meta 2.150001
Cwd 3.47
ExtUtils::CBuilder 0.280220
ExtUtils::Command 7.05_20
ExtUtils::Install 1.67
ExtUtils::MakeMaker 7.05_20
ExtUtils::Manifest 1.70
ExtUtils::ParseXS 3.24
File::Spec 3.47
JSON 2.90
JSON::PP 2.27203
Module::Build 0.4211
Module::Signature 0.73
Parse::CPAN::Meta 1.4414
Test::Harness 3.35
Test::More 1.001014
YAML 1.14
YAML::Syck 1.29
version 0.9912
--
Summary of my perl5 (revision 5 version 20 subversion 0) configuration:
Commit id: d7d4eceb184d8fc54797d661a6d5ff9a4a7048c3
Platform:
osname=linux, osvers=3.16.0-4-amd64, archname=x86_64-linux
uname='linux k83 3.16.0-4-amd64 #1 smp debian 3.16.7-ckt7-1 (2015-03-01) x86_64 gnulinux '
config_args='-Dprefix=/home/sand/src/perl/repoperls/installed-perls/perl/v5.20.0/165a -Dmyhostname=k83 -Dinstallusrbinperl=n -Uversiononly -Dusedevel -des -Ui_db -Uuseithreads -Uuselongdouble -DDEBUGGING=-g'
hint=recommended, useposix=true, d_sigaction=define
useithreads=undef, usemultiplicity=undef
use64bitint=define, use64bitall=define, uselongdouble=undef
usemymalloc=n, bincompat5005=undef
Compiler:
cc='cc', ccflags ='-fwrapv -fno-strict-aliasing -pipe -fstack-protector -I/usr/local/include -D_LARGEFILE_SOURCE -D_FILE_OFFSET_BITS=64',
optimize='-O2 -g',
cppflags='-fwrapv -fno-strict-aliasing -pipe -fstack-protector -I/usr/local/include'
ccversion='', gccversion='4.9.2', gccosandvers=''
intsize=4, longsize=8, ptrsize=8, doublesize=8, byteorder=12345678
d_longlong=define, longlongsize=8, d_longdbl=define, longdblsize=16
ivtype='long', ivsize=8, nvtype='double', nvsize=8, Off_t='off_t', lseeksize=8
alignbytes=8, prototype=define
Linker and Libraries:
ld='cc', ldflags =' -fstack-protector -L/usr/local/lib'
libpth=/usr/local/lib /usr/lib/gcc/x86_64-linux-gnu/4.9/include-fixed /usr/include/x86_64-linux-gnu /usr/lib /lib/x86_64-linux-gnu /lib/../lib /usr/lib/x86_64-linux-gnu /usr/lib/../lib /lib
libs=-lnsl -lgdbm -ldb -ldl -lm -lcrypt -lutil -lc -lgdbm_compat
perllibs=-lnsl -ldl -lm -lcrypt -lutil -lc
libc=libc-2.19.so, so=so, useshrplib=false, libperl=libperl.a
gnulibc_version='2.19'
Dynamic Linking:
dlsrc=dl_dlopen.xs, dlext=so, d_dlsymun=undef, ccdlflags='-Wl,-E'
cccdlflags='-fPIC', lddlflags='-shared -O2 -g -L/usr/local/lib -fstack-protector'
Characteristics of this binary (from libperl):
Compile-time options: HAS_TIMES PERLIO_LAYERS PERL_DONT_CREATE_GVSV
PERL_HASH_FUNC_ONE_AT_A_TIME_HARD PERL_MALLOC_WRAP
PERL_NEW_COPY_ON_WRITE PERL_PRESERVE_IVUV
PERL_USE_DEVEL USE_64_BIT_ALL USE_64_BIT_INT
USE_LARGE_FILES USE_LOCALE USE_LOCALE_COLLATE
USE_LOCALE_CTYPE USE_LOCALE_NUMERIC USE_PERLIO
USE_PERL_ATOF
Built under linux
Compiled at Mar 15 2015 07:14:54
%ENV:
PERL5LIB=""
PERL5OPT=""
PERL5_CPANPLUS_IS_RUNNING="19209"
PERL5_CPAN_IS_RUNNING="19209"
PERL_MM_USE_DEFAULT="1"
@INC:
/home/sand/src/perl/repoperls/installed-perls/perl/v5.20.0/165a/lib/site_perl/5.20.0/x86_64-linux
/home/sand/src/perl/repoperls/installed-perls/perl/v5.20.0/165a/lib/site_perl/5.20.0
/home/sand/src/perl/repoperls/installed-perls/perl/v5.20.0/165a/lib/5.20.0/x86_64-linux
/home/sand/src/perl/repoperls/installed-perls/perl/v5.20.0/165a/lib/5.20.0
.