Test-PDL v0.14 Perl 5 v5.20.1 amd64-freebsd-ld

Status
Pass
From
Slaven Rezić (SREZIC)
Dist
Test-PDL v0.14
Platform
Perl 5 v5.20.1 amd64-freebsd-ld
Date
2019-04-26 09:58:40
ID
de71f72e-6809-11e9-903b-e6711f24ea8f
This distribution has been tested as part of the CPAN Testers
project, supporting the Perl programming language.  See
http://wiki.cpantesters.org/ for more information or email
questions to cpan-testers-discuss@perl.org


--
Dear Edward Baudrez,

This is a computer-generated report for Test-PDL-0.14
on perl 5.20.1, created by CPAN-Reporter-1.2018.

Thank you for uploading your work to CPAN.  Congratulations!
All tests were successful.

Sections of this report:

    * Tester comments
    * Program output
    * Prerequisites
    * Environment and other context

------------------------------
TESTER COMMENTS
------------------------------

Additional comments from tester:

none provided

------------------------------
PROGRAM OUTPUT
------------------------------

Output from '/usr/bin/make test':

PERL_DL_NONLAZY=1 "/usr/perl5.20.1Dp/bin/perl5.20.1" "-MExtUtils::Command::MM" "-MTest::Harness" "-e" "undef *Test::Harness::Switches; test_harness(0, 'blib/lib', 'blib/arch')" t/*.t
Your perl NV has more precision than PDL_Double.  There will be loss of floating point precision!
Your perl NV has more precision than PDL_Double.  There will be loss of floating point precision!
t/00-compile.t ................... ok
# 
# Versions for all modules listed in MYMETA.json (including optional ones):
# 
# === Configure Requires ===
# 
#     Module              Want Have
#     ------------------- ---- ----
#     ExtUtils::MakeMaker  any 7.04
# 
# === Build Requires ===
# 
#     Module              Want Have
#     ------------------- ---- ----
#     ExtUtils::MakeMaker  any 7.04
# 
# === Test Requires ===
# 
#     Module                 Want     Have
#     --------------------- ----- --------
#     Capture::Tiny           any     0.28
#     ExtUtils::MakeMaker     any     7.04
#     File::Spec              any     3.48
#     IO::Handle              any     1.35
#     IPC::Open3              any     1.16
#     List::MoreUtils         any    0.404
#     PDL                   2.004    2.019
#     PDL::Core               any    2.019
#     Test::Builder::Tester   any     1.28
#     Test::Deep              any    0.117
#     Test::Exception         any     0.36
#     Test::More              any 1.001014
#     Test::NoWarnings        any     1.04
# 
# === Test Recommends ===
# 
#     Module         Want     Have
#     ---------- -------- --------
#     CPAN::Meta 2.120900 2.143240
# 
# === Runtime Requires ===
# 
#     Module           Want     Have
#     --------------- ----- --------
#     Exporter          any     5.71
#     PDL             2.004    2.019
#     PDL::Lite         any    undef
#     PDL::Types        any    undef
#     Test::Builder     any 1.001014
#     Test::Deep::Cmp   any    undef
#     base              any     2.22
#     strict            any     1.08
#     warnings          any     1.23
# 
# === Other Modules ===
# 
#     Module           Have
#     --------------- -----
#     File::Map        0.63
#     List::MoreUtils 0.404
# 
t/00-report-prereqs.t ............ ok
t/author-pod-coverage.t .......... skipped: these tests are for testing by the author
t/author-pod-syntax.t ............ skipped: these tests are for testing by the author
t/author-test-version.t .......... skipped: these tests are for testing by the author
Your perl NV has more precision than PDL_Double.  There will be loss of floating point precision!
t/deep.t ......................... ok
Your perl NV has more precision than PDL_Double.  There will be loss of floating point precision!
t/eq_pdl.t ....................... ok
t/eq_pdl_clean.t ................. ok
Your perl NV has more precision than PDL_Double.  There will be loss of floating point precision!
t/eq_pdl_diag.t .................. ok
Your perl NV has more precision than PDL_Double.  There will be loss of floating point precision!
t/import_options.t ............... ok
Your perl NV has more precision than PDL_Double.  There will be loss of floating point precision!
t/is_pdl.t ....................... ok
t/release-changes_has_content.t .. skipped: these tests are for release candidate testing
t/release-cpan-changes.t ......... skipped: these tests are for release candidate testing
All tests successful.
Files=13, Tests=253,  1 wallclock secs ( 0.00 usr  0.06 sys +  0.29 cusr  1.00 csys =  1.35 CPU)
Result: PASS

------------------------------
PREREQUISITES
------------------------------

Prerequisite modules loaded:

requires:

    Module                Need  Have    
    --------------------- ----- --------
    base                  0     2.22    
    Exporter              0     5.71    
    PDL                   2.004 2.019   
    PDL::Lite             0     2.019   
    PDL::Types            0     0       
    perl                  5.006 5.020001
    strict                0     1.08    
    Test::Builder         0     1.001014
    Test::Deep::Cmp       0     0       
    warnings              0     1.23    

build_requires:

    Module                Need  Have    
    --------------------- ----- --------
    Capture::Tiny         0     0.28    
    ExtUtils::MakeMaker   0     7.04    
    File::Spec            0     3.48    
    IO::Handle            0     1.35    
    IPC::Open3            0     1.16    
    List::MoreUtils       0     0.404   
    PDL                   2.004 2.019   
    PDL::Core             0     2.019   
    Test::Builder::Tester 0     1.28    
    Test::Deep            0     0.117   
    Test::Exception       0     0.36    
    Test::More            0     1.001014
    Test::NoWarnings      0     1.04    

configure_requires:

    Module                Need  Have    
    --------------------- ----- --------
    ExtUtils::MakeMaker   0     7.04    


------------------------------
ENVIRONMENT AND OTHER CONTEXT
------------------------------

Environment variables:

    LC_ALL = de_DE.ISO8859-1
    PATH = /usr/local/bin:/usr/bin:/bin:/usr/local/sbin:/usr/sbin:/sbin:/home/cpansand/bin/freebsd10.3:/home/cpansand/bin/sh:/home/cpansand/bin:/usr/games:/home/cpansand/devel:/home/eserte/src/srezic-misc/scripts
    PERL5LIB = /home/cpansand/.cpan/build/2019042611/PDL-2.019-0ng9gr/blib/arch:/home/cpansand/.cpan/build/2019042611/PDL-2.019-0ng9gr/blib/lib
    PERL5OPT = 
    PERL5_CPANPLUS_IS_RUNNING = 79367
    PERL5_CPAN_IS_RUNNING = 79367
    PERL5_CPAN_IS_RUNNING_IN_RECURSION = 79315,79367
    PERLDOC = -MPod::Perldoc::ToTextOverstrike
    PERL_BATCH = yes
    PERL_CANARY_STABILITY_NOPROMPT = 1
    PERL_CPAN_REPORTER_CONFIG = /var/tmp/cpansmoker-1023/2019042611/cpanreporter_000_config.ini
    PERL_EXTUTILS_AUTOINSTALL = --defaultdeps
    SHELL = /usr/local/bin/zsh
    TERM = screen
    TMPDIR = /var/tmp/cpansmoker-1023/2019042611

Perl special variables (and OS-specific diagnostics, for MSWin32):

    $^X = /usr/perl5.20.1Dp/bin/perl5.20.1
    $UID/$EUID = 1023 / 1023
    $GID = 1023 1023
    $EGID = 1023 1023

Perl module toolchain versions installed:

    Module              Have    
    ------------------- --------
    CPAN                2.05    
    CPAN::Meta          2.143240
    Cwd                 3.48    
    ExtUtils::CBuilder  0.280217
    ExtUtils::Command   1.18    
    ExtUtils::Install   1.67    
    ExtUtils::MakeMaker 7.04    
    ExtUtils::Manifest  1.70    
    ExtUtils::ParseXS   3.24    
    File::Spec          3.48    
    JSON                2.90    
    JSON::PP            2.27400 
    Module::Build       0.4211  
    Module::Signature   n/a     
    Parse::CPAN::Meta   1.4422  
    Test::Harness       3.30    
    Test::More          1.001014
    YAML                1.14    
    YAML::Syck          1.29    
    version             0.9909  


--

Summary of my perl5 (revision 5 version 20 subversion 1) configuration:
   
  Platform:
    osname=freebsd, osvers=10.1-release, archname=amd64-freebsd-ld
    uname='freebsd cvrsnica-freebsd-101.herceg.de 10.1-release freebsd 10.1-release #0 r274401: tue nov 11 21:02:49 utc 2014 root@releng1.nyi.freebsd.org:usrobjusrsrcsysgeneric amd64 '
    config_args='-ds -e -Dprefix=/usr/perl5.20.1Dp -Duselongdouble'
    hint=recommended, useposix=true, d_sigaction=define
    useithreads=undef, usemultiplicity=undef
    use64bitint=define, use64bitall=define, uselongdouble=define
    usemymalloc=n, bincompat5005=undef
  Compiler:
    cc='cc', ccflags ='-DHAS_FPSETMASK -DHAS_FLOATINGPOINT_H -fno-strict-aliasing -pipe -fstack-protector -I/usr/local/include',
    optimize='-O',
    cppflags='-DHAS_FPSETMASK -DHAS_FLOATINGPOINT_H -fno-strict-aliasing -pipe -fstack-protector -I/usr/local/include'
    ccversion='', gccversion='4.2.1 Compatible FreeBSD Clang 3.4.1 (tags/RELEASE_34/dot1-final 208032)', gccosandvers=''
    intsize=4, longsize=8, ptrsize=8, doublesize=8, byteorder=12345678
    d_longlong=define, longlongsize=8, d_longdbl=define, longdblsize=16
    ivtype='long', ivsize=8, nvtype='long double', nvsize=16, Off_t='off_t', lseeksize=8
    alignbytes=16, prototype=define
  Linker and Libraries:
    ld='cc', ldflags ='-pthread -Wl,-E  -fstack-protector -L/usr/local/lib'
    libpth=/usr/lib /usr/local/lib /usr/include/clang/3.4.1 /usr/lib
    libs=-lgdbm -lm -lcrypt -lutil -lc
    perllibs=-lm -lcrypt -lutil -lc
    libc=, so=so, useshrplib=false, libperl=libperl.a
    gnulibc_version=''
  Dynamic Linking:
    dlsrc=dl_dlopen.xs, dlext=so, d_dlsymun=undef, ccdlflags=' '
    cccdlflags='-DPIC -fPIC', lddlflags='-shared  -L/usr/local/lib -fstack-protector'


Characteristics of this binary (from libperl): 
  Compile-time options: HAS_TIMES PERLIO_LAYERS PERL_DONT_CREATE_GVSV
                        PERL_HASH_FUNC_ONE_AT_A_TIME_HARD PERL_MALLOC_WRAP
                        PERL_NEW_COPY_ON_WRITE PERL_PRESERVE_IVUV
                        USE_64_BIT_ALL USE_64_BIT_INT USE_LARGE_FILES
                        USE_LOCALE USE_LOCALE_COLLATE USE_LOCALE_CTYPE
                        USE_LOCALE_NUMERIC USE_LONG_DOUBLE USE_PERLIO
                        USE_PERL_ATOF
  Built under freebsd
  Compiled at Feb 13 2015 08:17:27
  %ENV:
    PERL5LIB="/home/cpansand/.cpan/build/2019042611/PDL-2.019-0ng9gr/blib/arch:/home/cpansand/.cpan/build/2019042611/PDL-2.019-0ng9gr/blib/lib"
    PERL5OPT=""
    PERL5_CPANPLUS_IS_RUNNING="79367"
    PERL5_CPAN_IS_RUNNING="79367"
    PERL5_CPAN_IS_RUNNING_IN_RECURSION="79315,79367"
    PERLDOC="-MPod::Perldoc::ToTextOverstrike"
    PERL_BATCH="yes"
    PERL_CANARY_STABILITY_NOPROMPT="1"
    PERL_CPAN_REPORTER_CONFIG="/var/tmp/cpansmoker-1023/2019042611/cpanreporter_000_config.ini"
    PERL_EXTUTILS_AUTOINSTALL="--defaultdeps"
  @INC:
    /home/cpansand/.cpan/build/2019042611/PDL-2.019-0ng9gr/blib/arch
    /home/cpansand/.cpan/build/2019042611/PDL-2.019-0ng9gr/blib/lib
    /usr/perl5.20.1Dp/lib/site_perl/5.20.1/amd64-freebsd-ld
    /usr/perl5.20.1Dp/lib/site_perl/5.20.1
    /usr/perl5.20.1Dp/lib/5.20.1/amd64-freebsd-ld
    /usr/perl5.20.1Dp/lib/5.20.1
    .