Back
From: metabase:user:d2c9f356-b46f-11df-9a90-20a83c0b7757
Subject: PASS LWP-Protocol-Coro-http-v1.0.3 v5.15.6 SunOS/Solaris
Date: 2012-01-12T04:49:54Z
This distribution has been tested as part of the CPAN Testers
project, supporting the Perl programming language. See
http://wiki.cpantesters.org/ for more information or email
questions to cpan-testers-discuss@perl.org
--
Dear ikegami,
This is a computer-generated report for LWP-Protocol-Coro-http-v1.0.3
on perl 5.15.6, created by CPAN-Reporter-1.2003.
Thank you for uploading your work to CPAN. Congratulations!
All tests were successful.
Sections of this report:
* Tester comments
* Program output
* Prerequisites
* Environment and other context
------------------------------
TESTER COMMENTS
------------------------------
Additional comments from tester:
this report is from an automated smoke testing program
and was not reviewed by a human for accuracy
------------------------------
PROGRAM OUTPUT
------------------------------
Output from './Build test':
# Testing LWP::Protocol::Coro::http v1.0.3, Perl 5.015006
# AnyEvent 6.12
# AnyEvent::HTTP 2.13
# AnyEvent::Handle 6.12
# AnyEvent::Util 6.12
# Carp 1.24
# Config <unknown>
# Coro 6.07
# Coro::Channel 6.07
# Coro::Semaphore 6.07
# Coro::State 6.07
# DynaLoader 1.14
# Errno 1.15
# Exporter 5.66
# Exporter::Heavy 5.66
# Fcntl 1.11
# Guard 1.022
# HTTP::Headers 6.00
# HTTP::Message 6.02
# HTTP::Response 6.01
# HTTP::Status 6.00
# LWP::MemberMixin <unknown>
# LWP::Protocol 6.00
# LWP::Protocol::Coro::http v1.0.3
# List::Util 1.23
# PerlIO 1.07
# Scalar::Util 1.23
# Socket 1.97
# Storable 2.34
# Test::Builder 0.98
# Test::Builder::Module 0.98
# Test::More 0.98
# URI 1.59
# URI::Escape 3.31
# XSLoader 0.16
# base 2.18
# common::sense 3.4
# feature 1.24
# overload 1.16
# strict 1.06
# vars 1.02
# version 0.95
# version::vxs 0.95
# warnings 1.12
# warnings::register 1.02
t/00_load.t .................. ok
# Retrieving URL: http://localhost:56183/
# Waiting for reply
# Waiting for reply
# Waiting for reply
# Waiting for reply
# Shutting down server
# Done
t/01_timer.t ................. ok
# Retrieving URL: http://localhost:56186/chunks
# Waiting for reply
# Got chunk
# Waiting for reply
# Got chunk
# Waiting for reply
# Got chunk
# Waiting for reply
# Got chunk
# Waiting for reply
# Got chunk
# Waiting for reply
# Shutting down server
# Done
t/02_large.t ................. ok
# Retrieving URL: http://localhost:56188/
# Waiting for reply
# Got chunk
# Waiting for reply
# Got chunk
# Waiting for reply
# Shutting down server
# Done
t/03_error_after_headers.t ... ok
# Retrieving URL: http://localhost:56191/
# Waiting for reply
# Shutting down server
# Done
t/04_error_404.t ............. ok
# Retrieving URL: http://doesnotexist.example
t/05_error_500_bogus_host.t .. ok
All tests successful.
Files=6, Tests=20, 23 wallclock secs ( 0.03 usr 0.02 sys + 1.20 cusr 0.19 csys = 1.44 CPU)
Result: PASS
------------------------------
PREREQUISITES
------------------------------
Prerequisite modules loaded:
requires:
Module Need Have
-------------------------- ------ --------
AnyEvent::HTTP 2 2.13
Coro::Channel 0 6.07
HTTP::Response 0 6.01
LWP::Protocol 0 6.00
LWP::Simple 5.827 6.00
version 0 0.95
build_requires:
Module Need Have
-------------------------- ------ --------
AnyEvent 0 6.12
Carp 0 1.24
CGI 0 3.59
File::Spec 0 3.34
File::Temp 0 0.22
FindBin 0 1.51
Getopt::Long 0 2.38
HTTP::Daemon 0 6.00
LWP::Simple 0 6.00
Test::More 0 0.98
URI 0 1.59
URI::URL 0 5.04
configure_requires:
Module Need Have
-------------------------- ------ --------
Module::Build 0.3614 0.39_01
Software::License::CC0_1_0 0 0.103004
------------------------------
ENVIRONMENT AND OTHER CONTEXT
------------------------------
Environment variables:
AUTOMATED_TESTING = 1
LANG = C
LD_LIBRARY_PATH = /usr/local/lib:
PATH = /export/home/cpant4/perl5/bin:/usr/local/bin:/usr/bin
PERL5LIB = /export/home/cpant4/.cpan/build/AnyEvent-HTTP-2.13-gqSEMN/blib/arch:/export/home/cpant4/.cpan/build/AnyEvent-HTTP-2.13-gqSEMN/blib/lib:/export/home/cpant4/.cpan/build/Coro-6.07-wdcalL/blib/arch:/export/home/cpant4/.cpan/build/Coro-6.07-wdcalL/blib/lib:/export/home/cpant4/.cpan/build/Guard-1.022-lHkXjl/blib/arch:/export/home/cpant4/.cpan/build/Guard-1.022-lHkXjl/blib/lib:/export/home/cpant4/.cpan/build/Software-License-0.103004-eKeReV/blib/arch:/export/home/cpant4/.cpan/build/Software-License-0.103004-eKeReV/blib/lib:/export/home/cpant4/.cpan/build/Text-Template-1.45-QxeVvd/blib/arch:/export/home/cpant4/.cpan/build/Text-Template-1.45-QxeVvd/blib/lib:/export/home/cpant4/.cpan/build/Data-Section-0.101621-goi50w/blib/arch:/export/home/cpant4/.cpan/build/Data-Section-0.101621-goi50w/blib/lib
PERL5OPT =
PERL5_CPANPLUS_IS_RUNNING = 783
PERL5_CPAN_IS_RUNNING = 783
PERL5_CPAN_IS_RUNNING_IN_RECURSION = 1324,783
PERL_CR_SMOKER_CURRENT = LWP-Protocol-Coro-http-v1.0.3
PERL_EXTUTILS_AUTOINSTALL = --defaultdeps
PERL_MM_USE_DEFAULT = 1
SHELL = /bin/bash
TERM = xterm
Perl special variables (and OS-specific diagnostics, for MSWin32):
$^X = /export/home/cpant4/perl5/bin/perl5.15.6
$UID/$EUID = 104 / 104
$GID = 1 1
$EGID = 1 1
Perl module toolchain versions installed:
Module Have
------------------- --------
CPAN 1.9800
CPAN::Meta 2.113640
Cwd 3.38
ExtUtils::CBuilder 0.280205
ExtUtils::Command 1.17
ExtUtils::Install 1.57
ExtUtils::MakeMaker 6.63_02
ExtUtils::Manifest 1.60
ExtUtils::ParseXS 3.11
File::Spec 3.34
JSON 2.53
JSON::PP 2.27200
Module::Build 0.39_01
Module::Signature n/a
Parse::CPAN::Meta 1.4401
Test::Harness 3.23
Test::More 0.98
YAML 0.78
YAML::Syck 1.19
version 0.95
--
Summary of my perl5 (revision 5 version 15 subversion 6) configuration:
Platform:
osname=solaris, osvers=2.10, archname=i86pc-solaris-64int
uname='sunos vmrz0046 5.10 generic_141445-09 i86pc i386 i86pc solaris '
config_args='-Dcc=gcc -Dprefix=~/perl5 -Duse64bitint -Dusedevel -d'
hint=recommended, useposix=true, d_sigaction=define
useithreads=undef, usemultiplicity=undef
useperlio=define, d_sfio=undef, uselargefiles=define, usesocks=undef
use64bitint=define, use64bitall=undef, uselongdouble=undef
usemymalloc=n, bincompat5005=undef
Compiler:
cc='gcc', ccflags ='-DPTR_IS_LONG -fno-strict-aliasing -pipe -I/usr/local/include -D_LARGEFILE_SOURCE -D_FILE_OFFSET_BITS=64 -DPERL_USE_SAFE_PUTENV',
optimize='-O',
cppflags='-DPTR_IS_LONG -fno-strict-aliasing -pipe -I/usr/local/include'
ccversion='', gccversion='3.4.6', gccosandvers='solaris2.10'
intsize=4, longsize=4, ptrsize=4, doublesize=8, byteorder=12345678
d_longlong=define, longlongsize=8, d_longdbl=define, longdblsize=12
ivtype='long long', ivsize=8, nvtype='double', nvsize=8, Off_t='off_t', lseeksize=8
alignbytes=4, prototype=define
Linker and Libraries:
ld='gcc', ldflags =' -L/usr/local/lib '
libpth=/usr/local/lib /usr/lib /usr/ccs/lib
libs=-lsocket -lnsl -lgdbm -ldl -lm -lc
perllibs=-lsocket -lnsl -ldl -lm -lc
libc=/lib/libc.so, so=so, useshrplib=false, libperl=libperl.a
gnulibc_version=''
Dynamic Linking:
dlsrc=dl_dlopen.xs, dlext=so, d_dlsymun=undef, ccdlflags=' '
cccdlflags='-fPIC', lddlflags='-G -L/usr/local/lib'
Characteristics of this binary (from libperl):
Compile-time options: HAS_TIMES PERLIO_LAYERS PERL_DONT_CREATE_GVSV
PERL_MALLOC_WRAP PERL_PRESERVE_IVUV PERL_USE_DEVEL
PERL_USE_SAFE_PUTENV USE_64_BIT_INT USE_LARGE_FILES
USE_LOCALE USE_LOCALE_COLLATE USE_LOCALE_CTYPE
USE_LOCALE_NUMERIC USE_PERLIO USE_PERL_ATOF
Built under solaris
Compiled at Jan 2 2012 15:02:15
%ENV:
PERL5LIB="/export/home/cpant4/.cpan/build/AnyEvent-HTTP-2.13-gqSEMN/blib/arch:/export/home/cpant4/.cpan/build/AnyEvent-HTTP-2.13-gqSEMN/blib/lib:/export/home/cpant4/.cpan/build/Coro-6.07-wdcalL/blib/arch:/export/home/cpant4/.cpan/build/Coro-6.07-wdcalL/blib/lib:/export/home/cpant4/.cpan/build/Guard-1.022-lHkXjl/blib/arch:/export/home/cpant4/.cpan/build/Guard-1.022-lHkXjl/blib/lib:/export/home/cpant4/.cpan/build/Software-License-0.103004-eKeReV/blib/arch:/export/home/cpant4/.cpan/build/Software-License-0.103004-eKeReV/blib/lib:/export/home/cpant4/.cpan/build/Text-Template-1.45-QxeVvd/blib/arch:/export/home/cpant4/.cpan/build/Text-Template-1.45-QxeVvd/blib/lib:/export/home/cpant4/.cpan/build/Data-Section-0.101621-goi50w/blib/arch:/export/home/cpant4/.cpan/build/Data-Section-0.101621-goi50w/blib/lib"
PERL5OPT=""
PERL5_CPANPLUS_IS_RUNNING="783"
PERL5_CPAN_IS_RUNNING="783"
PERL5_CPAN_IS_RUNNING_IN_RECURSION="1324,783"
PERL_CR_SMOKER_CURRENT="LWP-Protocol-Coro-http-v1.0.3"
PERL_EXTUTILS_AUTOINSTALL="--defaultdeps"
PERL_MM_USE_DEFAULT="1"
@INC:
/export/home/cpant4/.cpan/build/AnyEvent-HTTP-2.13-gqSEMN/blib/arch
/export/home/cpant4/.cpan/build/AnyEvent-HTTP-2.13-gqSEMN/blib/lib
/export/home/cpant4/.cpan/build/Coro-6.07-wdcalL/blib/arch
/export/home/cpant4/.cpan/build/Coro-6.07-wdcalL/blib/lib
/export/home/cpant4/.cpan/build/Guard-1.022-lHkXjl/blib/arch
/export/home/cpant4/.cpan/build/Guard-1.022-lHkXjl/blib/lib
/export/home/cpant4/.cpan/build/Software-License-0.103004-eKeReV/blib/arch
/export/home/cpant4/.cpan/build/Software-License-0.103004-eKeReV/blib/lib
/export/home/cpant4/.cpan/build/Text-Template-1.45-QxeVvd/blib/arch
/export/home/cpant4/.cpan/build/Text-Template-1.45-QxeVvd/blib/lib
/export/home/cpant4/.cpan/build/Data-Section-0.101621-goi50w/blib/arch
/export/home/cpant4/.cpan/build/Data-Section-0.101621-goi50w/blib/lib
/export/home/cpant4/perl5/lib/site_perl/5.15.6/i86pc-solaris-64int
/export/home/cpant4/perl5/lib/site_perl/5.15.6
/export/home/cpant4/perl5/lib/5.15.6/i86pc-solaris-64int
/export/home/cpant4/perl5/lib/5.15.6
/export/home/cpant4/perl5/lib/site_perl
.