Text-Balanced v2.02 Perl 5 v5.12.1 i86pc-solaris

Status
Pass
From
Graham Crookham (GRAHAMC)
Dist
Text-Balanced v2.02
Platform
Perl 5 v5.12.1 i86pc-solaris
Date
2010-08-26 20:16:54
ID
de996000-b14e-11df-8c61-a6ce3c61ba8d
This distribution has been tested as part of the CPAN Testers
project, supporting the Perl programming language.  See
http://wiki.cpantesters.org/ for more information or email
questions to cpan-testers-discuss@perl.org


--
Dear Adam Kennedy,

This is a computer-generated report for Text-Balanced-2.02
on perl 5.12.1, created by CPAN-Reporter-1.18.

Thank you for uploading your work to CPAN.  Congratulations!
All tests were successful.

Sections of this report:

    * Tester comments
    * Program output
    * Prerequisites
    * Environment and other context

------------------------------
TESTER COMMENTS
------------------------------

Additional comments from tester:

this report is from an automated smoke testing program
and was not reviewed by a human for accuracy

------------------------------
PROGRAM OUTPUT
------------------------------

Output from '/usr/gnu/bin/make test':

PERL_DL_NONLAZY=1 /export/home/graham/perltest/perl/bin/perl "-MExtUtils::Command::MM" "-e" "test_harness(0, 'blib/lib', 'blib/arch')" t/*.t
t/01_compile.t .. ok
t/02_extbrk.t ... ok
t/03_extcbk.t ... ok
t/04_extdel.t ... ok
t/05_extmul.t ... ok
t/06_extqlk.t ... ok
t/07_exttag.t ... ok
t/08_extvar.t ... ok
t/09_gentag.t ... ok
t/97_meta.t ..... ok
t/98_pod.t ...... ok
t/99_pmv.t ...... skipped: no minimum perl version could be determined
All tests successful.
Files=12, Tests=563,  2 wallclock secs ( 0.17 usr  0.07 sys +  1.02 cusr  0.26 csys =  1.52 CPU)
Result: PASS

------------------------------
PREREQUISITES
------------------------------

Prerequisite modules loaded:

requires:

    Module              Need Have   
    ------------------- ---- -------
    Test::More          0.47 0.96   

configure_requires:

    Module              Need Have   
    ------------------- ---- -------
    ExtUtils::MakeMaker 0    6.57_01


------------------------------
ENVIRONMENT AND OTHER CONTEXT
------------------------------

Environment variables:

    AUTOMATED_TESTING = 1
    LANG = en_US.UTF-8
    LC_MESSAGES = en_US.UTF-8
    PATH = /export/home/graham/perltest/perl/bin:/usr/gnu/bin:/usr/bin:/usr/X11/bin:/usr/sbin:/sbin:/usr/ccs/bin
    PERL5LIB = 
    PERL5OPT = 
    PERL5_CPANPLUS_IS_RUNNING = 9719
    PERL5_CPAN_IS_RUNNING = 9719
    PERL5_CPAN_IS_RUNNING_IN_RECURSION = 8388,9719
    PERL_CR_SMOKER_CURRENT = Text-Balanced-2.02
    PERL_EXTUTILS_AUTOINSTALL = --defaultdeps
    PERL_MM_USE_DEFAULT = 1
    SHELL = /bin/bash
    TERM = xterm

Perl special variables (and OS-specific diagnostics, for MSWin32):

    $^X = /export/home/graham/perltest/perl/bin/perl
    $UID/$EUID = 101 / 101
    $GID = 10 10
    $EGID = 10 10

Perl module toolchain versions installed:

    Module              Have   
    ------------------- -------
    CPAN                1.94_58
    Cwd                 3.31   
    ExtUtils::CBuilder  0.2703 
    ExtUtils::Command   1.16   
    ExtUtils::Install   1.55   
    ExtUtils::MakeMaker 6.57_01
    ExtUtils::Manifest  1.58   
    ExtUtils::ParseXS   2.2206 
    File::Spec          3.31   
    Module::Build       0.36_14
    Module::Signature   n/a    
    Test::Harness       3.22   
    Test::More          0.96   
    YAML                0.71   
    YAML::Syck          1.12   
    version             0.82   


--

Summary of my perl5 (revision 5 version 12 subversion 1) configuration:
   
  Platform:
    osname=solaris, osvers=2.11, archname=i86pc-solaris
    uname='sunos hidegkuti 5.11 snv_111b i86pc i386 i86pc solaris '
    config_args=''
    hint=recommended, useposix=true, d_sigaction=define
    useithreads=undef, usemultiplicity=undef
    useperlio=define, d_sfio=undef, uselargefiles=define, usesocks=undef
    use64bitint=undef, use64bitall=undef, uselongdouble=undef
    usemymalloc=n, bincompat5005=undef
  Compiler:
    cc='gcc', ccflags ='-fno-strict-aliasing -pipe -D_LARGEFILE_SOURCE -D_FILE_OFFSET_BITS=64 -DPERL_USE_SAFE_PUTENV -DPERL_USE_SAFE_PUTENV -DPERL_USE_SAFE_PUTENV -DPERL_USE_SAFE_PUTENV',
    optimize='-O',
    cppflags='-fno-strict-aliasing -pipe'
    ccversion='', gccversion='3.4.3 (csl-sol210-3_4-20050802)', gccosandvers='solaris2.11'
    intsize=4, longsize=4, ptrsize=4, doublesize=8, byteorder=1234
    d_longlong=define, longlongsize=8, d_longdbl=define, longdblsize=12
    ivtype='long', ivsize=4, nvtype='double', nvsize=8, Off_t='off_t', lseeksize=8
    alignbytes=4, prototype=define
  Linker and Libraries:
    ld='gcc', ldflags =' '
    libpth=/usr/lib /usr/ccs/lib
    libs=-lsocket -lnsl -ldl -lm -lc
    perllibs=-lsocket -lnsl -ldl -lm -lc
    libc=/lib/libc.so, so=so, useshrplib=false, libperl=libperl.a
    gnulibc_version=''
  Dynamic Linking:
    dlsrc=dl_dlopen.xs, dlext=so, d_dlsymun=undef, ccdlflags=' '
    cccdlflags='-fPIC', lddlflags='-G'


Characteristics of this binary (from libperl): 
  Compile-time options: PERL_DONT_CREATE_GVSV PERL_MALLOC_WRAP
                        PERL_USE_SAFE_PUTENV USE_LARGE_FILES USE_PERLIO
                        USE_PERL_ATOF
  Built under solaris
  Compiled at Jul 21 2010 15:14:27
  %ENV:
    PERL5LIB=""
    PERL5OPT=""
    PERL5_CPANPLUS_IS_RUNNING="9719"
    PERL5_CPAN_IS_RUNNING="9719"
    PERL5_CPAN_IS_RUNNING_IN_RECURSION="8388,9719"
    PERL_CR_SMOKER_CURRENT="Text-Balanced-2.02"
    PERL_EXTUTILS_AUTOINSTALL="--defaultdeps"
    PERL_MM_USE_DEFAULT="1"
  @INC:
    /export/home/graham/perltest/perl/lib/site_perl/5.12.1/i86pc-solaris
    /export/home/graham/perltest/perl/lib/site_perl/5.12.1
    /export/home/graham/perltest/perl/lib/5.12.1/i86pc-solaris
    /export/home/graham/perltest/perl/lib/5.12.1
    .