Term-Choose_HAE v0.057 Perl 5 v5.18.2 x86_64-linux-thread-multi

Status
Pass
From
Nigel Horne
Dist
Term-Choose_HAE v0.057
Platform
Perl 5 v5.18.2 x86_64-linux-thread-multi
Date
2018-11-16 08:01:49
ID
de9f49f8-e975-11e8-91d4-806a7185317f
This distribution has been tested as part of the CPAN Testers
project, supporting the Perl programming language.  See
http://wiki.cpantesters.org/ for more information or email
questions to cpan-testers-discuss@perl.org


--
Dear Matthaeus Kiem,

This is a computer-generated report for Term-Choose_HAE-0.057
on perl 5.18.2, created by CPAN-Reporter-1.2018.

Thank you for uploading your work to CPAN.  Congratulations!
All tests were successful.

Sections of this report:

    * Tester comments
    * Program output
    * Prerequisites
    * Environment and other context

------------------------------
TESTER COMMENTS
------------------------------

Additional comments from tester:

this report is from an automated smoke testing program
and was not reviewed by a human for accuracy

------------------------------
PROGRAM OUTPUT
------------------------------

Output from '/usr/bin/make test':

PERL_DL_NONLAZY=1 "/home/njh/perl5/perlbrew/perls/perl-5.18.2/bin/perl" "-MExtUtils::Command::MM" "-MTest::Harness" "-e" "undef *Test::Harness::Switches; test_harness(0, 'blib/lib', 'blib/arch')" t/*/*.t
# Testing Term::Choose_HAE 0.057, Perl 5.018002, /home/njh/perl5/perlbrew/perls/perl-5.18.2/bin/perl
t/00_load/00-load.t .............. ok
t/01_arguments/01_new.t .......... ok
t/01_arguments/01_new_invalid.t .. ok
All tests successful.
Files=3, Tests=358,  0 wallclock secs ( 0.06 usr  0.01 sys +  0.32 cusr  0.04 csys =  0.43 CPU)
Result: PASS

------------------------------
PREREQUISITES
------------------------------

Prerequisite modules loaded:

requires:

    Module                  Need     Have    
    ----------------------- -------- --------
    Exporter                0        5.72    
    if                      0        0.0608  
    parent                  0        0.236   
    Parse::ANSIColor::Tiny  0        0.601   
    perl                    5.010001 5.018002
    strict                  0        1.07    
    Term::ANSIColor         0        4.06    
    Term::Choose            == 1.628 1.628   
    Term::Choose::Constants == 1.628 1.628   
    Term::Choose::LineFold  == 1.628 1.628   
    Text::ANSI::WideUtil    0        0.22    
    warnings                0        1.18    

build_requires:

    Module                  Need     Have    
    ----------------------- -------- --------
    File::Spec::Functions   0        3.74    
    FindBin                 0        1.51    
    lib                     0        0.63    
    Test::Fatal             0        0.014   
    Test::More              0        1.302138

configure_requires:

    Module                  Need     Have    
    ----------------------- -------- --------
    ExtUtils::MakeMaker     0        7.34    


------------------------------
ENVIRONMENT AND OTHER CONTEXT
------------------------------

Environment variables:

    AUTOMATED_TESTING = 1
    HARNESS_OPTIONS = j4
    LANG = en_GB.UTF-8
    LANGUAGE = en_GB:en
    PATH = /home/njh/perl5/perlbrew/bin:/home/njh/perl5/perlbrew/perls/perl-5.18.2/bin:/home/njh/src/njh/smoker/bin:/usr/bin:/bin
    PERL5LIB = /home/njh/.cpan/build/Text-ANSI-WideUtil-0.22-17/blib/arch:/home/njh/.cpan/build/Text-ANSI-WideUtil-0.22-17/blib/lib:/home/njh/.cpan/build/Text-WideChar-Util-0.16-17/blib/arch:/home/njh/.cpan/build/Text-WideChar-Util-0.16-17/blib/lib:/home/njh/.cpan/build/Unicode-LineBreak-2018.003-17/blib/arch:/home/njh/.cpan/build/Unicode-LineBreak-2018.003-17/blib/lib:/home/njh/.cpan/build/Text-ANSI-Util-0.22-17/blib/arch:/home/njh/.cpan/build/Text-ANSI-Util-0.22-17/blib/lib:/home/njh/.cpan/build/Term-Choose-1.628-17/blib/arch:/home/njh/.cpan/build/Term-Choose-1.628-17/blib/lib:/home/njh/.cpan/build/Parse-ANSIColor-Tiny-0.601-17/blib/arch:/home/njh/.cpan/build/Parse-ANSIColor-Tiny-0.601-17/blib/lib
    PERL5OPT = 
    PERL5_CPANPLUS_IS_RUNNING = 28766
    PERL5_CPAN_IS_RUNNING = 28766
    PERLBREW_HOME = /home/njh/.perlbrew
    PERLBREW_MANPATH = /home/njh/perl5/perlbrew/perls/perl-5.18.2/man
    PERLBREW_PATH = /home/njh/perl5/perlbrew/bin:/home/njh/perl5/perlbrew/perls/perl-5.18.2/bin
    PERLBREW_PERL = perl-5.18.2
    PERLBREW_ROOT = /home/njh/perl5/perlbrew
    PERLBREW_SHELLRC_VERSION = 0.82
    PERLBREW_VERSION = 0.82
    SHELL = /bin/sh
    TEMP = /tmp/user/1000
    TMPDIR = /tmp/user/1000/testwrapper.28752

Perl special variables (and OS-specific diagnostics, for MSWin32):

    $^X = /home/njh/perl5/perlbrew/perls/perl-5.18.2/bin/perl
    $UID/$EUID = 1000 / 1000
    $GID = 1000 4 24 25 29 30 44 46 108 112 1000
    $EGID = 1000 4 24 25 29 30 44 46 108 112 1000

Perl module toolchain versions installed:

    Module              Have    
    ------------------- --------
    CPAN                2.16    
    CPAN::Meta          2.150010
    Cwd                 3.74    
    ExtUtils::CBuilder  0.280230
    ExtUtils::Command   7.34    
    ExtUtils::Install   2.14    
    ExtUtils::MakeMaker 7.34    
    ExtUtils::Manifest  1.71    
    ExtUtils::ParseXS   3.35    
    File::Spec          3.74    
    JSON                2.97001 
    JSON::PP            2.97001 
    Module::Build       0.4224  
    Module::Signature   0.73    
    Parse::CPAN::Meta   2.150010
    Test::Harness       3.42    
    Test::More          1.302138
    YAML                1.27    
    YAML::Syck          1.30    
    version             0.9924  


--

Summary of my perl5 (revision 5 version 18 subversion 2) configuration:
   
  Platform:
    osname=linux, osvers=3.10-2-amd64, archname=x86_64-linux-thread-multi
    uname='linux nigelhorne.force9.co.uk 3.10-2-amd64 #1 smp debian 3.10.7-1 (2013-08-17) x86_64 gnulinux '
    config_args='-de -Dprefix=/home/njh/perl5/perlbrew/perls/perl-5.18.2 -Duseithreads -Dusemultiplicity -Accflags=-O2 -W -Wformat=2 -Wswitch -Wshadow -Wwrite-strings -Wuninitialized -Wall -pipe -mtune=native -march=native -fomit-frame-pointer -msse2 -msse -mmmx -mfpmath=sse -pedantic -D_FORTIFY_SOURCE=2 -Wpointer-arith -Wstrict-prototypes -fstack-protector -Wstack-protector -Wextra -Wbad-function-cast -Wcast-align -Wcast-qual -Wdisabled-optimization -Wendif-labels -Wfloat-equal -Wformat-nonliteral -Winline -Wmissing-declarations -Wmissing-prototypes -Wnested-externs -Wpointer-arith -Wundef -Wformat-security -ftree-vectorize -fassociative-math -ftree-vectorizer-verbose=1 -Aeval:scriptdir=/home/njh/perl5/perlbrew/perls/perl-5.18.2/bin'
    hint=recommended, useposix=true, d_sigaction=define
    useithreads=define, usemultiplicity=define
    useperlio=define, d_sfio=undef, uselargefiles=define, usesocks=undef
    use64bitint=define, use64bitall=define, uselongdouble=undef
    usemymalloc=n, bincompat5005=undef
  Compiler:
    cc='cc', ccflags ='-D_REENTRANT -D_GNU_SOURCE -O2 -W -Wformat=2 -Wswitch -Wshadow -Wwrite-strings -Wuninitialized -Wall -pipe -mtune=native -march=native -fomit-frame-pointer -msse2 -msse -mmmx -mfpmath=sse -pedantic -D_FORTIFY_SOURCE=2 -Wpointer-arith -Wstrict-prototypes -fstack-protector -Wstack-protector -Wextra -Wbad-function-cast -Wcast-align -Wcast-qual -Wdisabled-optimization -Wendif-labels -Wfloat-equal -Wformat-nonliteral -Winline -Wmissing-declarations -Wmissing-prototypes -Wnested-externs -Wpointer-arith -Wundef -Wformat-security -ftree-vectorize -fassociative-math -ftree-vectorizer-verbose=1 -fno-strict-aliasing -I/usr/local/include -D_LARGEFILE_SOURCE -D_FILE_OFFSET_BITS=64',
    optimize='-O2',
    cppflags='-D_REENTRANT -D_GNU_SOURCE -O2 -W -Wformat=2 -Wswitch -Wshadow -Wwrite-strings -Wuninitialized -Wall -pipe -mtune=native -march=native -fomit-frame-pointer -msse2 -msse -mmmx -mfpmath=sse -pedantic -D_FORTIFY_SOURCE=2 -Wpointer-arith -Wstrict-prototypes -fstack-protector -Wstack-protector -Wextra -Wbad-function-cast -Wcast-align -Wcast-qual -Wdisabled-optimization -Wendif-labels -Wfloat-equal -Wformat-nonliteral -Winline -Wmissing-declarations -Wmissing-prototypes -Wnested-externs -Wpointer-arith -Wundef -Wformat-security -ftree-vectorize -fassociative-math -ftree-vectorizer-verbose=1 -fno-strict-aliasing -I/usr/local/include'
    ccversion='', gccversion='4.8.2', gccosandvers=''
    intsize=4, longsize=8, ptrsize=8, doublesize=8, byteorder=12345678
    d_longlong=define, longlongsize=8, d_longdbl=define, longdblsize=16
    ivtype='long', ivsize=8, nvtype='double', nvsize=8, Off_t='off_t', lseeksize=8
    alignbytes=8, prototype=define
  Linker and Libraries:
    ld='cc', ldflags =' -fstack-protector -L/usr/local/lib'
    libpth=/usr/local/lib /lib/x86_64-linux-gnu /lib/../lib /usr/lib/x86_64-linux-gnu /usr/lib/../lib /lib /usr/lib
    libs=-lnsl -lgdbm -ldb -ldl -lm -lcrypt -lutil -lpthread -lc -lgdbm_compat
    perllibs=-lnsl -ldl -lm -lcrypt -lutil -lpthread -lc
    libc=, so=so, useshrplib=false, libperl=libperl.a
    gnulibc_version='2.17'
  Dynamic Linking:
    dlsrc=dl_dlopen.xs, dlext=so, d_dlsymun=undef, ccdlflags='-Wl,-E'
    cccdlflags='-fPIC', lddlflags='-shared -O2 -L/usr/local/lib -fstack-protector'


Characteristics of this binary (from libperl): 
  Compile-time options: HAS_TIMES MULTIPLICITY PERLIO_LAYERS
                        PERL_DONT_CREATE_GVSV
                        PERL_HASH_FUNC_ONE_AT_A_TIME_HARD
                        PERL_IMPLICIT_CONTEXT PERL_MALLOC_WRAP
                        PERL_PRESERVE_IVUV PERL_SAWAMPERSAND USE_64_BIT_ALL
                        USE_64_BIT_INT USE_ITHREADS USE_LARGE_FILES
                        USE_LOCALE USE_LOCALE_COLLATE USE_LOCALE_CTYPE
                        USE_LOCALE_NUMERIC USE_PERLIO USE_PERL_ATOF
                        USE_REENTRANT_API
  Built under linux
  Compiled at Jan 13 2014 13:31:17
  %ENV:
    PERL5LIB="/home/njh/.cpan/build/Text-ANSI-WideUtil-0.22-17/blib/arch:/home/njh/.cpan/build/Text-ANSI-WideUtil-0.22-17/blib/lib:/home/njh/.cpan/build/Text-WideChar-Util-0.16-17/blib/arch:/home/njh/.cpan/build/Text-WideChar-Util-0.16-17/blib/lib:/home/njh/.cpan/build/Unicode-LineBreak-2018.003-17/blib/arch:/home/njh/.cpan/build/Unicode-LineBreak-2018.003-17/blib/lib:/home/njh/.cpan/build/Text-ANSI-Util-0.22-17/blib/arch:/home/njh/.cpan/build/Text-ANSI-Util-0.22-17/blib/lib:/home/njh/.cpan/build/Term-Choose-1.628-17/blib/arch:/home/njh/.cpan/build/Term-Choose-1.628-17/blib/lib:/home/njh/.cpan/build/Parse-ANSIColor-Tiny-0.601-17/blib/arch:/home/njh/.cpan/build/Parse-ANSIColor-Tiny-0.601-17/blib/lib"
    PERL5OPT=""
    PERL5_CPANPLUS_IS_RUNNING="28766"
    PERL5_CPAN_IS_RUNNING="28766"
    PERLBREW_HOME="/home/njh/.perlbrew"
    PERLBREW_MANPATH="/home/njh/perl5/perlbrew/perls/perl-5.18.2/man"
    PERLBREW_PATH="/home/njh/perl5/perlbrew/bin:/home/njh/perl5/perlbrew/perls/perl-5.18.2/bin"
    PERLBREW_PERL="perl-5.18.2"
    PERLBREW_ROOT="/home/njh/perl5/perlbrew"
    PERLBREW_SHELLRC_VERSION="0.82"
    PERLBREW_VERSION="0.82"
  @INC:
    /home/njh/.cpan/build/Text-ANSI-WideUtil-0.22-17/blib/arch
    /home/njh/.cpan/build/Text-ANSI-WideUtil-0.22-17/blib/lib
    /home/njh/.cpan/build/Text-WideChar-Util-0.16-17/blib/arch
    /home/njh/.cpan/build/Text-WideChar-Util-0.16-17/blib/lib
    /home/njh/.cpan/build/Unicode-LineBreak-2018.003-17/blib/arch
    /home/njh/.cpan/build/Unicode-LineBreak-2018.003-17/blib/lib
    /home/njh/.cpan/build/Text-ANSI-Util-0.22-17/blib/arch
    /home/njh/.cpan/build/Text-ANSI-Util-0.22-17/blib/lib
    /home/njh/.cpan/build/Term-Choose-1.628-17/blib/arch
    /home/njh/.cpan/build/Term-Choose-1.628-17/blib/lib
    /home/njh/.cpan/build/Parse-ANSIColor-Tiny-0.601-17/blib/arch
    /home/njh/.cpan/build/Parse-ANSIColor-Tiny-0.601-17/blib/lib
    /home/njh/perl5/perlbrew/perls/perl-5.18.2/lib/site_perl/5.18.2/x86_64-linux-thread-multi
    /home/njh/perl5/perlbrew/perls/perl-5.18.2/lib/site_perl/5.18.2
    /home/njh/perl5/perlbrew/perls/perl-5.18.2/lib/5.18.2/x86_64-linux-thread-multi
    /home/njh/perl5/perlbrew/perls/perl-5.18.2/lib/5.18.2
    .