Back
From: metabase:user:9820532a-708b-1014-9a05-b18a96298da1
Subject: PASS Capture-Tiny-Extended-0.114 v5.15.4 GNU/Linux
Date: 2011-10-29T23:22:29Z
This distribution has been tested as part of the CPAN Testers
project, supporting the Perl programming language. See
http://wiki.cpantesters.org/ for more information or email
questions to cpan-testers-discuss@perl.org
--
Dear Christian Walde,
This is a computer-generated report for Capture-Tiny-Extended-0.114
on perl 5.15.4, created by CPAN-Reporter-1.2002.
Thank you for uploading your work to CPAN. Congratulations!
All tests were successful.
Sections of this report:
* Tester comments
* Program output
* Prerequisites
* Environment and other context
------------------------------
TESTER COMMENTS
------------------------------
Additional comments from tester:
this report is from an automated smoke testing program
and was not reviewed by a human for accuracy
------------------------------
PROGRAM OUTPUT
------------------------------
Output from '/usr/bin/make test':
PERL_DL_NONLAZY=1 /home/bri/perl5/perlbrew/perls/perl-5.15.4-ld/bin/perl5.15.4 "-MExtUtils::Command::MM" "-e" "test_harness(0, 'blib/lib', 'blib/arch')" t/*.t
t/00-compile.t ............. ok
t/01-Capture-Tiny.t ........ ok
t/02-capture.t ............. ok
t/03-tee.t ................. ok
t/06-stdout-closed.t ....... ok
t/07-stderr-closed.t ....... ok
t/08-stdin-closed.t ........ ok
t/09-preserve-exit-code.t .. ok
t/10-stdout-string.t ....... ok
t/11-stderr-string.t ....... ok
t/12-stdin-string.t ........ ok
t/13-stdout-tied.t ......... ok
t/14-stderr-tied.t ......... ok
t/15-stdin-tied.t .......... ok
t/16-catch-errors.t ........ ok
All tests successful.
Test Summary Report
-------------------
t/13-stdout-tied.t (Wstat: 0 Tests: 489 Failed: 0)
TODO passed: 8-10, 18-19, 27-28, 35-37, 45-46, 54-55
58, 67, 80, 82, 91, 99-100, 107, 109, 118
126-127, 140-145, 160-162, 178-180, 194-199
214-216, 232-234, 244-247, 258, 270, 280-283
294, 306, 328, 330, 332-334, 336-337, 362-363
366-367, 389, 391-393, 395-397, 418, 420
422-424, 426-427, 452-453, 456-457, 479
481-483, 485-487
t/14-stderr-tied.t (Wstat: 0 Tests: 489 Failed: 0)
TODO passed: 8, 10, 17, 19, 26-28, 35, 37, 44, 46, 53-55
58, 61, 64, 67, 70, 73, 80-82, 89-91, 98-100
107-109, 116-118, 125-127, 140-141, 144
158-159, 162, 176-181, 194-195, 198, 212-213
216, 230-235, 244-245, 247, 256-257, 259
268-271, 280-281, 283, 292-293, 295, 304-307
328-337, 358-367, 388-397, 418-427, 448-457
478-487
Files=15, Tests=4904, 12 wallclock secs ( 0.70 usr 0.05 sys + 4.84 cusr 2.55 csys = 8.14 CPU)
Result: PASS
------------------------------
PREREQUISITES
------------------------------
Prerequisite modules loaded:
requires:
Module Need Have
------------------- ---- ----
Carp 0 1.23
Exporter 0 5.65
File::Spec 0 3.34
File::Temp 0 0.22
IO::Handle 0 1.33
build_requires:
Module Need Have
------------------- ---- ----
File::Find 0 1.20
Test::More 0.62 0.98
configure_requires:
Module Need Have
------------------- ---- ----
ExtUtils::MakeMaker 6.30 6.62
------------------------------
ENVIRONMENT AND OTHER CONTEXT
------------------------------
Environment variables:
AUTOMATED_TESTING = 1
LANG = C
LANGUAGE = en_GB:en
LC_ALL = C
PATH = /home/bri/bin:/home/bri/perl5/perlbrew/bin:/home/bri/perl5/perlbrew/perls/perl-5.15.4-ld/bin:~/bin:/usr/local/sbin:/usr/local/bin:/usr/sbin:/usr/bin:/sbin:/bin:/usr/games
PATH_WITHOUT_PERLBREW = ~/bin:/usr/local/sbin:/usr/local/bin:/usr/sbin:/usr/bin:/sbin:/bin:/usr/games
PERL5LIB =
PERL5OPT =
PERL5_CPANPLUS_IS_RUNNING = 17381
PERL5_CPAN_IS_RUNNING = 17381
PERL5_CPAN_IS_RUNNING_IN_RECURSION = 2253,17381
PERLBREW_BASHRC_VERSION = 0.30
PERLBREW_HOME = /home/bri/.perlbrew
PERLBREW_PATH = /home/bri/perl5/perlbrew/bin:/home/bri/perl5/perlbrew/perls/perl-5.15.4-ld/bin
PERLBREW_PERL = perl-5.15.4-ld
PERLBREW_ROOT = /home/bri/perl5/perlbrew
PERLBREW_VERSION = 0.30
PERL_CPANM_OPT = --prompt --mirror http://172.16.1.3/cpan/
PERL_CR_SMOKER_CURRENT = Capture-Tiny-Extended-0.114
PERL_EXTUTILS_AUTOINSTALL = --defaultdeps
PERL_MM_USE_DEFAULT = 1
SHELL = /bin/bash
TERM = linux
Perl special variables (and OS-specific diagnostics, for MSWin32):
$^X = /home/bri/perl5/perlbrew/perls/perl-5.15.4-ld/bin/perl5.15.4
$UID/$EUID = 1000 / 1000
$GID = 1000 4 20 24 46 112 120 122 1000
$EGID = 1000 4 20 24 46 112 120 122 1000
Perl module toolchain versions installed:
Module Have
------------------- --------
CPAN 1.9800
CPAN::Meta 2.112621
Cwd 3.37
ExtUtils::CBuilder 0.280204
ExtUtils::Command 1.17
ExtUtils::Install 1.57
ExtUtils::MakeMaker 6.62
ExtUtils::Manifest 1.60
ExtUtils::ParseXS 3.05
File::Spec 3.34
JSON 2.53
JSON::PP 2.27200
Module::Build 0.39_01
Module::Signature n/a
Parse::CPAN::Meta 1.4401
Test::Harness 3.23
Test::More 0.98
YAML 0.77
YAML::Syck n/a
version 0.94
--
Summary of my perl5 (revision 5 version 15 subversion 4) configuration:
Platform:
osname=linux, osvers=2.6.38-11-generic, archname=i686-linux-ld
uname='linux lappy 2.6.38-11-generic #48-ubuntu smp fri jul 29 19:05:14 utc 2011 i686 i686 i386 gnulinux '
config_args='-de -Dprefix=/home/bri/perl5/perlbrew/perls/perl-5.15.4-ld -Duselongdouble -Dusedevel'
hint=recommended, useposix=true, d_sigaction=define
useithreads=undef, usemultiplicity=undef
useperlio=define, d_sfio=undef, uselargefiles=define, usesocks=undef
use64bitint=undef, use64bitall=undef, uselongdouble=define
usemymalloc=n, bincompat5005=undef
Compiler:
cc='cc', ccflags ='-fno-strict-aliasing -pipe -fstack-protector -I/usr/local/include -D_LARGEFILE_SOURCE -D_FILE_OFFSET_BITS=64',
optimize='-O2',
cppflags='-fno-strict-aliasing -pipe -fstack-protector -I/usr/local/include'
ccversion='', gccversion='4.5.2', gccosandvers=''
intsize=4, longsize=4, ptrsize=4, doublesize=8, byteorder=1234
d_longlong=define, longlongsize=8, d_longdbl=define, longdblsize=12
ivtype='long', ivsize=4, nvtype='long double', nvsize=12, Off_t='off_t', lseeksize=8
alignbytes=4, prototype=define
Linker and Libraries:
ld='cc', ldflags =' -fstack-protector -L/usr/local/lib'
libpth=/usr/local/lib /lib /usr/lib /usr/lib/i386-linux-gnu /usr/lib64
libs=-lnsl -ldl -lm -lcrypt -lutil -lc
perllibs=-lnsl -ldl -lm -lcrypt -lutil -lc
libc=, so=so, useshrplib=false, libperl=libperl.a
gnulibc_version='2.13'
Dynamic Linking:
dlsrc=dl_dlopen.xs, dlext=so, d_dlsymun=undef, ccdlflags='-Wl,-E'
cccdlflags='-fPIC', lddlflags='-shared -O2 -L/usr/local/lib -fstack-protector'
Characteristics of this binary (from libperl):
Compile-time options: HAS_TIMES PERLIO_LAYERS PERL_DONT_CREATE_GVSV
PERL_MALLOC_WRAP PERL_PRESERVE_IVUV PERL_USE_DEVEL
USE_LARGE_FILES USE_LOCALE USE_LOCALE_COLLATE
USE_LOCALE_CTYPE USE_LOCALE_NUMERIC USE_LONG_DOUBLE
USE_PERLIO USE_PERL_ATOF
Built under linux
Compiled at Oct 28 2011 21:39:19
%ENV:
PERL5LIB=""
PERL5OPT=""
PERL5_CPANPLUS_IS_RUNNING="17381"
PERL5_CPAN_IS_RUNNING="17381"
PERL5_CPAN_IS_RUNNING_IN_RECURSION="2253,17381"
PERLBREW_BASHRC_VERSION="0.30"
PERLBREW_HOME="/home/bri/.perlbrew"
PERLBREW_PATH="/home/bri/perl5/perlbrew/bin:/home/bri/perl5/perlbrew/perls/perl-5.15.4-ld/bin"
PERLBREW_PERL="perl-5.15.4-ld"
PERLBREW_ROOT="/home/bri/perl5/perlbrew"
PERLBREW_VERSION="0.30"
PERL_CPANM_OPT="--prompt --mirror http://172.16.1.3/cpan/"
PERL_CR_SMOKER_CURRENT="Capture-Tiny-Extended-0.114"
PERL_EXTUTILS_AUTOINSTALL="--defaultdeps"
PERL_MM_USE_DEFAULT="1"
@INC:
/home/bri/perl5/perlbrew/perls/perl-5.15.4-ld/lib/site_perl/5.15.4/i686-linux-ld
/home/bri/perl5/perlbrew/perls/perl-5.15.4-ld/lib/site_perl/5.15.4
/home/bri/perl5/perlbrew/perls/perl-5.15.4-ld/lib/5.15.4/i686-linux-ld
/home/bri/perl5/perlbrew/perls/perl-5.15.4-ld/lib/5.15.4
.