YAML-Syck v1.31 Perl 5 v5.10.1 i686-linux
- Status
- Pass
- From
- Nigel Horne
- Dist
-
YAML-Syck v1.31
- Platform
- Perl 5 v5.10.1 i686-linux
- Date
- 2019-07-18 04:59:49
- ID
- ded24034-a918-11e9-8fa9-99a29f1e7dde
This distribution has been tested as part of the CPAN Testers
project, supporting the Perl programming language. See
http://wiki.cpantesters.org/ for more information or email
questions to cpan-testers-discuss@perl.org
--
Dear Todd Rinaldo,
This is a computer-generated report for YAML-Syck-1.31
on perl 5.10.1, created by CPAN-Reporter-1.2018.
Thank you for uploading your work to CPAN. Congratulations!
All tests were successful.
Sections of this report:
* Tester comments
* Program output
* Prerequisites
* Environment and other context
------------------------------
TESTER COMMENTS
------------------------------
Additional comments from tester:
none provided
------------------------------
PROGRAM OUTPUT
------------------------------
Output from '/usr/bin/make test':
"/home/njh/perl5/perlbrew/perls/perl-5.10.1/bin/perl5.10.1" -MExtUtils::Command::MM -e 'cp_nonempty' -- Syck.bs blib/arch/auto/YAML/Syck/Syck.bs 644
PERL_DL_NONLAZY=1 "/home/njh/perl5/perlbrew/perls/perl-5.10.1/bin/perl5.10.1" "-MExtUtils::Command::MM" "-MTest::Harness" "-e" "undef *Test::Harness::Switches; test_harness(0, 'blib/lib', 'blib/arch')" t/*.t
t/1-basic.t ................. ok
t/11-loadfile.t ............. ok
t/12-dumpfile.t ............. ok
t/3-objects.t ............... ok
t/2-scalars.t ............... ok
t/4-perl_tag_scheme.t ....... ok
t/json-circular-ref.t ....... ok
t/json-basic.t .............. ok
t/json-crlf.t ............... ok
t/json-dumpinto.t ........... ok
t/json-empty.t .............. ok
t/json-indent.t ............. ok
t/json-loadfile.t ........... ok
t/json-minus.t .............. ok
t/json-newline.t ............ ok
t/json-null.t ............... ok
t/json-numbers.t ............ ok
t/json-refs.t ............... ok
t/leak.t .................... ok
t/json-singlequote.t ........ ok
t/load-blessed.t ............ ok
t/manifest.t ................ skipped: Author tests not required for installation
t/meta.t .................... ok
t/yaml-alias.t .............. ok
t/yaml-blessed-ref.t ........ ok
t/yaml-dumpinto.t ........... ok
t/yaml-implicit-warnings.t .. ok
t/yaml-tie.t ................ ok
t/yaml-str-colon-first.t .... ok
t/yaml-utf.t ................ ok
All tests successful.
Files=30, Tests=620, 1 wallclock secs ( 0.19 usr 0.05 sys + 2.14 cusr 0.20 csys = 2.58 CPU)
Result: PASS
------------------------------
PREREQUISITES
------------------------------
Prerequisite modules loaded:
requires:
Module Need Have
------------------- ----- --------
perl 5.006 5.010001
build_requires:
Module Need Have
------------------- ----- --------
Test::More 0 1.302164
configure_requires:
Module Need Have
------------------- ----- --------
ExtUtils::MakeMaker 0 7.36
------------------------------
ENVIRONMENT AND OTHER CONTEXT
------------------------------
Environment variables:
HARNESS_OPTIONS = j2:c
LANG = en_US.UTF-8
PATH = /home/njh/perl5/perlbrew/bin:/home/njh/perl5/perlbrew/perls/perl-5.10.1/bin:/usr/local/bin:/usr/bin:/bin:/usr/local/games:/usr/games
PERL5LIB =
PERL5OPT =
PERL5_CPANPLUS_IS_RUNNING = 5319
PERL5_CPAN_IS_RUNNING = 5319
PERLBREW_HOME = /home/njh/.perlbrew
PERLBREW_MANPATH = /home/njh/perl5/perlbrew/perls/perl-5.10.1/man
PERLBREW_PATH = /home/njh/perl5/perlbrew/bin:/home/njh/perl5/perlbrew/perls/perl-5.10.1/bin
PERLBREW_PERL = perl-5.10.1
PERLBREW_ROOT = /home/njh/perl5/perlbrew
PERLBREW_SHELLRC_VERSION = 0.84
PERLBREW_VERSION = 0.84
SHELL = /bin/bash
TEMP = /tmp/user/1000
TERM = xterm-256color
TMPDIR = /tmp/user/1000
Perl special variables (and OS-specific diagnostics, for MSWin32):
$^X = /home/njh/perl5/perlbrew/perls/perl-5.10.1/bin/perl5.10.1
$UID/$EUID = 1000 / 1000
$GID = 1000 4 24 25 29 30 44 46 108 1000
$EGID = 1000 4 24 25 29 30 44 46 108 1000
Perl module toolchain versions installed:
Module Have
------------------- --------
CPAN 1.9402
CPAN::Meta 2.143240
Cwd 3.30
ExtUtils::CBuilder 0.2602
ExtUtils::Command 7.36
ExtUtils::Install 2.06
ExtUtils::MakeMaker 7.36
ExtUtils::Manifest 1.70
ExtUtils::ParseXS 2.2002
File::Spec 3.30
JSON n/a
JSON::PP 2.27203
Module::Build 0.340201
Module::Signature n/a
Parse::CPAN::Meta 1.4414
Test::Harness 3.17
Test::More 1.302164
YAML 1.29
YAML::Syck n/a
version 0.9924
--
Summary of my perl5 (revision 5 version 10 subversion 1) configuration:
Platform:
osname=linux, osvers=4.3.0-1-686-pae, archname=i686-linux
uname='linux zack 4.3.0-1-686-pae #1 smp debian 4.3.5-1 (2016-02-06) i686 gnulinux '
config_args='-de -Dprefix=/home/njh/perl5/perlbrew/perls/perl-5.10.1 -Dusedevel -Accflags= -Aeval:scriptdir=/home/njh/perl5/perlbrew/perls/perl-5.10.1/bin'
hint=recommended, useposix=true, d_sigaction=define
useithreads=undef, usemultiplicity=undef
useperlio=define, d_sfio=undef, uselargefiles=define, usesocks=undef
use64bitint=undef, use64bitall=undef, uselongdouble=undef
usemymalloc=n, bincompat5005=undef
Compiler:
cc='cc', ccflags ='-fno-strict-aliasing -pipe -fstack-protector -I/usr/local/include -D_LARGEFILE_SOURCE -D_FILE_OFFSET_BITS=64',
optimize='-O2',
cppflags='-fno-strict-aliasing -pipe -fstack-protector -I/usr/local/include'
ccversion='', gccversion='8.3.0', gccosandvers=''
intsize=4, longsize=4, ptrsize=4, doublesize=8, byteorder=1234
d_longlong=define, longlongsize=8, d_longdbl=define, longdblsize=12
ivtype='long', ivsize=4, nvtype='double', nvsize=8, Off_t='off_t', lseeksize=8
alignbytes=4, prototype=define
Linker and Libraries:
ld='cc', ldflags =' -fstack-protector -L/usr/local/lib'
libpth=/usr/local/lib /lib/i386-linux-gnu /lib/../lib /usr/lib/i386-linux-gnu /usr/lib/../lib /lib /usr/lib /lib64 /usr/lib64
libs=-lnsl -lgdbm -ldb -ldl -lm -lcrypt -lutil -lc
perllibs=-lnsl -ldl -lm -lcrypt -lutil -lc
libc=libc-2.28.so, so=so, useshrplib=false, libperl=libperl.a
gnulibc_version='2.28'
Dynamic Linking:
dlsrc=dl_dlopen.xs, dlext=so, d_dlsymun=undef, ccdlflags='-Wl,-E'
cccdlflags='-fPIC', lddlflags='-shared -O2 -L/usr/local/lib -fstack-protector'
Characteristics of this binary (from libperl):
Compile-time options: PERL_DONT_CREATE_GVSV PERL_MALLOC_WRAP PERL_USE_DEVEL
USE_LARGE_FILES USE_PERLIO
Locally applied patches:
Devel::PatchPerl 1.38
Built under linux
Compiled at Jul 17 2019 00:33:37
%ENV:
PERL5LIB=""
PERL5OPT=""
PERL5_CPANPLUS_IS_RUNNING="5319"
PERL5_CPAN_IS_RUNNING="5319"
PERLBREW_HOME="/home/njh/.perlbrew"
PERLBREW_MANPATH="/home/njh/perl5/perlbrew/perls/perl-5.10.1/man"
PERLBREW_PATH="/home/njh/perl5/perlbrew/bin:/home/njh/perl5/perlbrew/perls/perl-5.10.1/bin"
PERLBREW_PERL="perl-5.10.1"
PERLBREW_ROOT="/home/njh/perl5/perlbrew"
PERLBREW_SHELLRC_VERSION="0.84"
PERLBREW_VERSION="0.84"
@INC:
/home/njh/perl5/perlbrew/perls/perl-5.10.1/lib/5.10.1/i686-linux
/home/njh/perl5/perlbrew/perls/perl-5.10.1/lib/5.10.1
/home/njh/perl5/perlbrew/perls/perl-5.10.1/lib/site_perl/5.10.1/i686-linux
/home/njh/perl5/perlbrew/perls/perl-5.10.1/lib/site_perl/5.10.1
.