Report for POE-Loop-Glib-0.038

Back
From: metabase:user:3198cbe2-2aae-11df-837a-5e0a49663a4f
Subject: PASS POE-Loop-Glib-0.038 v5.14.3 GNU/Linux
Date: 2012-12-14T19:53:03Z

This distribution has been tested as part of the CPAN Testers
project, supporting the Perl programming language.  See
http://wiki.cpantesters.org/ for more information or email
questions to cpan-testers-discuss@perl.org


--
Dear Apocalypse,

This is a computer-generated report for POE-Loop-Glib-0.038
on perl 5.14.3, created by CPAN-Reporter-1.2007.

Thank you for uploading your work to CPAN.  Congratulations!
All tests were successful.

Sections of this report:

    * Tester comments
    * Program output
    * Prerequisites
    * Environment and other context

------------------------------
TESTER COMMENTS
------------------------------

Additional comments from tester:

this report is from an automated smoke testing program
and was not reviewed by a human for accuracy

------------------------------
PROGRAM OUTPUT
------------------------------

Output from './Build test':

t/1_load.t ............................. ok
t/apocalypse.t ......................... skipped: Test::Apocalypse required for validating the distribution
# Testing POE 1.354, POE::Test::Loops 1.351, Using Loop(POE::Loop::Glib), Perl 5.014003, /home/graham/perls/perl-5.14.3/bin/perl on linux
t/glib/00_info.t ....................... ok
t/glib/all_errors.t .................... skipped: most of these should move into other test files
t/glib/comp_tcp.t ...................... ok
# You might see a 'disconnect' error during this test.
# It may be ignored.
t/glib/comp_tcp_concurrent.t ........... ok
t/glib/connect_errors.t ................ ok
t/glib/k_alarms.t ...................... ok
t/glib/k_aliases.t ..................... ok
t/glib/k_detach.t ...................... ok
t/glib/k_run_returns.t ................. ok
t/glib/k_selects.t ..................... ok
# Waiting 2 seconds for child processes to settle.
t/glib/k_sig_child.t ................... ok
# Waiting 2 seconds for child processes to settle.
t/glib/k_signals.t ..................... ok
t/glib/k_signals_rerun.t ............... ok
t/glib/sbk_signal_init.t ............... ok
t/glib/ses_nfa.t ....................... ok
# This test generates some STDERR during trace testing.
=== 32351 === 23 -> _start (from /home/graham/perls/perl-5.14.3/lib/site_perl/5.14.3/POE/Kernel.pm at 1437)
=== 32351 === 23 -> woot (from /home/graham/perls/perl-5.14.3/lib/site_perl/5.14.3/POE/Test/Loops/ses_session.pm at 706)
=== 32351 === 23 -> narf (from /home/graham/perls/perl-5.14.3/lib/site_perl/5.14.3/POE/Kernel.pm at 1840)
=== 32351 === 23 -> _stop (from /home/graham/perls/perl-5.14.3/lib/site_perl/5.14.3/POE/Resource/Sessions.pm at 571)
t/glib/ses_session.t ................... ok
t/glib/wheel_accept.t .................. ok
t/glib/wheel_curses.t .................. skipped: Need help with Curses functions blocking under ptys
t/glib/wheel_readline.t ................ ok
t/glib/wheel_readwrite.t ............... ok
t/glib/wheel_run.t ..................... ok
t/glib/wheel_run_size.t ................ ok
t/glib/wheel_sf_ipv6.t ................. skipped: Socket::GetAddrInfo is needed for IPv6 tests
t/glib/wheel_sf_tcp.t .................. ok
t/glib/wheel_sf_udp.t .................. ok
t/glib/wheel_sf_unix.t ................. ok
t/glib/wheel_tail.t .................... ok
t/glib/z_kogman_sig_order.t ............ ok
t/glib/z_leolo_wheel_run.t ............. ok
# Using '/bin/true' as our thing to run under system()
t/glib/z_merijn_sigchld_system.t ....... ok
t/glib/z_rt39872_sigchld.t ............. ok
# Parent 32395 waiting 3sec for slow systems to settle.
# sending sigusr1
# sent sigusr1
t/glib/z_rt39872_sigchld_stop.t ........ ok
t/glib/z_rt53302_fh_watchers.t ......... ok
t/glib/z_rt54319_bazerka_followtail.t .. ok
t/glib/z_steinert_signal_integrity.t ... ok
All tests successful.
Files=37, Tests=495, 65 wallclock secs ( 0.22 usr  0.08 sys +  5.33 cusr  0.85 csys =  6.48 CPU)
Result: PASS

------------------------------
PREREQUISITES
------------------------------

Prerequisite modules loaded:

requires:

    Module           Need  Have    
    ---------------- ----- --------
    Glib             1.222 1.280   
    perl             5.006 5.014003
    POE              1.288 1.354   

configure_requires:

    Module           Need  Have    
    ---------------- ----- --------
    Module::Build    0.36  0.4003  
    POE::Test::Loops 1.034 1.351   


------------------------------
ENVIRONMENT AND OTHER CONTEXT
------------------------------

Environment variables:

    AUTOMATED_TESTING = 1
    LANG = C
    PATH = /home/graham/perls/perl-5.14.3/bin:/home/graham/perls/perl-5.14.3/bin:/usr/local/bin:/usr/bin:/bin:/usr/local/sbin:/usr/sbin:/sbin:/usr/bin/core_perl
    PERL5LIB = 
    PERL5OPT = 
    PERL5_CPANPLUS_IS_RUNNING = 32273
    PERL5_CPAN_IS_RUNNING = 32273
    PERL5_CPAN_IS_RUNNING_IN_RECURSION = 15047,32273
    PERL_CR_SMOKER_CURRENT = POE-Loop-Glib-0.038
    PERL_EXTUTILS_AUTOINSTALL = --defaultdeps
    PERL_MM_USE_DEFAULT = 1
    SHELL = /bin/bash
    TERM = xterm

Perl special variables (and OS-specific diagnostics, for MSWin32):

    $^X = /home/graham/perls/perl-5.14.3/bin/perl
    $UID/$EUID = 1000 / 1000
    $GID = 100 100
    $EGID = 100 100

Perl module toolchain versions installed:

    Module              Have    
    ------------------- --------
    CPAN                1.9800  
    CPAN::Meta          2.120351
    Cwd                 3.33    
    ExtUtils::CBuilder  0.280205
    ExtUtils::Command   1.17    
    ExtUtils::Install   1.56    
    ExtUtils::MakeMaker 6.63_04 
    ExtUtils::Manifest  1.61    
    ExtUtils::ParseXS   3.18    
    File::Spec          3.33    
    JSON                2.27    
    JSON::PP            2.27008 
    Module::Build       0.4003  
    Module::Signature   0.70    
    Parse::CPAN::Meta   1.4404  
    Test::Harness       3.23    
    Test::More          0.98    
    YAML                0.73    
    YAML::Syck          1.22    
    version             0.9901  


--

Summary of my perl5 (revision 5 version 14 subversion 3) configuration:
   
  Platform:
    osname=linux, osvers=3.5.6-1-arch, archname=x86_64-linux
    uname='linux grosics 3.5.6-1-arch #1 smp preempt sun oct 7 19:30:49 cest 2012 x86_64 gnulinux '
    config_args=''
    hint=recommended, useposix=true, d_sigaction=define
    useithreads=undef, usemultiplicity=undef
    useperlio=define, d_sfio=undef, uselargefiles=define, usesocks=undef
    use64bitint=define, use64bitall=define, uselongdouble=undef
    usemymalloc=n, bincompat5005=undef
  Compiler:
    cc='cc', ccflags ='-fno-strict-aliasing -pipe -fstack-protector -I/usr/local/include -D_LARGEFILE_SOURCE -D_FILE_OFFSET_BITS=64',
    optimize='-O2',
    cppflags='-fno-strict-aliasing -pipe -fstack-protector -I/usr/local/include'
    ccversion='', gccversion='4.7.2', gccosandvers=''
    intsize=4, longsize=8, ptrsize=8, doublesize=8, byteorder=12345678
    d_longlong=define, longlongsize=8, d_longdbl=define, longdblsize=16
    ivtype='long', ivsize=8, nvtype='double', nvsize=8, Off_t='off_t', lseeksize=8
    alignbytes=8, prototype=define
  Linker and Libraries:
    ld='cc', ldflags =' -fstack-protector -L/usr/local/lib'
    libpth=/usr/local/lib /lib/../lib /usr/lib/../lib /lib /usr/lib
    libs=-lnsl -lgdbm -ldb -ldl -lm -lcrypt -lutil -lc -lgdbm_compat
    perllibs=-lnsl -ldl -lm -lcrypt -lutil -lc
    libc=/lib/libc-2.16.so, so=so, useshrplib=false, libperl=libperl.a
    gnulibc_version='2.16'
  Dynamic Linking:
    dlsrc=dl_dlopen.xs, dlext=so, d_dlsymun=undef, ccdlflags='-Wl,-E'
    cccdlflags='-fPIC', lddlflags='-shared -O2 -L/usr/local/lib -fstack-protector'


Characteristics of this binary (from libperl): 
  Compile-time options: PERL_DONT_CREATE_GVSV PERL_MALLOC_WRAP
                        PERL_PRESERVE_IVUV USE_64_BIT_ALL USE_64_BIT_INT
                        USE_LARGE_FILES USE_PERLIO USE_PERL_ATOF
  Built under linux
  Compiled at Dec 10 2012 17:55:35
  %ENV:
    PERL5LIB=""
    PERL5OPT=""
    PERL5_CPANPLUS_IS_RUNNING="32273"
    PERL5_CPAN_IS_RUNNING="32273"
    PERL5_CPAN_IS_RUNNING_IN_RECURSION="15047,32273"
    PERL_CR_SMOKER_CURRENT="POE-Loop-Glib-0.038"
    PERL_EXTUTILS_AUTOINSTALL="--defaultdeps"
    PERL_MM_USE_DEFAULT="1"
  @INC:
    /home/graham/perls/perl-5.14.3/lib/site_perl/5.14.3/x86_64-linux
    /home/graham/perls/perl-5.14.3/lib/site_perl/5.14.3
    /home/graham/perls/perl-5.14.3/lib/5.14.3/x86_64-linux
    /home/graham/perls/perl-5.14.3/lib/5.14.3
    .