DynaLoader-Functions v0.004 Perl 5 v5.32.1 amd64-freebsd

Status
Pass
From
Chris Williams (BINGOS)
Dist
DynaLoader-Functions v0.004
Platform
Perl 5 v5.32.1 amd64-freebsd
Date
2023-04-10 09:48:39
ID
df03da9c-d784-11ed-aba6-9a79f339625c
This distribution has been tested as part of the CPAN Testers
project, supporting the Perl programming language.  See
http://wiki.cpantesters.org/ for more information or email
questions to cpan-testers-discuss@perl.org


--

Dear ZEFRAM,

This is a computer-generated error report created automatically by
CPANPLUS, version 0.9914. Testers personal comments may appear
at the end of this report.


Thank you for uploading your work to CPAN.  Congratulations!
All tests were successful.

TEST RESULTS:

Below is the error stack from stage 'make test':

In file included from t/dyna_low.c:3:
In file included from /usr/home/cpan/pit/bare/perl-5.32.1/lib/5.32.1/amd64-freebsd/CORE/perl.h:3921:
In file included from /usr/home/cpan/pit/bare/perl-5.32.1/lib/5.32.1/amd64-freebsd/CORE/hv.h:663:
In file included from /usr/home/cpan/pit/bare/perl-5.32.1/lib/5.32.1/amd64-freebsd/CORE/hv_func.h:35:
In file included from /usr/home/cpan/pit/bare/perl-5.32.1/lib/5.32.1/amd64-freebsd/CORE/sbox32_hash.h:4:
/usr/home/cpan/pit/bare/perl-5.32.1/lib/5.32.1/amd64-freebsd/CORE/zaphod32_hash.h:150:5: warning: '(' and '{' tokens introducing statement expression appear in different macro expansion contexts [-Wcompound-token-split-by-macro]
    ZAPHOD32_SCRAMBLE32(state[0],0x9fade23b);
    ^~~~~~~~~~~~~~~~~~~~~~~~~~~~~~~~~~~~~~~~
/usr/home/cpan/pit/bare/perl-5.32.1/lib/5.32.1/amd64-freebsd/CORE/zaphod32_hash.h:80:38: note: expanded from macro 'ZAPHOD32_SCRAMBLE32'
#define ZAPHOD32_SCRAMBLE32(v,prime) STMT_START {  \
                                     ^~~~~~~~~~
/usr/home/cpan/pit/bare/perl-5.32.1/lib/5.32.1/amd64-freebsd/CORE/perl.h:666:29: note: expanded from macro 'STMT_START'
#   define STMT_START   (void)( /* gcc supports "({ STATEMENTS; })" */
                              ^
/usr/home/cpan/pit/bare/perl-5.32.1/lib/5.32.1/amd64-freebsd/CORE/zaphod32_hash.h:150:5: note: '{' token is here
    ZAPHOD32_SCRAMBLE32(state[0],0x9fade23b);
    ^~~~~~~~~~~~~~~~~~~~~~~~~~~~~~~~~~~~~~~~
/usr/home/cpan/pit/bare/perl-5.32.1/lib/5.32.1/amd64-freebsd/CORE/zaphod32_hash.h:80:49: note: expanded from macro 'ZAPHOD32_SCRAMBLE32'
#define ZAPHOD32_SCRAMBLE32(v,prime) STMT_START {  \
                                                ^
/usr/home/cpan/pit/bare/perl-5.32.1/lib/5.32.1/amd64-freebsd/CORE/zaphod32_hash.h:150:5: warning: '}' and ')' tokens terminating statement expression appear in different macro expansion contexts [-Wcompound-token-split-by-macro]
    ZAPHOD32_SCRAMBLE32(state[0],0x9fade23b);
    ^~~~~~~~~~~~~~~~~~~~~~~~~~~~~~~~~~~~~~~~
/usr/home/cpan/pit/bare/perl-5.32.1/lib/5.32.1/amd64-freebsd/CORE/zaphod32_hash.h:87:41: note: expanded from macro 'ZAPHOD32_SCRAMBLE32'
    v ^= (v>>23);                       \
                                        ^
/usr/home/cpan/pit/bare/perl-5.32.1/lib/5.32.1/amd64-freebsd/CORE/zaphod32_hash.h:150:5: note: ')' token is here
    ZAPHOD32_SCRAMBLE32(state[0],0x9fade23b);
    ^~~~~~~~~~~~~~~~~~~~~~~~~~~~~~~~~~~~~~~~
/usr/home/cpan/pit/bare/perl-5.32.1/lib/5.32.1/amd64-freebsd/CORE/zaphod32_hash.h:88:3: note: expanded from macro 'ZAPHOD32_SCRAMBLE32'
} STMT_END
  ^~~~~~~~
/usr/home/cpan/pit/bare/perl-5.32.1/lib/5.32.1/amd64-freebsd/CORE/perl.h:667:21: note: expanded from macro 'STMT_END'
#   define STMT_END     )
                        ^
In file included from t/dyna_low.c:3:
In file included from /usr/home/cpan/pit/bare/perl-5.32.1/lib/5.32.1/amd64-freebsd/CORE/perl.h:3921:
In file included from /usr/home/cpan/pit/bare/perl-5.32.1/lib/5.32.1/amd64-freebsd/CORE/hv.h:663:
In file included from /usr/home/cpan/pit/bare/perl-5.32.1/lib/5.32.1/amd64-freebsd/CORE/hv_func.h:35:
In file included from /usr/home/cpan/pit/bare/perl-5.32.1/lib/5.32.1/amd64-freebsd/CORE/sbox32_hash.h:4:
/usr/home/cpan/pit/bare/perl-5.32.1/lib/5.32.1/amd64-freebsd/CORE/zaphod32_hash.h:151:5: warning: '(' and '{' tokens introducing statement expression appear in different macro expansion contexts [-Wcompound-token-split-by-macro]
    ZAPHOD32_SCRAMBLE32(state[1],0xaa6f908d);
    ^~~~~~~~~~~~~~~~~~~~~~~~~~~~~~~~~~~~~~~~
/usr/home/cpan/pit/bare/perl-5.32.1/lib/5.32.1/amd64-freebsd/CORE/zaphod32_hash.h:80:38: note: expanded from macro 'ZAPHOD32_SCRAMBLE32'
#define ZAPHOD32_SCRAMBLE32(v,prime) STMT_START {  \
                                     ^~~~~~~~~~
/usr/home/cpan/pit/bare/perl-5.32.1/lib/5.32.1/amd64-freebsd/CORE/perl.h:666:29: note: expanded from macro 'STMT_START'
#   define STMT_START   (void)( /* gcc supports "({ STATEMENTS; })" */
                              ^
/usr/home/cpan/pit/bare/perl-5.32.1/lib/5.32.1/amd64-freebsd/CORE/zaphod32_hash.h:151:5: note: '{' token is here
    ZAPHOD32_SCRAMBLE32(state[1],0xaa6f908d);
    ^~~~~~~~~~~~~~~~~~~~~~~~~~~~~~~~~~~~~~~~
/usr/home/cpan/pit/bare/perl-5.32.1/lib/5.32.1/amd64-freebsd/CORE/zaphod32_hash.h:80:49: note: expanded from macro 'ZAPHOD32_SCRAMBLE32'
#define ZAPHOD32_SCRAMBLE32(v,prime) STMT_START {  \
                                                ^
/usr/home/cpan/pit/bare/perl-5.32.1/lib/5.32.1/amd64-freebsd/CORE/zaphod32_hash.h:151:5: warning: '}' and ')' tokens terminating statement expression appear in different macro expansion contexts [-Wcompound-token-split-by-macro]
    ZAPHOD32_SCRAMBLE32(state[1],0xaa6f908d);
    ^~~~~~~~~~~~~~~~~~~~~~~~~~~~~~~~~~~~~~~~
/usr/home/cpan/pit/bare/perl-5.32.1/lib/5.32.1/amd64-freebsd/CORE/zaphod32_hash.h:87:41: note: expanded from macro 'ZAPHOD32_SCRAMBLE32'
    v ^= (v>>23);                       \
                                        ^
/usr/home/cpan/pit/bare/perl-5.32.1/lib/5.32.1/amd64-freebsd/CORE/zaphod32_hash.h:151:5: note: ')' token is here
    ZAPHOD32_SCRAMBLE32(state[1],0xaa6f908d);
    ^~~~~~~~~~~~~~~~~~~~~~~~~~~~~~~~~~~~~~~~
/usr/home/cpan/pit/bare/perl-5.32.1/lib/5.32.1/amd64-freebsd/CORE/zaphod32_hash.h:88:3: note: expanded from macro 'ZAPHOD32_SCRAMBLE32'
} STMT_END
  ^~~~~~~~
/usr/home/cpan/pit/bare/perl-5.32.1/lib/5.32.1/amd64-freebsd/CORE/perl.h:667:21: note: expanded from macro 'STMT_END'
#   define STMT_END     )
                        ^
In file included from t/dyna_low.c:3:
In file included from /usr/home/cpan/pit/bare/perl-5.32.1/lib/5.32.1/amd64-freebsd/CORE/perl.h:3921:
In file included from /usr/home/cpan/pit/bare/perl-5.32.1/lib/5.32.1/amd64-freebsd/CORE/hv.h:663:
In file included from /usr/home/cpan/pit/bare/perl-5.32.1/lib/5.32.1/amd64-freebsd/CORE/hv_func.h:35:
In file included from /usr/home/cpan/pit/bare/perl-5.32.1/lib/5.32.1/amd64-freebsd/CORE/sbox32_hash.h:4:
/usr/home/cpan/pit/bare/perl-5.32.1/lib/5.32.1/amd64-freebsd/CORE/zaphod32_hash.h:152:5: warning: '(' and '{' tokens introducing statement expression appear in different macro expansion contexts [-Wcompound-token-split-by-macro]
    ZAPHOD32_SCRAMBLE32(state[2],0xcdf6b72d);
    ^~~~~~~~~~~~~~~~~~~~~~~~~~~~~~~~~~~~~~~~
/usr/home/cpan/pit/bare/perl-5.32.1/lib/5.32.1/amd64-freebsd/CORE/zaphod32_hash.h:80:38: note: expanded from macro 'ZAPHOD32_SCRAMBLE32'
#define ZAPHOD32_SCRAMBLE32(v,prime) STMT_START {  \
                                     ^~~~~~~~~~
/usr/home/cpan/pit/bare/perl-5.32.1/lib/5.32.1/amd64-freebsd/CORE/perl.h:666:29: note: expanded from macro 'STMT_START'
#   define STMT_START   (void)( /* gcc supports "({ STATEMENTS; })" */
                              ^
/usr/home/cpan/pit/bare/perl-5.32.1/lib/5.32.1/amd64-freebsd/CORE/zaphod32_hash.h:152:5: note: '{' token is here
    ZAPHOD32_SCRAMBLE32(state[2],0xcdf6b72d);
    ^~~~~~~~~~~~~~~~~~~~~~~~~~~~~~~~~~~~~~~~
/usr/home/cpan/pit/bare/perl-5.32.1/lib/5.32.1/amd64-freebsd/CORE/zaphod32_hash.h:80:49: note: expanded from macro 'ZAPHOD32_SCRAMBLE32'
#define ZAPHOD32_SCRAMBLE32(v,prime) STMT_START {  \
                                                ^
/usr/home/cpan/pit/bare/perl-5.32.1/lib/5.32.1/amd64-freebsd/CORE/zaphod32_hash.h:152:5: warning: '}' and ')' tokens terminating statement expression appear in different macro expansion contexts [-Wcompound-token-split-by-macro]
    ZAPHOD32_SCRAMBLE32(state[2],0xcdf6b72d);
    ^~~~~~~~~~~~~~~~~~~~~~~~~~~~~~~~~~~~~~~~
/usr/home/cpan/pit/bare/perl-5.32.1/lib/5.32.1/amd64-freebsd/CORE/zaphod32_hash.h:87:41: note: expanded from macro 'ZAPHOD32_SCRAMBLE32'
    v ^= (v>>23);                       \
                                        ^
/usr/home/cpan/pit/bare/perl-5.32.1/lib/5.32.1/amd64-freebsd/CORE/zaphod32_hash.h:152:5: note: ')' token is here
    ZAPHOD32_SCRAMBLE32(state[2],0xcdf6b72d);
    ^~~~~~~~~~~~~~~~~~~~~~~~~~~~~~~~~~~~~~~~
/usr/home/cpan/pit/bare/perl-5.32.1/lib/5.32.1/amd64-freebsd/CORE/zaphod32_hash.h:88:3: note: expanded from macro 'ZAPHOD32_SCRAMBLE32'
} STMT_END
  ^~~~~~~~
/usr/home/cpan/pit/bare/perl-5.32.1/lib/5.32.1/amd64-freebsd/CORE/perl.h:667:21: note: expanded from macro 'STMT_END'
#   define STMT_END     )
                        ^
In file included from t/dyna_low.c:3:
In file included from /usr/home/cpan/pit/bare/perl-5.32.1/lib/5.32.1/amd64-freebsd/CORE/perl.h:3921:
In file included from /usr/home/cpan/pit/bare/perl-5.32.1/lib/5.32.1/amd64-freebsd/CORE/hv.h:663:
In file included from /usr/home/cpan/pit/bare/perl-5.32.1/lib/5.32.1/amd64-freebsd/CORE/hv_func.h:35:
In file included from /usr/home/cpan/pit/bare/perl-5.32.1/lib/5.32.1/amd64-freebsd/CORE/sbox32_hash.h:4:
/usr/home/cpan/pit/bare/perl-5.32.1/lib/5.32.1/amd64-freebsd/CORE/zaphod32_hash.h:156:5: warning: '(' and '{' tokens introducing statement expression appear in different macro expansion contexts [-Wcompound-token-split-by-macro]
    ZAPHOD32_MIX(state[0],state[1],state[2],"ZAPHOD32 SEED-STATE A 1/4");
    ^~~~~~~~~~~~~~~~~~~~~~~~~~~~~~~~~~~~~~~~~~~~~~~~~~~~~~~~~~~~~~~~~~~~
/usr/home/cpan/pit/bare/perl-5.32.1/lib/5.32.1/amd64-freebsd/CORE/zaphod32_hash.h:116:37: note: expanded from macro 'ZAPHOD32_MIX'
#define ZAPHOD32_MIX(v0,v1,v2,text) STMT_START {                              \
                                    ^~~~~~~~~~
/usr/home/cpan/pit/bare/perl-5.32.1/lib/5.32.1/amd64-freebsd/CORE/perl.h:666:29: note: expanded from macro 'STMT_START'
#   define STMT_START   (void)( /* gcc supports "({ STATEMENTS; })" */
                              ^
/usr/home/cpan/pit/bare/perl-5.32.1/lib/5.32.1/amd64-freebsd/CORE/zaphod32_hash.h:156:5: note: '{' token is here
    ZAPHOD32_MIX(state[0],state[1],state[2],"ZAPHOD32 SEED-STATE A 1/4");
    ^~~~~~~~~~~~~~~~~~~~~~~~~~~~~~~~~~~~~~~~~~~~~~~~~~~~~~~~~~~~~~~~~~~~
/usr/home/cpan/pit/bare/perl-5.32.1/lib/5.32.1/amd64-freebsd/CORE/zaphod32_hash.h:116:48: note: expanded from macro 'ZAPHOD32_MIX'
#define ZAPHOD32_MIX(v0,v1,v2,text) STMT_START {                              \
                                               ^
/usr/home/cpan/pit/bare/perl-5.32.1/lib/5.32.1/amd64-freebsd/CORE/zaphod32_hash.h:156:5: warning: '}' and ')' tokens terminating statement expression appear in different macro expansion contexts [-Wcompound-token-split-by-macro]
    ZAPHOD32_MIX(state[0],state[1],state[2],"ZAPHOD32 SEED-STATE A 1/4");
    ^~~~~~~~~~~~~~~~~~~~~~~~~~~~~~~~~~~~~~~~~~~~~~~~~~~~~~~~~~~~~~~~~~~~
/usr/home/cpan/pit/bare/perl-5.32.1/lib/5.32.1/amd64-freebsd/CORE/zaphod32_hash.h:124:32: note: expanded from macro 'ZAPHOD32_MIX'
    v2 = ROTR32(v2, 7) ^ v0;   \
                               ^
/usr/home/cpan/pit/bare/perl-5.32.1/lib/5.32.1/amd64-freebsd/CORE/zaphod32_hash.h:156:5: note: ')' token is here
    ZAPHOD32_MIX(state[0],state[1],state[2],"ZAPHOD32 SEED-STATE A 1/4");
    ^~~~~~~~~~~~~~~~~~~~~~~~~~~~~~~~~~~~~~~~~~~~~~~~~~~~~~~~~~~~~~~~~~~~
/usr/home/cpan/pit/bare/perl-5.32.1/lib/5.32.1/amd64-freebsd/CORE/zaphod32_hash.h:125:3: note: expanded from macro 'ZAPHOD32_MIX'
} STMT_END
  ^~~~~~~~
/usr/home/cpan/pit/bare/perl-5.32.1/lib/5.32.1/amd64-freebsd/CORE/perl.h:667:21: note: expanded from macro 'STMT_END'
#   define STMT_END     )
                        ^
In file included from t/dyna_low.c:3:
In file included from /usr/home/cpan/pit/bare/perl-5.32.1/lib/5.32.1/amd64-freebsd/CORE/perl.h:3921:
In file included from /usr/home/cpan/pit/bare/perl-5.32.1/lib/5.32.1/amd64-freebsd/CORE/hv.h:663:
In file included from /usr/home/cpan/pit/bare/perl-5.32.1/lib/5.32.1/amd64-freebsd/CORE/hv_func.h:35:
In file included from /usr/home/cpan/pit/bare/perl-5.32.1/lib/5.32.1/amd64-freebsd/CORE/sbox32_hash.h:4:
/usr/home/cpan/pit/bare/perl-5.32.1/lib/5.32.1/amd64-freebsd/CORE/zaphod32_hash.h:157:5: warning: '(' and '{' tokens introducing statement expression appear in different macro expansion contexts [-Wcompound-token-split-by-macro]
    ZAPHOD32_MIX(state[0],state[1],state[2],"ZAPHOD32 SEED-STATE A 2/4");
    ^~~~~~~~~~~~~~~~~~~~~~~~~~~~~~~~~~~~~~~~~~~~~~~~~~~~~~~~~~~~~~~~~~~~
/usr/home/cpan/pit/bare/perl-5.32.1/lib/5.32.1/amd64-freebsd/CORE/zaphod32_hash.h:116:37: note: expanded from macro 'ZAPHOD32_MIX'
#define ZAPHOD32_MIX(v0,v1,v2,text) STMT_START {                              \
                                    ^~~~~~~~~~
/usr/home/cpan/pit/bare/perl-5.32.1/lib/5.32.1/amd64-freebsd/CORE/perl.h:666:29: note: expanded from macro 'STMT_START'
#   define STMT_START   (void)( /* gcc supports "({ STATEMENTS; })" */
                              ^
/usr/home/cpan/pit/bare/perl-5.32.1/lib/5.32.1/amd64-freebsd/CORE/zaphod32_hash.h:157:5: note: '{' token is here
    ZAPHOD32_MIX(state[0],state[1],state[2],"ZAPHOD32 SEED-STATE A 2/4");
    ^~~~~~~~~~~~~~~~~~~~~~~~~~~~~~~~~~~~~~~~~~~~~~~~~~~~~~~~~~~~~~~~~~~~
/usr/home/cpan/pit/bare/perl-5.32.1/lib/5.32.1/amd64-freebsd/CORE/zaphod32_hash.h:116:48: note: expanded from macro 'ZAPHOD32_MIX'
#define ZAPHOD32_MIX(v0,v1,v2,text) STMT_START {                              \
                                               ^
/usr/home/cpan/pit/bare/perl-5.32.1/lib/5.32.1/amd64-freebsd/CORE/zaphod32_hash.h:157:5: warning: '}' and ')' tokens terminating statement expression appear in different macro expansion contexts [-Wcompound-token-split-by-macro]
    ZAPHOD32_MIX(state[0],state[1],state[2],"ZAPHOD32 SEED-STATE A 2/4");
    ^~~~~~~~~~~~~~~~~~~~~~~~~~~~~~~~~~~~~~~~~~~~~~~~~~~~~~~~~~~~~~~~~~~~
/usr/home/cpan/pit/bare/perl-5.32.1/lib/5.32.1/amd64-freebsd/CORE/zaphod32_hash.h:124:32: note: expanded from macro 'ZAPHOD32_MIX'
    v2 = ROTR32(v2, 7) ^ v0;   \
                               ^
/usr/home/cpan/pit/bare/perl-5.32.1/lib/5.32.1/amd64-freebsd/CORE/zaphod32_hash.h:157:5: note: ')' token is here
    ZAPHOD32_MIX(state[0],state[1],state[2],"ZAPHOD32 SEED-STATE A 2/4");
    ^~~~~~~~~~~~~~~~~~~~~~~~~~~~~~~~~~~~~~~~~~~~~~~~~~~~~~~~~~~~~~~~~~~~
/usr/home/cpan/pit/bare/perl-5.32.1/lib/5.32.1/amd64-freebsd/CORE/zaphod32_hash.h:125:3: note: expanded from macro 'ZAPHOD32_MIX'
} STMT_END
  ^~~~~~~~
/usr/home/cpan/pit/bare/perl-5.32.1/lib/5.32.1/amd64-freebsd/CORE/perl.h:667:21: note: expanded from macro 'STMT_END'
#   define STMT_END     )
                        ^
In file included from t/dyna_low.c:3:
In file included from /usr/home/cpan/pit/bare/perl-5.32.1/lib/5.32.1/amd64-freebsd/CORE/perl.h:3921:
In file included from /usr/home/cpan/pit/bare/perl-5.32.1/lib/5.32.1/amd64-freebsd/CORE/hv.h:663:
In file included from /usr/home/cpan/pit/bare/perl-5.32.1/lib/5.32.1/amd64-freebsd/CORE/hv_func.h:35:
In file included from /usr/home/cpan/pit/bare/perl-5.32.1/lib/5.32.1/amd64-freebsd/CORE/sbox32_hash.h:4:
/usr/home/cpan/pit/bare/perl-5.32.1/lib/5.32.1/amd64-freebsd/CORE/zaphod32_hash.h:158:5: warning: '(' and '{' tokens introducing statement expression appear in different macro expansion contexts [-Wcompound-token-split-by-macro]
    ZAPHOD32_MIX(state[0],state[1],state[2],"ZAPHOD32 SEED-STATE A 3/4");
    ^~~~~~~~~~~~~~~~~~~~~~~~~~~~~~~~~~~~~~~~~~~~~~~~~~~~~~~~~~~~~~~~~~~~
/usr/home/cpan/pit/bare/perl-5.32.1/lib/5.32.1/amd64-freebsd/CORE/zaphod32_hash.h:116:37: note: expanded from macro 'ZAPHOD32_MIX'
#define ZAPHOD32_MIX(v0,v1,v2,text) STMT_START {                              \
                                    ^~~~~~~~~~
/usr/home/cpan/pit/bare/perl-5.32.1/lib/5.32.1/amd64-freebsd/CORE/perl.h:666:29: note: expanded from macro 'STMT_START'
#   define STMT_START   (void)( /* gcc supports "({ STATEMENTS; })" */
                              ^
/usr/home/cpan/pit/bare/perl-5.32.1/lib/5.32.1/amd64-freebsd/CORE/zaphod32_hash.h:158:5: note: '{' token is here
    ZAPHOD32_MIX(state[0],state[1],state[2],"ZAPHOD32 SEED-STATE A 3/4");
    ^~~~~~~~~~~~~~~~~~~~~~~~~~~~~~~~~~~~~~~~~~~~~~~~~~~~~~~~~~~~~~~~~~~~
/usr/home/cpan/pit/bare/perl-5.32.1/lib/5.32.1/amd64-freebsd/CORE/zaphod32_hash.h:116:48: note: expanded from macro 'ZAPHOD32_MIX'
#define ZAPHOD32_MIX(v0,v1,v2,text) STMT_START {                              \
                                               ^
/usr/home/cpan/pit/bare/perl-5.32.1/lib/5.32.1/amd64-freebsd/CORE/zaphod32_hash.h:158:5: warning: '}' and ')' tokens terminating statement expression appear in different macro expansion contexts [-Wcompound-token-split-by-macro]
    ZAPHOD32_MIX(state[0],state[1],state[2],"ZAPHOD32 SEED-STATE A 3/4");
    ^~~~~~~~~~~~~~~~~~~~~~~~~~~~~~~~~~~~~~~~~~~~~~~~~~~~~~~~~~~~~~~~~~~~
/usr/home/cpan/pit/bare/perl-5.32.1/lib/5.32.1/amd64-freebsd/CORE/zaphod32_hash.h:124:32: note: expanded from macro 'ZAPHOD32_MIX'
    v2 = ROTR32(v2, 7) ^ v0;   \
                               ^
/usr/home/cpan/pit/bare/perl-5.32.1/lib/5.32.1/amd64-freebsd/CORE/zaphod32_hash.h:158:5: note: ')' token is here
    ZAPHOD32_MIX(state[0],state[1],state[2],"ZAPHOD32 SEED-STATE A 3/4");
    ^~~~~~~~~~~~~~~~~~~~~~~~~~~~~~~~~~~~~~~~~~~~~~~~~~~~~~~~~~~~~~~~~~~~
/usr/home/cpan/pit/bare/perl-5.32.1/lib/5.32.1/amd64-freebsd/CORE/zaphod32_hash.h:125:3: note: expanded from macro 'ZAPHOD32_MIX'
} STMT_END
  ^~~~~~~~
/usr/home/cpan/pit/bare/perl-5.32.1/lib/5.32.1/amd64-freebsd/CORE/perl.h:667:21: note: expanded from macro 'STMT_END'
#   define STMT_END     )
                        ^
In file included from t/dyna_low.c:3:
In file included from /usr/home/cpan/pit/bare/perl-5.32.1/lib/5.32.1/amd64-freebsd/CORE/perl.h:3921:
In file included from /usr/home/cpan/pit/bare/perl-5.32.1/lib/5.32.1/amd64-freebsd/CORE/hv.h:663:
In file included from /usr/home/cpan/pit/bare/perl-5.32.1/lib/5.32.1/amd64-freebsd/CORE/hv_func.h:35:
In file included from /usr/home/cpan/pit/bare/perl-5.32.1/lib/5.32.1/amd64-freebsd/CORE/sbox32_hash.h:4:
/usr/home/cpan/pit/bare/perl-5.32.1/lib/5.32.1/amd64-freebsd/CORE/zaphod32_hash.h:159:5: warning: '(' and '{' tokens introducing statement expression appear in different macro expansion contexts [-Wcompound-token-split-by-macro]
    ZAPHOD32_MIX(state[0],state[1],state[2],"ZAPHOD32 SEED-STATE A 4/4");
    ^~~~~~~~~~~~~~~~~~~~~~~~~~~~~~~~~~~~~~~~~~~~~~~~~~~~~~~~~~~~~~~~~~~~
/usr/home/cpan/pit/bare/perl-5.32.1/lib/5.32.1/amd64-freebsd/CORE/zaphod32_hash.h:116:37: note: expanded from macro 'ZAPHOD32_MIX'
#define ZAPHOD32_MIX(v0,v1,v2,text) STMT_START {                              \
                                    ^~~~~~~~~~
/usr/home/cpan/pit/bare/perl-5.32.1/lib/5.32.1/amd64-freebsd/CORE/perl.h:666:29: note: expanded from macro 'STMT_START'
#   define STMT_START   (void)( /* gcc supports "({ STATEMENTS; })" */
                              ^
/usr/home/cpan/pit/bare/perl-5.32.1/lib/5.32.1/amd64-freebsd/CORE/zaphod32_hash.h:159:5: note: '{' token is here
    ZAPHOD32_MIX(state[0],state[1],state[2],"ZAPHOD32 SEED-STATE A 4/4");
    ^~~~~~~~~~~~~~~~~~~~~~~~~~~~~~~~~~~~~~~~~~~~~~~~~~~~~~~~~~~~~~~~~~~~
/usr/home/cpan/pit/bare/perl-5.32.1/lib/5.32.1/amd64-freebsd/CORE/zaphod32_hash.h:116:48: note: expanded from macro 'ZAPHOD32_MIX'
#define ZAPHOD32_MIX(v0,v1,v2,text) STMT_START {                              \
                                               ^
/usr/home/cpan/pit/bare/perl-5.32.1/lib/5.32.1/amd64-freebsd/CORE/zaphod32_hash.h:159:5: warning: '}' and ')' tokens terminating statement expression appear in different macro expansion contexts [-Wcompound-token-split-by-macro]
    ZAPHOD32_MIX(state[0],state[1],state[2],"ZAPHOD32 SEED-STATE A 4/4");
    ^~~~~~~~~~~~~~~~~~~~~~~~~~~~~~~~~~~~~~~~~~~~~~~~~~~~~~~~~~~~~~~~~~~~
/usr/home/cpan/pit/bare/perl-5.32.1/lib/5.32.1/amd64-freebsd/CORE/zaphod32_hash.h:124:32: note: expanded from macro 'ZAPHOD32_MIX'
    v2 = ROTR32(v2, 7) ^ v0;   \
                               ^
/usr/home/cpan/pit/bare/perl-5.32.1/lib/5.32.1/amd64-freebsd/CORE/zaphod32_hash.h:159:5: note: ')' token is here
    ZAPHOD32_MIX(state[0],state[1],state[2],"ZAPHOD32 SEED-STATE A 4/4");
    ^~~~~~~~~~~~~~~~~~~~~~~~~~~~~~~~~~~~~~~~~~~~~~~~~~~~~~~~~~~~~~~~~~~~
/usr/home/cpan/pit/bare/perl-5.32.1/lib/5.32.1/amd64-freebsd/CORE/zaphod32_hash.h:125:3: note: expanded from macro 'ZAPHOD32_MIX'
} STMT_END
  ^~~~~~~~
/usr/home/cpan/pit/bare/perl-5.32.1/lib/5.32.1/amd64-freebsd/CORE/perl.h:667:21: note: expanded from macro 'STMT_END'
#   define STMT_END     )
                        ^
In file included from t/dyna_low.c:3:
In file included from /usr/home/cpan/pit/bare/perl-5.32.1/lib/5.32.1/amd64-freebsd/CORE/perl.h:3921:
In file included from /usr/home/cpan/pit/bare/perl-5.32.1/lib/5.32.1/amd64-freebsd/CORE/hv.h:663:
In file included from /usr/home/cpan/pit/bare/perl-5.32.1/lib/5.32.1/amd64-freebsd/CORE/hv_func.h:35:
In file included from /usr/home/cpan/pit/bare/perl-5.32.1/lib/5.32.1/amd64-freebsd/CORE/sbox32_hash.h:4:
/usr/home/cpan/pit/bare/perl-5.32.1/lib/5.32.1/amd64-freebsd/CORE/zaphod32_hash.h:162:5: warning: '(' and '{' tokens introducing statement expression appear in different macro expansion contexts [-Wcompound-token-split-by-macro]
    ZAPHOD32_SCRAMBLE32(state[0],0xc95d22a9);
    ^~~~~~~~~~~~~~~~~~~~~~~~~~~~~~~~~~~~~~~~
/usr/home/cpan/pit/bare/perl-5.32.1/lib/5.32.1/amd64-freebsd/CORE/zaphod32_hash.h:80:38: note: expanded from macro 'ZAPHOD32_SCRAMBLE32'
#define ZAPHOD32_SCRAMBLE32(v,prime) STMT_START {  \
                                     ^~~~~~~~~~
/usr/home/cpan/pit/bare/perl-5.32.1/lib/5.32.1/amd64-freebsd/CORE/perl.h:666:29: note: expanded from macro 'STMT_START'
#   define STMT_START   (void)( /* gcc supports "({ STATEMENTS; })" */
                              ^
/usr/home/cpan/pit/bare/perl-5.32.1/lib/5.32.1/amd64-freebsd/CORE/zaphod32_hash.h:162:5: note: '{' token is here
    ZAPHOD32_SCRAMBLE32(state[0],0xc95d22a9);
    ^~~~~~~~~~~~~~~~~~~~~~~~~~~~~~~~~~~~~~~~
/usr/home/cpan/pit/bare/perl-5.32.1/lib/5.32.1/amd64-freebsd/CORE/zaphod32_hash.h:80:49: note: expanded from macro 'ZAPHOD32_SCRAMBLE32'
#define ZAPHOD32_SCRAMBLE32(v,prime) STMT_START {  \
                                                ^
/usr/home/cpan/pit/bare/perl-5.32.1/lib/5.32.1/amd64-freebsd/CORE/zaphod32_hash.h:162:5: warning: '}' and ')' tokens terminating statement expression appear in different macro expansion contexts [-Wcompound-token-split-by-macro]
    ZAPHOD32_SCRAMBLE32(state[0],0xc95d22a9);
    ^~~~~~~~~~~~~~~~~~~~~~~~~~~~~~~~~~~~~~~~
/usr/home/cpan/pit/bare/perl-5.32.1/lib/5.32.1/amd64-freebsd/CORE/zaphod32_hash.h:87:41: note: expanded from macro 'ZAPHOD32_SCRAMBLE32'
    v ^= (v>>23);                       \
                                        ^
/usr/home/cpan/pit/bare/perl-5.32.1/lib/5.32.1/amd64-freebsd/CORE/zaphod32_hash.h:162:5: note: ')' token is here
    ZAPHOD32_SCRAMBLE32(state[0],0xc95d22a9);
    ^~~~~~~~~~~~~~~~~~~~~~~~~~~~~~~~~~~~~~~~
/usr/home/cpan/pit/bare/perl-5.32.1/lib/5.32.1/amd64-freebsd/CORE/zaphod32_hash.h:88:3: note: expanded from macro 'ZAPHOD32_SCRAMBLE32'
} STMT_END
  ^~~~~~~~
/usr/home/cpan/pit/bare/perl-5.32.1/lib/5.32.1/amd64-freebsd/CORE/perl.h:667:21: note: expanded from macro 'STMT_END'
#   define STMT_END     )
                        ^
In file included from t/dyna_low.c:3:
In file included from /usr/home/cpan/pit/bare/perl-5.32.1/lib/5.32.1/amd64-freebsd/CORE/perl.h:3921:
In file included from /usr/home/cpan/pit/bare/perl-5.32.1/lib/5.32.1/amd64-freebsd/CORE/hv.h:663:
In file included from /usr/home/cpan/pit/bare/perl-5.32.1/lib/5.32.1/amd64-freebsd/CORE/hv_func.h:35:
In file included from /usr/home/cpan/pit/bare/perl-5.32.1/lib/5.32.1/amd64-freebsd/CORE/sbox32_hash.h:4:
/usr/home/cpan/pit/bare/perl-5.32.1/lib/5.32.1/amd64-freebsd/CORE/zaphod32_hash.h:163:5: warning: '(' and '{' tokens introducing statement expression appear in different macro expansion contexts [-Wcompound-token-split-by-macro]
    ZAPHOD32_SCRAMBLE32(state[1],0x8497242b);
    ^~~~~~~~~~~~~~~~~~~~~~~~~~~~~~~~~~~~~~~~
/usr/home/cpan/pit/bare/perl-5.32.1/lib/5.32.1/amd64-freebsd/CORE/zaphod32_hash.h:80:38: note: expanded from macro 'ZAPHOD32_SCRAMBLE32'
#define ZAPHOD32_SCRAMBLE32(v,prime) STMT_START {  \
                                     ^~~~~~~~~~
/usr/home/cpan/pit/bare/perl-5.32.1/lib/5.32.1/amd64-freebsd/CORE/perl.h:666:29: note: expanded from macro 'STMT_START'
#   define STMT_START   (void)( /* gcc supports "({ STATEMENTS; })" */
                              ^
/usr/home/cpan/pit/bare/perl-5.32.1/lib/5.32.1/amd64-freebsd/CORE/zaphod32_hash.h:163:5: note: '{' token is here
    ZAPHOD32_SCRAMBLE32(state[1],0x8497242b);
    ^~~~~~~~~~~~~~~~~~~~~~~~~~~~~~~~~~~~~~~~
/usr/home/cpan/pit/bare/perl-5.32.1/lib/5.32.1/amd64-freebsd/CORE/zaphod32_hash.h:80:49: note: expanded from macro 'ZAPHOD32_SCRAMBLE32'
#define ZAPHOD32_SCRAMBLE32(v,prime) STMT_START {  \
                                                ^
/usr/home/cpan/pit/bare/perl-5.32.1/lib/5.32.1/amd64-freebsd/CORE/zaphod32_hash.h:163:5: warning: '}' and ')' tokens terminating statement expression appear in different macro expansion contexts [-Wcompound-token-split-by-macro]
    ZAPHOD32_SCRAMBLE32(state[1],0x8497242b);
    ^~~~~~~~~~~~~~~~~~~~~~~~~~~~~~~~~~~~~~~~
/usr/home/cpan/pit/bare/perl-5.32.1/lib/5.32.1/amd64-freebsd/CORE/zaphod32_hash.h:87:41: note: expanded from macro 'ZAPHOD32_SCRAMBLE32'
    v ^= (v>>23);                       \
                                        ^
/usr/home/cpan/pit/bare/perl-5.32.1/lib/5.32.1/amd64-freebsd/CORE/zaphod32_hash.h:163:5: note: ')' token is here
    ZAPHOD32_SCRAMBLE32(state[1],0x8497242b);
    ^~~~~~~~~~~~~~~~~~~~~~~~~~~~~~~~~~~~~~~~
/usr/home/cpan/pit/bare/perl-5.32.1/lib/5.32.1/amd64-freebsd/CORE/zaphod32_hash.h:88:3: note: expanded from macro 'ZAPHOD32_SCRAMBLE32'
} STMT_END
  ^~~~~~~~
/usr/home/cpan/pit/bare/perl-5.32.1/lib/5.32.1/amd64-freebsd/CORE/perl.h:667:21: note: expanded from macro 'STMT_END'
#   define STMT_END     )
                        ^
In file included from t/dyna_low.c:3:
In file included from /usr/home/cpan/pit/bare/perl-5.32.1/lib/5.32.1/amd64-freebsd/CORE/perl.h:3921:
In file included from /usr/home/cpan/pit/bare/perl-5.32.1/lib/5.32.1/amd64-freebsd/CORE/hv.h:663:
In file included from /usr/home/cpan/pit/bare/perl-5.32.1/lib/5.32.1/amd64-freebsd/CORE/hv_func.h:35:
In file included from /usr/home/cpan/pit/bare/perl-5.32.1/lib/5.32.1/amd64-freebsd/CORE/sbox32_hash.h:4:
/usr/home/cpan/pit/bare/perl-5.32.1/lib/5.32.1/amd64-freebsd/CORE/zaphod32_hash.h:164:5: warning: '(' and '{' tokens introducing statement expression appear in different macro expansion contexts [-Wcompound-token-split-by-macro]
    ZAPHOD32_SCRAMBLE32(state[2],0x9c5cc4e9);
    ^~~~~~~~~~~~~~~~~~~~~~~~~~~~~~~~~~~~~~~~
/usr/home/cpan/pit/bare/perl-5.32.1/lib/5.32.1/amd64-freebsd/CORE/zaphod32_hash.h:80:38: note: expanded from macro 'ZAPHOD32_SCRAMBLE32'
#define ZAPHOD32_SCRAMBLE32(v,prime) STMT_START {  \
                                     ^~~~~~~~~~
/usr/home/cpan/pit/bare/perl-5.32.1/lib/5.32.1/amd64-freebsd/CORE/perl.h:666:29: note: expanded from macro 'STMT_START'
#   define STMT_START   (void)( /* gcc supports "({ STATEMENTS; })" */
                              ^
/usr/home/cpan/pit/bare/perl-5.32.1/lib/5.32.1/amd64-freebsd/CORE/zaphod32_hash.h:164:5: note: '{' token is here
    ZAPHOD32_SCRAMBLE32(state[2],0x9c5cc4e9);
    ^~~~~~~~~~~~~~~~~~~~~~~~~~~~~~~~~~~~~~~~
/usr/home/cpan/pit/bare/perl-5.32.1/lib/5.32.1/amd64-freebsd/CORE/zaphod32_hash.h:80:49: note: expanded from macro 'ZAPHOD32_SCRAMBLE32'
#define ZAPHOD32_SCRAMBLE32(v,prime) STMT_START {  \
                                                ^
/usr/home/cpan/pit/bare/perl-5.32.1/lib/5.32.1/amd64-freebsd/CORE/zaphod32_hash.h:164:5: warning: '}' and ')' tokens terminating statement expression appear in different macro expansion contexts [-Wcompound-token-split-by-macro]
    ZAPHOD32_SCRAMBLE32(state[2],0x9c5cc4e9);
    ^~~~~~~~~~~~~~~~~~~~~~~~~~~~~~~~~~~~~~~~
/usr/home/cpan/pit/bare/perl-5.32.1/lib/5.32.1/amd64-freebsd/CORE/zaphod32_hash.h:87:41: note: expanded from macro 'ZAPHOD32_SCRAMBLE32'
    v ^= (v>>23);                       \
                                        ^
/usr/home/cpan/pit/bare/perl-5.32.1/lib/5.32.1/amd64-freebsd/CORE/zaphod32_hash.h:164:5: note: ')' token is here
    ZAPHOD32_SCRAMBLE32(state[2],0x9c5cc4e9);
    ^~~~~~~~~~~~~~~~~~~~~~~~~~~~~~~~~~~~~~~~
/usr/home/cpan/pit/bare/perl-5.32.1/lib/5.32.1/amd64-freebsd/CORE/zaphod32_hash.h:88:3: note: expanded from macro 'ZAPHOD32_SCRAMBLE32'
} STMT_END
  ^~~~~~~~
/usr/home/cpan/pit/bare/perl-5.32.1/lib/5.32.1/amd64-freebsd/CORE/perl.h:667:21: note: expanded from macro 'STMT_END'
#   define STMT_END     )
                        ^
In file included from t/dyna_low.c:3:
In file included from /usr/home/cpan/pit/bare/perl-5.32.1/lib/5.32.1/amd64-freebsd/CORE/perl.h:3921:
In file included from /usr/home/cpan/pit/bare/perl-5.32.1/lib/5.32.1/amd64-freebsd/CORE/hv.h:663:
In file included from /usr/home/cpan/pit/bare/perl-5.32.1/lib/5.32.1/amd64-freebsd/CORE/hv_func.h:35:
In file included from /usr/home/cpan/pit/bare/perl-5.32.1/lib/5.32.1/amd64-freebsd/CORE/sbox32_hash.h:4:
/usr/home/cpan/pit/bare/perl-5.32.1/lib/5.32.1/amd64-freebsd/CORE/zaphod32_hash.h:167:5: warning: '(' and '{' tokens introducing statement expression appear in different macro expansion contexts [-Wcompound-token-split-by-macro]
    ZAPHOD32_MIX(state[0],state[1],state[2],"ZAPHOD32 SEED-STATE B 1/5");
    ^~~~~~~~~~~~~~~~~~~~~~~~~~~~~~~~~~~~~~~~~~~~~~~~~~~~~~~~~~~~~~~~~~~~
/usr/home/cpan/pit/bare/perl-5.32.1/lib/5.32.1/amd64-freebsd/CORE/zaphod32_hash.h:116:37: note: expanded from macro 'ZAPHOD32_MIX'
#define ZAPHOD32_MIX(v0,v1,v2,text) STMT_START {                              \
                                    ^~~~~~~~~~
/usr/home/cpan/pit/bare/perl-5.32.1/lib/5.32.1/amd64-freebsd/CORE/perl.h:666:29: note: expanded from macro 'STMT_START'
#   define STMT_START   (void)( /* gcc supports "({ STATEMENTS; })" */
                              ^
/usr/home/cpan/pit/bare/perl-5.32.1/lib/5.32.1/amd64-freebsd/CORE/zaphod32_hash.h:167:5: note: '{' token is here
    ZAPHOD32_MIX(state[0],state[1],state[2],"ZAPHOD32 SEED-STATE B 1/5");
    ^~~~~~~~~~~~~~~~~~~~~~~~~~~~~~~~~~~~~~~~~~~~~~~~~~~~~~~~~~~~~~~~~~~~
/usr/home/cpan/pit/bare/perl-5.32.1/lib/5.32.1/amd64-freebsd/CORE/zaphod32_hash.h:116:48: note: expanded from macro 'ZAPHOD32_MIX'
#define ZAPHOD32_MIX(v0,v1,v2,text) STMT_START {                              \
                                               ^
/usr/home/cpan/pit/bare/perl-5.32.1/lib/5.32.1/amd64-freebsd/CORE/zaphod32_hash.h:167:5: warning: '}' and ')' tokens terminating statement expression appear in different macro expansion contexts [-Wcompound-token-split-by-macro]
    ZAPHOD32_MIX(state[0],state[1],state[2],"ZAPHOD32 SEED-STATE B 1/5");
    ^~~~~~~~~~~~~~~~~~~~~~~~~~~~~~~~~~~~~~~~~~~~~~~~~~~~~~~~~~~~~~~~~~~~
/usr/home/cpan/pit/bare/perl-5.32.1/lib/5.32.1/amd64-freebsd/CORE/zaphod32_hash.h:124:32: note: expanded from macro 'ZAPHOD32_MIX'
    v2 = ROTR32(v2, 7) ^ v0;   \
                               ^
/usr/home/cpan/pit/bare/perl-5.32.1/lib/5.32.1/amd64-freebsd/CORE/zaphod32_hash.h:167:5: note: ')' token is here
    ZAPHOD32_MIX(state[0],state[1],state[2],"ZAPHOD32 SEED-STATE B 1/5");
    ^~~~~~~~~~~~~~~~~~~~~~~~~~~~~~~~~~~~~~~~~~~~~~~~~~~~~~~~~~~~~~~~~~~~
/usr/home/cpan/pit/bare/perl-5.32.1/lib/5.32.1/amd64-freebsd/CORE/zaphod32_hash.h:125:3: note: expanded from macro 'ZAPHOD32_MIX'
} STMT_END
  ^~~~~~~~
/usr/home/cpan/pit/bare/perl-5.32.1/lib/5.32.1/amd64-freebsd/CORE/perl.h:667:21: note: expanded from macro 'STMT_END'
#   define STMT_END     )
                        ^
In file included from t/dyna_low.c:3:
In file included from /usr/home/cpan/pit/bare/perl-5.32.1/lib/5.32.1/amd64-freebsd/CORE/perl.h:3921:
In file included from /usr/home/cpan/pit/bare/perl-5.32.1/lib/5.32.1/amd64-freebsd/CORE/hv.h:663:
In file included from /usr/home/cpan/pit/bare/perl-5.32.1/lib/5.32.1/amd64-freebsd/CORE/hv_func.h:35:
In file included from /usr/home/cpan/pit/bare/perl-5.32.1/lib/5.32.1/amd64-freebsd/CORE/sbox32_hash.h:4:
/usr/home/cpan/pit/bare/perl-5.32.1/lib/5.32.1/amd64-freebsd/CORE/zaphod32_hash.h:168:5: warning: '(' and '{' tokens introducing statement expression appear in different macro expansion contexts [-Wcompound-token-split-by-macro]
    ZAPHOD32_MIX(state[0],state[1],state[2],"ZAPHOD32 SEED-STATE B 2/5");
    ^~~~~~~~~~~~~~~~~~~~~~~~~~~~~~~~~~~~~~~~~~~~~~~~~~~~~~~~~~~~~~~~~~~~
/usr/home/cpan/pit/bare/perl-5.32.1/lib/5.32.1/amd64-freebsd/CORE/zaphod32_hash.h:116:37: note: expanded from macro 'ZAPHOD32_MIX'
#define ZAPHOD32_MIX(v0,v1,v2,text) STMT_START {                              \
                                    ^~~~~~~~~~
/usr/home/cpan/pit/bare/perl-5.32.1/lib/5.32.1/amd64-freebsd/CORE/perl.h:666:29: note: expanded from macro 'STMT_START'
#   define STMT_START   (void)( /* gcc supports "({ STATEMENTS; })" */
                              ^
/usr/home/cpan/pit/bare/perl-5.32.1/lib/5.32.1/amd64-freebsd/CORE/zaphod32_hash.h:168:5: note: '{' token is here
    ZAPHOD32_MIX(state[0],state[1],state[2],"ZAPHOD32 SEED-STATE B 2/5");
    ^~~~~~~~~~~~~~~~~~~~~~~~~~~~~~~~~~~~~~~~~~~~~~~~~~~~~~~~~~~~~~~~~~~~
/usr/home/cpan/pit/bare/perl-5.32.1/lib/5.32.1/amd64-freebsd/CORE/zaphod32_hash.h:116:48: note: expanded from macro 'ZAPHOD32_MIX'
#define ZAPHOD32_MIX(v0,v1,v2,text) STMT_START {                              \
                                               ^
/usr/home/cpan/pit/bare/perl-5.32.1/lib/5.32.1/amd64-freebsd/CORE/zaphod32_hash.h:168:5: warning: '}' and ')' tokens terminating statement expression appear in different macro expansion contexts [-Wcompound-token-split-by-macro]
    ZAPHOD32_MIX(state[0],state[1],state[2],"ZAPHOD32 SEED-STATE B 2/5");
    ^~~~~~~~~~~~~~~~~~~~~~~~~~~~~~~~~~~~~~~~~~~~~~~~~~~~~~~~~~~~~~~~~~~~
/usr/home/cpan/pit/bare/perl-5.32.1/lib/5.32.1/amd64-freebsd/CORE/zaphod32_hash.h:124:32: note: expanded from macro 'ZAPHOD32_MIX'
    v2 = ROTR32(v2, 7) ^ v0;   \
                               ^
/usr/home/cpan/pit/bare/perl-5.32.1/lib/5.32.1/amd64-freebsd/CORE/zaphod32_hash.h:168:5: note: ')' token is here
    ZAPHOD32_MIX(state[0],state[1],state[2],"ZAPHOD32 SEED-STATE B 2/5");
    ^~~~~~~~~~~~~~~~~~~~~~~~~~~~~~~~~~~~~~~~~~~~~~~~~~~~~~~~~~~~~~~~~~~~
/usr/home/cpan/pit/bare/perl-5.32.1/lib/5.32.1/amd64-freebsd/CORE/zaphod32_hash.h:125:3: note: expanded from macro 'ZAPHOD32_MIX'
} STMT_END
  ^~~~~~~~
/usr/home/cpan/pit/bare/perl-5.32.1/lib/5.32.1/amd64-freebsd/CORE/perl.h:667:21: note: expanded from macro 'STMT_END'
#   define STMT_END     )
                        ^
In file included from t/dyna_low.c:3:
In file included from /usr/home/cpan/pit/bare/perl-5.32.1/lib/5.32.1/amd64-freebsd/CORE/perl.h:3921:
In file included from /usr/home/cpan/pit/bare/perl-5.32.1/lib/5.32.1/amd64-freebsd/CORE/hv.h:663:
In file included from /usr/home/cpan/pit/bare/perl-5.32.1/lib/5.32.1/amd64-freebsd/CORE/hv_func.h:35:
In file included from /usr/home/cpan/pit/bare/perl-5.32.1/lib/5.32.1/amd64-freebsd/CORE/sbox32_hash.h:4:
/usr/home/cpan/pit/bare/perl-5.32.1/lib/5.32.1/amd64-freebsd/CORE/zaphod32_hash.h:169:5: warning: '(' and '{' tokens introducing statement expression appear in different macro expansion contexts [-Wcompound-token-split-by-macro]
    ZAPHOD32_MIX(state[0],state[1],state[2],"ZAPHOD32 SEED-STATE B 3/5");
    ^~~~~~~~~~~~~~~~~~~~~~~~~~~~~~~~~~~~~~~~~~~~~~~~~~~~~~~~~~~~~~~~~~~~
/usr/home/cpan/pit/bare/perl-5.32.1/lib/5.32.1/amd64-freebsd/CORE/zaphod32_hash.h:116:37: note: expanded from macro 'ZAPHOD32_MIX'
#define ZAPHOD32_MIX(v0,v1,v2,text) STMT_START {                              \
                                    ^~~~~~~~~~
/usr/home/cpan/pit/bare/perl-5.32.1/lib/5.32.1/amd64-freebsd/CORE/perl.h:666:29: note: expanded from macro 'STMT_START'
#   define STMT_START   (void)( /* gcc supports "({ STATEMENTS; })" */
                              ^
/usr/home/cpan/pit/bare/perl-5.32.1/lib/5.32.1/amd64-freebsd/CORE/zaphod32_hash.h:169:5: note: '{' token is here
    ZAPHOD32_MIX(state[0],state[1],state[2],"ZAPHOD32 SEED-STATE B 3/5");
    ^~~~~~~~~~~~~~~~~~~~~~~~~~~~~~~~~~~~~~~~~~~~~~~~~~~~~~~~~~~~~~~~~~~~
/usr/home/cpan/pit/bare/perl-5.32.1/lib/5.32.1/amd64-freebsd/CORE/zaphod32_hash.h:116:48: note: expanded from macro 'ZAPHOD32_MIX'
#define ZAPHOD32_MIX(v0,v1,v2,text) STMT_START {                              \
                                               ^
/usr/home/cpan/pit/bare/perl-5.32.1/lib/5.32.1/amd64-freebsd/CORE/zaphod32_hash.h:169:5: warning: '}' and ')' tokens terminating statement expression appear in different macro expansion contexts [-Wcompound-token-split-by-macro]
    ZAPHOD32_MIX(state[0],state[1],state[2],"ZAPHOD32 SEED-STATE B 3/5");
    ^~~~~~~~~~~~~~~~~~~~~~~~~~~~~~~~~~~~~~~~~~~~~~~~~~~~~~~~~~~~~~~~~~~~
/usr/home/cpan/pit/bare/perl-5.32.1/lib/5.32.1/amd64-freebsd/CORE/zaphod32_hash.h:124:32: note: expanded from macro 'ZAPHOD32_MIX'
    v2 = ROTR32(v2, 7) ^ v0;   \
                               ^
/usr/home/cpan/pit/bare/perl-5.32.1/lib/5.32.1/amd64-freebsd/CORE/zaphod32_hash.h:169:5: note: ')' token is here
    ZAPHOD32_MIX(state[0],state[1],state[2],"ZAPHOD32 SEED-STATE B 3/5");
    ^~~~~~~~~~~~~~~~~~~~~~~~~~~~~~~~~~~~~~~~~~~~~~~~~~~~~~~~~~~~~~~~~~~~
/usr/home/cpan/pit/bare/perl-5.32.1/lib/5.32.1/amd64-freebsd/CORE/zaphod32_hash.h:125:3: note: expanded from macro 'ZAPHOD32_MIX'
} STMT_END
  ^~~~~~~~
/usr/home/cpan/pit/bare/perl-5.32.1/lib/5.32.1/amd64-freebsd/CORE/perl.h:667:21: note: expanded from macro 'STMT_END'
#   define STMT_END     )
                        ^
In file included from t/dyna_low.c:3:
In file included from /usr/home/cpan/pit/bare/perl-5.32.1/lib/5.32.1/amd64-freebsd/CORE/perl.h:3921:
In file included from /usr/home/cpan/pit/bare/perl-5.32.1/lib/5.32.1/amd64-freebsd/CORE/hv.h:663:
In file included from /usr/home/cpan/pit/bare/perl-5.32.1/lib/5.32.1/amd64-freebsd/CORE/hv_func.h:35:
In file included from /usr/home/cpan/pit/bare/perl-5.32.1/lib/5.32.1/amd64-freebsd/CORE/sbox32_hash.h:4:
/usr/home/cpan/pit/bare/perl-5.32.1/lib/5.32.1/amd64-freebsd/CORE/zaphod32_hash.h:170:5: warning: '(' and '{' tokens introducing statement expression appear in different macro expansion contexts [-Wcompound-token-split-by-macro]
    ZAPHOD32_MIX(state[0],state[1],state[2],"ZAPHOD32 SEED-STATE B 4/5");
    ^~~~~~~~~~~~~~~~~~~~~~~~~~~~~~~~~~~~~~~~~~~~~~~~~~~~~~~~~~~~~~~~~~~~
/usr/home/cpan/pit/bare/perl-5.32.1/lib/5.32.1/amd64-freebsd/CORE/zaphod32_hash.h:116:37: note: expanded from macro 'ZAPHOD32_MIX'
#define ZAPHOD32_MIX(v0,v1,v2,text) STMT_START {                              \
                                    ^~~~~~~~~~
/usr/home/cpan/pit/bare/perl-5.32.1/lib/5.32.1/amd64-freebsd/CORE/perl.h:666:29: note: expanded from macro 'STMT_START'
#   define STMT_START   (void)( /* gcc supports "({ STATEMENTS; })" */
                              ^
/usr/home/cpan/pit/bare/perl-5.32.1/lib/5.32.1/amd64-freebsd/CORE/zaphod32_hash.h:170:5: note: '{' token is here
    ZAPHOD32_MIX(state[0],state[1],state[2],"ZAPHOD32 SEED-STATE B 4/5");
    ^~~~~~~~~~~~~~~~~~~~~~~~~~~~~~~~~~~~~~~~~~~~~~~~~~~~~~~~~~~~~~~~~~~~
/usr/home/cpan/pit/bare/perl-5.32.1/lib/5.32.1/amd64-freebsd/CORE/zaphod32_hash.h:116:48: note: expanded from macro 'ZAPHOD32_MIX'
#define ZAPHOD32_MIX(v0,v1,v2,text) STMT_START {                              \
                                               ^
/usr/home/cpan/pit/bare/perl-5.32.1/lib/5.32.1/amd64-freebsd/CORE/zaphod32_hash.h:170:5: warning: '}' and ')' tokens terminating statement expression appear in different macro expansion contexts [-Wcompound-token-split-by-macro]
    ZAPHOD32_MIX(state[0],state[1],state[2],"ZAPHOD32 SEED-STATE B 4/5");
    ^~~~~~~~~~~~~~~~~~~~~~~~~~~~~~~~~~~~~~~~~~~~~~~~~~~~~~~~~~~~~~~~~~~~
/usr/home/cpan/pit/bare/perl-5.32.1/lib/5.32.1/amd64-freebsd/CORE/zaphod32_hash.h:124:32: note: expanded from macro 'ZAPHOD32_MIX'
    v2 = ROTR32(v2, 7) ^ v0;   \
                               ^
/usr/home/cpan/pit/bare/perl-5.32.1/lib/5.32.1/amd64-freebsd/CORE/zaphod32_hash.h:170:5: note: ')' token is here
    ZAPHOD32_MIX(state[0],state[1],state[2],"ZAPHOD32 SEED-STATE B 4/5");
    ^~~~~~~~~~~~~~~~~~~~~~~~~~~~~~~~~~~~~~~~~~~~~~~~~~~~~~~~~~~~~~~~~~~~
/usr/home/cpan/pit/bare/perl-5.32.1/lib/5.32.1/amd64-freebsd/CORE/zaphod32_hash.h:125:3: note: expanded from macro 'ZAPHOD32_MIX'
} STMT_END
  ^~~~~~~~
/usr/home/cpan/pit/bare/perl-5.32.1/lib/5.32.1/amd64-freebsd/CORE/perl.h:667:21: note: expanded from macro 'STMT_END'
#   define STMT_END     )
                        ^
In file included from t/dyna_low.c:3:
In file included from /usr/home/cpan/pit/bare/perl-5.32.1/lib/5.32.1/amd64-freebsd/CORE/perl.h:3921:
In file included from /usr/home/cpan/pit/bare/perl-5.32.1/lib/5.32.1/amd64-freebsd/CORE/hv.h:663:
In file included from /usr/home/cpan/pit/bare/perl-5.32.1/lib/5.32.1/amd64-freebsd/CORE/hv_func.h:35:
In file included from /usr/home/cpan/pit/bare/perl-5.32.1/lib/5.32.1/amd64-freebsd/CORE/sbox32_hash.h:4:
/usr/home/cpan/pit/bare/perl-5.32.1/lib/5.32.1/amd64-freebsd/CORE/zaphod32_hash.h:171:5: warning: '(' and '{' tokens introducing statement expression appear in different macro expansion contexts [-Wcompound-token-split-by-macro]
    ZAPHOD32_MIX(state[0],state[1],state[2],"ZAPHOD32 SEED-STATE B 5/5");
    ^~~~~~~~~~~~~~~~~~~~~~~~~~~~~~~~~~~~~~~~~~~~~~~~~~~~~~~~~~~~~~~~~~~~
/usr/home/cpan/pit/bare/perl-5.32.1/lib/5.32.1/amd64-freebsd/CORE/zaphod32_hash.h:116:37: note: expanded from macro 'ZAPHOD32_MIX'
#define ZAPHOD32_MIX(v0,v1,v2,text) STMT_START {                              \
                                    ^~~~~~~~~~
/usr/home/cpan/pit/bare/perl-5.32.1/lib/5.32.1/amd64-freebsd/CORE/perl.h:666:29: note: expanded from macro 'STMT_START'
#   define STMT_START   (void)( /* gcc supports "({ STATEMENTS; })" */
                              ^
/usr/home/cpan/pit/bare/perl-5.32.1/lib/5.32.1/amd64-freebsd/CORE/zaphod32_hash.h:171:5: note: '{' token is here
    ZAPHOD32_MIX(state[0],state[1],state[2],"ZAPHOD32 SEED-STATE B 5/5");
    ^~~~~~~~~~~~~~~~~~~~~~~~~~~~~~~~~~~~~~~~~~~~~~~~~~~~~~~~~~~~~~~~~~~~
/usr/home/cpan/pit/bare/perl-5.32.1/lib/5.32.1/amd64-freebsd/CORE/zaphod32_hash.h:116:48: note: expanded from macro 'ZAPHOD32_MIX'
#define ZAPHOD32_MIX(v0,v1,v2,text) STMT_START {                              \
                                               ^
/usr/home/cpan/pit/bare/perl-5.32.1/lib/5.32.1/amd64-freebsd/CORE/zaphod32_hash.h:171:5: warning: '}' and ')' tokens terminating statement expression appear in different macro expansion contexts [-Wcompound-token-split-by-macro]
    ZAPHOD32_MIX(state[0],state[1],state[2],"ZAPHOD32 SEED-STATE B 5/5");
    ^~~~~~~~~~~~~~~~~~~~~~~~~~~~~~~~~~~~~~~~~~~~~~~~~~~~~~~~~~~~~~~~~~~~
/usr/home/cpan/pit/bare/perl-5.32.1/lib/5.32.1/amd64-freebsd/CORE/zaphod32_hash.h:124:32: note: expanded from macro 'ZAPHOD32_MIX'
    v2 = ROTR32(v2, 7) ^ v0;   \
                               ^
/usr/home/cpan/pit/bare/perl-5.32.1/lib/5.32.1/amd64-freebsd/CORE/zaphod32_hash.h:171:5: note: ')' token is here
    ZAPHOD32_MIX(state[0],state[1],state[2],"ZAPHOD32 SEED-STATE B 5/5");
    ^~~~~~~~~~~~~~~~~~~~~~~~~~~~~~~~~~~~~~~~~~~~~~~~~~~~~~~~~~~~~~~~~~~~
/usr/home/cpan/pit/bare/perl-5.32.1/lib/5.32.1/amd64-freebsd/CORE/zaphod32_hash.h:125:3: note: expanded from macro 'ZAPHOD32_MIX'
} STMT_END
  ^~~~~~~~
/usr/home/cpan/pit/bare/perl-5.32.1/lib/5.32.1/amd64-freebsd/CORE/perl.h:667:21: note: expanded from macro 'STMT_END'
#   define STMT_END     )
                        ^
In file included from t/dyna_low.c:3:
In file included from /usr/home/cpan/pit/bare/perl-5.32.1/lib/5.32.1/amd64-freebsd/CORE/perl.h:3921:
In file included from /usr/home/cpan/pit/bare/perl-5.32.1/lib/5.32.1/amd64-freebsd/CORE/hv.h:663:
In file included from /usr/home/cpan/pit/bare/perl-5.32.1/lib/5.32.1/amd64-freebsd/CORE/hv_func.h:35:
In file included from /usr/home/cpan/pit/bare/perl-5.32.1/lib/5.32.1/amd64-freebsd/CORE/sbox32_hash.h:4:
/usr/home/cpan/pit/bare/perl-5.32.1/lib/5.32.1/amd64-freebsd/CORE/zaphod32_hash.h:247:13: warning: '(' and '{' tokens introducing statement expression appear in different macro expansion contexts [-Wcompound-token-split-by-macro]
            ZAPHOD32_MIX(v0,v1,v2,"MIX 2-WORDS A");
            ^~~~~~~~~~~~~~~~~~~~~~~~~~~~~~~~~~~~~~
/usr/home/cpan/pit/bare/perl-5.32.1/lib/5.32.1/amd64-freebsd/CORE/zaphod32_hash.h:116:37: note: expanded from macro 'ZAPHOD32_MIX'
#define ZAPHOD32_MIX(v0,v1,v2,text) STMT_START {                              \
                                    ^~~~~~~~~~
/usr/home/cpan/pit/bare/perl-5.32.1/lib/5.32.1/amd64-freebsd/CORE/perl.h:666:29: note: expanded from macro 'STMT_START'
#   define STMT_START   (void)( /* gcc supports "({ STATEMENTS; })" */
                              ^
/usr/home/cpan/pit/bare/perl-5.32.1/lib/5.32.1/amd64-freebsd/CORE/zaphod32_hash.h:247:13: note: '{' token is here
            ZAPHOD32_MIX(v0,v1,v2,"MIX 2-WORDS A");
            ^~~~~~~~~~~~~~~~~~~~~~~~~~~~~~~~~~~~~~
/usr/home/cpan/pit/bare/perl-5.32.1/lib/5.32.1/amd64-freebsd/CORE/zaphod32_hash.h:116:48: note: expanded from macro 'ZAPHOD32_MIX'
#define ZAPHOD32_MIX(v0,v1,v2,text) STMT_START {                              \
                                               ^
/usr/home/cpan/pit/bare/perl-5.32.1/lib/5.32.1/amd64-freebsd/CORE/zaphod32_hash.h:247:13: warning: '}' and ')' tokens terminating statement expression appear in different macro expansion contexts [-Wcompound-token-split-by-macro]
            ZAPHOD32_MIX(v0,v1,v2,"MIX 2-WORDS A");
            ^~~~~~~~~~~~~~~~~~~~~~~~~~~~~~~~~~~~~~
/usr/home/cpan/pit/bare/perl-5.32.1/lib/5.32.1/amd64-freebsd/CORE/zaphod32_hash.h:124:32: note: expanded from macro 'ZAPHOD32_MIX'
    v2 = ROTR32(v2, 7) ^ v0;   \
                               ^
/usr/home/cpan/pit/bare/perl-5.32.1/lib/5.32.1/amd64-freebsd/CORE/zaphod32_hash.h:247:13: note: ')' token is here
            ZAPHOD32_MIX(v0,v1,v2,"MIX 2-WORDS A");
            ^~~~~~~~~~~~~~~~~~~~~~~~~~~~~~~~~~~~~~
/usr/home/cpan/pit/bare/perl-5.32.1/lib/5.32.1/amd64-freebsd/CORE/zaphod32_hash.h:125:3: note: expanded from macro 'ZAPHOD32_MIX'
} STMT_END
  ^~~~~~~~
/usr/home/cpan/pit/bare/perl-5.32.1/lib/5.32.1/amd64-freebsd/CORE/perl.h:667:21: note: expanded from macro 'STMT_END'
#   define STMT_END     )
                        ^
In file included from t/dyna_low.c:3:
In file included from /usr/home/cpan/pit/bare/perl-5.32.1/lib/5.32.1/amd64-freebsd/CORE/perl.h:3921:
In file included from /usr/home/cpan/pit/bare/perl-5.32.1/lib/5.32.1/amd64-freebsd/CORE/hv.h:663:
In file included from /usr/home/cpan/pit/bare/perl-5.32.1/lib/5.32.1/amd64-freebsd/CORE/hv_func.h:35:
In file included from /usr/home/cpan/pit/bare/perl-5.32.1/lib/5.32.1/amd64-freebsd/CORE/sbox32_hash.h:4:
/usr/home/cpan/pit/bare/perl-5.32.1/lib/5.32.1/amd64-freebsd/CORE/zaphod32_hash.h:268:5: warning: '(' and '{' tokens introducing statement expression appear in different macro expansion contexts [-Wcompound-token-split-by-macro]
    ZAPHOD32_FINALIZE(v0,v1,v2);
    ^~~~~~~~~~~~~~~~~~~~~~~~~~~
/usr/home/cpan/pit/bare/perl-5.32.1/lib/5.32.1/amd64-freebsd/CORE/zaphod32_hash.h:90:37: note: expanded from macro 'ZAPHOD32_FINALIZE'
#define ZAPHOD32_FINALIZE(v0,v1,v2) STMT_START {          \
                                    ^~~~~~~~~~
/usr/home/cpan/pit/bare/perl-5.32.1/lib/5.32.1/amd64-freebsd/CORE/perl.h:666:29: note: expanded from macro 'STMT_START'
#   define STMT_START   (void)( /* gcc supports "({ STATEMENTS; })" */
                              ^
/usr/home/cpan/pit/bare/perl-5.32.1/lib/5.32.1/amd64-freebsd/CORE/zaphod32_hash.h:268:5: note: '{' token is here
    ZAPHOD32_FINALIZE(v0,v1,v2);
    ^~~~~~~~~~~~~~~~~~~~~~~~~~~
/usr/home/cpan/pit/bare/perl-5.32.1/lib/5.32.1/amd64-freebsd/CORE/zaphod32_hash.h:90:48: note: expanded from macro 'ZAPHOD32_FINALIZE'
#define ZAPHOD32_FINALIZE(v0,v1,v2) STMT_START {          \
                                               ^
/usr/home/cpan/pit/bare/perl-5.32.1/lib/5.32.1/amd64-freebsd/CORE/zaphod32_hash.h:268:5: warning: '}' and ')' tokens terminating statement expression appear in different macro expansion contexts [-Wcompound-token-split-by-macro]
    ZAPHOD32_FINALIZE(v0,v1,v2);
    ^~~~~~~~~~~~~~~~~~~~~~~~~~~
/usr/home/cpan/pit/bare/perl-5.32.1/lib/5.32.1/amd64-freebsd/CORE/zaphod32_hash.h:113:36: note: expanded from macro 'ZAPHOD32_FINALIZE'
    v1 = ROTL32(v1, 17);           \
                                   ^
/usr/home/cpan/pit/bare/perl-5.32.1/lib/5.32.1/amd64-freebsd/CORE/zaphod32_hash.h:268:5: note: ')' token is here
    ZAPHOD32_FINALIZE(v0,v1,v2);
    ^~~~~~~~~~~~~~~~~~~~~~~~~~~
/usr/home/cpan/pit/bare/perl-5.32.1/lib/5.32.1/amd64-freebsd/CORE/zaphod32_hash.h:114:3: note: expanded from macro 'ZAPHOD32_FINALIZE'
} STMT_END
  ^~~~~~~~
/usr/home/cpan/pit/bare/perl-5.32.1/lib/5.32.1/amd64-freebsd/CORE/perl.h:667:21: note: expanded from macro 'STMT_END'
#   define STMT_END     )
                        ^
In file included from t/dyna_low.c:3:
In file included from /usr/home/cpan/pit/bare/perl-5.32.1/lib/5.32.1/amd64-freebsd/CORE/perl.h:3921:
In file included from /usr/home/cpan/pit/bare/perl-5.32.1/lib/5.32.1/amd64-freebsd/CORE/hv.h:663:
In file included from /usr/home/cpan/pit/bare/perl-5.32.1/lib/5.32.1/amd64-freebsd/CORE/hv_func.h:35:
/usr/home/cpan/pit/bare/perl-5.32.1/lib/5.32.1/amd64-freebsd/CORE/sbox32_hash.h:1448:9: warning: '(' and '{' tokens introducing statement expression appear in different macro expansion contexts [-Wcompound-token-split-by-macro]
        SBOX32_MIX3(s0,s1,s2,"SEED STATE");
        ^~~~~~~~~~~~~~~~~~~~~~~~~~~~~~~~~~
/usr/home/cpan/pit/bare/perl-5.32.1/lib/5.32.1/amd64-freebsd/CORE/sbox32_hash.h:99:36: note: expanded from macro 'SBOX32_MIX3'
#define SBOX32_MIX3(v0,v1,v2,text) STMT_START {                               \
                                   ^~~~~~~~~~
/usr/home/cpan/pit/bare/perl-5.32.1/lib/5.32.1/amd64-freebsd/CORE/perl.h:666:29: note: expanded from macro 'STMT_START'
#   define STMT_START   (void)( /* gcc supports "({ STATEMENTS; })" */
                              ^
/usr/home/cpan/pit/bare/perl-5.32.1/lib/5.32.1/amd64-freebsd/CORE/sbox32_hash.h:1448:9: note: '{' token is here
        SBOX32_MIX3(s0,s1,s2,"SEED STATE");
        ^~~~~~~~~~~~~~~~~~~~~~~~~~~~~~~~~~
/usr/home/cpan/pit/bare/perl-5.32.1/lib/5.32.1/amd64-freebsd/CORE/sbox32_hash.h:99:47: note: expanded from macro 'SBOX32_MIX3'
#define SBOX32_MIX3(v0,v1,v2,text) STMT_START {                               \
                                              ^
/usr/home/cpan/pit/bare/perl-5.32.1/lib/5.32.1/amd64-freebsd/CORE/sbox32_hash.h:1448:9: warning: '}' and ')' tokens terminating statement expression appear in different macro expansion contexts [-Wcompound-token-split-by-macro]
        SBOX32_MIX3(s0,s1,s2,"SEED STATE");
        ^~~~~~~~~~~~~~~~~~~~~~~~~~~~~~~~~~
/usr/home/cpan/pit/bare/perl-5.32.1/lib/5.32.1/amd64-freebsd/CORE/sbox32_hash.h:107:32: note: expanded from macro 'SBOX32_MIX3'
    v2 = ROTR32(v2, 7) ^ v0;   \
                               ^
/usr/home/cpan/pit/bare/perl-5.32.1/lib/5.32.1/amd64-freebsd/CORE/sbox32_hash.h:1448:9: note: ')' token is here
        SBOX32_MIX3(s0,s1,s2,"SEED STATE");
        ^~~~~~~~~~~~~~~~~~~~~~~~~~~~~~~~~~
/usr/home/cpan/pit/bare/perl-5.32.1/lib/5.32.1/amd64-freebsd/CORE/sbox32_hash.h:108:3: note: expanded from macro 'SBOX32_MIX3'
} STMT_END
  ^~~~~~~~
/usr/home/cpan/pit/bare/perl-5.32.1/lib/5.32.1/amd64-freebsd/CORE/perl.h:667:21: note: expanded from macro 'STMT_END'
#   define STMT_END     )
                        ^
In file included from t/dyna_low.c:3:
In file included from /usr/home/cpan/pit/bare/perl-5.32.1/lib/5.32.1/amd64-freebsd/CORE/perl.h:3921:
In file included from /usr/home/cpan/pit/bare/perl-5.32.1/lib/5.32.1/amd64-freebsd/CORE/hv.h:663:
In file included from /usr/home/cpan/pit/bare/perl-5.32.1/lib/5.32.1/amd64-freebsd/CORE/hv_func.h:35:
/usr/home/cpan/pit/bare/perl-5.32.1/lib/5.32.1/amd64-freebsd/CORE/sbox32_hash.h:1453:13: warning: '(' and '{' tokens introducing statement expression appear in different macro expansion contexts [-Wcompound-token-split-by-macro]
            XORSHIFT96_set(*state_cursor,s0,s1,s2,t1);
            ^~~~~~~~~~~~~~~~~~~~~~~~~~~~~~~~~~~~~~~~~
/usr/home/cpan/pit/bare/perl-5.32.1/lib/5.32.1/amd64-freebsd/CORE/sbox32_hash.h:1393:35: note: expanded from macro 'XORSHIFT96_set'
#define XORSHIFT96_set(r,x,y,z,t) STMT_START {          \
                                  ^~~~~~~~~~
/usr/home/cpan/pit/bare/perl-5.32.1/lib/5.32.1/amd64-freebsd/CORE/perl.h:666:29: note: expanded from macro 'STMT_START'
#   define STMT_START   (void)( /* gcc supports "({ STATEMENTS; })" */
                              ^
/usr/home/cpan/pit/bare/perl-5.32.1/lib/5.32.1/amd64-freebsd/CORE/sbox32_hash.h:1453:13: note: '{' token is here
            XORSHIFT96_set(*state_cursor,s0,s1,s2,t1);
            ^~~~~~~~~~~~~~~~~~~~~~~~~~~~~~~~~~~~~~~~~
/usr/home/cpan/pit/bare/perl-5.32.1/lib/5.32.1/amd64-freebsd/CORE/sbox32_hash.h:1393:46: note: expanded from macro 'XORSHIFT96_set'
#define XORSHIFT96_set(r,x,y,z,t) STMT_START {          \
                                             ^
/usr/home/cpan/pit/bare/perl-5.32.1/lib/5.32.1/amd64-freebsd/CORE/sbox32_hash.h:1453:13: warning: '}' and ')' tokens terminating statement expression appear in different macro expansion contexts [-Wcompound-token-split-by-macro]
            XORSHIFT96_set(*state_cursor,s0,s1,s2,t1);
            ^~~~~~~~~~~~~~~~~~~~~~~~~~~~~~~~~~~~~~~~~
/usr/home/cpan/pit/bare/perl-5.32.1/lib/5.32.1/amd64-freebsd/CORE/sbox32_hash.h:1396:57: note: expanded from macro 'XORSHIFT96_set'
    r = z = (z ^ ( z >> 26 ) ) ^ ( t ^ ( t >> 5 ) );    \
                                                        ^
/usr/home/cpan/pit/bare/perl-5.32.1/lib/5.32.1/amd64-freebsd/CORE/sbox32_hash.h:1453:13: note: ')' token is here
            XORSHIFT96_set(*state_cursor,s0,s1,s2,t1);
            ^~~~~~~~~~~~~~~~~~~~~~~~~~~~~~~~~~~~~~~~~
/usr/home/cpan/pit/bare/perl-5.32.1/lib/5.32.1/amd64-freebsd/CORE/sbox32_hash.h:1397:3: note: expanded from macro 'XORSHIFT96_set'
} STMT_END
  ^~~~~~~~
/usr/home/cpan/pit/bare/perl-5.32.1/lib/5.32.1/amd64-freebsd/CORE/perl.h:667:21: note: expanded from macro 'STMT_END'
#   define STMT_END     )
                        ^
In file included from t/dyna_low.c:3:
In file included from /usr/home/cpan/pit/bare/perl-5.32.1/lib/5.32.1/amd64-freebsd/CORE/perl.h:3921:
In file included from /usr/home/cpan/pit/bare/perl-5.32.1/lib/5.32.1/amd64-freebsd/CORE/hv.h:663:
In file included from /usr/home/cpan/pit/bare/perl-5.32.1/lib/5.32.1/amd64-freebsd/CORE/hv_func.h:35:
/usr/home/cpan/pit/bare/perl-5.32.1/lib/5.32.1/amd64-freebsd/CORE/sbox32_hash.h:1456:5: warning: '(' and '{' tokens introducing statement expression appear in different macro expansion contexts [-Wcompound-token-split-by-macro]
    XORSHIFT96_set(*state,s0,s1,s2,t2);
    ^~~~~~~~~~~~~~~~~~~~~~~~~~~~~~~~~~
/usr/home/cpan/pit/bare/perl-5.32.1/lib/5.32.1/amd64-freebsd/CORE/sbox32_hash.h:1393:35: note: expanded from macro 'XORSHIFT96_set'
#define XORSHIFT96_set(r,x,y,z,t) STMT_START {          \
                                  ^~~~~~~~~~
/usr/home/cpan/pit/bare/perl-5.32.1/lib/5.32.1/amd64-freebsd/CORE/perl.h:666:29: note: expanded from macro 'STMT_START'
#   define STMT_START   (void)( /* gcc supports "({ STATEMENTS; })" */
                              ^
/usr/home/cpan/pit/bare/perl-5.32.1/lib/5.32.1/amd64-freebsd/CORE/sbox32_hash.h:1456:5: note: '{' token is here
    XORSHIFT96_set(*state,s0,s1,s2,t2);
    ^~~~~~~~~~~~~~~~~~~~~~~~~~~~~~~~~~
/usr/home/cpan/pit/bare/perl-5.32.1/lib/5.32.1/amd64-freebsd/CORE/sbox32_hash.h:1393:46: note: expanded from macro 'XORSHIFT96_set'
#define XORSHIFT96_set(r,x,y,z,t) STMT_START {          \
                                             ^
/usr/home/cpan/pit/bare/perl-5.32.1/lib/5.32.1/amd64-freebsd/CORE/sbox32_hash.h:1456:5: warning: '}' and ')' tokens terminating statement expression appear in different macro expansion contexts [-Wcompound-token-split-by-macro]
    XORSHIFT96_set(*state,s0,s1,s2,t2);
    ^~~~~~~~~~~~~~~~~~~~~~~~~~~~~~~~~~
/usr/home/cpan/pit/bare/perl-5.32.1/lib/5.32.1/amd64-freebsd/CORE/sbox32_hash.h:1396:57: note: expanded from macro 'XORSHIFT96_set'
    r = z = (z ^ ( z >> 26 ) ) ^ ( t ^ ( t >> 5 ) );    \
                                                        ^
/usr/home/cpan/pit/bare/perl-5.32.1/lib/5.32.1/amd64-freebsd/CORE/sbox32_hash.h:1456:5: note: ')' token is here
    XORSHIFT96_set(*state,s0,s1,s2,t2);
    ^~~~~~~~~~~~~~~~~~~~~~~~~~~~~~~~~~
/usr/home/cpan/pit/bare/perl-5.32.1/lib/5.32.1/amd64-freebsd/CORE/sbox32_hash.h:1397:3: note: expanded from macro 'XORSHIFT96_set'
} STMT_END
  ^~~~~~~~
/usr/home/cpan/pit/bare/perl-5.32.1/lib/5.32.1/amd64-freebsd/CORE/perl.h:667:21: note: expanded from macro 'STMT_END'
#   define STMT_END     )
                        ^
In file included from t/dyna_low.c:3:
In file included from /usr/home/cpan/pit/bare/perl-5.32.1/lib/5.32.1/amd64-freebsd/CORE/perl.h:3921:
In file included from /usr/home/cpan/pit/bare/perl-5.32.1/lib/5.32.1/amd64-freebsd/CORE/hv.h:663:
In file included from /usr/home/cpan/pit/bare/perl-5.32.1/lib/5.32.1/amd64-freebsd/CORE/hv_func.h:35:
/usr/home/cpan/pit/bare/perl-5.32.1/lib/5.32.1/amd64-freebsd/CORE/sbox32_hash.h:1482:9: warning: '(' and '{' tokens introducing statement expression appear in different macro expansion contexts [-Wcompound-token-split-by-macro]
        SBOX32_MIX4(s0,s1,s2,s3,"SEED STATE");
        ^~~~~~~~~~~~~~~~~~~~~~~~~~~~~~~~~~~~~
/usr/home/cpan/pit/bare/perl-5.32.1/lib/5.32.1/amd64-freebsd/CORE/sbox32_hash.h:85:39: note: expanded from macro 'SBOX32_MIX4'
#define SBOX32_MIX4(v0,v1,v2,v3,text) STMT_START { \
                                      ^~~~~~~~~~
/usr/home/cpan/pit/bare/perl-5.32.1/lib/5.32.1/amd64-freebsd/CORE/perl.h:666:29: note: expanded from macro 'STMT_START'
#   define STMT_START   (void)( /* gcc supports "({ STATEMENTS; })" */
                              ^
/usr/home/cpan/pit/bare/perl-5.32.1/lib/5.32.1/amd64-freebsd/CORE/sbox32_hash.h:1482:9: note: '{' token is here
        SBOX32_MIX4(s0,s1,s2,s3,"SEED STATE");
        ^~~~~~~~~~~~~~~~~~~~~~~~~~~~~~~~~~~~~
/usr/home/cpan/pit/bare/perl-5.32.1/lib/5.32.1/amd64-freebsd/CORE/sbox32_hash.h:85:50: note: expanded from macro 'SBOX32_MIX4'
#define SBOX32_MIX4(v0,v1,v2,v3,text) STMT_START { \
                                                 ^
/usr/home/cpan/pit/bare/perl-5.32.1/lib/5.32.1/amd64-freebsd/CORE/sbox32_hash.h:1482:9: warning: '}' and ')' tokens terminating statement expression appear in different macro expansion contexts [-Wcompound-token-split-by-macro]
        SBOX32_MIX4(s0,s1,s2,s3,"SEED STATE");
        ^~~~~~~~~~~~~~~~~~~~~~~~~~~~~~~~~~~~~
/usr/home/cpan/pit/bare/perl-5.32.1/lib/5.32.1/amd64-freebsd/CORE/sbox32_hash.h:96:37: note: expanded from macro 'SBOX32_MIX4'
        v2 = ROTL32(v2, 4) - v0;    \
                                    ^
/usr/home/cpan/pit/bare/perl-5.32.1/lib/5.32.1/amd64-freebsd/CORE/sbox32_hash.h:1482:9: note: ')' token is here
        SBOX32_MIX4(s0,s1,s2,s3,"SEED STATE");
        ^~~~~~~~~~~~~~~~~~~~~~~~~~~~~~~~~~~~~
/usr/home/cpan/pit/bare/perl-5.32.1/lib/5.32.1/amd64-freebsd/CORE/sbox32_hash.h:97:3: note: expanded from macro 'SBOX32_MIX4'
} STMT_END
  ^~~~~~~~
/usr/home/cpan/pit/bare/perl-5.32.1/lib/5.32.1/amd64-freebsd/CORE/perl.h:667:21: note: expanded from macro 'STMT_END'
#   define STMT_END     )
                        ^
In file included from t/dyna_low.c:3:
In file included from /usr/home/cpan/pit/bare/perl-5.32.1/lib/5.32.1/amd64-freebsd/CORE/perl.h:3921:
In file included from /usr/home/cpan/pit/bare/perl-5.32.1/lib/5.32.1/amd64-freebsd/CORE/hv.h:663:
In file included from /usr/home/cpan/pit/bare/perl-5.32.1/lib/5.32.1/amd64-freebsd/CORE/hv_func.h:35:
/usr/home/cpan/pit/bare/perl-5.32.1/lib/5.32.1/amd64-freebsd/CORE/sbox32_hash.h:1487:13: warning: '(' and '{' tokens introducing statement expression appear in different macro expansion contexts [-Wcompound-token-split-by-macro]
            XORSHIFT128_set(*state_cursor,s0,s1,s2,s3,t1);
            ^~~~~~~~~~~~~~~~~~~~~~~~~~~~~~~~~~~~~~~~~~~~~
/usr/home/cpan/pit/bare/perl-5.32.1/lib/5.32.1/amd64-freebsd/CORE/sbox32_hash.h:1399:38: note: expanded from macro 'XORSHIFT128_set'
#define XORSHIFT128_set(r,x,y,z,w,t) STMT_START {       \
                                     ^~~~~~~~~~
/usr/home/cpan/pit/bare/perl-5.32.1/lib/5.32.1/amd64-freebsd/CORE/perl.h:666:29: note: expanded from macro 'STMT_START'
#   define STMT_START   (void)( /* gcc supports "({ STATEMENTS; })" */
                              ^
/usr/home/cpan/pit/bare/perl-5.32.1/lib/5.32.1/amd64-freebsd/CORE/sbox32_hash.h:1487:13: note: '{' token is here
            XORSHIFT128_set(*state_cursor,s0,s1,s2,s3,t1);
            ^~~~~~~~~~~~~~~~~~~~~~~~~~~~~~~~~~~~~~~~~~~~~
/usr/home/cpan/pit/bare/perl-5.32.1/lib/5.32.1/amd64-freebsd/CORE/sbox32_hash.h:1399:49: note: expanded from macro 'XORSHIFT128_set'
#define XORSHIFT128_set(r,x,y,z,w,t) STMT_START {       \
                                                ^
/usr/home/cpan/pit/bare/perl-5.32.1/lib/5.32.1/amd64-freebsd/CORE/sbox32_hash.h:1487:13: warning: '}' and ')' tokens terminating statement expression appear in different macro expansion contexts [-Wcompound-token-split-by-macro]
            XORSHIFT128_set(*state_cursor,s0,s1,s2,s3,t1);
            ^~~~~~~~~~~~~~~~~~~~~~~~~~~~~~~~~~~~~~~~~~~~~
/usr/home/cpan/pit/bare/perl-5.32.1/lib/5.32.1/amd64-freebsd/CORE/sbox32_hash.h:1402:57: note: expanded from macro 'XORSHIFT128_set'
    r = w = ( w ^ ( w >> 29 ) ) ^ ( t ^ ( t >> 12 ) );  \
                                                        ^
/usr/home/cpan/pit/bare/perl-5.32.1/lib/5.32.1/amd64-freebsd/CORE/sbox32_hash.h:1487:13: note: ')' token is here
            XORSHIFT128_set(*state_cursor,s0,s1,s2,s3,t1);
            ^~~~~~~~~~~~~~~~~~~~~~~~~~~~~~~~~~~~~~~~~~~~~
/usr/home/cpan/pit/bare/perl-5.32.1/lib/5.32.1/amd64-freebsd/CORE/sbox32_hash.h:1403:3: note: expanded from macro 'XORSHIFT128_set'
} STMT_END
  ^~~~~~~~
/usr/home/cpan/pit/bare/perl-5.32.1/lib/5.32.1/amd64-freebsd/CORE/perl.h:667:21: note: expanded from macro 'STMT_END'
#   define STMT_END     )
                        ^
In file included from t/dyna_low.c:3:
In file included from /usr/home/cpan/pit/bare/perl-5.32.1/lib/5.32.1/amd64-freebsd/CORE/perl.h:3921:
In file included from /usr/home/cpan/pit/bare/perl-5.32.1/lib/5.32.1/amd64-freebsd/CORE/hv.h:663:
In file included from /usr/home/cpan/pit/bare/perl-5.32.1/lib/5.32.1/amd64-freebsd/CORE/hv_func.h:35:
/usr/home/cpan/pit/bare/perl-5.32.1/lib/5.32.1/amd64-freebsd/CORE/sbox32_hash.h:1490:5: warning: '(' and '{' tokens introducing statement expression appear in different macro expansion contexts [-Wcompound-token-split-by-macro]
    XORSHIFT128_set(*state,s0,s1,s2,s3,t2);
    ^~~~~~~~~~~~~~~~~~~~~~~~~~~~~~~~~~~~~~
/usr/home/cpan/pit/bare/perl-5.32.1/lib/5.32.1/amd64-freebsd/CORE/sbox32_hash.h:1399:38: note: expanded from macro 'XORSHIFT128_set'
#define XORSHIFT128_set(r,x,y,z,w,t) STMT_START {       \
                                     ^~~~~~~~~~
/usr/home/cpan/pit/bare/perl-5.32.1/lib/5.32.1/amd64-freebsd/CORE/perl.h:666:29: note: expanded from macro 'STMT_START'
#   define STMT_START   (void)( /* gcc supports "({ STATEMENTS; })" */
                              ^
/usr/home/cpan/pit/bare/perl-5.32.1/lib/5.32.1/amd64-freebsd/CORE/sbox32_hash.h:1490:5: note: '{' token is here
    XORSHIFT128_set(*state,s0,s1,s2,s3,t2);
    ^~~~~~~~~~~~~~~~~~~~~~~~~~~~~~~~~~~~~~
/usr/home/cpan/pit/bare/perl-5.32.1/lib/5.32.1/amd64-freebsd/CORE/sbox32_hash.h:1399:49: note: expanded from macro 'XORSHIFT128_set'
#define XORSHIFT128_set(r,x,y,z,w,t) STMT_START {       \
                                                ^
/usr/home/cpan/pit/bare/perl-5.32.1/lib/5.32.1/amd64-freebsd/CORE/sbox32_hash.h:1490:5: warning: '}' and ')' tokens terminating statement expression appear in different macro expansion contexts [-Wcompound-token-split-by-macro]
    XORSHIFT128_set(*state,s0,s1,s2,s3,t2);
    ^~~~~~~~~~~~~~~~~~~~~~~~~~~~~~~~~~~~~~
/usr/home/cpan/pit/bare/perl-5.32.1/lib/5.32.1/amd64-freebsd/CORE/sbox32_hash.h:1402:57: note: expanded from macro 'XORSHIFT128_set'
    r = w = ( w ^ ( w >> 29 ) ) ^ ( t ^ ( t >> 12 ) );  \
                                                        ^
/usr/home/cpan/pit/bare/perl-5.32.1/lib/5.32.1/amd64-freebsd/CORE/sbox32_hash.h:1490:5: note: ')' token is here
    XORSHIFT128_set(*state,s0,s1,s2,s3,t2);
    ^~~~~~~~~~~~~~~~~~~~~~~~~~~~~~~~~~~~~~
/usr/home/cpan/pit/bare/perl-5.32.1/lib/5.32.1/amd64-freebsd/CORE/sbox32_hash.h:1403:3: note: expanded from macro 'XORSHIFT128_set'
} STMT_END
  ^~~~~~~~
/usr/home/cpan/pit/bare/perl-5.32.1/lib/5.32.1/amd64-freebsd/CORE/perl.h:667:21: note: expanded from macro 'STMT_END'
#   define STMT_END     )
                        ^
In file included from t/dyna_low.c:3:
In file included from /usr/home/cpan/pit/bare/perl-5.32.1/lib/5.32.1/amd64-freebsd/CORE/perl.h:3921:
In file included from /usr/home/cpan/pit/bare/perl-5.32.1/lib/5.32.1/amd64-freebsd/CORE/hv.h:663:
In file included from /usr/home/cpan/pit/bare/perl-5.32.1/lib/5.32.1/amd64-freebsd/CORE/hv_func.h:55:
/usr/home/cpan/pit/bare/perl-5.32.1/lib/5.32.1/amd64-freebsd/CORE/stadtx_hash.h:113:5: warning: '(' and '{' tokens introducing statement expression appear in different macro expansion contexts [-Wcompound-token-split-by-macro]
    STADTX_SCRAMBLE64(state[0],UINT64_C(0x801178846e899d17));
    ^~~~~~~~~~~~~~~~~~~~~~~~~~~~~~~~~~~~~~~~~~~~~~~~~~~~~~~~
/usr/home/cpan/pit/bare/perl-5.32.1/lib/5.32.1/amd64-freebsd/CORE/stadtx_hash.h:72:36: note: expanded from macro 'STADTX_SCRAMBLE64'
#define STADTX_SCRAMBLE64(v,prime) STMT_START {    \
                                   ^~~~~~~~~~
/usr/home/cpan/pit/bare/perl-5.32.1/lib/5.32.1/amd64-freebsd/CORE/perl.h:666:29: note: expanded from macro 'STMT_START'
#   define STMT_START   (void)( /* gcc supports "({ STATEMENTS; })" */
                              ^
/usr/home/cpan/pit/bare/perl-5.32.1/lib/5.32.1/amd64-freebsd/CORE/stadtx_hash.h:113:5: note: '{' token is here
    STADTX_SCRAMBLE64(state[0],UINT64_C(0x801178846e899d17));
    ^~~~~~~~~~~~~~~~~~~~~~~~~~~~~~~~~~~~~~~~~~~~~~~~~~~~~~~~
/usr/home/cpan/pit/bare/perl-5.32.1/lib/5.32.1/amd64-freebsd/CORE/stadtx_hash.h:72:47: note: expanded from macro 'STADTX_SCRAMBLE64'
#define STADTX_SCRAMBLE64(v,prime) STMT_START {    \
                                              ^
/usr/home/cpan/pit/bare/perl-5.32.1/lib/5.32.1/amd64-freebsd/CORE/stadtx_hash.h:113:5: warning: '}' and ')' tokens terminating statement expression appear in different macro expansion contexts [-Wcompound-token-split-by-macro]
    STADTX_SCRAMBLE64(state[0],UINT64_C(0x801178846e899d17));
    ^~~~~~~~~~~~~~~~~~~~~~~~~~~~~~~~~~~~~~~~~~~~~~~~~~~~~~~~
/usr/home/cpan/pit/bare/perl-5.32.1/lib/5.32.1/amd64-freebsd/CORE/stadtx_hash.h:79:45: note: expanded from macro 'STADTX_SCRAMBLE64'
    v ^= (v >> 46);                         \
                                            ^
/usr/home/cpan/pit/bare/perl-5.32.1/lib/5.32.1/amd64-freebsd/CORE/stadtx_hash.h:113:5: note: ')' token is here
    STADTX_SCRAMBLE64(state[0],UINT64_C(0x801178846e899d17));
    ^~~~~~~~~~~~~~~~~~~~~~~~~~~~~~~~~~~~~~~~~~~~~~~~~~~~~~~~
/usr/home/cpan/pit/bare/perl-5.32.1/lib/5.32.1/amd64-freebsd/CORE/stadtx_hash.h:80:3: note: expanded from macro 'STADTX_SCRAMBLE64'
} STMT_END
  ^~~~~~~~
/usr/home/cpan/pit/bare/perl-5.32.1/lib/5.32.1/amd64-freebsd/CORE/perl.h:667:21: note: expanded from macro 'STMT_END'
#   define STMT_END     )
                        ^
In file included from t/dyna_low.c:3:
In file included from /usr/home/cpan/pit/bare/perl-5.32.1/lib/5.32.1/amd64-freebsd/CORE/perl.h:3921:
In file included from /usr/home/cpan/pit/bare/perl-5.32.1/lib/5.32.1/amd64-freebsd/CORE/hv.h:663:
In file included from /usr/home/cpan/pit/bare/perl-5.32.1/lib/5.32.1/amd64-freebsd/CORE/hv_func.h:55:
/usr/home/cpan/pit/bare/perl-5.32.1/lib/5.32.1/amd64-freebsd/CORE/stadtx_hash.h:114:5: warning: '(' and '{' tokens introducing statement expression appear in different macro expansion contexts [-Wcompound-token-split-by-macro]
    STADTX_SCRAMBLE64(state[0],UINT64_C(0xdd51e5d1c9a5a151));
    ^~~~~~~~~~~~~~~~~~~~~~~~~~~~~~~~~~~~~~~~~~~~~~~~~~~~~~~~
/usr/home/cpan/pit/bare/perl-5.32.1/lib/5.32.1/amd64-freebsd/CORE/stadtx_hash.h:72:36: note: expanded from macro 'STADTX_SCRAMBLE64'
#define STADTX_SCRAMBLE64(v,prime) STMT_START {    \
                                   ^~~~~~~~~~
/usr/home/cpan/pit/bare/perl-5.32.1/lib/5.32.1/amd64-freebsd/CORE/perl.h:666:29: note: expanded from macro 'STMT_START'
#   define STMT_START   (void)( /* gcc supports "({ STATEMENTS; })" */
                              ^
/usr/home/cpan/pit/bare/perl-5.32.1/lib/5.32.1/amd64-freebsd/CORE/stadtx_hash.h:114:5: note: '{' token is here
    STADTX_SCRAMBLE64(state[0],UINT64_C(0xdd51e5d1c9a5a151));
    ^~~~~~~~~~~~~~~~~~~~~~~~~~~~~~~~~~~~~~~~~~~~~~~~~~~~~~~~
/usr/home/cpan/pit/bare/perl-5.32.1/lib/5.32.1/amd64-freebsd/CORE/stadtx_hash.h:72:47: note: expanded from macro 'STADTX_SCRAMBLE64'
#define STADTX_SCRAMBLE64(v,prime) STMT_START {    \
                                              ^
/usr/home/cpan/pit/bare/perl-5.32.1/lib/5.32.1/amd64-freebsd/CORE/stadtx_hash.h:114:5: warning: '}' and ')' tokens terminating statement expression appear in different macro expansion contexts [-Wcompound-token-split-by-macro]
    STADTX_SCRAMBLE64(state[0],UINT64_C(0xdd51e5d1c9a5a151));
    ^~~~~~~~~~~~~~~~~~~~~~~~~~~~~~~~~~~~~~~~~~~~~~~~~~~~~~~~
/usr/home/cpan/pit/bare/perl-5.32.1/lib/5.32.1/amd64-freebsd/CORE/stadtx_hash.h:79:45: note: expanded from macro 'STADTX_SCRAMBLE64'
    v ^= (v >> 46);                         \
                                            ^
/usr/home/cpan/pit/bare/perl-5.32.1/lib/5.32.1/amd64-freebsd/CORE/stadtx_hash.h:114:5: note: ')' token is here
    STADTX_SCRAMBLE64(state[0],UINT64_C(0xdd51e5d1c9a5a151));
    ^~~~~~~~~~~~~~~~~~~~~~~~~~~~~~~~~~~~~~~~~~~~~~~~~~~~~~~~
/usr/home/cpan/pit/bare/perl-5.32.1/lib/5.32.1/amd64-freebsd/CORE/stadtx_hash.h:80:3: note: expanded from macro 'STADTX_SCRAMBLE64'
} STMT_END
  ^~~~~~~~
/usr/home/cpan/pit/bare/perl-5.32.1/lib/5.32.1/amd64-freebsd/CORE/perl.h:667:21: note: expanded from macro 'STMT_END'
#   define STMT_END     )
                        ^
In file included from t/dyna_low.c:3:
In file included from /usr/home/cpan/pit/bare/perl-5.32.1/lib/5.32.1/amd64-freebsd/CORE/perl.h:3921:
In file included from /usr/home/cpan/pit/bare/perl-5.32.1/lib/5.32.1/amd64-freebsd/CORE/hv.h:663:
In file included from /usr/home/cpan/pit/bare/perl-5.32.1/lib/5.32.1/amd64-freebsd/CORE/hv_func.h:55:
/usr/home/cpan/pit/bare/perl-5.32.1/lib/5.32.1/amd64-freebsd/CORE/stadtx_hash.h:115:5: warning: '(' and '{' tokens introducing statement expression appear in different macro expansion contexts [-Wcompound-token-split-by-macro]
    STADTX_SCRAMBLE64(state[1],UINT64_C(0x93a7d6c8c62e4835));
    ^~~~~~~~~~~~~~~~~~~~~~~~~~~~~~~~~~~~~~~~~~~~~~~~~~~~~~~~
/usr/home/cpan/pit/bare/perl-5.32.1/lib/5.32.1/amd64-freebsd/CORE/stadtx_hash.h:72:36: note: expanded from macro 'STADTX_SCRAMBLE64'
#define STADTX_SCRAMBLE64(v,prime) STMT_START {    \
                                   ^~~~~~~~~~
/usr/home/cpan/pit/bare/perl-5.32.1/lib/5.32.1/amd64-freebsd/CORE/perl.h:666:29: note: expanded from macro 'STMT_START'
#   define STMT_START   (void)( /* gcc supports "({ STATEMENTS; })" */
                              ^
/usr/home/cpan/pit/bare/perl-5.32.1/lib/5.32.1/amd64-freebsd/CORE/stadtx_hash.h:115:5: note: '{' token is here
    STADTX_SCRAMBLE64(state[1],UINT64_C(0x93a7d6c8c62e4835));
    ^~~~~~~~~~~~~~~~~~~~~~~~~~~~~~~~~~~~~~~~~~~~~~~~~~~~~~~~
/usr/home/cpan/pit/bare/perl-5.32.1/lib/5.32.1/amd64-freebsd/CORE/stadtx_hash.h:72:47: note: expanded from macro 'STADTX_SCRAMBLE64'
#define STADTX_SCRAMBLE64(v,prime) STMT_START {    \
                                              ^
/usr/home/cpan/pit/bare/perl-5.32.1/lib/5.32.1/amd64-freebsd/CORE/stadtx_hash.h:115:5: warning: '}' and ')' tokens terminating statement expression appear in different macro expansion contexts [-Wcompound-token-split-by-macro]
    STADTX_SCRAMBLE64(state[1],UINT64_C(0x93a7d6c8c62e4835));
    ^~~~~~~~~~~~~~~~~~~~~~~~~~~~~~~~~~~~~~~~~~~~~~~~~~~~~~~~
/usr/home/cpan/pit/bare/perl-5.32.1/lib/5.32.1/amd64-freebsd/CORE/stadtx_hash.h:79:45: note: expanded from macro 'STADTX_SCRAMBLE64'
    v ^= (v >> 46);                         \
                                            ^
/usr/home/cpan/pit/bare/perl-5.32.1/lib/5.32.1/amd64-freebsd/CORE/stadtx_hash.h:115:5: note: ')' token is here
    STADTX_SCRAMBLE64(state[1],UINT64_C(0x93a7d6c8c62e4835));
    ^~~~~~~~~~~~~~~~~~~~~~~~~~~~~~~~~~~~~~~~~~~~~~~~~~~~~~~~
/usr/home/cpan/pit/bare/perl-5.32.1/lib/5.32.1/amd64-freebsd/CORE/stadtx_hash.h:80:3: note: expanded from macro 'STADTX_SCRAMBLE64'
} STMT_END
  ^~~~~~~~
/usr/home/cpan/pit/bare/perl-5.32.1/lib/5.32.1/amd64-freebsd/CORE/perl.h:667:21: note: expanded from macro 'STMT_END'
#   define STMT_END     )
                        ^
In file included from t/dyna_low.c:3:
In file included from /usr/home/cpan/pit/bare/perl-5.32.1/lib/5.32.1/amd64-freebsd/CORE/perl.h:3921:
In file included from /usr/home/cpan/pit/bare/perl-5.32.1/lib/5.32.1/amd64-freebsd/CORE/hv.h:663:
In file included from /usr/home/cpan/pit/bare/perl-5.32.1/lib/5.32.1/amd64-freebsd/CORE/hv_func.h:55:
/usr/home/cpan/pit/bare/perl-5.32.1/lib/5.32.1/amd64-freebsd/CORE/stadtx_hash.h:116:5: warning: '(' and '{' tokens introducing statement expression appear in different macro expansion contexts [-Wcompound-token-split-by-macro]
    STADTX_SCRAMBLE64(state[1],UINT64_C(0x803340f36895c2b5));
    ^~~~~~~~~~~~~~~~~~~~~~~~~~~~~~~~~~~~~~~~~~~~~~~~~~~~~~~~
/usr/home/cpan/pit/bare/perl-5.32.1/lib/5.32.1/amd64-freebsd/CORE/stadtx_hash.h:72:36: note: expanded from macro 'STADTX_SCRAMBLE64'
#define STADTX_SCRAMBLE64(v,prime) STMT_START {    \
                                   ^~~~~~~~~~
/usr/home/cpan/pit/bare/perl-5.32.1/lib/5.32.1/amd64-freebsd/CORE/perl.h:666:29: note: expanded from macro 'STMT_START'
#   define STMT_START   (void)( /* gcc supports "({ STATEMENTS; })" */
                              ^
/usr/home/cpan/pit/bare/perl-5.32.1/lib/5.32.1/amd64-freebsd/CORE/stadtx_hash.h:116:5: note: '{' token is here
    STADTX_SCRAMBLE64(state[1],UINT64_C(0x803340f36895c2b5));
    ^~~~~~~~~~~~~~~~~~~~~~~~~~~~~~~~~~~~~~~~~~~~~~~~~~~~~~~~
/usr/home/cpan/pit/bare/perl-5.32.1/lib/5.32.1/amd64-freebsd/CORE/stadtx_hash.h:72:47: note: expanded from macro 'STADTX_SCRAMBLE64'
#define STADTX_SCRAMBLE64(v,prime) STMT_START {    \
                                              ^
/usr/home/cpan/pit/bare/perl-5.32.1/lib/5.32.1/amd64-freebsd/CORE/stadtx_hash.h:116:5: warning: '}' and ')' tokens terminating statement expression appear in different macro expansion contexts [-Wcompound-token-split-by-macro]
    STADTX_SCRAMBLE64(state[1],UINT64_C(0x803340f36895c2b5));
    ^~~~~~~~~~~~~~~~~~~~~~~~~~~~~~~~~~~~~~~~~~~~~~~~~~~~~~~~
/usr/home/cpan/pit/bare/perl-5.32.1/lib/5.32.1/amd64-freebsd/CORE/stadtx_hash.h:79:45: note: expanded from macro 'STADTX_SCRAMBLE64'
    v ^= (v >> 46);                         \
                                            ^
/usr/home/cpan/pit/bare/perl-5.32.1/lib/5.32.1/amd64-freebsd/CORE/stadtx_hash.h:116:5: note: ')' token is here
    STADTX_SCRAMBLE64(state[1],UINT64_C(0x803340f36895c2b5));
    ^~~~~~~~~~~~~~~~~~~~~~~~~~~~~~~~~~~~~~~~~~~~~~~~~~~~~~~~
/usr/home/cpan/pit/bare/perl-5.32.1/lib/5.32.1/amd64-freebsd/CORE/stadtx_hash.h:80:3: note: expanded from macro 'STADTX_SCRAMBLE64'
} STMT_END
  ^~~~~~~~
/usr/home/cpan/pit/bare/perl-5.32.1/lib/5.32.1/amd64-freebsd/CORE/perl.h:667:21: note: expanded from macro 'STMT_END'
#   define STMT_END     )
                        ^
In file included from t/dyna_low.c:3:
In file included from /usr/home/cpan/pit/bare/perl-5.32.1/lib/5.32.1/amd64-freebsd/CORE/perl.h:3921:
In file included from /usr/home/cpan/pit/bare/perl-5.32.1/lib/5.32.1/amd64-freebsd/CORE/hv.h:663:
In file included from /usr/home/cpan/pit/bare/perl-5.32.1/lib/5.32.1/amd64-freebsd/CORE/hv_func.h:55:
/usr/home/cpan/pit/bare/perl-5.32.1/lib/5.32.1/amd64-freebsd/CORE/stadtx_hash.h:117:5: warning: '(' and '{' tokens introducing statement expression appear in different macro expansion contexts [-Wcompound-token-split-by-macro]
    STADTX_SCRAMBLE64(state[2],UINT64_C(0xbea9344eb7565eeb));
    ^~~~~~~~~~~~~~~~~~~~~~~~~~~~~~~~~~~~~~~~~~~~~~~~~~~~~~~~
/usr/home/cpan/pit/bare/perl-5.32.1/lib/5.32.1/amd64-freebsd/CORE/stadtx_hash.h:72:36: note: expanded from macro 'STADTX_SCRAMBLE64'
#define STADTX_SCRAMBLE64(v,prime) STMT_START {    \
                                   ^~~~~~~~~~
/usr/home/cpan/pit/bare/perl-5.32.1/lib/5.32.1/amd64-freebsd/CORE/perl.h:666:29: note: expanded from macro 'STMT_START'
#   define STMT_START   (void)( /* gcc supports "({ STATEMENTS; })" */
                              ^
/usr/home/cpan/pit/bare/perl-5.32.1/lib/5.32.1/amd64-freebsd/CORE/stadtx_hash.h:117:5: note: '{' token is here
    STADTX_SCRAMBLE64(state[2],UINT64_C(0xbea9344eb7565eeb));
    ^~~~~~~~~~~~~~~~~~~~~~~~~~~~~~~~~~~~~~~~~~~~~~~~~~~~~~~~
/usr/home/cpan/pit/bare/perl-5.32.1/lib/5.32.1/amd64-freebsd/CORE/stadtx_hash.h:72:47: note: expanded from macro 'STADTX_SCRAMBLE64'
#define STADTX_SCRAMBLE64(v,prime) STMT_START {    \
                                              ^
/usr/home/cpan/pit/bare/perl-5.32.1/lib/5.32.1/amd64-freebsd/CORE/stadtx_hash.h:117:5: warning: '}' and ')' tokens terminating statement expression appear in different macro expansion contexts [-Wcompound-token-split-by-macro]
    STADTX_SCRAMBLE64(state[2],UINT64_C(0xbea9344eb7565eeb));
    ^~~~~~~~~~~~~~~~~~~~~~~~~~~~~~~~~~~~~~~~~~~~~~~~~~~~~~~~
/usr/home/cpan/pit/bare/perl-5.32.1/lib/5.32.1/amd64-freebsd/CORE/stadtx_hash.h:79:45: note: expanded from macro 'STADTX_SCRAMBLE64'
    v ^= (v >> 46);                         \
                                            ^
/usr/home/cpan/pit/bare/perl-5.32.1/lib/5.32.1/amd64-freebsd/CORE/stadtx_hash.h:117:5: note: ')' token is here
    STADTX_SCRAMBLE64(state[2],UINT64_C(0xbea9344eb7565eeb));
    ^~~~~~~~~~~~~~~~~~~~~~~~~~~~~~~~~~~~~~~~~~~~~~~~~~~~~~~~
/usr/home/cpan/pit/bare/perl-5.32.1/lib/5.32.1/amd64-freebsd/CORE/stadtx_hash.h:80:3: note: expanded from macro 'STADTX_SCRAMBLE64'
} STMT_END
  ^~~~~~~~
/usr/home/cpan/pit/bare/perl-5.32.1/lib/5.32.1/amd64-freebsd/CORE/perl.h:667:21: note: expanded from macro 'STMT_END'
#   define STMT_END     )
                        ^
In file included from t/dyna_low.c:3:
In file included from /usr/home/cpan/pit/bare/perl-5.32.1/lib/5.32.1/amd64-freebsd/CORE/perl.h:3921:
In file included from /usr/home/cpan/pit/bare/perl-5.32.1/lib/5.32.1/amd64-freebsd/CORE/hv.h:663:
In file included from /usr/home/cpan/pit/bare/perl-5.32.1/lib/5.32.1/amd64-freebsd/CORE/hv_func.h:55:
/usr/home/cpan/pit/bare/perl-5.32.1/lib/5.32.1/amd64-freebsd/CORE/stadtx_hash.h:118:5: warning: '(' and '{' tokens introducing statement expression appear in different macro expansion contexts [-Wcompound-token-split-by-macro]
    STADTX_SCRAMBLE64(state[2],UINT64_C(0xcd95d1e509b995cd));
    ^~~~~~~~~~~~~~~~~~~~~~~~~~~~~~~~~~~~~~~~~~~~~~~~~~~~~~~~
/usr/home/cpan/pit/bare/perl-5.32.1/lib/5.32.1/amd64-freebsd/CORE/stadtx_hash.h:72:36: note: expanded from macro 'STADTX_SCRAMBLE64'
#define STADTX_SCRAMBLE64(v,prime) STMT_START {    \
                                   ^~~~~~~~~~
/usr/home/cpan/pit/bare/perl-5.32.1/lib/5.32.1/amd64-freebsd/CORE/perl.h:666:29: note: expanded from macro 'STMT_START'
#   define STMT_START   (void)( /* gcc supports "({ STATEMENTS; })" */
                              ^
/usr/home/cpan/pit/bare/perl-5.32.1/lib/5.32.1/amd64-freebsd/CORE/stadtx_hash.h:118:5: note: '{' token is here
    STADTX_SCRAMBLE64(state[2],UINT64_C(0xcd95d1e509b995cd));
    ^~~~~~~~~~~~~~~~~~~~~~~~~~~~~~~~~~~~~~~~~~~~~~~~~~~~~~~~
/usr/home/cpan/pit/bare/perl-5.32.1/lib/5.32.1/amd64-freebsd/CORE/stadtx_hash.h:72:47: note: expanded from macro 'STADTX_SCRAMBLE64'
#define STADTX_SCRAMBLE64(v,prime) STMT_START {    \
                                              ^
/usr/home/cpan/pit/bare/perl-5.32.1/lib/5.32.1/amd64-freebsd/CORE/stadtx_hash.h:118:5: warning: '}' and ')' tokens terminating statement expression appear in different macro expansion contexts [-Wcompound-token-split-by-macro]
    STADTX_SCRAMBLE64(state[2],UINT64_C(0xcd95d1e509b995cd));
    ^~~~~~~~~~~~~~~~~~~~~~~~~~~~~~~~~~~~~~~~~~~~~~~~~~~~~~~~
/usr/home/cpan/pit/bare/perl-5.32.1/lib/5.32.1/amd64-freebsd/CORE/stadtx_hash.h:79:45: note: expanded from macro 'STADTX_SCRAMBLE64'
    v ^= (v >> 46);                         \
                                            ^
/usr/home/cpan/pit/bare/perl-5.32.1/lib/5.32.1/amd64-freebsd/CORE/stadtx_hash.h:118:5: note: ')' token is here
    STADTX_SCRAMBLE64(state[2],UINT64_C(0xcd95d1e509b995cd));
    ^~~~~~~~~~~~~~~~~~~~~~~~~~~~~~~~~~~~~~~~~~~~~~~~~~~~~~~~
/usr/home/cpan/pit/bare/perl-5.32.1/lib/5.32.1/amd64-freebsd/CORE/stadtx_hash.h:80:3: note: expanded from macro 'STADTX_SCRAMBLE64'
} STMT_END
  ^~~~~~~~
/usr/home/cpan/pit/bare/perl-5.32.1/lib/5.32.1/amd64-freebsd/CORE/perl.h:667:21: note: expanded from macro 'STMT_END'
#   define STMT_END     )
                        ^
In file included from t/dyna_low.c:3:
In file included from /usr/home/cpan/pit/bare/perl-5.32.1/lib/5.32.1/amd64-freebsd/CORE/perl.h:3921:
In file included from /usr/home/cpan/pit/bare/perl-5.32.1/lib/5.32.1/amd64-freebsd/CORE/hv.h:663:
In file included from /usr/home/cpan/pit/bare/perl-5.32.1/lib/5.32.1/amd64-freebsd/CORE/hv_func.h:55:
/usr/home/cpan/pit/bare/perl-5.32.1/lib/5.32.1/amd64-freebsd/CORE/stadtx_hash.h:119:5: warning: '(' and '{' tokens introducing statement expression appear in different macro expansion contexts [-Wcompound-token-split-by-macro]
    STADTX_SCRAMBLE64(state[3],UINT64_C(0x9999791977e30c13));
    ^~~~~~~~~~~~~~~~~~~~~~~~~~~~~~~~~~~~~~~~~~~~~~~~~~~~~~~~
/usr/home/cpan/pit/bare/perl-5.32.1/lib/5.32.1/amd64-freebsd/CORE/stadtx_hash.h:72:36: note: expanded from macro 'STADTX_SCRAMBLE64'
#define STADTX_SCRAMBLE64(v,prime) STMT_START {    \
                                   ^~~~~~~~~~
/usr/home/cpan/pit/bare/perl-5.32.1/lib/5.32.1/amd64-freebsd/CORE/perl.h:666:29: note: expanded from macro 'STMT_START'
#   define STMT_START   (void)( /* gcc supports "({ STATEMENTS; })" */
                              ^
/usr/home/cpan/pit/bare/perl-5.32.1/lib/5.32.1/amd64-freebsd/CORE/stadtx_hash.h:119:5: note: '{' token is here
    STADTX_SCRAMBLE64(state[3],UINT64_C(0x9999791977e30c13));
    ^~~~~~~~~~~~~~~~~~~~~~~~~~~~~~~~~~~~~~~~~~~~~~~~~~~~~~~~
/usr/home/cpan/pit/bare/perl-5.32.1/lib/5.32.1/amd64-freebsd/CORE/stadtx_hash.h:72:47: note: expanded from macro 'STADTX_SCRAMBLE64'
#define STADTX_SCRAMBLE64(v,prime) STMT_START {    \
                                              ^
/usr/home/cpan/pit/bare/perl-5.32.1/lib/5.32.1/amd64-freebsd/CORE/stadtx_hash.h:119:5: warning: '}' and ')' tokens terminating statement expression appear in different macro expansion contexts [-Wcompound-token-split-by-macro]
    STADTX_SCRAMBLE64(state[3],UINT64_C(0x9999791977e30c13));
    ^~~~~~~~~~~~~~~~~~~~~~~~~~~~~~~~~~~~~~~~~~~~~~~~~~~~~~~~
/usr/home/cpan/pit/bare/perl-5.32.1/lib/5.32.1/amd64-freebsd/CORE/stadtx_hash.h:79:45: note: expanded from macro 'STADTX_SCRAMBLE64'
    v ^= (v >> 46);                         \
                                            ^
/usr/home/cpan/pit/bare/perl-5.32.1/lib/5.32.1/amd64-freebsd/CORE/stadtx_hash.h:119:5: note: ')' token is here
    STADTX_SCRAMBLE64(state[3],UINT64_C(0x9999791977e30c13));
    ^~~~~~~~~~~~~~~~~~~~~~~~~~~~~~~~~~~~~~~~~~~~~~~~~~~~~~~~
/usr/home/cpan/pit/bare/perl-5.32.1/lib/5.32.1/amd64-freebsd/CORE/stadtx_hash.h:80:3: note: expanded from macro 'STADTX_SCRAMBLE64'
} STMT_END
  ^~~~~~~~
/usr/home/cpan/pit/bare/perl-5.32.1/lib/5.32.1/amd64-freebsd/CORE/perl.h:667:21: note: expanded from macro 'STMT_END'
#   define STMT_END     )
                        ^
In file included from t/dyna_low.c:3:
In file included from /usr/home/cpan/pit/bare/perl-5.32.1/lib/5.32.1/amd64-freebsd/CORE/perl.h:3921:
In file included from /usr/home/cpan/pit/bare/perl-5.32.1/lib/5.32.1/amd64-freebsd/CORE/hv.h:663:
In file included from /usr/home/cpan/pit/bare/perl-5.32.1/lib/5.32.1/amd64-freebsd/CORE/hv_func.h:55:
/usr/home/cpan/pit/bare/perl-5.32.1/lib/5.32.1/amd64-freebsd/CORE/stadtx_hash.h:120:5: warning: '(' and '{' tokens introducing statement expression appear in different macro expansion contexts [-Wcompound-token-split-by-macro]
    STADTX_SCRAMBLE64(state[3],UINT64_C(0xaab8b6b05abfc6cd));
    ^~~~~~~~~~~~~~~~~~~~~~~~~~~~~~~~~~~~~~~~~~~~~~~~~~~~~~~~
/usr/home/cpan/pit/bare/perl-5.32.1/lib/5.32.1/amd64-freebsd/CORE/stadtx_hash.h:72:36: note: expanded from macro 'STADTX_SCRAMBLE64'
#define STADTX_SCRAMBLE64(v,prime) STMT_START {    \
                                   ^~~~~~~~~~
/usr/home/cpan/pit/bare/perl-5.32.1/lib/5.32.1/amd64-freebsd/CORE/perl.h:666:29: note: expanded from macro 'STMT_START'
#   define STMT_START   (void)( /* gcc supports "({ STATEMENTS; })" */
                              ^
/usr/home/cpan/pit/bare/perl-5.32.1/lib/5.32.1/amd64-freebsd/CORE/stadtx_hash.h:120:5: note: '{' token is here
    STADTX_SCRAMBLE64(state[3],UINT64_C(0xaab8b6b05abfc6cd));
    ^~~~~~~~~~~~~~~~~~~~~~~~~~~~~~~~~~~~~~~~~~~~~~~~~~~~~~~~
/usr/home/cpan/pit/bare/perl-5.32.1/lib/5.32.1/amd64-freebsd/CORE/stadtx_hash.h:72:47: note: expanded from macro 'STADTX_SCRAMBLE64'
#define STADTX_SCRAMBLE64(v,prime) STMT_START {    \
                                              ^
/usr/home/cpan/pit/bare/perl-5.32.1/lib/5.32.1/amd64-freebsd/CORE/stadtx_hash.h:120:5: warning: '}' and ')' tokens terminating statement expression appear in different macro expansion contexts [-Wcompound-token-split-by-macro]
    STADTX_SCRAMBLE64(state[3],UINT64_C(0xaab8b6b05abfc6cd));
    ^~~~~~~~~~~~~~~~~~~~~~~~~~~~~~~~~~~~~~~~~~~~~~~~~~~~~~~~
/usr/home/cpan/pit/bare/perl-5.32.1/lib/5.32.1/amd64-freebsd/CORE/stadtx_hash.h:79:45: note: expanded from macro 'STADTX_SCRAMBLE64'
    v ^= (v >> 46);                         \
                                            ^
/usr/home/cpan/pit/bare/perl-5.32.1/lib/5.32.1/amd64-freebsd/CORE/stadtx_hash.h:120:5: note: ')' token is here
    STADTX_SCRAMBLE64(state[3],UINT64_C(0xaab8b6b05abfc6cd));
    ^~~~~~~~~~~~~~~~~~~~~~~~~~~~~~~~~~~~~~~~~~~~~~~~~~~~~~~~
/usr/home/cpan/pit/bare/perl-5.32.1/lib/5.32.1/amd64-freebsd/CORE/stadtx_hash.h:80:3: note: expanded from macro 'STADTX_SCRAMBLE64'
} STMT_END
  ^~~~~~~~
/usr/home/cpan/pit/bare/perl-5.32.1/lib/5.32.1/amd64-freebsd/CORE/perl.h:667:21: note: expanded from macro 'STMT_END'
#   define STMT_END     )
                        ^
In file included from t/dyna_low.c:3:
In file included from /usr/home/cpan/pit/bare/perl-5.32.1/lib/5.32.1/amd64-freebsd/CORE/perl.h:3921:
In file included from /usr/home/cpan/pit/bare/perl-5.32.1/lib/5.32.1/amd64-freebsd/CORE/hv.h:663:
/usr/home/cpan/pit/bare/perl-5.32.1/lib/5.32.1/amd64-freebsd/CORE/hv_func.h:107:5: warning: '(' and '{' tokens introducing statement expression appear in different macro expansion contexts [-Wcompound-token-split-by-macro]
    _PERL_HASH_SEED_STATE(seed,state);
    ^~~~~~~~~~~~~~~~~~~~~~~~~~~~~~~~~
/usr/home/cpan/pit/bare/perl-5.32.1/lib/5.32.1/amd64-freebsd/CORE/hv_func.h:91:43: note: expanded from macro '_PERL_HASH_SEED_STATE'
#define _PERL_HASH_SEED_STATE(seed,state) STMT_START {                                      \
                                          ^~~~~~~~~~
/usr/home/cpan/pit/bare/perl-5.32.1/lib/5.32.1/amd64-freebsd/CORE/perl.h:666:29: note: expanded from macro 'STMT_START'
#   define STMT_START   (void)( /* gcc supports "({ STATEMENTS; })" */
                              ^
/usr/home/cpan/pit/bare/perl-5.32.1/lib/5.32.1/amd64-freebsd/CORE/hv_func.h:107:5: note: '{' token is here
    _PERL_HASH_SEED_STATE(seed,state);
    ^~~~~~~~~~~~~~~~~~~~~~~~~~~~~~~~~
/usr/home/cpan/pit/bare/perl-5.32.1/lib/5.32.1/amd64-freebsd/CORE/hv_func.h:91:54: note: expanded from macro '_PERL_HASH_SEED_STATE'
#define _PERL_HASH_SEED_STATE(seed,state) STMT_START {                                      \
                                                     ^
/usr/home/cpan/pit/bare/perl-5.32.1/lib/5.32.1/amd64-freebsd/CORE/hv_func.h:107:5: warning: '}' and ')' tokens terminating statement expression appear in different macro expansion contexts [-Wcompound-token-split-by-macro]
    _PERL_HASH_SEED_STATE(seed,state);
    ^~~~~~~~~~~~~~~~~~~~~~~~~~~~~~~~~
/usr/home/cpan/pit/bare/perl-5.32.1/lib/5.32.1/amd64-freebsd/CORE/hv_func.h:93:93: note: expanded from macro '_PERL_HASH_SEED_STATE'
    sbox32_seed_state96(seed + __PERL_HASH_SEED_BYTES, state + __PERL_HASH_STATE_BYTES);    \
                                                                                            ^
/usr/home/cpan/pit/bare/perl-5.32.1/lib/5.32.1/amd64-freebsd/CORE/hv_func.h:107:5: note: ')' token is here
    _PERL_HASH_SEED_STATE(seed,state);
    ^~~~~~~~~~~~~~~~~~~~~~~~~~~~~~~~~
/usr/home/cpan/pit/bare/perl-5.32.1/lib/5.32.1/amd64-freebsd/CORE/hv_func.h:94:3: note: expanded from macro '_PERL_HASH_SEED_STATE'
} STMT_END
  ^~~~~~~~
/usr/home/cpan/pit/bare/perl-5.32.1/lib/5.32.1/amd64-freebsd/CORE/perl.h:667:21: note: expanded from macro 'STMT_END'
#   define STMT_END     )
                        ^
In file included from t/dyna_low.c:3:
In file included from /usr/home/cpan/pit/bare/perl-5.32.1/lib/5.32.1/amd64-freebsd/CORE/perl.h:3921:
In file included from /usr/home/cpan/pit/bare/perl-5.32.1/lib/5.32.1/amd64-freebsd/CORE/hv.h:663:
/usr/home/cpan/pit/bare/perl-5.32.1/lib/5.32.1/amd64-freebsd/CORE/hv_func.h:274:6: warning: '(' and '{' tokens introducing statement expression appear in different macro expansion contexts [-Wcompound-token-split-by-macro]
    ,SIPROUND;
     ^~~~~~~~
/usr/home/cpan/pit/bare/perl-5.32.1/lib/5.32.1/amd64-freebsd/CORE/hv_func.h:175:3: note: expanded from macro 'SIPROUND'
  STMT_START {              \
  ^~~~~~~~~~
/usr/home/cpan/pit/bare/perl-5.32.1/lib/5.32.1/amd64-freebsd/CORE/perl.h:666:29: note: expanded from macro 'STMT_START'
#   define STMT_START   (void)( /* gcc supports "({ STATEMENTS; })" */
                              ^
/usr/home/cpan/pit/bare/perl-5.32.1/lib/5.32.1/amd64-freebsd/CORE/hv_func.h:219:5: note: expanded from macro 'PERL_SIPHASH_FNC'
    SIP_ROUNDS;                             \
    ^~~~~~~~~~
/usr/home/cpan/pit/bare/perl-5.32.1/lib/5.32.1/amd64-freebsd/CORE/hv_func.h:274:6: note: '{' token is here
    ,SIPROUND;
     ^~~~~~~~
/usr/home/cpan/pit/bare/perl-5.32.1/lib/5.32.1/amd64-freebsd/CORE/hv_func.h:175:14: note: expanded from macro 'SIPROUND'
  STMT_START {              \
             ^
/usr/home/cpan/pit/bare/perl-5.32.1/lib/5.32.1/amd64-freebsd/CORE/hv_func.h:219:5: note: expanded from macro 'PERL_SIPHASH_FNC'
    SIP_ROUNDS;                             \
    ^~~~~~~~~~
/usr/home/cpan/pit/bare/perl-5.32.1/lib/5.32.1/amd64-freebsd/CORE/hv_func.h:274:6: warning: '}' and ')' tokens terminating statement expression appear in different macro expansion contexts [-Wcompound-token-split-by-macro]
    ,SIPROUND;
     ^~~~~~~~
/usr/home/cpan/pit/bare/perl-5.32.1/lib/5.32.1/amd64-freebsd/CORE/hv_func.h:180:3: note: expanded from macro 'SIPROUND'
  } STMT_END
  ^
/usr/home/cpan/pit/bare/perl-5.32.1/lib/5.32.1/amd64-freebsd/CORE/hv_func.h:219:5: note: expanded from macro 'PERL_SIPHASH_FNC'
    SIP_ROUNDS;                             \
    ^~~~~~~~~~
/usr/home/cpan/pit/bare/perl-5.32.1/lib/5.32.1/amd64-freebsd/CORE/hv_func.h:274:6: note: ')' token is here
    ,SIPROUND;
     ^~~~~~~~
/usr/home/cpan/pit/bare/perl-5.32.1/lib/5.32.1/amd64-freebsd/CORE/hv_func.h:180:5: note: expanded from macro 'SIPROUND'
  } STMT_END
    ^~~~~~~~
/usr/home/cpan/pit/bare/perl-5.32.1/lib/5.32.1/amd64-freebsd/CORE/perl.h:667:21: note: expanded from macro 'STMT_END'
#   define STMT_END     )
                        ^
/usr/home/cpan/pit/bare/perl-5.32.1/lib/5.32.1/amd64-freebsd/CORE/hv_func.h:219:5: note: expanded from macro 'PERL_SIPHASH_FNC'
    SIP_ROUNDS;                             \
    ^~~~~~~~~~
/usr/home/cpan/pit/bare/perl-5.32.1/lib/5.32.1/amd64-freebsd/CORE/hv_func.h:274:6: warning: '(' and '{' tokens introducing statement expression appear in different macro expansion contexts [-Wcompound-token-split-by-macro]
    ,SIPROUND;
     ^~~~~~~~
/usr/home/cpan/pit/bare/perl-5.32.1/lib/5.32.1/amd64-freebsd/CORE/hv_func.h:175:3: note: expanded from macro 'SIPROUND'
  STMT_START {              \
  ^~~~~~~~~~
/usr/home/cpan/pit/bare/perl-5.32.1/lib/5.32.1/amd64-freebsd/CORE/perl.h:666:29: note: expanded from macro 'STMT_START'
#   define STMT_START   (void)( /* gcc supports "({ STATEMENTS; })" */
                              ^
/usr/home/cpan/pit/bare/perl-5.32.1/lib/5.32.1/amd64-freebsd/CORE/hv_func.h:238:3: note: expanded from macro 'PERL_SIPHASH_FNC'
  SIP_ROUNDS;                               \
  ^~~~~~~~~~
/usr/home/cpan/pit/bare/perl-5.32.1/lib/5.32.1/amd64-freebsd/CORE/hv_func.h:274:6: note: '{' token is here
    ,SIPROUND;
     ^~~~~~~~
/usr/home/cpan/pit/bare/perl-5.32.1/lib/5.32.1/amd64-freebsd/CORE/hv_func.h:175:14: note: expanded from macro 'SIPROUND'
  STMT_START {              \
             ^
/usr/home/cpan/pit/bare/perl-5.32.1/lib/5.32.1/amd64-freebsd/CORE/hv_func.h:238:3: note: expanded from macro 'PERL_SIPHASH_FNC'
  SIP_ROUNDS;                               \
  ^~~~~~~~~~
/usr/home/cpan/pit/bare/perl-5.32.1/lib/5.32.1/amd64-freebsd/CORE/hv_func.h:274:6: warning: '}' and ')' tokens terminating statement expression appear in different macro expansion contexts [-Wcompound-token-split-by-macro]
    ,SIPROUND;
     ^~~~~~~~
/usr/home/cpan/pit/bare/perl-5.32.1/lib/5.32.1/amd64-freebsd/CORE/hv_func.h:180:3: note: expanded from macro 'SIPROUND'
  } STMT_END
  ^
/usr/home/cpan/pit/bare/perl-5.32.1/lib/5.32.1/amd64-freebsd/CORE/hv_func.h:238:3: note: expanded from macro 'PERL_SIPHASH_FNC'
  SIP_ROUNDS;                               \
  ^~~~~~~~~~
/usr/home/cpan/pit/bare/perl-5.32.1/lib/5.32.1/amd64-freebsd/CORE/hv_func.h:274:6: note: ')' token is here
    ,SIPROUND;
     ^~~~~~~~
/usr/home/cpan/pit/bare/perl-5.32.1/lib/5.32.1/amd64-freebsd/CORE/hv_func.h:180:5: note: expanded from macro 'SIPROUND'
  } STMT_END
    ^~~~~~~~
/usr/home/cpan/pit/bare/perl-5.32.1/lib/5.32.1/amd64-freebsd/CORE/perl.h:667:21: note: expanded from macro 'STMT_END'
#   define STMT_END     )
                        ^
/usr/home/cpan/pit/bare/perl-5.32.1/lib/5.32.1/amd64-freebsd/CORE/hv_func.h:238:3: note: expanded from macro 'PERL_SIPHASH_FNC'
  SIP_ROUNDS;                               \
  ^~~~~~~~~~
/usr/home/cpan/pit/bare/perl-5.32.1/lib/5.32.1/amd64-freebsd/CORE/hv_func.h:275:6: warning: '(' and '{' tokens introducing statement expression appear in different macro expansion contexts [-Wcompound-token-split-by-macro]
    ,SIPROUND;SIPROUND;SIPROUND;
     ^~~~~~~~
/usr/home/cpan/pit/bare/perl-5.32.1/lib/5.32.1/amd64-freebsd/CORE/hv_func.h:175:3: note: expanded from macro 'SIPROUND'
  STMT_START {              \
  ^~~~~~~~~~
/usr/home/cpan/pit/bare/perl-5.32.1/lib/5.32.1/amd64-freebsd/CORE/perl.h:666:29: note: expanded from macro 'STMT_START'
#   define STMT_START   (void)( /* gcc supports "({ STATEMENTS; })" */
                              ^
/usr/home/cpan/pit/bare/perl-5.32.1/lib/5.32.1/amd64-freebsd/CORE/hv_func.h:244:3: note: expanded from macro 'PERL_SIPHASH_FNC'
  SIP_FINAL_ROUNDS                          \
  ^~~~~~~~~~~~~~~~
/usr/home/cpan/pit/bare/perl-5.32.1/lib/5.32.1/amd64-freebsd/CORE/hv_func.h:275:6: note: '{' token is here
    ,SIPROUND;SIPROUND;SIPROUND;
     ^~~~~~~~
/usr/home/cpan/pit/bare/perl-5.32.1/lib/5.32.1/amd64-freebsd/CORE/hv_func.h:175:14: note: expanded from macro 'SIPROUND'
  STMT_START {              \
             ^
/usr/home/cpan/pit/bare/perl-5.32.1/lib/5.32.1/amd64-freebsd/CORE/hv_func.h:244:3: note: expanded from macro 'PERL_SIPHASH_FNC'
  SIP_FINAL_ROUNDS                          \
  ^~~~~~~~~~~~~~~~
/usr/home/cpan/pit/bare/perl-5.32.1/lib/5.32.1/amd64-freebsd/CORE/hv_func.h:275:6: warning: '}' and ')' tokens terminating statement expression appear in different macro expansion contexts [-Wcompound-token-split-by-macro]
    ,SIPROUND;SIPROUND;SIPROUND;
     ^~~~~~~~
/usr/home/cpan/pit/bare/perl-5.32.1/lib/5.32.1/amd64-freebsd/CORE/hv_func.h:180:3: note: expanded from macro 'SIPROUND'
  } STMT_END
  ^
/usr/home/cpan/pit/bare/perl-5.32.1/lib/5.32.1/amd64-freebsd/CORE/hv_func.h:244:3: note: expanded from macro 'PERL_SIPHASH_FNC'
  SIP_FINAL_ROUNDS                          \
  ^~~~~~~~~~~~~~~~
/usr/home/cpan/pit/bare/perl-5.32.1/lib/5.32.1/amd64-freebsd/CORE/hv_func.h:275:6: note: ')' token is here
    ,SIPROUND;SIPROUND;SIPROUND;
     ^~~~~~~~
/usr/home/cpan/pit/bare/perl-5.32.1/lib/5.32.1/amd64-freebsd/CORE/hv_func.h:180:5: note: expanded from macro 'SIPROUND'
  } STMT_END
    ^~~~~~~~
/usr/home/cpan/pit/bare/perl-5.32.1/lib/5.32.1/amd64-freebsd/CORE/perl.h:667:21: note: expanded from macro 'STMT_END'
#   define STMT_END     )
                        ^
/usr/home/cpan/pit/bare/perl-5.32.1/lib/5.32.1/amd64-freebsd/CORE/hv_func.h:244:3: note: expanded from macro 'PERL_SIPHASH_FNC'
  SIP_FINAL_ROUNDS                          \
  ^~~~~~~~~~~~~~~~
/usr/home/cpan/pit/bare/perl-5.32.1/lib/5.32.1/amd64-freebsd/CORE/hv_func.h:275:15: warning: '(' and '{' tokens introducing statement expression appear in different macro expansion contexts [-Wcompound-token-split-by-macro]
    ,SIPROUND;SIPROUND;SIPROUND;
              ^~~~~~~~
/usr/home/cpan/pit/bare/perl-5.32.1/lib/5.32.1/amd64-freebsd/CORE/hv_func.h:175:3: note: expanded from macro 'SIPROUND'
  STMT_START {              \
  ^~~~~~~~~~
/usr/home/cpan/pit/bare/perl-5.32.1/lib/5.32.1/amd64-freebsd/CORE/perl.h:666:29: note: expanded from macro 'STMT_START'
#   define STMT_START   (void)( /* gcc supports "({ STATEMENTS; })" */
                              ^
/usr/home/cpan/pit/bare/perl-5.32.1/lib/5.32.1/amd64-freebsd/CORE/hv_func.h:244:3: note: expanded from macro 'PERL_SIPHASH_FNC'
  SIP_FINAL_ROUNDS                          \
  ^~~~~~~~~~~~~~~~
/usr/home/cpan/pit/bare/perl-5.32.1/lib/5.32.1/amd64-freebsd/CORE/hv_func.h:275:15: note: '{' token is here
    ,SIPROUND;SIPROUND;SIPROUND;
              ^~~~~~~~
/usr/home/cpan/pit/bare/perl-5.32.1/lib/5.32.1/amd64-freebsd/CORE/hv_func.h:175:14: note: expanded from macro 'SIPROUND'
  STMT_START {              \
             ^
/usr/home/cpan/pit/bare/perl-5.32.1/lib/5.32.1/amd64-freebsd/CORE/hv_func.h:244:3: note: expanded from macro 'PERL_SIPHASH_FNC'
  SIP_FINAL_ROUNDS                          \
  ^~~~~~~~~~~~~~~~
/usr/home/cpan/pit/bare/perl-5.32.1/lib/5.32.1/amd64-freebsd/CORE/hv_func.h:275:15: warning: '}' and ')' tokens terminating statement expression appear in different macro expansion contexts [-Wcompound-token-split-by-macro]
    ,SIPROUND;SIPROUND;SIPROUND;
              ^~~~~~~~
/usr/home/cpan/pit/bare/perl-5.32.1/lib/5.32.1/amd64-freebsd/CORE/hv_func.h:180:3: note: expanded from macro 'SIPROUND'
  } STMT_END
  ^
/usr/home/cpan/pit/bare/perl-5.32.1/lib/5.32.1/amd64-freebsd/CORE/hv_func.h:244:3: note: expanded from macro 'PERL_SIPHASH_FNC'
  SIP_FINAL_ROUNDS                          \
  ^~~~~~~~~~~~~~~~
/usr/home/cpan/pit/bare/perl-5.32.1/lib/5.32.1/amd64-freebsd/CORE/hv_func.h:275:15: note: ')' token is here
    ,SIPROUND;SIPROUND;SIPROUND;
              ^~~~~~~~
/usr/home/cpan/pit/bare/perl-5.32.1/lib/5.32.1/amd64-freebsd/CORE/hv_func.h:180:5: note: expanded from macro 'SIPROUND'
  } STMT_END
    ^~~~~~~~
/usr/home/cpan/pit/bare/perl-5.32.1/lib/5.32.1/amd64-freebsd/CORE/perl.h:667:21: note: expanded from macro 'STMT_END'
#   define STMT_END     )
                        ^
/usr/home/cpan/pit/bare/perl-5.32.1/lib/5.32.1/amd64-freebsd/CORE/hv_func.h:244:3: note: expanded from macro 'PERL_SIPHASH_FNC'
  SIP_FINAL_ROUNDS                          \
  ^~~~~~~~~~~~~~~~
/usr/home/cpan/pit/bare/perl-5.32.1/lib/5.32.1/amd64-freebsd/CORE/hv_func.h:275:24: warning: '(' and '{' tokens introducing statement expression appear in different macro expansion contexts [-Wcompound-token-split-by-macro]
    ,SIPROUND;SIPROUND;SIPROUND;
                       ^~~~~~~~
/usr/home/cpan/pit/bare/perl-5.32.1/lib/5.32.1/amd64-freebsd/CORE/hv_func.h:175:3: note: expanded from macro 'SIPROUND'
  STMT_START {              \
  ^~~~~~~~~~
/usr/home/cpan/pit/bare/perl-5.32.1/lib/5.32.1/amd64-freebsd/CORE/perl.h:666:29: note: expanded from macro 'STMT_START'
#   define STMT_START   (void)( /* gcc supports "({ STATEMENTS; })" */
                              ^
/usr/home/cpan/pit/bare/perl-5.32.1/lib/5.32.1/amd64-freebsd/CORE/hv_func.h:244:3: note: expanded from macro 'PERL_SIPHASH_FNC'
  SIP_FINAL_ROUNDS                          \
  ^~~~~~~~~~~~~~~~
/usr/home/cpan/pit/bare/perl-5.32.1/lib/5.32.1/amd64-freebsd/CORE/hv_func.h:275:24: note: '{' token is here
    ,SIPROUND;SIPROUND;SIPROUND;
                       ^~~~~~~~
/usr/home/cpan/pit/bare/perl-5.32.1/lib/5.32.1/amd64-freebsd/CORE/hv_func.h:175:14: note: expanded from macro 'SIPROUND'
  STMT_START {              \
             ^
/usr/home/cpan/pit/bare/perl-5.32.1/lib/5.32.1/amd64-freebsd/CORE/hv_func.h:244:3: note: expanded from macro 'PERL_SIPHASH_FNC'
  SIP_FINAL_ROUNDS                          \
  ^~~~~~~~~~~~~~~~
/usr/home/cpan/pit/bare/perl-5.32.1/lib/5.32.1/amd64-freebsd/CORE/hv_func.h:275:24: warning: '}' and ')' tokens terminating statement expression appear in different macro expansion contexts [-Wcompound-token-split-by-macro]
    ,SIPROUND;SIPROUND;SIPROUND;
                       ^~~~~~~~
/usr/home/cpan/pit/bare/perl-5.32.1/lib/5.32.1/amd64-freebsd/CORE/hv_func.h:180:3: note: expanded from macro 'SIPROUND'
  } STMT_END
  ^
/usr/home/cpan/pit/bare/perl-5.32.1/lib/5.32.1/amd64-freebsd/CORE/hv_func.h:244:3: note: expanded from macro 'PERL_SIPHASH_FNC'
  SIP_FINAL_ROUNDS                          \
  ^~~~~~~~~~~~~~~~
/usr/home/cpan/pit/bare/perl-5.32.1/lib/5.32.1/amd64-freebsd/CORE/hv_func.h:275:24: note: ')' token is here
    ,SIPROUND;SIPROUND;SIPROUND;
                       ^~~~~~~~
/usr/home/cpan/pit/bare/perl-5.32.1/lib/5.32.1/amd64-freebsd/CORE/hv_func.h:180:5: note: expanded from macro 'SIPROUND'
  } STMT_END
    ^~~~~~~~
/usr/home/cpan/pit/bare/perl-5.32.1/lib/5.32.1/amd64-freebsd/CORE/perl.h:667:21: note: expanded from macro 'STMT_END'
#   define STMT_END     )
                        ^
/usr/home/cpan/pit/bare/perl-5.32.1/lib/5.32.1/amd64-freebsd/CORE/hv_func.h:244:3: note: expanded from macro 'PERL_SIPHASH_FNC'
  SIP_FINAL_ROUNDS                          \
  ^~~~~~~~~~~~~~~~
/usr/home/cpan/pit/bare/perl-5.32.1/lib/5.32.1/amd64-freebsd/CORE/hv_func.h:280:6: warning: '(' and '{' tokens introducing statement expression appear in different macro expansion contexts [-Wcompound-token-split-by-macro]
    ,SIPROUND;SIPROUND;
     ^~~~~~~~
/usr/home/cpan/pit/bare/perl-5.32.1/lib/5.32.1/amd64-freebsd/CORE/hv_func.h:175:3: note: expanded from macro 'SIPROUND'
  STMT_START {              \
  ^~~~~~~~~~
/usr/home/cpan/pit/bare/perl-5.32.1/lib/5.32.1/amd64-freebsd/CORE/perl.h:666:29: note: expanded from macro 'STMT_START'
#   define STMT_START   (void)( /* gcc supports "({ STATEMENTS; })" */
                              ^
/usr/home/cpan/pit/bare/perl-5.32.1/lib/5.32.1/amd64-freebsd/CORE/hv_func.h:219:5: note: expanded from macro 'PERL_SIPHASH_FNC'
    SIP_ROUNDS;                             \
    ^~~~~~~~~~
/usr/home/cpan/pit/bare/perl-5.32.1/lib/5.32.1/amd64-freebsd/CORE/hv_func.h:280:6: note: '{' token is here
    ,SIPROUND;SIPROUND;
     ^~~~~~~~
/usr/home/cpan/pit/bare/perl-5.32.1/lib/5.32.1/amd64-freebsd/CORE/hv_func.h:175:14: note: expanded from macro 'SIPROUND'
  STMT_START {              \
             ^
/usr/home/cpan/pit/bare/perl-5.32.1/lib/5.32.1/amd64-freebsd/CORE/hv_func.h:219:5: note: expanded from macro 'PERL_SIPHASH_FNC'
    SIP_ROUNDS;                             \
    ^~~~~~~~~~
/usr/home/cpan/pit/bare/perl-5.32.1/lib/5.32.1/amd64-freebsd/CORE/hv_func.h:280:6: warning: '}' and ')' tokens terminating statement expression appear in different macro expansion contexts [-Wcompound-token-split-by-macro]
    ,SIPROUND;SIPROUND;
     ^~~~~~~~
/usr/home/cpan/pit/bare/perl-5.32.1/lib/5.32.1/amd64-freebsd/CORE/hv_func.h:180:3: note: expanded from macro 'SIPROUND'
  } STMT_END
  ^
/usr/home/cpan/pit/bare/perl-5.32.1/lib/5.32.1/amd64-freebsd/CORE/hv_func.h:219:5: note: expanded from macro 'PERL_SIPHASH_FNC'
    SIP_ROUNDS;                             \
    ^~~~~~~~~~
/usr/home/cpan/pit/bare/perl-5.32.1/lib/5.32.1/amd64-freebsd/CORE/hv_func.h:280:6: note: ')' token is here
    ,SIPROUND;SIPROUND;
     ^~~~~~~~
/usr/home/cpan/pit/bare/perl-5.32.1/lib/5.32.1/amd64-freebsd/CORE/hv_func.h:180:5: note: expanded from macro 'SIPROUND'
  } STMT_END
    ^~~~~~~~
/usr/home/cpan/pit/bare/perl-5.32.1/lib/5.32.1/amd64-freebsd/CORE/perl.h:667:21: note: expanded from macro 'STMT_END'
#   define STMT_END     )
                        ^
/usr/home/cpan/pit/bare/perl-5.32.1/lib/5.32.1/amd64-freebsd/CORE/hv_func.h:219:5: note: expanded from macro 'PERL_SIPHASH_FNC'
    SIP_ROUNDS;                             \
    ^~~~~~~~~~
/usr/home/cpan/pit/bare/perl-5.32.1/lib/5.32.1/amd64-freebsd/CORE/hv_func.h:280:15: warning: '(' and '{' tokens introducing statement expression appear in different macro expansion contexts [-Wcompound-token-split-by-macro]
    ,SIPROUND;SIPROUND;
              ^~~~~~~~
/usr/home/cpan/pit/bare/perl-5.32.1/lib/5.32.1/amd64-freebsd/CORE/hv_func.h:175:3: note: expanded from macro 'SIPROUND'
  STMT_START {              \
  ^~~~~~~~~~
/usr/home/cpan/pit/bare/perl-5.32.1/lib/5.32.1/amd64-freebsd/CORE/perl.h:666:29: note: expanded from macro 'STMT_START'
#   define STMT_START   (void)( /* gcc supports "({ STATEMENTS; })" */
                              ^
/usr/home/cpan/pit/bare/perl-5.32.1/lib/5.32.1/amd64-freebsd/CORE/hv_func.h:219:5: note: expanded from macro 'PERL_SIPHASH_FNC'
    SIP_ROUNDS;                             \
    ^~~~~~~~~~
/usr/home/cpan/pit/bare/perl-5.32.1/lib/5.32.1/amd64-freebsd/CORE/hv_func.h:280:15: note: '{' token is here
    ,SIPROUND;SIPROUND;
              ^~~~~~~~
/usr/home/cpan/pit/bare/perl-5.32.1/lib/5.32.1/amd64-freebsd/CORE/hv_func.h:175:14: note: expanded from macro 'SIPROUND'
  STMT_START {              \
             ^
/usr/home/cpan/pit/bare/perl-5.32.1/lib/5.32.1/amd64-freebsd/CORE/hv_func.h:219:5: note: expanded from macro 'PERL_SIPHASH_FNC'
    SIP_ROUNDS;                             \
    ^~~~~~~~~~
/usr/home/cpan/pit/bare/perl-5.32.1/lib/5.32.1/amd64-freebsd/CORE/hv_func.h:280:15: warning: '}' and ')' tokens terminating statement expression appear in different macro expansion contexts [-Wcompound-token-split-by-macro]
    ,SIPROUND;SIPROUND;
              ^~~~~~~~
/usr/home/cpan/pit/bare/perl-5.32.1/lib/5.32.1/amd64-freebsd/CORE/hv_func.h:180:3: note: expanded from macro 'SIPROUND'
  } STMT_END
  ^
/usr/home/cpan/pit/bare/perl-5.32.1/lib/5.32.1/amd64-freebsd/CORE/hv_func.h:219:5: note: expanded from macro 'PERL_SIPHASH_FNC'
    SIP_ROUNDS;                             \
    ^~~~~~~~~~
/usr/home/cpan/pit/bare/perl-5.32.1/lib/5.32.1/amd64-freebsd/CORE/hv_func.h:280:15: note: ')' token is here
    ,SIPROUND;SIPROUND;
              ^~~~~~~~
/usr/home/cpan/pit/bare/perl-5.32.1/lib/5.32.1/amd64-freebsd/CORE/hv_func.h:180:5: note: expanded from macro 'SIPROUND'
  } STMT_END
    ^~~~~~~~
/usr/home/cpan/pit/bare/perl-5.32.1/lib/5.32.1/amd64-freebsd/CORE/perl.h:667:21: note: expanded from macro 'STMT_END'
#   define STMT_END     )
                        ^
/usr/home/cpan/pit/bare/perl-5.32.1/lib/5.32.1/amd64-freebsd/CORE/hv_func.h:219:5: note: expanded from macro 'PERL_SIPHASH_FNC'
    SIP_ROUNDS;                             \
    ^~~~~~~~~~
/usr/home/cpan/pit/bare/perl-5.32.1/lib/5.32.1/amd64-freebsd/CORE/hv_func.h:280:6: warning: '(' and '{' tokens introducing statement expression appear in different macro expansion contexts [-Wcompound-token-split-by-macro]
    ,SIPROUND;SIPROUND;
     ^~~~~~~~
/usr/home/cpan/pit/bare/perl-5.32.1/lib/5.32.1/amd64-freebsd/CORE/hv_func.h:175:3: note: expanded from macro 'SIPROUND'
  STMT_START {              \
  ^~~~~~~~~~
/usr/home/cpan/pit/bare/perl-5.32.1/lib/5.32.1/amd64-freebsd/CORE/perl.h:666:29: note: expanded from macro 'STMT_START'
#   define STMT_START   (void)( /* gcc supports "({ STATEMENTS; })" */
                              ^
/usr/home/cpan/pit/bare/perl-5.32.1/lib/5.32.1/amd64-freebsd/CORE/hv_func.h:238:3: note: expanded from macro 'PERL_SIPHASH_FNC'
  SIP_ROUNDS;                               \
  ^~~~~~~~~~
/usr/home/cpan/pit/bare/perl-5.32.1/lib/5.32.1/amd64-freebsd/CORE/hv_func.h:280:6: note: '{' token is here
    ,SIPROUND;SIPROUND;
     ^~~~~~~~
/usr/home/cpan/pit/bare/perl-5.32.1/lib/5.32.1/amd64-freebsd/CORE/hv_func.h:175:14: note: expanded from macro 'SIPROUND'
  STMT_START {              \
             ^
/usr/home/cpan/pit/bare/perl-5.32.1/lib/5.32.1/amd64-freebsd/CORE/hv_func.h:238:3: note: expanded from macro 'PERL_SIPHASH_FNC'
  SIP_ROUNDS;                               \
  ^~~~~~~~~~
/usr/home/cpan/pit/bare/perl-5.32.1/lib/5.32.1/amd64-freebsd/CORE/hv_func.h:280:6: warning: '}' and ')' tokens terminating statement expression appear in different macro expansion contexts [-Wcompound-token-split-by-macro]
    ,SIPROUND;SIPROUND;
     ^~~~~~~~
/usr/home/cpan/pit/bare/perl-5.32.1/lib/5.32.1/amd64-freebsd/CORE/hv_func.h:180:3: note: expanded from macro 'SIPROUND'
  } STMT_END
  ^
/usr/home/cpan/pit/bare/perl-5.32.1/lib/5.32.1/amd64-freebsd/CORE/hv_func.h:238:3: note: expanded from macro 'PERL_SIPHASH_FNC'
  SIP_ROUNDS;                               \
  ^~~~~~~~~~
/usr/home/cpan/pit/bare/perl-5.32.1/lib/5.32.1/amd64-freebsd/CORE/hv_func.h:280:6: note: ')' token is here
    ,SIPROUND;SIPROUND;
     ^~~~~~~~
/usr/home/cpan/pit/bare/perl-5.32.1/lib/5.32.1/amd64-freebsd/CORE/hv_func.h:180:5: note: expanded from macro 'SIPROUND'
  } STMT_END
    ^~~~~~~~
/usr/home/cpan/pit/bare/perl-5.32.1/lib/5.32.1/amd64-freebsd/CORE/perl.h:667:21: note: expanded from macro 'STMT_END'
#   define STMT_END     )
                        ^
/usr/home/cpan/pit/bare/perl-5.32.1/lib/5.32.1/amd64-freebsd/CORE/hv_func.h:238:3: note: expanded from macro 'PERL_SIPHASH_FNC'
  SIP_ROUNDS;                               \
  ^~~~~~~~~~
/usr/home/cpan/pit/bare/perl-5.32.1/lib/5.32.1/amd64-freebsd/CORE/hv_func.h:280:15: warning: '(' and '{' tokens introducing statement expression appear in different macro expansion contexts [-Wcompound-token-split-by-macro]
    ,SIPROUND;SIPROUND;
              ^~~~~~~~
/usr/home/cpan/pit/bare/perl-5.32.1/lib/5.32.1/amd64-freebsd/CORE/hv_func.h:175:3: note: expanded from macro 'SIPROUND'
  STMT_START {              \
  ^~~~~~~~~~
/usr/home/cpan/pit/bare/perl-5.32.1/lib/5.32.1/amd64-freebsd/CORE/perl.h:666:29: note: expanded from macro 'STMT_START'
#   define STMT_START   (void)( /* gcc supports "({ STATEMENTS; })" */
                              ^
/usr/home/cpan/pit/bare/perl-5.32.1/lib/5.32.1/amd64-freebsd/CORE/hv_func.h:238:3: note: expanded from macro 'PERL_SIPHASH_FNC'
  SIP_ROUNDS;                               \
  ^~~~~~~~~~
/usr/home/cpan/pit/bare/perl-5.32.1/lib/5.32.1/amd64-freebsd/CORE/hv_func.h:280:15: note: '{' token is here
    ,SIPROUND;SIPROUND;
              ^~~~~~~~
/usr/home/cpan/pit/bare/perl-5.32.1/lib/5.32.1/amd64-freebsd/CORE/hv_func.h:175:14: note: expanded from macro 'SIPROUND'
  STMT_START {              \
             ^
/usr/home/cpan/pit/bare/perl-5.32.1/lib/5.32.1/amd64-freebsd/CORE/hv_func.h:238:3: note: expanded from macro 'PERL_SIPHASH_FNC'
  SIP_ROUNDS;                               \
  ^~~~~~~~~~
/usr/home/cpan/pit/bare/perl-5.32.1/lib/5.32.1/amd64-freebsd/CORE/hv_func.h:280:15: warning: '}' and ')' tokens terminating statement expression appear in different macro expansion contexts [-Wcompound-token-split-by-macro]
    ,SIPROUND;SIPROUND;
              ^~~~~~~~
/usr/home/cpan/pit/bare/perl-5.32.1/lib/5.32.1/amd64-freebsd/CORE/hv_func.h:180:3: note: expanded from macro 'SIPROUND'
  } STMT_END
  ^
/usr/home/cpan/pit/bare/perl-5.32.1/lib/5.32.1/amd64-freebsd/CORE/hv_func.h:238:3: note: expanded from macro 'PERL_SIPHASH_FNC'
  SIP_ROUNDS;                               \
  ^~~~~~~~~~
/usr/home/cpan/pit/bare/perl-5.32.1/lib/5.32.1/amd64-freebsd/CORE/hv_func.h:280:15: note: ')' token is here
    ,SIPROUND;SIPROUND;
              ^~~~~~~~
/usr/home/cpan/pit/bare/perl-5.32.1/lib/5.32.1/amd64-freebsd/CORE/hv_func.h:180:5: note: expanded from macro 'SIPROUND'
  } STMT_END
    ^~~~~~~~
/usr/home/cpan/pit/bare/perl-5.32.1/lib/5.32.1/amd64-freebsd/CORE/perl.h:667:21: note: expanded from macro 'STMT_END'
#   define STMT_END     )
                        ^
/usr/home/cpan/pit/bare/perl-5.32.1/lib/5.32.1/amd64-freebsd/CORE/hv_func.h:238:3: note: expanded from macro 'PERL_SIPHASH_FNC'
  SIP_ROUNDS;                               \
  ^~~~~~~~~~
/usr/home/cpan/pit/bare/perl-5.32.1/lib/5.32.1/amd64-freebsd/CORE/hv_func.h:281:6: warning: '(' and '{' tokens introducing statement expression appear in different macro expansion contexts [-Wcompound-token-split-by-macro]
    ,SIPROUND;SIPROUND;SIPROUND;SIPROUND;
     ^~~~~~~~
/usr/home/cpan/pit/bare/perl-5.32.1/lib/5.32.1/amd64-freebsd/CORE/hv_func.h:175:3: note: expanded from macro 'SIPROUND'
  STMT_START {              \
  ^~~~~~~~~~
/usr/home/cpan/pit/bare/perl-5.32.1/lib/5.32.1/amd64-freebsd/CORE/perl.h:666:29: note: expanded from macro 'STMT_START'
#   define STMT_START   (void)( /* gcc supports "({ STATEMENTS; })" */
                              ^
/usr/home/cpan/pit/bare/perl-5.32.1/lib/5.32.1/amd64-freebsd/CORE/hv_func.h:244:3: note: expanded from macro 'PERL_SIPHASH_FNC'
  SIP_FINAL_ROUNDS                          \
  ^~~~~~~~~~~~~~~~
/usr/home/cpan/pit/bare/perl-5.32.1/lib/5.32.1/amd64-freebsd/CORE/hv_func.h:281:6: note: '{' token is here
    ,SIPROUND;SIPROUND;SIPROUND;SIPROUND;
     ^~~~~~~~
/usr/home/cpan/pit/bare/perl-5.32.1/lib/5.32.1/amd64-freebsd/CORE/hv_func.h:175:14: note: expanded from macro 'SIPROUND'
  STMT_START {              \
             ^
/usr/home/cpan/pit/bare/perl-5.32.1/lib/5.32.1/amd64-freebsd/CORE/hv_func.h:244:3: note: expanded from macro 'PERL_SIPHASH_FNC'
  SIP_FINAL_ROUNDS                          \
  ^~~~~~~~~~~~~~~~
/usr/home/cpan/pit/bare/perl-5.32.1/lib/5.32.1/amd64-freebsd/CORE/hv_func.h:281:6: warning: '}' and ')' tokens terminating statement expression appear in different macro expansion contexts [-Wcompound-token-split-by-macro]
    ,SIPROUND;SIPROUND;SIPROUND;SIPROUND;
     ^~~~~~~~
/usr/home/cpan/pit/bare/perl-5.32.1/lib/5.32.1/amd64-freebsd/CORE/hv_func.h:180:3: note: expanded from macro 'SIPROUND'
  } STMT_END
  ^
/usr/home/cpan/pit/bare/perl-5.32.1/lib/5.32.1/amd64-freebsd/CORE/hv_func.h:244:3: note: expanded from macro 'PERL_SIPHASH_FNC'
  SIP_FINAL_ROUNDS                          \
  ^~~~~~~~~~~~~~~~
/usr/home/cpan/pit/bare/perl-5.32.1/lib/5.32.1/amd64-freebsd/CORE/hv_func.h:281:6: note: ')' token is here
    ,SIPROUND;SIPROUND;SIPROUND;SIPROUND;
     ^~~~~~~~
/usr/home/cpan/pit/bare/perl-5.32.1/lib/5.32.1/amd64-freebsd/CORE/hv_func.h:180:5: note: expanded from macro 'SIPROUND'
  } STMT_END
    ^~~~~~~~
/usr/home/cpan/pit/bare/perl-5.32.1/lib/5.32.1/amd64-freebsd/CORE/perl.h:667:21: note: expanded from macro 'STMT_END'
#   define STMT_END     )
                        ^
/usr/home/cpan/pit/bare/perl-5.32.1/lib/5.32.1/amd64-freebsd/CORE/hv_func.h:244:3: note: expanded from macro 'PERL_SIPHASH_FNC'
  SIP_FINAL_ROUNDS                          \
  ^~~~~~~~~~~~~~~~
/usr/home/cpan/pit/bare/perl-5.32.1/lib/5.32.1/amd64-freebsd/CORE/hv_func.h:281:15: warning: '(' and '{' tokens introducing statement expression appear in different macro expansion contexts [-Wcompound-token-split-by-macro]
    ,SIPROUND;SIPROUND;SIPROUND;SIPROUND;
              ^~~~~~~~
/usr/home/cpan/pit/bare/perl-5.32.1/lib/5.32.1/amd64-freebsd/CORE/hv_func.h:175:3: note: expanded from macro 'SIPROUND'
  STMT_START {              \
  ^~~~~~~~~~
/usr/home/cpan/pit/bare/perl-5.32.1/lib/5.32.1/amd64-freebsd/CORE/perl.h:666:29: note: expanded from macro 'STMT_START'
#   define STMT_START   (void)( /* gcc supports "({ STATEMENTS; })" */
                              ^
/usr/home/cpan/pit/bare/perl-5.32.1/lib/5.32.1/amd64-freebsd/CORE/hv_func.h:244:3: note: expanded from macro 'PERL_SIPHASH_FNC'
  SIP_FINAL_ROUNDS                          \
  ^~~~~~~~~~~~~~~~
/usr/home/cpan/pit/bare/perl-5.32.1/lib/5.32.1/amd64-freebsd/CORE/hv_func.h:281:15: note: '{' token is here
    ,SIPROUND;SIPROUND;SIPROUND;SIPROUND;
              ^~~~~~~~
/usr/home/cpan/pit/bare/perl-5.32.1/lib/5.32.1/amd64-freebsd/CORE/hv_func.h:175:14: note: expanded from macro 'SIPROUND'
  STMT_START {              \
             ^
/usr/home/cpan/pit/bare/perl-5.32.1/lib/5.32.1/amd64-freebsd/CORE/hv_func.h:244:3: note: expanded from macro 'PERL_SIPHASH_FNC'
  SIP_FINAL_ROUNDS                          \
  ^~~~~~~~~~~~~~~~
/usr/home/cpan/pit/bare/perl-5.32.1/lib/5.32.1/amd64-freebsd/CORE/hv_func.h:281:15: warning: '}' and ')' tokens terminating statement expression appear in different macro expansion contexts [-Wcompound-token-split-by-macro]
    ,SIPROUND;SIPROUND;SIPROUND;SIPROUND;
              ^~~~~~~~
/usr/home/cpan/pit/bare/perl-5.32.1/lib/5.32.1/amd64-freebsd/CORE/hv_func.h:180:3: note: expanded from macro 'SIPROUND'
  } STMT_END
  ^
/usr/home/cpan/pit/bare/perl-5.32.1/lib/5.32.1/amd64-freebsd/CORE/hv_func.h:244:3: note: expanded from macro 'PERL_SIPHASH_FNC'
  SIP_FINAL_ROUNDS                          \
  ^~~~~~~~~~~~~~~~
/usr/home/cpan/pit/bare/perl-5.32.1/lib/5.32.1/amd64-freebsd/CORE/hv_func.h:281:15: note: ')' token is here
    ,SIPROUND;SIPROUND;SIPROUND;SIPROUND;
              ^~~~~~~~
/usr/home/cpan/pit/bare/perl-5.32.1/lib/5.32.1/amd64-freebsd/CORE/hv_func.h:180:5: note: expanded from macro 'SIPROUND'
  } STMT_END
    ^~~~~~~~
/usr/home/cpan/pit/bare/perl-5.32.1/lib/5.32.1/amd64-freebsd/CORE/perl.h:667:21: note: expanded from macro 'STMT_END'
#   define STMT_END     )
                        ^
/usr/home/cpan/pit/bare/perl-5.32.1/lib/5.32.1/amd64-freebsd/CORE/hv_func.h:244:3: note: expanded from macro 'PERL_SIPHASH_FNC'
  SIP_FINAL_ROUNDS                          \
  ^~~~~~~~~~~~~~~~
/usr/home/cpan/pit/bare/perl-5.32.1/lib/5.32.1/amd64-freebsd/CORE/hv_func.h:281:24: warning: '(' and '{' tokens introducing statement expression appear in different macro expansion contexts [-Wcompound-token-split-by-macro]
    ,SIPROUND;SIPROUND;SIPROUND;SIPROUND;
                       ^~~~~~~~
/usr/home/cpan/pit/bare/perl-5.32.1/lib/5.32.1/amd64-freebsd/CORE/hv_func.h:175:3: note: expanded from macro 'SIPROUND'
  STMT_START {              \
  ^~~~~~~~~~
/usr/home/cpan/pit/bare/perl-5.32.1/lib/5.32.1/amd64-freebsd/CORE/perl.h:666:29: note: expanded from macro 'STMT_START'
#   define STMT_START   (void)( /* gcc supports "({ STATEMENTS; })" */
                              ^
/usr/home/cpan/pit/bare/perl-5.32.1/lib/5.32.1/amd64-freebsd/CORE/hv_func.h:244:3: note: expanded from macro 'PERL_SIPHASH_FNC'
  SIP_FINAL_ROUNDS                          \
  ^~~~~~~~~~~~~~~~
/usr/home/cpan/pit/bare/perl-5.32.1/lib/5.32.1/amd64-freebsd/CORE/hv_func.h:281:24: note: '{' token is here
    ,SIPROUND;SIPROUND;SIPROUND;SIPROUND;
                       ^~~~~~~~
/usr/home/cpan/pit/bare/perl-5.32.1/lib/5.32.1/amd64-freebsd/CORE/hv_func.h:175:14: note: expanded from macro 'SIPROUND'
  STMT_START {              \
             ^
/usr/home/cpan/pit/bare/perl-5.32.1/lib/5.32.1/amd64-freebsd/CORE/hv_func.h:244:3: note: expanded from macro 'PERL_SIPHASH_FNC'
  SIP_FINAL_ROUNDS                          \
  ^~~~~~~~~~~~~~~~
/usr/home/cpan/pit/bare/perl-5.32.1/lib/5.32.1/amd64-freebsd/CORE/hv_func.h:281:24: warning: '}' and ')' tokens terminating statement expression appear in different macro expansion contexts [-Wcompound-token-split-by-macro]
    ,SIPROUND;SIPROUND;SIPROUND;SIPROUND;
                       ^~~~~~~~
/usr/home/cpan/pit/bare/perl-5.32.1/lib/5.32.1/amd64-freebsd/CORE/hv_func.h:180:3: note: expanded from macro 'SIPROUND'
  } STMT_END
  ^
/usr/home/cpan/pit/bare/perl-5.32.1/lib/5.32.1/amd64-freebsd/CORE/hv_func.h:244:3: note: expanded from macro 'PERL_SIPHASH_FNC'
  SIP_FINAL_ROUNDS                          \
  ^~~~~~~~~~~~~~~~
/usr/home/cpan/pit/bare/perl-5.32.1/lib/5.32.1/amd64-freebsd/CORE/hv_func.h:281:24: note: ')' token is here
    ,SIPROUND;SIPROUND;SIPROUND;SIPROUND;
                       ^~~~~~~~
/usr/home/cpan/pit/bare/perl-5.32.1/lib/5.32.1/amd64-freebsd/CORE/hv_func.h:180:5: note: expanded from macro 'SIPROUND'
  } STMT_END
    ^~~~~~~~
/usr/home/cpan/pit/bare/perl-5.32.1/lib/5.32.1/amd64-freebsd/CORE/perl.h:667:21: note: expanded from macro 'STMT_END'
#   define STMT_END     )
                        ^
/usr/home/cpan/pit/bare/perl-5.32.1/lib/5.32.1/amd64-freebsd/CORE/hv_func.h:244:3: note: expanded from macro 'PERL_SIPHASH_FNC'
  SIP_FINAL_ROUNDS                          \
  ^~~~~~~~~~~~~~~~
/usr/home/cpan/pit/bare/perl-5.32.1/lib/5.32.1/amd64-freebsd/CORE/hv_func.h:281:33: warning: '(' and '{' tokens introducing statement expression appear in different macro expansion contexts [-Wcompound-token-split-by-macro]
    ,SIPROUND;SIPROUND;SIPROUND;SIPROUND;
                                ^~~~~~~~
/usr/home/cpan/pit/bare/perl-5.32.1/lib/5.32.1/amd64-freebsd/CORE/hv_func.h:175:3: note: expanded from macro 'SIPROUND'
  STMT_START {              \
  ^~~~~~~~~~
/usr/home/cpan/pit/bare/perl-5.32.1/lib/5.32.1/amd64-freebsd/CORE/perl.h:666:29: note: expanded from macro 'STMT_START'
#   define STMT_START   (void)( /* gcc supports "({ STATEMENTS; })" */
                              ^
/usr/home/cpan/pit/bare/perl-5.32.1/lib/5.32.1/amd64-freebsd/CORE/hv_func.h:244:3: note: expanded from macro 'PERL_SIPHASH_FNC'
  SIP_FINAL_ROUNDS                          \
  ^~~~~~~~~~~~~~~~
/usr/home/cpan/pit/bare/perl-5.32.1/lib/5.32.1/amd64-freebsd/CORE/hv_func.h:281:33: note: '{' token is here
    ,SIPROUND;SIPROUND;SIPROUND;SIPROUND;
                                ^~~~~~~~
/usr/home/cpan/pit/bare/perl-5.32.1/lib/5.32.1/amd64-freebsd/CORE/hv_func.h:175:14: note: expanded from macro 'SIPROUND'
  STMT_START {              \
             ^
/usr/home/cpan/pit/bare/perl-5.32.1/lib/5.32.1/amd64-freebsd/CORE/hv_func.h:244:3: note: expanded from macro 'PERL_SIPHASH_FNC'
  SIP_FINAL_ROUNDS                          \
  ^~~~~~~~~~~~~~~~
/usr/home/cpan/pit/bare/perl-5.32.1/lib/5.32.1/amd64-freebsd/CORE/hv_func.h:281:33: warning: '}' and ')' tokens terminating statement expression appear in different macro expansion contexts [-Wcompound-token-split-by-macro]
    ,SIPROUND;SIPROUND;SIPROUND;SIPROUND;
                                ^~~~~~~~
/usr/home/cpan/pit/bare/perl-5.32.1/lib/5.32.1/amd64-freebsd/CORE/hv_func.h:180:3: note: expanded from macro 'SIPROUND'
  } STMT_END
  ^
/usr/home/cpan/pit/bare/perl-5.32.1/lib/5.32.1/amd64-freebsd/CORE/hv_func.h:244:3: note: expanded from macro 'PERL_SIPHASH_FNC'
  SIP_FINAL_ROUNDS                          \
  ^~~~~~~~~~~~~~~~
/usr/home/cpan/pit/bare/perl-5.32.1/lib/5.32.1/amd64-freebsd/CORE/hv_func.h:281:33: note: ')' token is here
    ,SIPROUND;SIPROUND;SIPROUND;SIPROUND;
                                ^~~~~~~~
/usr/home/cpan/pit/bare/perl-5.32.1/lib/5.32.1/amd64-freebsd/CORE/hv_func.h:180:5: note: expanded from macro 'SIPROUND'
  } STMT_END
    ^~~~~~~~
/usr/home/cpan/pit/bare/perl-5.32.1/lib/5.32.1/amd64-freebsd/CORE/perl.h:667:21: note: expanded from macro 'STMT_END'
#   define STMT_END     )
                        ^
/usr/home/cpan/pit/bare/perl-5.32.1/lib/5.32.1/amd64-freebsd/CORE/hv_func.h:244:3: note: expanded from macro 'PERL_SIPHASH_FNC'
  SIP_FINAL_ROUNDS                          \
  ^~~~~~~~~~~~~~~~
In file included from t/dyna_low.c:3:
In file included from /usr/home/cpan/pit/bare/perl-5.32.1/lib/5.32.1/amd64-freebsd/CORE/perl.h:6161:
/usr/home/cpan/pit/bare/perl-5.32.1/lib/5.32.1/amd64-freebsd/CORE/inline.h:2209:5: warning: '(' and '{' tokens introducing statement expression appear in different macro expansion contexts [-Wcompound-token-split-by-macro]
    CX_POP_SAVEARRAY(cx);
    ^~~~~~~~~~~~~~~~~~~~
/usr/home/cpan/pit/bare/perl-5.32.1/lib/5.32.1/amd64-freebsd/CORE/cop.h:657:5: note: expanded from macro 'CX_POP_SAVEARRAY'
    STMT_START {                                                        \
    ^~~~~~~~~~
/usr/home/cpan/pit/bare/perl-5.32.1/lib/5.32.1/amd64-freebsd/CORE/perl.h:666:29: note: expanded from macro 'STMT_START'
#   define STMT_START   (void)( /* gcc supports "({ STATEMENTS; })" */
                              ^
/usr/home/cpan/pit/bare/perl-5.32.1/lib/5.32.1/amd64-freebsd/CORE/inline.h:2209:5: note: '{' token is here
    CX_POP_SAVEARRAY(cx);
    ^~~~~~~~~~~~~~~~~~~~
/usr/home/cpan/pit/bare/perl-5.32.1/lib/5.32.1/amd64-freebsd/CORE/cop.h:657:16: note: expanded from macro 'CX_POP_SAVEARRAY'
    STMT_START {                                                        \
               ^
In file included from t/dyna_low.c:3:
In file included from /usr/home/cpan/pit/bare/perl-5.32.1/lib/5.32.1/amd64-freebsd/CORE/perl.h:6161:
/usr/home/cpan/pit/bare/perl-5.32.1/lib/5.32.1/amd64-freebsd/CORE/inline.h:2209:5: warning: '}' and ')' tokens terminating statement expression appear in different macro expansion contexts [-Wcompound-token-split-by-macro]
    CX_POP_SAVEARRAY(cx);
    ^~~~~~~~~~~~~~~~~~~~
/usr/home/cpan/pit/bare/perl-5.32.1/lib/5.32.1/amd64-freebsd/CORE/cop.h:662:5: note: expanded from macro 'CX_POP_SAVEARRAY'
    } STMT_END
    ^
/usr/home/cpan/pit/bare/perl-5.32.1/lib/5.32.1/amd64-freebsd/CORE/inline.h:2209:5: note: ')' token is here
    CX_POP_SAVEARRAY(cx);
    ^~~~~~~~~~~~~~~~~~~~
/usr/home/cpan/pit/bare/perl-5.32.1/lib/5.32.1/amd64-freebsd/CORE/cop.h:662:7: note: expanded from macro 'CX_POP_SAVEARRAY'
    } STMT_END
      ^~~~~~~~
/usr/home/cpan/pit/bare/perl-5.32.1/lib/5.32.1/amd64-freebsd/CORE/perl.h:667:21: note: expanded from macro 'STMT_END'
#   define STMT_END     )
                        ^
In file included from t/dyna_low.c:3:
In file included from /usr/home/cpan/pit/bare/perl-5.32.1/lib/5.32.1/amd64-freebsd/CORE/perl.h:6161:
/usr/home/cpan/pit/bare/perl-5.32.1/lib/5.32.1/amd64-freebsd/CORE/inline.h:2215:9: warning: '(' and '{' tokens introducing statement expression appear in different macro expansion contexts [-Wcompound-token-split-by-macro]
        CLEAR_ARGARRAY(av);
        ^~~~~~~~~~~~~~~~~~
/usr/home/cpan/pit/bare/perl-5.32.1/lib/5.32.1/amd64-freebsd/CORE/cop.h:667:5: note: expanded from macro 'CLEAR_ARGARRAY'
    STMT_START {                                                        \
    ^~~~~~~~~~
/usr/home/cpan/pit/bare/perl-5.32.1/lib/5.32.1/amd64-freebsd/CORE/perl.h:666:29: note: expanded from macro 'STMT_START'
#   define STMT_START   (void)( /* gcc supports "({ STATEMENTS; })" */
                              ^
/usr/home/cpan/pit/bare/perl-5.32.1/lib/5.32.1/amd64-freebsd/CORE/inline.h:2215:9: note: '{' token is here
        CLEAR_ARGARRAY(av);
        ^~~~~~~~~~~~~~~~~~
/usr/home/cpan/pit/bare/perl-5.32.1/lib/5.32.1/amd64-freebsd/CORE/cop.h:667:16: note: expanded from macro 'CLEAR_ARGARRAY'
    STMT_START {                                                        \
               ^
In file included from t/dyna_low.c:3:
In file included from /usr/home/cpan/pit/bare/perl-5.32.1/lib/5.32.1/amd64-freebsd/CORE/perl.h:6161:
/usr/home/cpan/pit/bare/perl-5.32.1/lib/5.32.1/amd64-freebsd/CORE/inline.h:2215:9: warning: '}' and ')' tokens terminating statement expression appear in different macro expansion contexts [-Wcompound-token-split-by-macro]
        CLEAR_ARGARRAY(av);
        ^~~~~~~~~~~~~~~~~~
/usr/home/cpan/pit/bare/perl-5.32.1/lib/5.32.1/amd64-freebsd/CORE/cop.h:671:5: note: expanded from macro 'CLEAR_ARGARRAY'
    } STMT_END
    ^
/usr/home/cpan/pit/bare/perl-5.32.1/lib/5.32.1/amd64-freebsd/CORE/inline.h:2215:9: note: ')' token is here
        CLEAR_ARGARRAY(av);
        ^~~~~~~~~~~~~~~~~~
/usr/home/cpan/pit/bare/perl-5.32.1/lib/5.32.1/amd64-freebsd/CORE/cop.h:671:7: note: expanded from macro 'CLEAR_ARGARRAY'
    } STMT_END
      ^~~~~~~~
/usr/home/cpan/pit/bare/perl-5.32.1/lib/5.32.1/amd64-freebsd/CORE/perl.h:667:21: note: expanded from macro 'STMT_END'
#   define STMT_END     )
                        ^
94 warnings generated.
t/dyna_low.t .. ok
t/pod_cvg.t ... skipped: Test::Pod::Coverage not available
t/pod_syn.t ... skipped: Test::Pod not available
All tests successful.
Files=3, Tests=6,  1 wallclock secs ( 0.05 usr  0.04 sys +  0.47 cusr  0.14 csys =  0.70 CPU)
Result: PASS


PREREQUISITES:

Here is a list of prerequisites you specified and versions we
managed to load:

	  Module Name                        Have     Want
	  Carp                               1.50        0
	  DynaLoader                      1.47_01        0
	  Exporter                           5.74        0
	  Module::Build                    0.4231        0
	  Test::More                     1.302191        0
	  parent                            0.238        0
	  strict                             1.11        0
	  warnings                           1.47        0

Perl module toolchain versions installed:
	Module Name                        Have
	CPANPLUS                         0.9914
	CPANPLUS::Dist::Build              0.90
	Cwd                                3.78
	ExtUtils::CBuilder             0.280236
	ExtUtils::Command                  7.64
	ExtUtils::Install                  2.20
	ExtUtils::MakeMaker                7.64
	ExtUtils::Manifest                 1.73
	ExtUtils::ParseXS                  3.44
	File::Spec                         3.78
	Module::Build                    0.4231
	Pod::Parser                           0
	Pod::Simple                        3.40
	Test2                          1.302191
	Test::Harness                      3.44
	Test::More                     1.302191
	version                          0.9929

******************************** NOTE ********************************
The comments above are created mechanically, possibly without manual
checking by the sender.  As there are many people performing automatic
tests on each upload to CPAN, it is likely that you will receive
identical messages about the same problem.

If you believe that the message is mistaken, please reply to the first
one with correction and/or additional informations, and do not take
it personally.  We appreciate your patience. :)
**********************************************************************

Additional comments:


This report was machine-generated by CPANPLUS::Dist::YACSmoke 1.08.
Powered by minismokebox version 0.68

CPANPLUS is prefering Build.PL

------------------------------
ENVIRONMENT AND OTHER CONTEXT
------------------------------

Environment variables:

    AUTOMATED_TESTING = 1
    LANG = C.UTF-8
    NONINTERACTIVE_TESTING = 1
    PATH = /usr/home/cpan/pit/jail/B1QkMl5FUw/bin:/sbin:/bin:/usr/sbin:/usr/bin:/usr/local/sbin:/usr/local/bin:/home/cpan/bin
    PERL5LIB = /usr/home/cpan/pit/jail/B1QkMl5FUw/lib/perl5:/usr/home/cpan/pit/bare/conf/perl-5.32.1/.cpanplus/5.32.1/build/rwkTIhGCRf/DynaLoader-Functions-0.004/blib/lib:/usr/home/cpan/pit/bare/conf/perl-5.32.1/.cpanplus/5.32.1/build/rwkTIhGCRf/DynaLoader-Functions-0.004/blib/arch
    PERL5_CPANPLUS_IS_RUNNING = 72038
    PERL5_CPANPLUS_IS_VERSION = 0.9914
    PERL5_MINISMOKEBOX = 0.68
    PERL5_YACSMOKE_BASE = /usr/home/cpan/pit/bare/conf/perl-5.32.1
    PERL_EXTUTILS_AUTOINSTALL = --defaultdeps
    PERL_LOCAL_LIB_ROOT = /usr/home/cpan/pit/jail/B1QkMl5FUw
    PERL_MB_OPT = --install_base "/usr/home/cpan/pit/jail/B1QkMl5FUw"
    PERL_MM_OPT = INSTALL_BASE=/usr/home/cpan/pit/jail/B1QkMl5FUw
    PERL_MM_USE_DEFAULT = 1
    SHELL = /usr/local/bin/bash
    TERM = screen

Perl special variables (and OS-specific diagnostics, for MSWin32):

    Perl: $^X = /usr/home/cpan/pit/bare/perl-5.32.1/bin/perl
    UID:  $<  = 1002
    EUID: $>  = 1002
    GID:  $(  = 1002 1002
    EGID: $)  = 1002 1002


-------------------------------


--

Summary of my perl5 (revision 5 version 32 subversion 1) configuration:
   
  Platform:
    osname=freebsd
    osvers=13.1-release
    archname=amd64-freebsd
    uname='freebsd frantic 13.1-release freebsd 13.1-release releng13.1-n250148-fc952ac2212 generic amd64 '
    config_args='-des -Dprefix=/usr/home/cpan/pit/bare/perl-5.32.1'
    hint=recommended
    useposix=true
    d_sigaction=define
    useithreads=undef
    usemultiplicity=undef
    use64bitint=define
    use64bitall=define
    uselongdouble=undef
    usemymalloc=n
    default_inc_excludes_dot=define
    bincompat5005=undef
  Compiler:
    cc='cc'
    ccflags ='-DHAS_FPSETMASK -DHAS_FLOATINGPOINT_H -fno-strict-aliasing -pipe -fstack-protector-strong -I/usr/local/include'
    optimize='-O2'
    cppflags='-DHAS_FPSETMASK -DHAS_FLOATINGPOINT_H -fno-strict-aliasing -pipe -fstack-protector-strong -I/usr/local/include'
    ccversion=''
    gccversion='FreeBSD Clang 13.0.0 (git@github.com:llvm/llvm-project.git llvmorg-13.0.0-0-gd7b669b3a303)'
    gccosandvers=''
    intsize=4
    longsize=8
    ptrsize=8
    doublesize=8
    byteorder=12345678
    doublekind=3
    d_longlong=define
    longlongsize=8
    d_longdbl=define
    longdblsize=16
    longdblkind=3
    ivtype='long'
    ivsize=8
    nvtype='double'
    nvsize=8
    Off_t='off_t'
    lseeksize=8
    alignbytes=8
    prototype=define
  Linker and Libraries:
    ld='cc'
    ldflags ='-Wl,-E  -fstack-protector-strong -L/usr/local/lib'
    libpth=/usr/lib /usr/local/lib /usr/lib/clang/13.0.0/lib /usr/lib
    libs=-lpthread -lgdbm -ldl -lm -lcrypt -lutil -lc
    perllibs=-lpthread -ldl -lm -lcrypt -lutil -lc
    libc=
    so=so
    useshrplib=false
    libperl=libperl.a
    gnulibc_version=''
  Dynamic Linking:
    dlsrc=dl_dlopen.xs
    dlext=so
    d_dlsymun=undef
    ccdlflags=' '
    cccdlflags='-DPIC -fPIC'
    lddlflags='-shared  -L/usr/local/lib -fstack-protector-strong'


Characteristics of this binary (from libperl): 
  Compile-time options:
    HAS_TIMES
    PERLIO_LAYERS
    PERL_COPY_ON_WRITE
    PERL_DONT_CREATE_GVSV
    PERL_MALLOC_WRAP
    PERL_OP_PARENT
    PERL_PRESERVE_IVUV
    USE_64_BIT_ALL
    USE_64_BIT_INT
    USE_LARGE_FILES
    USE_LOCALE
    USE_LOCALE_COLLATE
    USE_LOCALE_CTYPE
    USE_LOCALE_NUMERIC
    USE_LOCALE_TIME
    USE_PERLIO
    USE_PERL_ATOF
  Locally applied patches:
    Devel::PatchPerl 2.08
  Built under freebsd
  Compiled at Jul 25 2022 01:19:08
  %ENV:
    PERL5LIB="/usr/home/cpan/pit/jail/B1QkMl5FUw/lib/perl5:/usr/home/cpan/pit/bare/conf/perl-5.32.1/.cpanplus/5.32.1/build/rwkTIhGCRf/DynaLoader-Functions-0.004/blib/lib:/usr/home/cpan/pit/bare/conf/perl-5.32.1/.cpanplus/5.32.1/build/rwkTIhGCRf/DynaLoader-Functions-0.004/blib/arch"
    PERL5_CPANPLUS_IS_RUNNING="72038"
    PERL5_CPANPLUS_IS_VERSION="0.9914"
    PERL5_MINISMOKEBOX="0.68"
    PERL5_YACSMOKE_BASE="/usr/home/cpan/pit/bare/conf/perl-5.32.1"
    PERL_EXTUTILS_AUTOINSTALL="--defaultdeps"
    PERL_LOCAL_LIB_ROOT="/usr/home/cpan/pit/jail/B1QkMl5FUw"
    PERL_MB_OPT="--install_base "/usr/home/cpan/pit/jail/B1QkMl5FUw""
    PERL_MM_OPT="INSTALL_BASE=/usr/home/cpan/pit/jail/B1QkMl5FUw"
    PERL_MM_USE_DEFAULT="1"
  @INC:
    /usr/home/cpan/pit/jail/B1QkMl5FUw/lib/perl5/5.32.1/amd64-freebsd
    /usr/home/cpan/pit/jail/B1QkMl5FUw/lib/perl5/5.32.1
    /usr/home/cpan/pit/jail/B1QkMl5FUw/lib/perl5/amd64-freebsd
    /usr/home/cpan/pit/jail/B1QkMl5FUw/lib/perl5
    /usr/home/cpan/pit/bare/conf/perl-5.32.1/.cpanplus/5.32.1/build/rwkTIhGCRf/DynaLoader-Functions-0.004/blib/lib
    /usr/home/cpan/pit/bare/conf/perl-5.32.1/.cpanplus/5.32.1/build/rwkTIhGCRf/DynaLoader-Functions-0.004/blib/arch
    /usr/home/cpan/pit/bare/perl-5.32.1/lib/site_perl/5.32.1/amd64-freebsd
    /usr/home/cpan/pit/bare/perl-5.32.1/lib/site_perl/5.32.1
    /usr/home/cpan/pit/bare/perl-5.32.1/lib/5.32.1/amd64-freebsd
    /usr/home/cpan/pit/bare/perl-5.32.1/lib/5.32.1