XML-XPath v1.48 Perl 5 v5.39.8 amd64-midnightbsd-thread-multi

Status
Pass
From
Carlos Guevara
Dist
XML-XPath v1.48
Platform
Perl 5 v5.39.8 amd64-midnightbsd-thread-multi
Date
2024-02-01 08:28:26
ID
df17b22e-c0db-11ee-a7db-35949b9d104b
This distribution has been tested as part of the CPAN Testers
project, supporting the Perl programming language.  See
http://wiki.cpantesters.org/ for more information or email
questions to cpan-testers-discuss@perl.org


--
Dear Mohammad S Anwar,

This is a computer-generated report for XML-XPath-1.48
on perl 5.39.8, created by CPAN-Reporter-1.2019.

Thank you for uploading your work to CPAN.  Congratulations!
All tests were successful.

Sections of this report:

    * Tester comments
    * Program output
    * Prerequisites
    * Environment and other context

------------------------------
TESTER COMMENTS
------------------------------

Additional comments from tester:

this report is from an automated smoke testing program
and was not reviewed by a human for accuracy

------------------------------
PROGRAM OUTPUT
------------------------------

Output from '/usr/bin/make test':

PERL_DL_NONLAZY=1 "/usr/home/cpan/bin/perl/bin/perl5.39.8" "-MExtUtils::Command::MM" "-MTest::Harness" "-e" "undef *Test::Harness::Switches; test_harness(0, 'blib/lib', 'blib/arch')" t/*.t
# Testing XML::XPath 1.48, Perl 5.039008, /usr/home/cpan/bin/perl/bin/perl5.39.8
t/00load.t .................... ok
t/01basic.t ................... ok
t/02descendant.t .............. ok
t/03star.t .................... ok
t/04pos.t ..................... ok
t/05attrib.t .................. ok
t/06attrib_val.t .............. ok
t/07count.t ................... ok
t/08name.t .................... ok
t/09a_string_length.t ......... ok
t/09string_length.t ........... ok
t/10pipe.t .................... ok
t/11axischild.t ............... ok
t/12axisdescendant.t .......... ok
t/13axisparent.t .............. ok
t/14axisancestor.t ............ ok
t/15axisfol_sib.t ............. ok
t/16axisprec_sib.t ............ ok
t/17axisfollowing.t ........... ok
t/18axispreceding.t ........... ok
t/19axisd_or_s.t .............. ok
t/20axisa_or_s.t .............. ok
t/21allnodes.t ................ ok
t/22name_select.t ............. ok
t/23func.t .................... ok
t/24namespaces.t .............. ok
t/25scope.t ................... ok
t/26predicate.t ............... ok
t/27asxml.t ................... ok
t/28ancestor2.t ............... ok
t/29desc_with_predicate.t ..... ok
t/30lang.t .................... ok
t/31dots.t .................... ok
t/32duplicate_nodes.t ......... ok
t/33getnodetext.t ............. ok
t/34non_abbreviated_attrib.t .. ok
t/35namespace_uri.t ........... ok
t/36substring.t ............... ok
t/37concat.t .................. ok
t/38starts_with.t ............. ok
t/39contains.t ................ ok
t/40substring_before.t ........ ok
t/41substring_after.t ......... ok
t/42create_node.t ............. ok
t/43op_div.t .................. ok
t/44test_compare.t ............ ok
t/45cmp_nodeset.t ............. ok
t/46context.t ................. ok
t/47position.t ................ ok
t/48translate.t ............... ok
t/49literal.t ................. ok
t/50xmlxpathparsercache.t ..... ok
t/51elementname.t ............. ok
t/52matches.t ................. ok
t/cleanup.t ................... ok
t/insert.t .................... ok
t/manifest.t .................. skipped: Test::CheckManifest 0.9 required
t/meta-json.t ................. skipped: Test::CPAN::Meta::JSON required for testing MYMETA.json
t/meta-yml.t .................. skipped: Test::CPAN::Meta required for testing MYMETA.yml
t/rdf.t ....................... ok
t/remove.t .................... ok
t/stress.t .................... ok
All tests successful.
Files=62, Tests=328,  4 wallclock secs ( 0.13 usr  0.02 sys +  2.78 cusr  0.46 csys =  3.40 CPU)
Result: PASS

------------------------------
PREREQUISITES
------------------------------

Prerequisite modules loaded:

requires:

    Module              Need     Have    
    ------------------- -------- --------
    perl                5.010001 5.039008
    Scalar::Util        1.45     1.63    
    XML::Parser         2.23     2.47    

build_requires:

    Module              Need     Have    
    ------------------- -------- --------
    Path::Tiny          0.076    0.144   
    Test::More          0        1.302198

configure_requires:

    Module              Need     Have    
    ------------------- -------- --------
    ExtUtils::MakeMaker 0        7.70    


------------------------------
ENVIRONMENT AND OTHER CONTEXT
------------------------------

Environment variables:

    AUTOMATED_TESTING = 1
    DATE_MANIP_TEST_DM5 = 1
    LC_ALL = C
    NONINTERACTIVE_TESTING = 1
    NO_NETWORK_TESTING = 1
    PATH = /home/cpan/bin/perl/bin:/home/cpan/bin:/sbin:/bin:/usr/sbin:/usr/bin:/usr/games:/usr/local/sbin:/usr/local/bin:/home/cpan/bin
    PERL5LIB = 
    PERL5OPT = 
    PERL5_CPANPLUS_IS_RUNNING = 79351
    PERL5_CPAN_IS_RUNNING = 79351
    PERL_MM_USE_DEFAULT = 1
    PERL_USE_UNSAFE_INC = 1
    SHELL = /usr/local/bin/bash
    TERM = screen
    TMPDIR = /home/cpan/tmp

Perl special variables (and OS-specific diagnostics, for MSWin32):

    $^X = /usr/home/cpan/bin/perl/bin/perl5.39.8
    $UID/$EUID = 1002 / 1002
    $GID = 1002 1002
    $EGID = 1002 1002

Perl module toolchain versions installed:

    Module              Have    
    ------------------- --------
    CPAN                2.36    
    CPAN::Meta          2.150010
    Cwd                 3.90    
    ExtUtils::CBuilder  0.280240
    ExtUtils::Command   7.70    
    ExtUtils::Install   2.22    
    ExtUtils::MakeMaker 7.70    
    ExtUtils::Manifest  1.75    
    ExtUtils::ParseXS   3.51    
    File::Spec          3.90    
    JSON                4.10    
    JSON::PP            4.16    
    Module::Build       0.4234  
    Module::Signature   n/a     
    Parse::CPAN::Meta   2.150010
    Test2               1.302198
    Test::Harness       3.48    
    Test::More          1.302198
    YAML                1.31    
    YAML::Syck          1.34    
    version             0.9930  


--

Summary of my perl5 (revision 5 version 39 subversion 8) configuration:
  Commit id: 85857715f96ef9f591dd5ca0322dc293e1f07867
  Platform:
    osname=midnightbsd
    osvers=3.1.1
    archname=amd64-midnightbsd-thread-multi
    uname='midnightbsd cjg-midnightbsd3 3.1.1 midnightbsd 3.1.1 #7n12801-7389a9228b(stable3.1)-dirty: wed nov 8 16:02:55 est 2023 root@m3164b:usrobjusrsrcamd64.amd64sysgeneric amd64 '
    config_args='-des -Dprefix=/home/cpan/bin/perl -Dscriptdir=/home/cpan/bin/perl/bin -Dusedevel -Duse64bitall -Duseithreads'
    hint=recommended
    useposix=true
    d_sigaction=define
    useithreads=define
    usemultiplicity=define
    use64bitint=define
    use64bitall=define
    uselongdouble=undef
    usemymalloc=n
    default_inc_excludes_dot=define
  Compiler:
    cc='cc'
    ccflags ='-DHAS_FPSETMASK -DHAS_FLOATINGPOINT_H -fno-strict-aliasing -pipe -fstack-protector-strong -I/usr/local/include'
    optimize='-O'
    cppflags='-DHAS_FPSETMASK -DHAS_FLOATINGPOINT_H -fno-strict-aliasing -pipe -fstack-protector-strong -I/usr/local/include'
    ccversion=''
    gccversion='MidnightBSD Clang 13.0.0 (git@github.com:llvm/llvm-project.git llvmorg-13.0.0-0-gd7b669b3a303)'
    gccosandvers=''
    intsize=4
    longsize=8
    ptrsize=8
    doublesize=8
    byteorder=12345678
    doublekind=3
    d_longlong=define
    longlongsize=8
    d_longdbl=define
    longdblsize=16
    longdblkind=3
    ivtype='long'
    ivsize=8
    nvtype='double'
    nvsize=8
    Off_t='off_t'
    lseeksize=8
    alignbytes=8
    prototype=define
  Linker and Libraries:
    ld='cc'
    ldflags ='-pthread -Wl,-E  -fstack-protector-strong -L/usr/local/lib'
    libpth=/usr/lib /usr/local/lib /usr/lib/clang/13.0.0/lib
    libs=-lpthread -ldl -lm -lcrypt
    perllibs=-lpthread -ldl -lm -lcrypt
    libc=
    so=so
    useshrplib=false
    libperl=libperl.a
    gnulibc_version=''
  Dynamic Linking:
    dlsrc=dl_dlopen.xs
    dlext=so
    d_dlsymun=undef
    ccdlflags=' '
    cccdlflags='-DPIC -fPIC'
    lddlflags='-shared  -L/usr/local/lib -fstack-protector-strong'


Characteristics of this binary (from libperl): 
  Compile-time options:
    HAS_LONG_DOUBLE
    HAS_STRTOLD
    HAS_TIMES
    MULTIPLICITY
    PERLIO_LAYERS
    PERL_COPY_ON_WRITE
    PERL_DONT_CREATE_GVSV
    PERL_HASH_FUNC_SIPHASH13
    PERL_HASH_USE_SBOX32
    PERL_MALLOC_WRAP
    PERL_OP_PARENT
    PERL_PRESERVE_IVUV
    PERL_USE_DEVEL
    PERL_USE_SAFE_PUTENV
    USE_64_BIT_ALL
    USE_64_BIT_INT
    USE_ITHREADS
    USE_LARGE_FILES
    USE_LOCALE
    USE_LOCALE_COLLATE
    USE_LOCALE_CTYPE
    USE_LOCALE_NUMERIC
    USE_LOCALE_TIME
    USE_PERLIO
    USE_PERL_ATOF
    USE_REENTRANT_API
    USE_THREAD_SAFE_LOCALE
  Built under midnightbsd
  Compiled at Jan 31 2024 23:01:48
  %ENV:
    PERL5LIB=""
    PERL5OPT=""
    PERL5_CPANPLUS_IS_RUNNING="79351"
    PERL5_CPAN_IS_RUNNING="79351"
    PERL_MM_USE_DEFAULT="1"
    PERL_USE_UNSAFE_INC="1"
  @INC:
    /home/cpan/bin/perl/lib/site_perl/5.39.8/amd64-midnightbsd-thread-multi
    /home/cpan/bin/perl/lib/site_perl/5.39.8
    /home/cpan/bin/perl/lib/5.39.8/amd64-midnightbsd-thread-multi
    /home/cpan/bin/perl/lib/5.39.8
    .