DateTime-Format-XMLTV v1.001 Perl 5 v5.28.1 OpenBSD.amd64-openbsd-multi

Status
Pass
From
Alceu Rodrigues de Freitas Junior
Dist
DateTime-Format-XMLTV v1.001
Platform
Perl 5 v5.28.1 OpenBSD.amd64-openbsd-multi
Date
2019-04-22 22:27:54
ID
df17d87e-654d-11e9-8a03-8d604eb4010e
This distribution has been tested as part of the CPAN Testers
project, supporting the Perl programming language.  See
http://wiki.cpantesters.org/ for more information or email
questions to cpan-testers-discuss@perl.org


--
Dear Christopher J. Madsen,

This is a computer-generated report for DateTime-Format-XMLTV-1.001
on perl 5.28.1, created by CPAN-Reporter-1.2018.

Thank you for uploading your work to CPAN.  Congratulations!
All tests were successful.

Sections of this report:

    * Tester comments
    * Program output
    * Prerequisites
    * Environment and other context

------------------------------
TESTER COMMENTS
------------------------------

Additional comments from tester:

this report is from an automated smoke testing program
and was not reviewed by a human for accuracy

------------------------------
PROGRAM OUTPUT
------------------------------

Output from '/usr/bin/make test':

PERL_DL_NONLAZY=1 "/home/goku/perl5/perlbrew/perls/perl-5.28.1-no-ithreads/bin/perl" "-MExtUtils::Command::MM" "-MTest::Harness" "-e" "undef *Test::Harness::Switches; test_harness(0, 'blib/lib', 'blib/arch')" t/*.t
# Listing %INC
#                                                           AutoLoader 5.74
#                                                                    B 1.74
#                                                 B::Hooks::EndOfScope 0.24
#                                             B::Hooks::EndOfScope::XS 0.24
#                                                                 Carp 1.50
#                                             Class::Data::Inheritable 0.08
#                                                     Class::Inspector 1.34
#                                                     Class::Singleton 1.5
#                                                    Class::XSAccessor 1.19
#                                             Class::XSAccessor::Heavy 1.19
#                                                               Config 6.27
#                                                                  Cwd 3.75
#                                                             DateTime 1.51
#                                                   DateTime::Duration 1.51
#                                            DateTime::Format::Builder 0.82
#                                    DateTime::Format::Builder::Parser 0.82
#                          DateTime::Format::Builder::Parser::Dispatch 0.82
#                             DateTime::Format::Builder::Parser::Quick 0.82
#                             DateTime::Format::Builder::Parser::Regex 0.82
#                          DateTime::Format::Builder::Parser::Strptime 0.82
#                           DateTime::Format::Builder::Parser::generic 0.82
#                                           DateTime::Format::Strptime 1.76
#                                    DateTime::Format::Strptime::Types 1.76
#                                                    DateTime::Helpers 1.51
#                                                   DateTime::Infinite 1.51
#                                                     DateTime::Locale 1.24
#                                               DateTime::Locale::Base 1.24
#                                               DateTime::Locale::Data 1.24
#                                           DateTime::Locale::FromData 1.24
#                                               DateTime::Locale::Util 1.24
#                                                   DateTime::TimeZone 2.35
#                                          DateTime::TimeZone::Catalog 2.35
#                                         DateTime::TimeZone::Floating 2.35
#                                            DateTime::TimeZone::Local 2.35
#                                       DateTime::TimeZone::OffsetOnly 2.35
#                                  DateTime::TimeZone::OlsonDB::Change 2.35
#                                              DateTime::TimeZone::UTC 2.35
#                                                      DateTime::Types 1.51
#                                                    Devel::StackTrace 2.03
#                                             Devel::StackTrace::Frame 2.03
#                                                           DynaLoader 1.45
#                                                        Eval::Closure 0.14
#                                                     Exception::Class 1.44
#                                               Exception::Class::Base 1.44
#                                                             Exporter 5.73
#                                                      Exporter::Heavy 5.73
#                                                       Exporter::Tiny 1.002001
#                                                                Fcntl 1.13
#                                                       File::ShareDir 1.116
#                                                           File::Spec 3.75
#                                                     File::Spec::Unix 3.75
#                                                      List::MoreUtils 0.428
#                                                  List::MoreUtils::PP 0.428
#                                                  List::MoreUtils::XS 0.428
#                                                           List::Util 1.5
#                                                           Log::Agent 1.003
#                                               Log::Agent::Formatting undef
#                                                  Log::Agent::Message undef
#                                               Log::Agent::Priorities undef
#                                                          MRO::Compat 0.13
#                                               Module::Implementation 0.09
#                                                      Module::Runtime 0.016
#                                                                POSIX 1.84
#                                                       Package::Stash 0.38
#                                                   Package::Stash::XS 0.29
#                                                         Params::Util 1.07
#                                                     Params::Validate 1.29
#                                          Params::Validate::Constants 1.29
#                                                 Params::Validate::XS 1.29
#                                           Params::ValidationCompiler 0.30
#                                 Params::ValidationCompiler::Compiler 0.30
#                  Params::ValidationCompiler::Exception::BadArguments 1.1
#                  Params::ValidationCompiler::Exception::Named::Extra 1.1
#               Params::ValidationCompiler::Exception::Named::Required 1.1
#             Params::ValidationCompiler::Exception::Positional::Extra 1.1
#          Params::ValidationCompiler::Exception::Positional::Required 1.1
# Params::ValidationCompiler::Exception::ValidationFailedForMooseTypeConstraint 1.1
#                               Params::ValidationCompiler::Exceptions 0.30
#                                                            Ref::Util 0.204
#                                                        Ref::Util::XS 0.117
#                                                           Role::Tiny 2.000006
#                                                     Role::Tiny::With 2.000006
#                                                         Scalar::Util 1.5
#                                                               Specio 0.43
#                                                     Specio::Coercion 0.43
#                                           Specio::Constraint::AnyCan 0.43
#                                             Specio::Constraint::Enum 0.43
#                                        Specio::Constraint::ObjectCan 0.43
#                                        Specio::Constraint::ObjectIsa 0.43
#                                  Specio::Constraint::Parameterizable 0.43
#                                    Specio::Constraint::Parameterized 0.43
#                                    Specio::Constraint::Role::CanType 0.43
#                                  Specio::Constraint::Role::Interface 0.43
#                                    Specio::Constraint::Role::IsaType 0.43
#                                           Specio::Constraint::Simple 0.43
#                                            Specio::Constraint::Union 0.43
#                                                      Specio::Declare 0.43
#                                                   Specio::DeclaredAt 0.43
#                                                    Specio::Exception 0.43
#                                                     Specio::Exporter 0.43
#                                                      Specio::Helpers 0.43
#                                            Specio::Library::Builtins 0.43
#                                             Specio::Library::Numeric 0.43
#                                              Specio::Library::String 0.43
#                                                           Specio::OO 0.43
#                                                  Specio::PartialDump 0.43
#                                                     Specio::Registry 0.43
#                                              Specio::Role::Inlinable 0.43
#                                                   Specio::TypeChecks 0.43
#                                                             Storable 3.1204
#                                                      Storable::Limit undef
#                                           Sub::Exporter::Progressive 0.001013
#                                                        Sub::Identify 0.14
#                                                            Sub::Util 1.5
#                                                            Tie::Hash 1.05
#                                                            Try::Tiny 0.30
#                                                      Variable::Magic 0.62
#                                                             XSLoader 0.24
#                                                                 base 2.23
#                                                             constant 1.33
#                                                              integer 1.01
#                                                                  mro 1.22
#                                                 namespace::autoclean 0.28
#                                                     namespace::clean 0.27
#                                              namespace::clean::_Util undef
#                                                             overload 1.30
#                                                          overloading 0.02
#                                                               parent 0.237
#                                                                   re 0.36
#                                                               strict 1.11
#                                                                 utf8 1.21
#                                                                 vars 1.04
#                                                             warnings 1.42
#                                                   warnings::register 1.04
t/00-all_prereqs.t .. ok
# Testing DateTime::Format::XMLTV 1.001
t/00-load.t ......... ok
t/10-parse.t ........ ok
t/20-format.t ....... ok
All tests successful.
Files=4, Tests=61,  2 wallclock secs ( 0.03 usr  0.01 sys +  1.53 cusr  0.44 csys =  2.01 CPU)
Result: PASS

------------------------------
PREREQUISITES
------------------------------

Prerequisite modules loaded:

requires:

    Module                    Need Have    
    ------------------------- ---- --------
    DateTime::Format::Builder 0.80 0.82    

build_requires:

    Module                    Need Have    
    ------------------------- ---- --------
    Test::More                0.88 1.302162

configure_requires:

    Module                    Need Have    
    ------------------------- ---- --------
    ExtUtils::MakeMaker       6.30 7.34    


------------------------------
ENVIRONMENT AND OTHER CONTEXT
------------------------------

Environment variables:

    AUTOMATED_TESTING = 1
    DBD_MYSQL_TESTDB = test
    DBD_MYSQL_TESTHOST = localhost
    DBD_MYSQL_TESTPASSWORD = 
    DBD_MYSQL_TESTPORT = 3306
    DBD_MYSQL_TESTUSER = goku
    EXTENDED_TESTING = 1
    PATH = /home/goku/perl5/perlbrew/bin:/home/goku/perl5/perlbrew/perls/perl-5.28.1-no-ithreads/bin:/home/goku/bin:/usr/bin:/bin:/usr/sbin:/sbin:/usr/X11R6/bin:/usr/local/bin:/usr/local/sbin
    PERL5LIB = 
    PERL5OPT = 
    PERL5_CPANPLUS_IS_RUNNING = 45404
    PERL5_CPAN_IS_RUNNING = 45404
    PERL5_CPAN_IS_RUNNING_IN_RECURSION = 58965,45404
    PERLBREW_HOME = /home/goku/.perlbrew
    PERLBREW_MANPATH = /home/goku/perl5/perlbrew/perls/perl-5.28.1-no-ithreads/man
    PERLBREW_PATH = /home/goku/perl5/perlbrew/bin:/home/goku/perl5/perlbrew/perls/perl-5.28.1-no-ithreads/bin
    PERLBREW_PERL = perl-5.28.1-no-ithreads
    PERLBREW_ROOT = /home/goku/perl5/perlbrew
    PERLBREW_SHELLRC_VERSION = 0.86
    PERLBREW_VERSION = 0.86
    PERL_CR_SMOKER_CURRENT = PostScript-ScheduleGrid-XMLTV-0.04
    PERL_EXTUTILS_AUTOINSTALL = --defaultdeps
    PERL_MM_USE_DEFAULT = 1
    PERL_USE_UNSAFE_INC = 1
    SHELL = /usr/local/bin/bash
    TERM = xterm

Perl special variables (and OS-specific diagnostics, for MSWin32):

    $^X = /home/goku/perl5/perlbrew/perls/perl-5.28.1-no-ithreads/bin/perl
    $UID/$EUID = 1001 / 1001
    $GID = 999 999 1001
    $EGID = 999 999 1001

Perl module toolchain versions installed:

    Module              Have    
    ------------------- --------
    CPAN                2.26    
    CPAN::Meta          2.150010
    Cwd                 3.75    
    ExtUtils::CBuilder  0.280231
    ExtUtils::Command   7.34    
    ExtUtils::Install   2.14    
    ExtUtils::MakeMaker 7.34    
    ExtUtils::Manifest  1.72    
    ExtUtils::ParseXS   3.35    
    File::Spec          3.75    
    JSON                4.02    
    JSON::PP            4.02    
    Module::Build       0.4229  
    Module::Signature   n/a     
    Parse::CPAN::Meta   2.150010
    Test::Harness       3.42    
    Test::More          1.302162
    YAML                1.27    
    YAML::Syck          n/a     
    version             0.9924  


--

Summary of my perl5 (revision 5 version 28 subversion 1) configuration:
   
  Platform:
    osname=openbsd
    osvers=6.4
    archname=OpenBSD.amd64-openbsd-multi
    uname='openbsd cpan-smoker-openbsd 6.4 generic.mp#364 amd64 '
    config_args='-de -Dprefix=/home/goku/perl5/perlbrew/perls/perl-5.28.1-no-ithreads -Dman1dir=none -Dman3dir=none -Dusemultiplicity -Duse64bitint -Duse64bitall -Aeval:scriptdir=/home/goku/perl5/perlbrew/perls/perl-5.28.1-no-ithreads/bin'
    hint=recommended
    useposix=true
    d_sigaction=define
    useithreads=undef
    usemultiplicity=define
    use64bitint=define
    use64bitall=define
    uselongdouble=undef
    usemymalloc=n
    default_inc_excludes_dot=define
    bincompat5005=undef
  Compiler:
    cc='cc'
    ccflags ='-fno-strict-aliasing -pipe -fstack-protector-strong -I/usr/local/include -D_FORTIFY_SOURCE=2'
    optimize='-O2'
    cppflags='-fno-strict-aliasing -pipe -fstack-protector-strong -I/usr/local/include'
    ccversion=''
    gccversion='4.2.1 Compatible OpenBSD Clang 6.0.0 (tags/RELEASE_600/final)'
    gccosandvers=''
    intsize=4
    longsize=8
    ptrsize=8
    doublesize=8
    byteorder=12345678
    doublekind=3
    d_longlong=define
    longlongsize=8
    d_longdbl=define
    longdblsize=16
    longdblkind=3
    ivtype='long'
    ivsize=8
    nvtype='double'
    nvsize=8
    Off_t='off_t'
    lseeksize=8
    alignbytes=8
    prototype=define
  Linker and Libraries:
    ld='cc'
    ldflags ='-Wl,-E  -fstack-protector-strong -L/usr/local/lib'
    libpth=/usr/lib /usr/local/lib
    libs=-lpthread -lm -lutil -lc
    perllibs=-lpthread -lm -lutil -lc
    libc=/usr/lib/libc.so.92.5
    so=so
    useshrplib=false
    libperl=libperl.a
    gnulibc_version=''
  Dynamic Linking:
    dlsrc=dl_dlopen.xs
    dlext=so
    d_dlsymun=undef
    ccdlflags=' '
    cccdlflags='-DPIC -fPIC '
    lddlflags='-shared -fPIC  -L/usr/local/lib -fstack-protector-strong'


Characteristics of this binary (from libperl): 
  Compile-time options:
    HAS_TIMES
    MULTIPLICITY
    PERLIO_LAYERS
    PERL_COPY_ON_WRITE
    PERL_DONT_CREATE_GVSV
    PERL_IMPLICIT_CONTEXT
    PERL_MALLOC_WRAP
    PERL_OP_PARENT
    PERL_PRESERVE_IVUV
    USE_64_BIT_ALL
    USE_64_BIT_INT
    USE_LARGE_FILES
    USE_LOCALE
    USE_LOCALE_COLLATE
    USE_LOCALE_CTYPE
    USE_LOCALE_NUMERIC
    USE_LOCALE_TIME
    USE_PERLIO
    USE_PERL_ATOF
  Locally applied patches:
    Devel::PatchPerl 1.52
  Built under openbsd
  Compiled at Mar 22 2019 12:28:09
  %ENV:
    PERL5LIB=""
    PERL5OPT=""
    PERL5_CPANPLUS_IS_RUNNING="45404"
    PERL5_CPAN_IS_RUNNING="45404"
    PERL5_CPAN_IS_RUNNING_IN_RECURSION="58965,45404"
    PERLBREW_HOME="/home/goku/.perlbrew"
    PERLBREW_MANPATH="/home/goku/perl5/perlbrew/perls/perl-5.28.1-no-ithreads/man"
    PERLBREW_PATH="/home/goku/perl5/perlbrew/bin:/home/goku/perl5/perlbrew/perls/perl-5.28.1-no-ithreads/bin"
    PERLBREW_PERL="perl-5.28.1-no-ithreads"
    PERLBREW_ROOT="/home/goku/perl5/perlbrew"
    PERLBREW_SHELLRC_VERSION="0.86"
    PERLBREW_VERSION="0.86"
    PERL_CR_SMOKER_CURRENT="PostScript-ScheduleGrid-XMLTV-0.04"
    PERL_EXTUTILS_AUTOINSTALL="--defaultdeps"
    PERL_MM_USE_DEFAULT="1"
    PERL_USE_UNSAFE_INC="1"
  @INC:
    /home/goku/perl5/perlbrew/perls/perl-5.28.1-no-ithreads/lib/site_perl/5.28.1/OpenBSD.amd64-openbsd-multi
    /home/goku/perl5/perlbrew/perls/perl-5.28.1-no-ithreads/lib/site_perl/5.28.1
    /home/goku/perl5/perlbrew/perls/perl-5.28.1-no-ithreads/lib/5.28.1/OpenBSD.amd64-openbsd-multi
    /home/goku/perl5/perlbrew/perls/perl-5.28.1-no-ithreads/lib/5.28.1
    .