HTML-FormBuilder v0.13 Perl 5 v5.30.3 amd64-freebsd
- Status
- Pass
- From
- Slaven Rezić
- Dist
-
HTML-FormBuilder v0.13
- Platform
- Perl 5 v5.30.3 amd64-freebsd
- Date
- 2022-11-09 06:22:22
- ID
- df1d485c-5ff6-11ed-a40b-3b2b6e8775ea
This distribution has been tested as part of the CPAN Testers
project, supporting the Perl programming language. See
http://wiki.cpantesters.org/ for more information or email
questions to cpan-testers-discuss@perl.org
--
Dear Binary.com,
This is a computer-generated report for HTML-FormBuilder-0.13
on perl 5.30.3, created by CPAN-Reporter-1.2018.
Thank you for uploading your work to CPAN. Congratulations!
All tests were successful.
Sections of this report:
* Tester comments
* Program output
* Prerequisites
* Environment and other context
------------------------------
TESTER COMMENTS
------------------------------
Additional comments from tester:
none provided
------------------------------
PROGRAM OUTPUT
------------------------------
Output from '/usr/bin/make test':
PERL_DL_NONLAZY=1 "/usr/perl5.30.3p/bin/perl" "-MExtUtils::Command::MM" "-MTest::Harness" "-e" "undef *Test::Harness::Switches; test_harness(0, 'blib/lib', 'blib/arch')" t/*.t t/formbuilder/*.t
t/00-check-deps.t ........... ok
t/00-compile.t .............. ok
#
# Versions for all modules listed in MYMETA.json (including optional ones):
#
# === Configure Requires ===
#
# Module Want Have
# ------------------- ---- ----
# ExtUtils::MakeMaker 7.64 7.64
#
# === Build Requires ===
#
# Module Want Have
# ------------------- ---- ----
# ExtUtils::MakeMaker any 7.64
#
# === Test Requires ===
#
# Module Want Have
# ------------------- ----- --------
# Exporter any 5.74
# ExtUtils::MakeMaker any 7.64
# File::Spec any 3.78
# FindBin any 1.52
# IO::Handle any 1.45
# IPC::Open3 any 1.20
# Test::CheckDeps 0.010 0.010
# Test::Exception any 0.43
# Test::FailWarnings any 0.008
# Test::More 0.96 1.302191
# Test::Perl::Critic any 1.04
# lib any 0.65
#
# === Test Recommends ===
#
# Module Want Have
# ---------- -------- --------
# CPAN::Meta 2.120900 2.150010
#
# === Runtime Requires ===
#
# Module Want Have
# ----------------- ---- --------
# Carp any 1.50
# Class::Std::Utils any 0.0.3
# Encode any 3.19
# HTML::Entities any 3.78
# Moo any 2.005004
# Scalar::Util any 1.63
# String::Random any 0.31
# URI::Escape any 5.16
# namespace::clean any 0.27
# strict any 1.11
# warnings any 1.44
#
t/00-report-prereqs.t ....... ok
t/basic.t ................... ok
t/csrf.t .................... ok
t/formbuilder.t ............. ok
t/formbuilder/base.t ........ ok
t/formbuilder/field.t ....... ok
t/formbuilder/fieldset.t .... ok
t/formbuilder/select.t ...... ok
t/formbuilder/validation.t .. ok
t/formbuilder_output.t ...... ok
All tests successful.
Files=12, Tests=178, 1 wallclock secs ( 0.03 usr 0.04 sys + 1.05 cusr 0.21 csys = 1.34 CPU)
Result: PASS
------------------------------
PREREQUISITES
------------------------------
Prerequisite modules loaded:
requires:
Module Need Have
------------------- ----- --------
Carp 0 1.50
Class::Std::Utils 0 0.0.3
Encode 0 3.19
HTML::Entities 0 3.78
Moo 0 2.005004
namespace::clean 0 0.27
perl 5.014 5.030003
Scalar::Util 0 1.63
strict 0 1.11
String::Random 0 0.31
URI::Escape 0 5.16
warnings 0 1.44
build_requires:
Module Need Have
------------------- ----- --------
Exporter 0 5.74
ExtUtils::MakeMaker 0 7.64
File::Spec 0 3.78
FindBin 0 1.52
IO::Handle 0 1.45
IPC::Open3 0 1.20
lib 0 0.65
Test::CheckDeps 0.010 0.010
Test::Exception 0 0.43
Test::FailWarnings 0 0.008
Test::More 0.96 1.302191
Test::Perl::Critic 0 1.04
configure_requires:
Module Need Have
------------------- ----- --------
ExtUtils::MakeMaker 7.64 7.64
------------------------------
ENVIRONMENT AND OTHER CONTEXT
------------------------------
Environment variables:
PATH = /usr/local/bin:/usr/bin:/bin:/usr/local/sbin:/usr/sbin:/sbin:/home/cpansand/bin/sh:/home/cpansand/bin:/usr/games:/home/cpansand/devel:/usr/home/eserte/src/srezic-misc/scripts
PERL5LIB = /home/cpansand/.cpan/build/2022110906/Class-Std-Utils-v0.0.3-2/blib/arch:/home/cpansand/.cpan/build/2022110906/Class-Std-Utils-v0.0.3-2/blib/lib
PERL5OPT =
PERL5_CPANPLUS_IS_RUNNING = 58463
PERL5_CPAN_IS_RUNNING = 58463
PERL5_CPAN_IS_RUNNING_IN_RECURSION = 58118,58463
PERL_BATCH = yes
PERL_CANARY_STABILITY_NOPROMPT = 1
PERL_CPAN_REPORTER_CONFIG = /var/tmp/cpansmoker-1023/2022110906/cpanreporter_000_config.ini
PERL_EXTUTILS_AUTOINSTALL = --defaultdeps
PERL_USE_UNSAFE_INC = 1
SHELL = /bin/sh
TMPDIR = /var/tmp/cpansmoker-1023/2022110906
Perl special variables (and OS-specific diagnostics, for MSWin32):
$^X = /usr/perl5.30.3p/bin/perl
$UID/$EUID = 1023 / 1023
$GID = 1023 1023
$EGID = 1023 1023
Perl module toolchain versions installed:
Module Have
------------------- --------
CPAN 2.34
CPAN::Meta 2.150010
Cwd 3.78
ExtUtils::CBuilder 0.280236
ExtUtils::Command 7.64
ExtUtils::Install 2.20
ExtUtils::MakeMaker 7.64
ExtUtils::Manifest 1.72
ExtUtils::ParseXS 3.40
File::Spec 3.78
JSON 4.09
JSON::PP 4.12
Module::Build 0.4231
Module::Signature 0.88
Parse::CPAN::Meta 2.150010
Test::Harness 3.44
Test::More 1.302191
YAML 1.30
YAML::Syck 1.34
version 0.9929
--
Summary of my perl5 (revision 5 version 30 subversion 3) configuration:
Platform:
osname=freebsd
osvers=13.0-stable
archname=amd64-freebsd
uname='freebsd cloud10.bbbike.org 13.0-stable freebsd 13.0-stable #0 stable13-n245623-e2872019983d: thu may 13 16:04:27 utc 2021 root@cloud10.bbbike.org:usrobjusrhomeprojectsfreebsdamd64.amd64sysgeneric amd64 '
config_args='-ds -e -Dprefix=/usr/perl5.30.3p -Dcf_email=srezic@cpan.org -Doptimize=-O2 -pipe'
hint=recommended
useposix=true
d_sigaction=define
useithreads=undef
usemultiplicity=undef
use64bitint=define
use64bitall=define
uselongdouble=undef
usemymalloc=n
default_inc_excludes_dot=define
bincompat5005=undef
Compiler:
cc='cc'
ccflags ='-DHAS_FPSETMASK -DHAS_FLOATINGPOINT_H -fno-strict-aliasing -pipe -fstack-protector-strong -I/usr/local/include'
optimize='-O2 -pipe'
cppflags='-DHAS_FPSETMASK -DHAS_FLOATINGPOINT_H -fno-strict-aliasing -pipe -fstack-protector-strong -I/usr/local/include'
ccversion=''
gccversion='FreeBSD Clang 11.0.1 (git@github.com:llvm/llvm-project.git llvmorg-11.0.1-0-g43ff75f2c3fe)'
gccosandvers=''
intsize=4
longsize=8
ptrsize=8
doublesize=8
byteorder=12345678
doublekind=3
d_longlong=define
longlongsize=8
d_longdbl=define
longdblsize=16
longdblkind=3
ivtype='long'
ivsize=8
nvtype='double'
nvsize=8
Off_t='off_t'
lseeksize=8
alignbytes=8
prototype=define
Linker and Libraries:
ld='cc'
ldflags ='-pthread -Wl,-E -fstack-protector-strong -L/usr/local/lib'
libpth=/usr/lib /usr/local/lib /usr/lib/clang/11.0.1/lib /usr/lib
libs=-lpthread -lgdbm -ldl -lm -lcrypt -lutil -lc
perllibs=-lpthread -ldl -lm -lcrypt -lutil -lc
libc=
so=so
useshrplib=false
libperl=libperl.a
gnulibc_version=''
Dynamic Linking:
dlsrc=dl_dlopen.xs
dlext=so
d_dlsymun=undef
ccdlflags=' '
cccdlflags='-DPIC -fPIC'
lddlflags='-shared -L/usr/local/lib -fstack-protector-strong'
Characteristics of this binary (from libperl):
Compile-time options:
HAS_TIMES
PERLIO_LAYERS
PERL_COPY_ON_WRITE
PERL_DONT_CREATE_GVSV
PERL_MALLOC_WRAP
PERL_OP_PARENT
PERL_PRESERVE_IVUV
USE_64_BIT_ALL
USE_64_BIT_INT
USE_LARGE_FILES
USE_LOCALE
USE_LOCALE_COLLATE
USE_LOCALE_CTYPE
USE_LOCALE_NUMERIC
USE_LOCALE_TIME
USE_PERLIO
USE_PERL_ATOF
Built under freebsd
Compiled at May 14 2021 19:47:18
%ENV:
PERL5LIB="/home/cpansand/.cpan/build/2022110906/Class-Std-Utils-v0.0.3-2/blib/arch:/home/cpansand/.cpan/build/2022110906/Class-Std-Utils-v0.0.3-2/blib/lib"
PERL5OPT=""
PERL5_CPANPLUS_IS_RUNNING="58463"
PERL5_CPAN_IS_RUNNING="58463"
PERL5_CPAN_IS_RUNNING_IN_RECURSION="58118,58463"
PERL_BATCH="yes"
PERL_CANARY_STABILITY_NOPROMPT="1"
PERL_CPAN_REPORTER_CONFIG="/var/tmp/cpansmoker-1023/2022110906/cpanreporter_000_config.ini"
PERL_EXTUTILS_AUTOINSTALL="--defaultdeps"
PERL_USE_UNSAFE_INC="1"
@INC:
/home/cpansand/.cpan/build/2022110906/Class-Std-Utils-v0.0.3-2/blib/arch
/home/cpansand/.cpan/build/2022110906/Class-Std-Utils-v0.0.3-2/blib/lib
/usr/perl5.30.3p/lib/site_perl/5.30.3/amd64-freebsd
/usr/perl5.30.3p/lib/site_perl/5.30.3
/usr/perl5.30.3p/lib/5.30.3/amd64-freebsd
/usr/perl5.30.3p/lib/5.30.3
.