Git-Hooks v4.0.0 Perl 5 v5.38.0 x86_64-linux
- Status
- Pass
- From
- Slaven Rezić
- Dist
-
Git-Hooks v4.0.0
- Platform
- Perl 5 v5.38.0 x86_64-linux
- Date
- 2024-06-16 21:53:31
- ID
- df3754ac-2c2a-11ef-812e-753d6e8775ea
This distribution has been tested as part of the CPAN Testers
project, supporting the Perl programming language. See
http://wiki.cpantesters.org/ for more information or email
questions to cpan-testers-discuss@perl.org
--
Dear Gustavo Leite de Mendonca Chaves,
This is a computer-generated report for Git-Hooks-4.0.0
on perl 5.38.0, created by CPAN-Reporter-1.2019.
Thank you for uploading your work to CPAN. Congratulations!
All tests were successful.
Sections of this report:
* Tester comments
* Program output
* Prerequisites
* Environment and other context
------------------------------
TESTER COMMENTS
------------------------------
Additional comments from tester:
none provided
------------------------------
PROGRAM OUTPUT
------------------------------
Output from '/usr/bin/make test':
PERL_DL_NONLAZY=1 "/opt/perl-5.38.0/bin/perl" "-MExtUtils::Command::MM" "-MTest::Harness" "-e" "undef *Test::Harness::Switches; test_harness(0, 'blib/lib', 'blib/arch')" t/*.t
t/00-load.t ................. ok
#
# Versions for all modules listed in MYMETA.json (including optional ones):
#
# === Configure Requires ===
#
# Module Want Have
# ------------------- ---- ----
# ExtUtils::MakeMaker any 7.70
#
# === Build Requires ===
#
# Module Want Have
# ------------------- ---- ----
# ExtUtils::MakeMaker any 7.70
#
# === Test Requires ===
#
# Module Want Have
# ------------------------------ ----- --------
# Config any 5.038000
# Email::Sender::Transport::Mbox any 2.601
# ExtUtils::MakeMaker any 7.70
# File::Spec any 3.88
# Path::Tiny 0.060 0.146
# Test::More any 1.302199
# Test::Requires::Git any 1.008
# lib any 0.65
#
# === Test Recommends ===
#
# Module Want Have
# ---------- -------- --------
# CPAN::Meta 2.120900 2.150010
#
# === Runtime Requires ===
#
# Module Want Have
# ----------------------- ------- --------
# Carp any 1.54
# Email::Sender::Simple any 2.601
# Email::Simple any 2.218
# Encode any 3.21
# Exporter any 5.78
# Git::Repository any 1.325
# Git::Repository::Log any 1.314
# Git::Repository::Plugin any 1.325
# IO::Interactive any 1.025
# List::MoreUtils any 0.430
# Log::Any any 1.717
# Path::Tiny 0.060 0.146
# Test::More any 1.302199
# Text::Glob any 0.11
# URI::Escape any 5.26
# parent any 0.241
# perl v5.30.0 5.038000
# strict any 1.12
# utf8 any 1.25
# warnings any 1.65
#
# === Runtime Recommends ===
#
# Module Want Have
# ------------------ ---- -------
# Email::Valid any 1.203
# Gerrit::REST any missing
# HTML::Entities any 3.81
# JIRA::REST any missing
# Text::SpellChecker any missing
#
t/00-report-prereqs.t ....... ok
t/01-setup.t ................ ok
# git version 2.34.1
t/02-check-commit.t ......... ok
# git version 2.34.1
t/02-check-diff.t ........... ok
# git version 2.34.1
t/02-check-file.t ........... ok
t/02-check-jira.t ........... ok
t/02-check-log.t ............ ok
t/02-check-reference.t ...... ok
t/02-check-rewrite.t ........ ok
t/02-check-whitespace.t ..... ok
t/02-externals.t ............ ok
t/02-gerrit-change-id.t ..... ok
t/02-noplugin.t ............. ok
t/02-notify.t ............... ok
# git version 2.34.1
t/02-prepare-log.t .......... ok
t/author-critic.t ........... skipped: these tests are for testing by the author
t/author-minimum-version.t .. skipped: these tests are for testing by the author
t/author-no-tabs.t .......... skipped: these tests are for testing by the author
t/author-pod-coverage.t ..... skipped: these tests are for testing by the author
t/author-pod-spell.t ........ skipped: these tests are for testing by the author
t/author-pod-syntax.t ....... skipped: these tests are for testing by the author
t/author-portability.t ...... skipped: these tests are for testing by the author
t/release-kwalitee.t ........ skipped: these tests are for release candidate testing
t/release-unused-vars.t ..... skipped: these tests are for release candidate testing
All tests successful.
Files=25, Tests=246, 32 wallclock secs ( 0.10 usr 0.03 sys + 24.40 cusr 8.77 csys = 33.30 CPU)
Result: PASS
------------------------------
PREREQUISITES
------------------------------
Prerequisite modules loaded:
requires:
Module Need Have
------------------------------ ----- --------
Carp 0 1.54
Email::Sender::Simple 0 2.601
Email::Simple 0 2.218
Encode 0 3.21
Exporter 0 5.78
Git::Repository 0 1.325
Git::Repository::Log 0 1.314
Git::Repository::Plugin 0 1.325
IO::Interactive 0 1.025
List::MoreUtils 0 0.430
Log::Any 0 1.717
parent 0 0.241
Path::Tiny 0.060 0.146
strict 0 1.12
Test::More 0 1.302199
Text::Glob 0 0.11
URI::Escape 0 5.26
utf8 0 1.25
warnings 0 1.65
build_requires:
Module Need Have
------------------------------ ----- --------
Config 0 5.038000
Email::Sender::Transport::Mbox 0 2.601
ExtUtils::MakeMaker 0 7.70
File::Spec 0 3.88
lib 0 0.65
Path::Tiny 0.060 0.146
Test::More 0 1.302199
Test::Requires::Git 0 1.008
configure_requires:
Module Need Have
------------------------------ ----- --------
ExtUtils::MakeMaker 0 7.70
------------------------------
ENVIRONMENT AND OTHER CONTEXT
------------------------------
Environment variables:
LANG = en_US.UTF-8
PATH = /usr/local/bin:/usr/bin:/bin:/usr/local/sbin:/usr/sbin:/sbin:/home/cpansand/bin/linux-gnu:/home/cpansand/bin/sh:/home/cpansand/bin:/usr/games:/home/cpansand/devel:/home/eserte/src/srezic-misc/scripts
PERL5LIB = /home/cpansand/.local/share/.cpan/build/2024061621/DBIx-Class-SQLA2-0.02_1-0/blib/arch:/home/cpansand/.local/share/.cpan/build/2024061621/DBIx-Class-SQLA2-0.02_1-0/blib/lib:/home/cpansand/.local/share/.cpan/build/2024061621/App-runscript-v1.0.0_02-0/blib/arch:/home/cpansand/.local/share/.cpan/build/2024061621/App-runscript-v1.0.0_02-0/blib/lib:/home/cpansand/.local/share/.cpan/build/2024061621/UUID-0.35_02-0/blib/arch:/home/cpansand/.local/share/.cpan/build/2024061621/UUID-0.35_02-0/blib/lib:/home/cpansand/.local/share/.cpan/build/2024061621/Kelp-2.01_01-0/blib/arch:/home/cpansand/.local/share/.cpan/build/2024061621/Kelp-2.01_01-0/blib/lib
PERL5OPT =
PERL5_CPANPLUS_IS_RUNNING = 480666
PERL5_CPAN_IS_RUNNING = 480666
PERL5_CPAN_IS_RUNNING_IN_RECURSION = 480566,480666
PERLDOC = -MPod::Perldoc::ToTextOverstrike
PERL_BATCH = yes
PERL_CANARY_STABILITY_NOPROMPT = 1
PERL_CPAN_REPORTER_CONFIG = /var/tmp/cpansmoker-1023/2024061621/cpanreporter_000_config.ini
PERL_EXTUTILS_AUTOINSTALL = --defaultdeps
PERL_USE_UNSAFE_INC = 1
SHELL = /usr/bin/zsh
TERM = screen
TMPDIR = /var/tmp/cpansmoker-1023/2024061621
Perl special variables (and OS-specific diagnostics, for MSWin32):
$^X = /opt/perl-5.38.0/bin/perl
$UID/$EUID = 1023 / 1023
$GID = 1023 1023
$EGID = 1023 1023
Perl module toolchain versions installed:
Module Have
------------------- --------
CPAN 2.36
CPAN::Meta 2.150010
Cwd 3.89
ExtUtils::CBuilder 0.280238
ExtUtils::Command 7.70
ExtUtils::Install 2.22
ExtUtils::MakeMaker 7.70
ExtUtils::Manifest 1.73
ExtUtils::ParseXS 3.51
File::Spec 3.88
JSON 4.10
JSON::PP 4.16
Module::Build 0.4234
Module::Signature 0.88
Parse::CPAN::Meta 2.150010
Test2 1.302199
Test::Harness 3.48
Test::More 1.302199
YAML 1.31
YAML::Syck 1.34
version 0.9929
--
Summary of my perl5 (revision 5 version 38 subversion 0) configuration:
Platform:
osname=linux
osvers=5.15.0-76-generic
archname=x86_64-linux
uname='linux cloud14.bbbike.org 5.15.0-76-generic #83-ubuntu smp thu jun 15 19:16:32 utc 2023 x86_64 x86_64 x86_64 gnulinux '
config_args='-ds -e -Dprefix=/opt/perl-5.38.0 -Dcf_email=srezic@cpan.org'
hint=recommended
useposix=true
d_sigaction=define
useithreads=undef
usemultiplicity=undef
use64bitint=define
use64bitall=define
uselongdouble=undef
usemymalloc=n
default_inc_excludes_dot=define
Compiler:
cc='cc'
ccflags ='-fwrapv -fno-strict-aliasing -pipe -fstack-protector-strong -I/usr/local/include -D_LARGEFILE_SOURCE -D_FILE_OFFSET_BITS=64'
optimize='-O2'
cppflags='-fwrapv -fno-strict-aliasing -pipe -fstack-protector-strong -I/usr/local/include'
ccversion=''
gccversion='11.3.0'
gccosandvers=''
intsize=4
longsize=8
ptrsize=8
doublesize=8
byteorder=12345678
doublekind=3
d_longlong=define
longlongsize=8
d_longdbl=define
longdblsize=16
longdblkind=3
ivtype='long'
ivsize=8
nvtype='double'
nvsize=8
Off_t='off_t'
lseeksize=8
alignbytes=8
prototype=define
Linker and Libraries:
ld='cc'
ldflags =' -fstack-protector-strong -L/usr/local/lib'
libpth=/usr/local/lib /usr/lib/x86_64-linux-gnu /usr/lib /usr/lib64
libs=-lpthread -lgdbm -ldb -ldl -lm -lcrypt -lutil -lc
perllibs=-lpthread -ldl -lm -lcrypt -lutil -lc
libc=/lib/x86_64-linux-gnu/libc.so.6
so=so
useshrplib=false
libperl=libperl.a
gnulibc_version='2.35'
Dynamic Linking:
dlsrc=dl_dlopen.xs
dlext=so
d_dlsymun=undef
ccdlflags='-Wl,-E'
cccdlflags='-fPIC'
lddlflags='-shared -O2 -L/usr/local/lib -fstack-protector-strong'
Characteristics of this binary (from libperl):
Compile-time options:
HAS_LONG_DOUBLE
HAS_STRTOLD
HAS_TIMES
PERLIO_LAYERS
PERL_COPY_ON_WRITE
PERL_DONT_CREATE_GVSV
PERL_HASH_FUNC_SIPHASH13
PERL_HASH_USE_SBOX32
PERL_MALLOC_WRAP
PERL_OP_PARENT
PERL_PRESERVE_IVUV
PERL_USE_SAFE_PUTENV
USE_64_BIT_ALL
USE_64_BIT_INT
USE_LARGE_FILES
USE_LOCALE
USE_LOCALE_COLLATE
USE_LOCALE_CTYPE
USE_LOCALE_NUMERIC
USE_LOCALE_TIME
USE_PERLIO
USE_PERL_ATOF
Built under linux
Compiled at Jul 8 2023 12:27:40
%ENV:
PERL5LIB="/home/cpansand/.local/share/.cpan/build/2024061621/DBIx-Class-SQLA2-0.02_1-0/blib/arch:/home/cpansand/.local/share/.cpan/build/2024061621/DBIx-Class-SQLA2-0.02_1-0/blib/lib:/home/cpansand/.local/share/.cpan/build/2024061621/App-runscript-v1.0.0_02-0/blib/arch:/home/cpansand/.local/share/.cpan/build/2024061621/App-runscript-v1.0.0_02-0/blib/lib:/home/cpansand/.local/share/.cpan/build/2024061621/UUID-0.35_02-0/blib/arch:/home/cpansand/.local/share/.cpan/build/2024061621/UUID-0.35_02-0/blib/lib:/home/cpansand/.local/share/.cpan/build/2024061621/Kelp-2.01_01-0/blib/arch:/home/cpansand/.local/share/.cpan/build/2024061621/Kelp-2.01_01-0/blib/lib"
PERL5OPT=""
PERL5_CPANPLUS_IS_RUNNING="480666"
PERL5_CPAN_IS_RUNNING="480666"
PERL5_CPAN_IS_RUNNING_IN_RECURSION="480566,480666"
PERLDOC="-MPod::Perldoc::ToTextOverstrike"
PERL_BATCH="yes"
PERL_CANARY_STABILITY_NOPROMPT="1"
PERL_CPAN_REPORTER_CONFIG="/var/tmp/cpansmoker-1023/2024061621/cpanreporter_000_config.ini"
PERL_EXTUTILS_AUTOINSTALL="--defaultdeps"
PERL_USE_UNSAFE_INC="1"
@INC:
/home/cpansand/.local/share/.cpan/build/2024061621/DBIx-Class-SQLA2-0.02_1-0/blib/arch
/home/cpansand/.local/share/.cpan/build/2024061621/DBIx-Class-SQLA2-0.02_1-0/blib/lib
/home/cpansand/.local/share/.cpan/build/2024061621/App-runscript-v1.0.0_02-0/blib/arch
/home/cpansand/.local/share/.cpan/build/2024061621/App-runscript-v1.0.0_02-0/blib/lib
/home/cpansand/.local/share/.cpan/build/2024061621/UUID-0.35_02-0/blib/arch
/home/cpansand/.local/share/.cpan/build/2024061621/UUID-0.35_02-0/blib/lib
/home/cpansand/.local/share/.cpan/build/2024061621/Kelp-2.01_01-0/blib/arch
/home/cpansand/.local/share/.cpan/build/2024061621/Kelp-2.01_01-0/blib/lib
/opt/perl-5.38.0/lib/site_perl/5.38.0/x86_64-linux
/opt/perl-5.38.0/lib/site_perl/5.38.0
/opt/perl-5.38.0/lib/5.38.0/x86_64-linux
/opt/perl-5.38.0/lib/5.38.0
.