Patterns-ChainOfResponsibility v0.02 Perl 5 v5.31.3 x86_64-linux-thread-multi-ld
- Status
- Pass
- From
- Andreas J. König (ANDK)
- Dist
-
Patterns-ChainOfResponsibility v0.02
- Platform
- Perl 5 v5.31.3 x86_64-linux-thread-multi-ld
- Date
- 2019-07-29 13:36:30
- ID
- df54491c-b205-11e9-a3f9-27f5edfa0dde
This distribution has been tested as part of the CPAN Testers
project, supporting the Perl programming language. See
http://wiki.cpantesters.org/ for more information or email
questions to cpan-testers-discuss@perl.org
--
Dear John Napiorkowski,
This is a computer-generated report for Patterns-ChainOfResponsibility-0.02
on perl 5.31.3, created by CPAN-Reporter-1.2018.
Thank you for uploading your work to CPAN. Congratulations!
All tests were successful.
Sections of this report:
* Tester comments
* Program output
* Prerequisites
* Environment and other context
------------------------------
TESTER COMMENTS
------------------------------
Additional comments from tester:
this report is from an automated smoke testing program
and was not reviewed by a human for accuracy
------------------------------
PROGRAM OUTPUT
------------------------------
Output from '/usr/bin/make test':
PERL_DL_NONLAZY=1 "/tmp/basesmoker-reloperl-KjkK/bin/perl" "-MExtUtils::Command::MM" "-MTest::Harness" "-e" "undef *Test::Harness::Switches; test_harness(0, 'inc', 'blib/lib', 'blib/arch')" t/*.t
Class::MOP::load_class is deprecated at /home/sand/src/perl/repoperls/installed-perls/host/k93msid/v5.31.2-34-g17d9d1f083/8854/lib/site_perl/5.31.3/x86_64-linux-thread-multi-ld/Class/MOP.pm line 69.
Class::MOP::load_class("Patterns::ChainOfResponsibility::Provider") called at /home/sand/.cpan/privbuild/k93msid/Patterns-ChainOfResponsibility-0.02-0/blib/lib/Patterns/ChainOfResponsibility/Role/Handler.pm line 22
Patterns::ChainOfResponsibility::Role::Handler::__ANON__(Moose::Meta::Class::__ANON__::SERIAL::2=HASH(0x557534f5c300), "operating_on", MooseX::Role::Parameterized::Meta::Role::Parameterized=HASH(0x5575350eb7b8), "consumer", Moose::Meta::Class=HASH(0x557534eb3580)) called at /home/sand/src/perl/repoperls/installed-perls/host/k93msid/v5.31.2-34-g17d9d1f083/8854/lib/site_perl/5.31.3/MooseX/Role/Parameterized/Meta/Trait/Parameterizable.pm line 88
MooseX::Role::Parameterized::Meta::Trait::Parameterizable::generate_role(Moose::Meta::Class::__ANON__::SERIAL::1=HASH(0x5575350d9b68), "consumer", Moose::Meta::Class=HASH(0x557534eb3580), "parameters", HASH(0x5575350627a8), "orig_apply", CODE(0x557534c7fab8)) called at /home/sand/src/perl/repoperls/installed-perls/host/k93msid/v5.31.2-34-g17d9d1f083/8854/lib/site_perl/5.31.3/MooseX/Role/Parameterized/Meta/Trait/Parameterizable.pm line 110
Class::MOP::Class:::around(CODE(0x557534c7fab8), Moose::Meta::Class::__ANON__::SERIAL::1=HASH(0x5575350d9b68), Moose::Meta::Class=HASH(0x557534eb3580)) called at /home/sand/src/perl/repoperls/installed-perls/host/k93msid/v5.31.2-34-g17d9d1f083/8854/lib/site_perl/5.31.3/x86_64-linux-thread-multi-ld/Class/MOP/Method/Wrapped.pm line 164
Moose::Meta::Class::__ANON__::SERIAL::1::_wrapped_apply(Moose::Meta::Class::__ANON__::SERIAL::1=HASH(0x5575350d9b68), Moose::Meta::Class=HASH(0x557534eb3580)) called at /home/sand/src/perl/repoperls/installed-perls/host/k93msid/v5.31.2-34-g17d9d1f083/8854/lib/site_perl/5.31.3/x86_64-linux-thread-multi-ld/Class/MOP/Method/Wrapped.pm line 95
Moose::Meta::Class::__ANON__::SERIAL::1::apply(Moose::Meta::Class::__ANON__::SERIAL::1=HASH(0x5575350d9b68), Moose::Meta::Class=HASH(0x557534eb3580)) called at /home/sand/src/perl/repoperls/installed-perls/host/k93msid/v5.31.2-34-g17d9d1f083/8854/lib/site_perl/5.31.3/x86_64-linux-thread-multi-ld/Moose/Util.pm line 171
Moose::Util::_apply_all_roles(Moose::Meta::Class=HASH(0x557534eb3580), undef, "Patterns::ChainOfResponsibility::Role::Handler") called at /home/sand/src/perl/repoperls/installed-perls/host/k93msid/v5.31.2-34-g17d9d1f083/8854/lib/site_perl/5.31.3/x86_64-linux-thread-multi-ld/Moose/Util.pm line 113
Moose::Util::apply_all_roles(Moose::Meta::Class=HASH(0x557534eb3580), "Patterns::ChainOfResponsibility::Role::Handler") called at /home/sand/src/perl/repoperls/installed-perls/host/k93msid/v5.31.2-34-g17d9d1f083/8854/lib/site_perl/5.31.3/x86_64-linux-thread-multi-ld/Moose.pm line 57
Moose::with(Moose::Meta::Class=HASH(0x557534eb3580), "Patterns::ChainOfResponsibility::Role::Handler") called at /home/sand/src/perl/repoperls/installed-perls/host/k93msid/v5.31.2-34-g17d9d1f083/8854/lib/site_perl/5.31.3/x86_64-linux-thread-multi-ld/Moose/Exporter.pm line 419
Moose::with("Patterns::ChainOfResponsibility::Role::Handler") called at t/application.t line 9
t/application.t .. ok
t/basic.t ........ ok
Class::MOP::load_class is deprecated at /home/sand/src/perl/repoperls/installed-perls/host/k93msid/v5.31.2-34-g17d9d1f083/8854/lib/site_perl/5.31.3/x86_64-linux-thread-multi-ld/Class/MOP.pm line 69.
Class::MOP::load_class("Patterns::ChainOfResponsibility::Broadcast") called at /home/sand/.cpan/privbuild/k93msid/Patterns-ChainOfResponsibility-0.02-0/blib/lib/Patterns/ChainOfResponsibility/Role/Handler.pm line 22
Patterns::ChainOfResponsibility::Role::Handler::__ANON__(Moose::Meta::Class::__ANON__::SERIAL::4=HASH(0x555988efe230), "operating_on", MooseX::Role::Parameterized::Meta::Role::Parameterized=HASH(0x555988f51bd0), "consumer", Moose::Meta::Class=HASH(0x555988cd9260)) called at /home/sand/src/perl/repoperls/installed-perls/host/k93msid/v5.31.2-34-g17d9d1f083/8854/lib/site_perl/5.31.3/MooseX/Role/Parameterized/Meta/Trait/Parameterizable.pm line 88
MooseX::Role::Parameterized::Meta::Trait::Parameterizable::generate_role(Moose::Meta::Class::__ANON__::SERIAL::3=HASH(0x555988f4ae80), "consumer", Moose::Meta::Class=HASH(0x555988cd9260), "parameters", HASH(0x555988e66490), "orig_apply", CODE(0x555988a1a668)) called at /home/sand/src/perl/repoperls/installed-perls/host/k93msid/v5.31.2-34-g17d9d1f083/8854/lib/site_perl/5.31.3/MooseX/Role/Parameterized/Meta/Trait/Parameterizable.pm line 110
Class::MOP::Class:::around(CODE(0x555988a1a668), Moose::Meta::Class::__ANON__::SERIAL::3=HASH(0x555988f4ae80), Moose::Meta::Class=HASH(0x555988cd9260), "dispatcher", "::Broadcast") called at /home/sand/src/perl/repoperls/installed-perls/host/k93msid/v5.31.2-34-g17d9d1f083/8854/lib/site_perl/5.31.3/x86_64-linux-thread-multi-ld/Class/MOP/Method/Wrapped.pm line 164
Moose::Meta::Class::__ANON__::SERIAL::3::_wrapped_apply(Moose::Meta::Class::__ANON__::SERIAL::3=HASH(0x555988f4ae80), Moose::Meta::Class=HASH(0x555988cd9260), "dispatcher", "::Broadcast") called at /home/sand/src/perl/repoperls/installed-perls/host/k93msid/v5.31.2-34-g17d9d1f083/8854/lib/site_perl/5.31.3/x86_64-linux-thread-multi-ld/Class/MOP/Method/Wrapped.pm line 95
Moose::Meta::Class::__ANON__::SERIAL::3::apply(Moose::Meta::Class::__ANON__::SERIAL::3=HASH(0x555988f4ae80), Moose::Meta::Class=HASH(0x555988cd9260), "dispatcher", "::Broadcast") called at /home/sand/src/perl/repoperls/installed-perls/host/k93msid/v5.31.2-34-g17d9d1f083/8854/lib/site_perl/5.31.3/x86_64-linux-thread-multi-ld/Moose/Util.pm line 171
Moose::Util::_apply_all_roles(Moose::Meta::Class=HASH(0x555988cd9260), undef, "Patterns::ChainOfResponsibility::Role::Handler", HASH(0x55598735ec20)) called at /home/sand/src/perl/repoperls/installed-perls/host/k93msid/v5.31.2-34-g17d9d1f083/8854/lib/site_perl/5.31.3/x86_64-linux-thread-multi-ld/Moose/Util.pm line 113
Moose::Util::apply_all_roles(Moose::Meta::Class=HASH(0x555988cd9260), "Patterns::ChainOfResponsibility::Role::Handler", HASH(0x55598735ec20)) called at /home/sand/src/perl/repoperls/installed-perls/host/k93msid/v5.31.2-34-g17d9d1f083/8854/lib/site_perl/5.31.3/x86_64-linux-thread-multi-ld/Moose.pm line 57
Moose::with(Moose::Meta::Class=HASH(0x555988cd9260), "Patterns::ChainOfResponsibility::Role::Handler", HASH(0x55598735ec20)) called at /home/sand/src/perl/repoperls/installed-perls/host/k93msid/v5.31.2-34-g17d9d1f083/8854/lib/site_perl/5.31.3/x86_64-linux-thread-multi-ld/Moose/Exporter.pm line 419
Moose::with("Patterns::ChainOfResponsibility::Role::Handler", HASH(0x55598735ec20)) called at t/broadcast.t line 13
t/broadcast.t .... ok
Class::MOP::load_class is deprecated at /home/sand/src/perl/repoperls/installed-perls/host/k93msid/v5.31.2-34-g17d9d1f083/8854/lib/site_perl/5.31.3/x86_64-linux-thread-multi-ld/Class/MOP.pm line 69.
Class::MOP::load_class("Patterns::ChainOfResponsibility::Filter") called at /home/sand/.cpan/privbuild/k93msid/Patterns-ChainOfResponsibility-0.02-0/blib/lib/Patterns/ChainOfResponsibility/Role/Handler.pm line 22
Patterns::ChainOfResponsibility::Role::Handler::__ANON__(Moose::Meta::Class::__ANON__::SERIAL::2=HASH(0x55e01dcfe118), "operating_on", MooseX::Role::Parameterized::Meta::Role::Parameterized=HASH(0x55e01dd15bb8), "consumer", Moose::Meta::Class=HASH(0x55e01db0ae80)) called at /home/sand/src/perl/repoperls/installed-perls/host/k93msid/v5.31.2-34-g17d9d1f083/8854/lib/site_perl/5.31.3/MooseX/Role/Parameterized/Meta/Trait/Parameterizable.pm line 88
MooseX::Role::Parameterized::Meta::Trait::Parameterizable::generate_role(Moose::Meta::Class::__ANON__::SERIAL::1=HASH(0x55e01dd0fc78), "consumer", Moose::Meta::Class=HASH(0x55e01db0ae80), "parameters", HASH(0x55e01dc7ed10), "orig_apply", CODE(0x55e01d8cc828)) called at /home/sand/src/perl/repoperls/installed-perls/host/k93msid/v5.31.2-34-g17d9d1f083/8854/lib/site_perl/5.31.3/MooseX/Role/Parameterized/Meta/Trait/Parameterizable.pm line 110
Class::MOP::Class:::around(CODE(0x55e01d8cc828), Moose::Meta::Class::__ANON__::SERIAL::1=HASH(0x55e01dd0fc78), Moose::Meta::Class=HASH(0x55e01db0ae80), "dispatcher", "::Filter") called at /home/sand/src/perl/repoperls/installed-perls/host/k93msid/v5.31.2-34-g17d9d1f083/8854/lib/site_perl/5.31.3/x86_64-linux-thread-multi-ld/Class/MOP/Method/Wrapped.pm line 164
Moose::Meta::Class::__ANON__::SERIAL::1::_wrapped_apply(Moose::Meta::Class::__ANON__::SERIAL::1=HASH(0x55e01dd0fc78), Moose::Meta::Class=HASH(0x55e01db0ae80), "dispatcher", "::Filter") called at /home/sand/src/perl/repoperls/installed-perls/host/k93msid/v5.31.2-34-g17d9d1f083/8854/lib/site_perl/5.31.3/x86_64-linux-thread-multi-ld/Class/MOP/Method/Wrapped.pm line 95
Moose::Meta::Class::__ANON__::SERIAL::1::apply(Moose::Meta::Class::__ANON__::SERIAL::1=HASH(0x55e01dd0fc78), Moose::Meta::Class=HASH(0x55e01db0ae80), "dispatcher", "::Filter") called at /home/sand/src/perl/repoperls/installed-perls/host/k93msid/v5.31.2-34-g17d9d1f083/8854/lib/site_perl/5.31.3/x86_64-linux-thread-multi-ld/Moose/Util.pm line 171
Moose::Util::_apply_all_roles(Moose::Meta::Class=HASH(0x55e01db0ae80), undef, "Patterns::ChainOfResponsibility::Role::Handler", HASH(0x55e01c212c20)) called at /home/sand/src/perl/repoperls/installed-perls/host/k93msid/v5.31.2-34-g17d9d1f083/8854/lib/site_perl/5.31.3/x86_64-linux-thread-multi-ld/Moose/Util.pm line 113
Moose::Util::apply_all_roles(Moose::Meta::Class=HASH(0x55e01db0ae80), "Patterns::ChainOfResponsibility::Role::Handler", HASH(0x55e01c212c20)) called at /home/sand/src/perl/repoperls/installed-perls/host/k93msid/v5.31.2-34-g17d9d1f083/8854/lib/site_perl/5.31.3/x86_64-linux-thread-multi-ld/Moose.pm line 57
Moose::with(Moose::Meta::Class=HASH(0x55e01db0ae80), "Patterns::ChainOfResponsibility::Role::Handler", HASH(0x55e01c212c20)) called at /home/sand/src/perl/repoperls/installed-perls/host/k93msid/v5.31.2-34-g17d9d1f083/8854/lib/site_perl/5.31.3/x86_64-linux-thread-multi-ld/Moose/Exporter.pm line 419
Moose::with("Patterns::ChainOfResponsibility::Role::Handler", HASH(0x55e01c212c20)) called at t/filter.t line 9
t/filter.t ....... ok
Class::MOP::load_class is deprecated at /home/sand/src/perl/repoperls/installed-perls/host/k93msid/v5.31.2-34-g17d9d1f083/8854/lib/site_perl/5.31.3/x86_64-linux-thread-multi-ld/Class/MOP.pm line 69.
Class::MOP::load_class("Patterns::ChainOfResponsibility::Provider") called at /home/sand/.cpan/privbuild/k93msid/Patterns-ChainOfResponsibility-0.02-0/blib/lib/Patterns/ChainOfResponsibility/Role/Handler.pm line 22
Patterns::ChainOfResponsibility::Role::Handler::__ANON__(Moose::Meta::Class::__ANON__::SERIAL::2=HASH(0x5628c6132550), "operating_on", MooseX::Role::Parameterized::Meta::Role::Parameterized=HASH(0x5628c62aa5d8), "consumer", Moose::Meta::Class=HASH(0x5628c60e1700)) called at /home/sand/src/perl/repoperls/installed-perls/host/k93msid/v5.31.2-34-g17d9d1f083/8854/lib/site_perl/5.31.3/MooseX/Role/Parameterized/Meta/Trait/Parameterizable.pm line 88
MooseX::Role::Parameterized::Meta::Trait::Parameterizable::generate_role(Moose::Meta::Class::__ANON__::SERIAL::1=HASH(0x5628c62a35c8), "consumer", Moose::Meta::Class=HASH(0x5628c60e1700), "parameters", HASH(0x5628c6214420), "orig_apply", CODE(0x5628c5e617d0)) called at /home/sand/src/perl/repoperls/installed-perls/host/k93msid/v5.31.2-34-g17d9d1f083/8854/lib/site_perl/5.31.3/MooseX/Role/Parameterized/Meta/Trait/Parameterizable.pm line 110
Class::MOP::Class:::around(CODE(0x5628c5e617d0), Moose::Meta::Class::__ANON__::SERIAL::1=HASH(0x5628c62a35c8), Moose::Meta::Class=HASH(0x5628c60e1700)) called at /home/sand/src/perl/repoperls/installed-perls/host/k93msid/v5.31.2-34-g17d9d1f083/8854/lib/site_perl/5.31.3/x86_64-linux-thread-multi-ld/Class/MOP/Method/Wrapped.pm line 164
Moose::Meta::Class::__ANON__::SERIAL::1::_wrapped_apply(Moose::Meta::Class::__ANON__::SERIAL::1=HASH(0x5628c62a35c8), Moose::Meta::Class=HASH(0x5628c60e1700)) called at /home/sand/src/perl/repoperls/installed-perls/host/k93msid/v5.31.2-34-g17d9d1f083/8854/lib/site_perl/5.31.3/x86_64-linux-thread-multi-ld/Class/MOP/Method/Wrapped.pm line 95
Moose::Meta::Class::__ANON__::SERIAL::1::apply(Moose::Meta::Class::__ANON__::SERIAL::1=HASH(0x5628c62a35c8), Moose::Meta::Class=HASH(0x5628c60e1700)) called at /home/sand/src/perl/repoperls/installed-perls/host/k93msid/v5.31.2-34-g17d9d1f083/8854/lib/site_perl/5.31.3/x86_64-linux-thread-multi-ld/Moose/Util.pm line 171
Moose::Util::_apply_all_roles(Moose::Meta::Class=HASH(0x5628c60e1700), undef, "Patterns::ChainOfResponsibility::Role::Handler") called at /home/sand/src/perl/repoperls/installed-perls/host/k93msid/v5.31.2-34-g17d9d1f083/8854/lib/site_perl/5.31.3/x86_64-linux-thread-multi-ld/Moose/Util.pm line 113
Moose::Util::apply_all_roles(Moose::Meta::Class=HASH(0x5628c60e1700), "Patterns::ChainOfResponsibility::Role::Handler") called at /home/sand/src/perl/repoperls/installed-perls/host/k93msid/v5.31.2-34-g17d9d1f083/8854/lib/site_perl/5.31.3/x86_64-linux-thread-multi-ld/Moose.pm line 57
Moose::with(Moose::Meta::Class=HASH(0x5628c60e1700), "Patterns::ChainOfResponsibility::Role::Handler") called at /home/sand/src/perl/repoperls/installed-perls/host/k93msid/v5.31.2-34-g17d9d1f083/8854/lib/site_perl/5.31.3/x86_64-linux-thread-multi-ld/Moose/Exporter.pm line 419
Moose::with("Patterns::ChainOfResponsibility::Role::Handler") called at t/provider.t line 9
t/provider.t ..... ok
All tests successful.
Files=5, Tests=20, 2 wallclock secs ( 0.02 usr 0.04 sys + 1.25 cusr 0.23 csys = 1.54 CPU)
Result: PASS
------------------------------
PREREQUISITES
------------------------------
Prerequisite modules loaded:
requires:
Module Need Have
--------------------------- -------- --------
Moose 1.21 2.2011
MooseX::Role::Parameterized 0.23 1.11
perl 5.008005 5.031003
Test::More 0.96 1.302164
build_requires:
Module Need Have
--------------------------- -------- --------
ExtUtils::MakeMaker 6.42 7.36
Test::More 0.96 1.302164
configure_requires:
Module Need Have
--------------------------- -------- --------
ExtUtils::MakeMaker 6.42 7.36
------------------------------
ENVIRONMENT AND OTHER CONTEXT
------------------------------
Environment variables:
AUTOMATED_TESTING = 1
LANG = en_US.UTF-8
PATH = /home/sand/bin:/usr/local/bin:/usr/bin:/bin:/usr/games:/usr/local/perl/bin:/usr/X11/bin:/sbin:/usr/sbin
PERL5LIB =
PERL5OPT =
PERL5_CPANPLUS_IS_RUNNING = 15115
PERL5_CPAN_IS_RUNNING = 15115
PERL_CANARY_STABILITY_NOPROMPT = 1
PERL_MM_USE_DEFAULT = 1
PERL_USE_UNSAFE_INC = 1
SHELL = /usr/bin/zsh
TERM = screen
Perl special variables (and OS-specific diagnostics, for MSWin32):
$^X = /tmp/basesmoker-reloperl-KjkK/bin/perl
$UID/$EUID = 1005 / 1005
$GID = 1005 1005
$EGID = 1005 1005
Perl module toolchain versions installed:
Module Have
------------------- --------
CPAN 2.27
CPAN::Meta 2.150010
Cwd 3.78
ExtUtils::CBuilder 0.280232
ExtUtils::Command 7.36
ExtUtils::Install 2.14
ExtUtils::MakeMaker 7.36
ExtUtils::Manifest 1.72
ExtUtils::ParseXS 3.40
File::Spec 3.78
JSON 4.02
JSON::PP 4.04
Module::Build 0.4229
Module::Signature 0.83
Parse::CPAN::Meta 2.150010
Test::Harness 3.42
Test::More 1.302164
YAML 1.29
YAML::Syck 1.31
version 0.9924
--
Summary of my perl5 (revision 5 version 31 subversion 3) configuration:
Derived from: 17d9d1f083f91c980b13920c53e48ffc00bf7c63
Platform:
osname=linux
osvers=4.18.0-2-amd64
archname=x86_64-linux-thread-multi-ld
uname='linux k93msid 4.18.0-2-amd64 #1 smp debian 4.18.10-2 (2018-10-07) x86_64 gnulinux '
config_args='-Dprefix=/home/sand/src/perl/repoperls/installed-perls/host/k93msid/v5.31.2-34-g17d9d1f083/8854 -Dmyhostname=k93msid -Dinstallusrbinperl=n -Uversiononly -Dusedevel -des -Ui_db -Dlibswanted=cl pthread socket inet nsl gdbm dbm malloc dl ld sun m crypt sec util c cposix posix ucb BSD gdbm_compat -Duseithreads -Duselongdouble -DEBUGGING=-g'
hint=recommended
useposix=true
d_sigaction=define
useithreads=define
usemultiplicity=define
use64bitint=define
use64bitall=define
uselongdouble=define
usemymalloc=n
default_inc_excludes_dot=define
bincompat5005=undef
Compiler:
cc='cc'
ccflags ='-D_REENTRANT -D_GNU_SOURCE -fwrapv -fno-strict-aliasing -pipe -fstack-protector-strong -I/usr/local/include -D_LARGEFILE_SOURCE -D_FILE_OFFSET_BITS=64 -D_FORTIFY_SOURCE=2'
optimize='-O2 -g'
cppflags='-D_REENTRANT -D_GNU_SOURCE -fwrapv -fno-strict-aliasing -pipe -fstack-protector-strong -I/usr/local/include'
ccversion=''
gccversion='8.2.0'
gccosandvers=''
intsize=4
longsize=8
ptrsize=8
doublesize=8
byteorder=12345678
doublekind=3
d_longlong=define
longlongsize=8
d_longdbl=define
longdblsize=16
longdblkind=3
ivtype='long'
ivsize=8
nvtype='long double'
nvsize=16
Off_t='off_t'
lseeksize=8
alignbytes=16
prototype=define
Linker and Libraries:
ld='cc'
ldflags =' -fstack-protector-strong -L/usr/local/lib'
libpth=/usr/local/lib /usr/lib/gcc/x86_64-linux-gnu/8/include-fixed /usr/include/x86_64-linux-gnu /usr/lib /lib/x86_64-linux-gnu /lib/../lib /usr/lib/x86_64-linux-gnu /usr/lib/../lib /lib
libs=-lpthread -lnsl -ldl -lm -lcrypt -lutil -lc
perllibs=-lpthread -lnsl -ldl -lm -lcrypt -lutil -lc
libc=libc-2.27.so
so=so
useshrplib=false
libperl=libperl.a
gnulibc_version='2.27'
Dynamic Linking:
dlsrc=dl_dlopen.xs
dlext=so
d_dlsymun=undef
ccdlflags='-Wl,-E'
cccdlflags='-fPIC'
lddlflags='-shared -O2 -g -L/usr/local/lib -fstack-protector-strong'
Characteristics of this binary (from libperl):
Compile-time options:
HAS_TIMES
MULTIPLICITY
PERLIO_LAYERS
PERL_COPY_ON_WRITE
PERL_DONT_CREATE_GVSV
PERL_IMPLICIT_CONTEXT
PERL_MALLOC_WRAP
PERL_OP_PARENT
PERL_PRESERVE_IVUV
PERL_USE_DEVEL
USE_64_BIT_ALL
USE_64_BIT_INT
USE_ITHREADS
USE_LARGE_FILES
USE_LOCALE
USE_LOCALE_COLLATE
USE_LOCALE_CTYPE
USE_LOCALE_NUMERIC
USE_LOCALE_TIME
USE_LONG_DOUBLE
USE_PERLIO
USE_PERL_ATOF
USE_REENTRANT_API
USE_THREAD_SAFE_LOCALE
Locally applied patches:
uncommitted-changes
Built under linux
Compiled at Jul 25 2019 19:37:19
%ENV:
PERL5LIB=""
PERL5OPT=""
PERL5_CPANPLUS_IS_RUNNING="15115"
PERL5_CPAN_IS_RUNNING="15115"
PERL_CANARY_STABILITY_NOPROMPT="1"
PERL_MM_USE_DEFAULT="1"
PERL_USE_UNSAFE_INC="1"
@INC:
/home/sand/src/perl/repoperls/installed-perls/host/k93msid/v5.31.2-34-g17d9d1f083/8854/lib/site_perl/5.31.3/x86_64-linux-thread-multi-ld
/home/sand/src/perl/repoperls/installed-perls/host/k93msid/v5.31.2-34-g17d9d1f083/8854/lib/site_perl/5.31.3
/home/sand/src/perl/repoperls/installed-perls/host/k93msid/v5.31.2-34-g17d9d1f083/8854/lib/5.31.3/x86_64-linux-thread-multi-ld
/home/sand/src/perl/repoperls/installed-perls/host/k93msid/v5.31.2-34-g17d9d1f083/8854/lib/5.31.3
.