Text-VimColor v0.28 Perl 5 v5.24.3 x86_64-linux-ld

Status
Pass
From
Andreas J. König (ANDK)
Dist
Text-VimColor v0.28
Platform
Perl 5 v5.24.3 x86_64-linux-ld
Date
2018-05-21 14:18:45
ID
df66f2b0-5d01-11e8-b58d-99cb31b791d1
This distribution has been tested as part of the CPAN Testers
project, supporting the Perl programming language.  See
http://wiki.cpantesters.org/ for more information or email
questions to cpan-testers-discuss@perl.org


--
Dear Randy Stauner,

This is a computer-generated report for Text-VimColor-0.28
on perl 5.24.3, created by CPAN-Reporter-1.2018.

Thank you for uploading your work to CPAN.  Congratulations!
All tests were successful.

Sections of this report:

    * Tester comments
    * Program output
    * Prerequisites
    * Environment and other context

------------------------------
TESTER COMMENTS
------------------------------

Additional comments from tester:

this report is from an automated smoke testing program
and was not reviewed by a human for accuracy

------------------------------
PROGRAM OUTPUT
------------------------------

Output from '/usr/bin/make test':

Skip blib/lib/auto/share/dist/Text-VimColor/light.xsl (unchanged)
Skip blib/lib/auto/share/dist/Text-VimColor/define_all.vim (unchanged)
Skip blib/lib/auto/share/dist/Text-VimColor/light.css (unchanged)
Skip blib/lib/auto/share/dist/Text-VimColor/mark.vim (unchanged)
PERL_DL_NONLAZY=1 "/home/sand/src/perl/repoperls/installed-perls/host/k93msid/v5.24.3/fc43/bin/perl" "-MExtUtils::Command::MM" "-MTest::Harness" "-e" "undef *Test::Harness::Switches; test_harness(0, 'blib/lib', 'blib/arch')" t/*.t
t/00-compile.t ......... ok
# 
# Versions for all modules listed in MYMETA.json (including optional ones):
# 
# === Configure Requires ===
# 
#     Module                  Want    Have
#     ----------------------- ---- -------
#     ExtUtils::MakeMaker      any 7.35_03
#     File::ShareDir::Install 0.06    0.13
#     File::Temp               any  0.2305
#     IO::File                 any    1.16
#     IPC::Open3               any    1.20
#     strict                   any    1.11
#     warnings                 any    1.36
# 
# === Build Requires ===
# 
#     Module              Want    Have
#     ------------------- ---- -------
#     ExtUtils::MakeMaker  any 7.35_03
# 
# === Test Requires ===
# 
#     Module                     Want     Have
#     -------------------------- ---- --------
#     Exporter                    any     5.72
#     ExtUtils::MakeMaker         any  7.35_03
#     File::Spec                  any     3.74
#     File::Temp                  any   0.2305
#     IO::Handle                  any     1.36
#     IPC::Open3                  any     1.20
#     Path::Class                0.04     0.37
#     Test::File::ShareDir::Dist  any 1.001002
#     Test::More                 0.88 1.302136
#     blib                       1.01     1.06
#     lib                         any     0.63
# 
# === Test Recommends ===
# 
#     Module         Want     Have
#     ---------- -------- --------
#     CPAN::Meta 2.120900 2.150010
# 
# === Runtime Requires ===
# 
#     Module          Want   Have
#     --------------- ---- ------
#     Carp             any   1.40
#     File::Copy       any   2.31
#     File::ShareDir   any  1.104
#     File::Temp       any 0.2305
#     Getopt::Long     any   2.48
#     IO::File         any   1.16
#     IPC::Open3       any   1.20
#     Path::Class     0.04   0.37
#     Symbol           any   1.07
#     Term::ANSIColor 1.03   4.04
#     constant         any   1.33
#     strict           any   1.11
#     warnings         any   1.36
# 
# === Runtime Recommends ===
# 
#     Module          Want Have
#     --------------- ---- ----
#     Term::ANSIColor    3 4.04
# 
t/00-report-prereqs.t .. ok
# vim --version
# 
# VIM - Vi IMproved 8.0 (2016 Sep 12, compiled Dec 24 2017 13:21:33)
# Included patches: 1-1401
# Modified by pkg-vim-maintainers@lists.alioth.debian.org
# Compiled by pkg-vim-maintainers@lists.alioth.debian.org
# Huge version without GUI.  Features included (+) or not (-):
# +acl               +farsi             +mouse_sgr         -tag_any_white
# +arabic            +file_in_path      -mouse_sysmouse    -tcl
# +autocmd           +find_in_path      +mouse_urxvt       +termguicolors
# -autoservername    +float             +mouse_xterm       +terminal
# -balloon_eval      +folding           +multi_byte        +terminfo
# +balloon_eval_term -footer            +multi_lang        +termresponse
# -browse            +fork()            -mzscheme          +textobjects
# ++builtin_terms    +gettext           +netbeans_intg     +timers
# +byte_offset       -hangul_input      +num64             +title
# +channel           +iconv             +packages          -toolbar
# +cindent           +insert_expand     +path_extra        +user_commands
# -clientserver      +job               -perl              +vertsplit
# -clipboard         +jumplist          +persistent_undo   +virtualedit
# +cmdline_compl     +keymap            +postscript        +visual
# +cmdline_hist      +lambda            +printer           +visualextra
# +cmdline_info      +langmap           +profile           +viminfo
# +comments          +libcall           -python            +vreplace
# +conceal           +linebreak         -python3           +wildignore
# +cryptv            +lispindent        +quickfix          +wildmenu
# +cscope            +listcmds          +reltime           +windows
# +cursorbind        +localmap          +rightleft         +writebackup
# +cursorshape       -lua               -ruby              -X11
# +dialog_con        +menu              +scrollbind        -xfontset
# +diff              +mksession         +signs             -xim
# +digraphs          +modify_fname      +smartindent       -xpm
# -dnd               +mouse             +startuptime       -xsmp
# -ebcdic            -mouseshape        +statusline        -xterm_clipboard
# +emacs_tags        +mouse_dec         -sun_workshop      -xterm_save
# +eval              +mouse_gpm         +syntax            
# +ex_extra          -mouse_jsbterm     +tag_binary        
# +extra_search      +mouse_netterm     +tag_old_static    
#    system vimrc file: "$VIM/vimrc"
#      user vimrc file: "$HOME/.vimrc"
#  2nd user vimrc file: "~/.vim/vimrc"
#       user exrc file: "$HOME/.exrc"
#        defaults file: "$VIMRUNTIME/defaults.vim"
#   fall-back for $VIM: "/usr/share/vim"
# Compilation: gcc -c -I. -Iproto -DHAVE_CONFIG_H   -Wdate-time  -g -O2 -fdebug-prefix-map=/build/vim-ALuQBZ/vim-8.0.1401=. -fstack-protector-strong -Wformat -Werror=format-security -U_FORTIFY_SOURCE -D_FORTIFY_SOURCE=1       
# Linking: gcc   -Wl,-z,relro -Wl,-z,now -Wl,--as-needed -o vim        -lm -ltinfo -lnsl  -lselinux -lacl -lattr -lgpm -ldl           
# 
t/000-vim-version.t .... ok
t/all-syntax-groups.t .. ok
t/ansi.t ............... ok
t/bin.t ................ ok
t/compare-formats.t .... ok
t/encoding.t ........... ok
t/html.t ............... ok
t/input_filename.t ..... ok
t/new.t ................ ok
t/override-options.t ... ok
t/share-dir.t .......... ok
t/tvctestsyn.t ......... ok
t/untie-std-handles.t .. ok
t/vim_let.t ............ ok
t/vim_options.t ........ ok
t/xml.t ................ ok
All tests successful.

Test Summary Report
-------------------
t/encoding.t         (Wstat: 0 Tests: 8 Failed: 0)
  TODO passed:   5-6
Files=18, Tests=143,  9 wallclock secs ( 0.06 usr  0.11 sys +  3.56 cusr  1.35 csys =  5.08 CPU)
Result: PASS

------------------------------
PREREQUISITES
------------------------------

Prerequisite modules loaded:

requires:

    Module                     Need  Have    
    -------------------------- ----- --------
    Carp                       0     1.40    
    constant                   0     1.33    
    File::Copy                 0     2.31    
    File::ShareDir             0     1.104   
    File::Temp                 0     0.2305  
    Getopt::Long               0     2.48    
    IO::File                   0     1.16    
    IPC::Open3                 0     1.20    
    Path::Class                0.04  0.37    
    perl                       5.006 5.024003
    strict                     0     1.11    
    Symbol                     0     1.07    
    Term::ANSIColor            1.03  4.04    
    warnings                   0     1.36    

build_requires:

    Module                     Need  Have    
    -------------------------- ----- --------
    blib                       1.01  1.06    
    Exporter                   0     5.72    
    ExtUtils::MakeMaker        0     7.35_03 
    File::Spec                 0     3.74    
    File::Temp                 0     0.2305  
    IO::Handle                 0     1.36    
    IPC::Open3                 0     1.20    
    lib                        0     0.63    
    Path::Class                0.04  0.37    
    Test::File::ShareDir::Dist 0     1.001002
    Test::More                 0.88  1.302136

configure_requires:

    Module                     Need  Have    
    -------------------------- ----- --------
    ExtUtils::MakeMaker        0     7.35_03 
    File::ShareDir::Install    0.06  0.13    
    File::Temp                 0     0.2305  
    IO::File                   0     1.16    
    IPC::Open3                 0     1.20    
    perl                       5.006 5.024003
    strict                     0     1.11    
    warnings                   0     1.36    


------------------------------
ENVIRONMENT AND OTHER CONTEXT
------------------------------

Environment variables:

    AUTOMATED_TESTING = 1
    LANG = en_US.UTF-8
    PATH = /home/sand/bin:/usr/local/bin:/usr/bin:/bin:/usr/games:/usr/local/perl/bin:/usr/X11/bin:/sbin:/usr/sbin
    PERL5LIB = 
    PERL5OPT = 
    PERL5_CPANPLUS_IS_RUNNING = 6598
    PERL5_CPAN_IS_RUNNING = 6598
    PERL_CANARY_STABILITY_NOPROMPT = 1
    PERL_MM_USE_DEFAULT = 1
    PERL_USE_UNSAFE_INC = 1
    SHELL = /usr/bin/zsh
    TERM = screen

Perl special variables (and OS-specific diagnostics, for MSWin32):

    $^X = /home/sand/src/perl/repoperls/installed-perls/host/k93msid/v5.24.3/fc43/bin/perl
    $UID/$EUID = 1005 / 1005
    $GID = 1005 1005
    $EGID = 1005 1005

Perl module toolchain versions installed:

    Module              Have      
    ------------------- ----------
    CPAN                2.20      
    CPAN::Meta          2.150010  
    Cwd                 3.74      
    ExtUtils::CBuilder  0.280230  
    ExtUtils::Command   7.35_03   
    ExtUtils::Install   2.06      
    ExtUtils::MakeMaker 7.35_03   
    ExtUtils::Manifest  1.70      
    ExtUtils::ParseXS   3.31      
    File::Spec          3.74      
    JSON                2.97001   
    JSON::PP            2.27300_01
    Module::Build       0.4224    
    Module::Signature   0.81      
    Parse::CPAN::Meta   2.150010  
    Test::Harness       3.39      
    Test::More          1.302136  
    YAML                1.26      
    YAML::Syck          1.30      
    version             0.9922    


--

Summary of my perl5 (revision 5 version 24 subversion 3) configuration:
  Derived from: 9f1d3884c227a955e9ecaaadba4cba3280c47e3a
  Platform:
    osname=linux, osvers=4.14.0-3-amd64, archname=x86_64-linux-ld
    uname='linux k93msid 4.14.0-3-amd64 #1 smp debian 4.14.12-2 (2018-01-06) x86_64 gnulinux '
    config_args='-Dprefix=/home/sand/src/perl/repoperls/installed-perls/host/k93msid/v5.24.3/fc43 -Dmyhostname=k93msid -Dinstallusrbinperl=n -Uversiononly -Dusedevel -des -Ui_db -Dlibswanted=cl pthread socket inet nsl gdbm dbm malloc dl ld sun m crypt sec util c cposix posix ucb BSD gdbm_compat -Uuseithreads -Duselongdouble -DEBUGGING=both'
    hint=recommended, useposix=true, d_sigaction=define
    useithreads=undef, usemultiplicity=undef
    use64bitint=define, use64bitall=define, uselongdouble=define
    usemymalloc=n, bincompat5005=undef
  Compiler:
    cc='cc', ccflags ='-fwrapv -DDEBUGGING -fno-strict-aliasing -pipe -fstack-protector-strong -I/usr/local/include -D_LARGEFILE_SOURCE -D_FILE_OFFSET_BITS=64 -D_FORTIFY_SOURCE=2',
    optimize='-O2 -g',
    cppflags='-fwrapv -DDEBUGGING -fno-strict-aliasing -pipe -fstack-protector-strong -I/usr/local/include'
    ccversion='', gccversion='7.2.0', gccosandvers=''
    intsize=4, longsize=8, ptrsize=8, doublesize=8, byteorder=12345678, doublekind=3
    d_longlong=define, longlongsize=8, d_longdbl=define, longdblsize=16, longdblkind=3
    ivtype='long', ivsize=8, nvtype='long double', nvsize=16, Off_t='off_t', lseeksize=8
    alignbytes=16, prototype=define
  Linker and Libraries:
    ld='cc', ldflags =' -fstack-protector-strong -L/usr/local/lib'
    libpth=/usr/local/lib /usr/lib/gcc/x86_64-linux-gnu/7/include-fixed /usr/include/x86_64-linux-gnu /usr/lib /lib/x86_64-linux-gnu /lib/../lib /usr/lib/x86_64-linux-gnu /usr/lib/../lib /lib
    libs=-lpthread -lnsl -ldl -lm -lcrypt -lutil -lc
    perllibs=-lpthread -lnsl -ldl -lm -lcrypt -lutil -lc
    libc=libc-2.26.so, so=so, useshrplib=false, libperl=libperl.a
    gnulibc_version='2.26'
  Dynamic Linking:
    dlsrc=dl_dlopen.xs, dlext=so, d_dlsymun=undef, ccdlflags='-Wl,-E'
    cccdlflags='-fPIC', lddlflags='-shared -O2 -g -L/usr/local/lib -fstack-protector-strong'


Characteristics of this binary (from libperl): 
  Compile-time options: DEBUGGING HAS_TIMES PERLIO_LAYERS PERL_COPY_ON_WRITE
                        PERL_DONT_CREATE_GVSV
                        PERL_HASH_FUNC_ONE_AT_A_TIME_HARD PERL_MALLOC_WRAP
                        PERL_PRESERVE_IVUV PERL_USE_DEVEL USE_64_BIT_ALL
                        USE_64_BIT_INT USE_LARGE_FILES USE_LOCALE
                        USE_LOCALE_COLLATE USE_LOCALE_CTYPE
                        USE_LOCALE_NUMERIC USE_LOCALE_TIME USE_LONG_DOUBLE
                        USE_PERLIO USE_PERL_ATOF
  Locally applied patches:
	uncommitted-changes
  Built under linux
  Compiled at Jan  8 2018 14:32:23
  %ENV:
    PERL5LIB=""
    PERL5OPT=""
    PERL5_CPANPLUS_IS_RUNNING="6598"
    PERL5_CPAN_IS_RUNNING="6598"
    PERL_CANARY_STABILITY_NOPROMPT="1"
    PERL_MM_USE_DEFAULT="1"
    PERL_USE_UNSAFE_INC="1"
  @INC:
    /home/sand/src/perl/repoperls/installed-perls/host/k93msid/v5.24.3/fc43/lib/site_perl/5.24.3/x86_64-linux-ld
    /home/sand/src/perl/repoperls/installed-perls/host/k93msid/v5.24.3/fc43/lib/site_perl/5.24.3
    /home/sand/src/perl/repoperls/installed-perls/host/k93msid/v5.24.3/fc43/lib/5.24.3/x86_64-linux-ld
    /home/sand/src/perl/repoperls/installed-perls/host/k93msid/v5.24.3/fc43/lib/5.24.3
    .