Report for Dist-Zilla-Plugin-CheckIssues-0.009

Back
From: metabase:user:320bfe00-2aae-11df-837a-5e0a49663a4f
Subject: PASS Dist-Zilla-Plugin-CheckIssues-0.009 v5.10.1 GNU/Linux
Date: 2016-03-14T03:28:51Z

This distribution has been tested as part of the CPAN Testers
project, supporting the Perl programming language.  See
http://wiki.cpantesters.org/ for more information or email
questions to cpan-testers-discuss@perl.org


--
Dear Karen Etheridge,

This is a computer-generated report for Dist-Zilla-Plugin-CheckIssues-0.009
on perl 5.10.1, created by CPAN-Reporter-1.2016.

Thank you for uploading your work to CPAN.  Congratulations!
All tests were successful.

Sections of this report:

    * Tester comments
    * Program output
    * Prerequisites
    * Environment and other context

------------------------------
TESTER COMMENTS
------------------------------

Additional comments from tester:

this report is from an automated smoke testing program
and was not reviewed by a human for accuracy

------------------------------
PROGRAM OUTPUT
------------------------------

Output from '/usr/bin/make test':

PERL_DL_NONLAZY=1 "/home/sand/src/perl/repoperls/installed-perls/perl/perl-5.10.1/8942/bin/perl" "-MExtUtils::Command::MM" "-MTest::Harness" "-e" "undef *Test::Harness::Switches; test_harness(0, 'blib/lib', 'blib/arch')" t/*.t
# 
# Versions for all modules listed in MYMETA.json (including optional ones):
# 
# === Configure Requires ===
# 
#     Module                       Want     Have
#     ------------------------ -------- --------
#     CPAN::Meta::Requirements 2.120620    2.127
#     ExtUtils::MakeMaker           any     7.10
#     Module::Metadata              any 1.000027
# 
# === Build Requires ===
# 
#     Module              Want Have
#     ------------------- ---- ----
#     ExtUtils::MakeMaker  any 7.10
# 
# === Test Requires ===
# 
#     Module                          Want         Have
#     ------------------------------- ---- ------------
#     Dist::Zilla::App::Tester         any        5.043
#     Dist::Zilla::Role::MetaProvider  any        5.043
#     ExtUtils::MakeMaker              any         7.10
#     File::Spec                       any         3.62
#     File::pushd                      any        1.009
#     Moose::Util                      any       2.1605
#     Path::Tiny                       any        0.084
#     Test::DZil                       any        5.043
#     Test::Deep                       any        1.120
#     Test::Fatal                      any        0.014
#     Test::More                      0.88 1.302013_014
#     if                               any         0.05
#     lib                              any         0.62
# 
# === Test Recommends ===
# 
#     Module         Want     Have
#     ---------- -------- --------
#     CPAN::Meta 2.120900 2.150005
# 
# === Runtime Requires ===
# 
#     Module                               Want     Have
#     -------------------------------- -------- --------
#     Dist::Zilla::App                      any    5.043
#     Dist::Zilla::Role::BeforeRelease      any    5.043
#     Encode                                any     2.82
#     HTTP::Headers                         any     6.11
#     HTTP::Tiny                            any    0.056
#     JSON::MaybeXS                    1.001000 1.003005
#     List::Util                           1.33     1.43
#     Moose                                 any   2.1605
#     Term::ANSIColor                      3.00     4.04
#     namespace::autoclean                  any     0.28
#     strict                                any     1.04
#     warnings                              any     1.06
# 
# === Other Modules ===
# 
#     Module         Have
#     ------------- -----
#     App::Cmd      0.330
#     Log::Dispatch  2.54
#     Pod::Coverage  0.23
# 
t/00-report-prereqs.t .. ok
t/01-basic.t ........... ok
t/02-no-rt.t ........... ok
t/03-no-repo.t ......... ok
t/04-command.t ......... ok
t/zzz-check-breaks.t ... ok
All tests successful.
Files=6, Tests=19,  8 wallclock secs ( 0.03 usr  0.03 sys +  6.25 cusr  0.71 csys =  7.02 CPU)
Result: PASS

------------------------------
PREREQUISITES
------------------------------

Prerequisite modules loaded:

requires:

    Module                           Need     Have        
    -------------------------------- -------- ------------
    Dist::Zilla::App                 0        5.043       
    Dist::Zilla::Role::BeforeRelease 0        5.043       
    Encode                           0        2.82        
    HTTP::Headers                    0        6.11        
    HTTP::Tiny                       0        0.056       
    JSON::MaybeXS                    1.001000 1.003005    
    List::Util                       1.33     1.43        
    Moose                            0        2.1605      
    namespace::autoclean             0        0.28        
    perl                             5.006    5.010001    
    strict                           0        1.04        
    Term::ANSIColor                  3.00     4.04        
    warnings                         0        1.06        

build_requires:

    Module                           Need     Have        
    -------------------------------- -------- ------------
    Dist::Zilla::App::Tester         0        5.043       
    Dist::Zilla::Role::MetaProvider  0        5.043       
    ExtUtils::MakeMaker              0        7.10        
    File::pushd                      0        1.009       
    File::Spec                       0        3.62        
    if                               0        0.05        
    lib                              0        0.62        
    Moose::Util                      0        2.1605      
    Path::Tiny                       0        0.084       
    Test::Deep                       0        1.120       
    Test::DZil                       0        5.043       
    Test::Fatal                      0        0.014       
    Test::More                       0.88     1.302013_014

configure_requires:

    Module                           Need     Have        
    -------------------------------- -------- ------------
    CPAN::Meta::Requirements         2.120620 2.127       
    ExtUtils::MakeMaker              0        7.10        
    Module::Metadata                 0        1.000027    
    perl                             5.006    5.010001    


------------------------------
ENVIRONMENT AND OTHER CONTEXT
------------------------------

Environment variables:

    AUTOMATED_TESTING = 1
    LANG = en_US.UTF-8
    LANGUAGE = en_US:en
    PATH = /usr/lib/ccache:/home/sand/bin:/usr/local/bin:/usr/lib/ccache:/usr/bin:/bin:/usr/games:/usr/local/perl/bin:/usr/X11/bin:/sbin:/usr/sbin
    PERL5LIB = 
    PERL5OPT = 
    PERL5_CPANPLUS_IS_RUNNING = 31874
    PERL5_CPAN_IS_RUNNING = 31874
    PERL_MM_USE_DEFAULT = 1
    SHELL = /usr/bin/zsh
    TERM = screen

Perl special variables (and OS-specific diagnostics, for MSWin32):

    $^X = /home/sand/src/perl/repoperls/installed-perls/perl/perl-5.10.1/8942/bin/perl
    $UID/$EUID = 1005 / 1005
    $GID = 1005 1005
    $EGID = 1005 1005

Perl module toolchain versions installed:

    Module              Have        
    ------------------- ------------
    CPAN                2.10        
    CPAN::Meta          2.150005    
    Cwd                 3.62        
    ExtUtils::CBuilder  0.280224    
    ExtUtils::Command   7.10        
    ExtUtils::Install   1.54        
    ExtUtils::MakeMaker 7.10        
    ExtUtils::Manifest  1.70        
    ExtUtils::ParseXS   3.30        
    File::Spec          3.62        
    JSON                2.90        
    JSON::PP            2.27300     
    Module::Build       0.4216      
    Module::Signature   0.79        
    Parse::CPAN::Meta   1.4417      
    Test::Harness       3.36        
    Test::More          1.302013_014
    YAML                1.15        
    YAML::Syck          1.29        
    version             0.9915      


--

Summary of my perl5 (revision 5 version 10 subversion 1) configuration:
  Commit id: 5348debf9fd57fc15c26529386769684fab96e57
  Platform:
    osname=linux, osvers=4.3.0-1-amd64, archname=x86_64-linux-ld
    uname='linux k83 4.3.0-1-amd64 #1 smp debian 4.3.3-7 (2016-01-19) x86_64 gnulinux '
    config_args='-Dprefix=/home/sand/src/perl/repoperls/installed-perls/perl/perl-5.10.1/8942 -Dmyhostname=k83 -Dinstallusrbinperl=n -Uversiononly -Dusedevel -des -Ui_db -Dlibswanted=cl pthread socket inet nsl gdbm dbm malloc dl ld sun m crypt sec util c cposix posix ucb BSD gdbm_compat -Uuseithreads -Duselongdouble -DDEBUGGING=-g'
    hint=recommended, useposix=true, d_sigaction=define
    useithreads=undef, usemultiplicity=undef
    useperlio=define, d_sfio=undef, uselargefiles=define, usesocks=undef
    use64bitint=define, use64bitall=define, uselongdouble=define
    usemymalloc=n, bincompat5005=undef
  Compiler:
    cc='cc', ccflags ='-fno-strict-aliasing -pipe -fstack-protector -I/usr/local/include -D_LARGEFILE_SOURCE -D_FILE_OFFSET_BITS=64',
    optimize='-O2 -g',
    cppflags='-fno-strict-aliasing -pipe -fstack-protector -I/usr/local/include'
    ccversion='', gccversion='5.3.1 20160121', gccosandvers=''
    intsize=4, longsize=8, ptrsize=8, doublesize=8, byteorder=12345678
    d_longlong=define, longlongsize=8, d_longdbl=define, longdblsize=16
    ivtype='long', ivsize=8, nvtype='long double', nvsize=16, Off_t='off_t', lseeksize=8
    alignbytes=16, prototype=define
  Linker and Libraries:
    ld='cc', ldflags =' -fstack-protector -L/usr/local/lib'
    libpth=/usr/local/lib /lib/x86_64-linux-gnu /lib/../lib /usr/lib/x86_64-linux-gnu /usr/lib/../lib /lib /usr/lib
    libs=-lpthread -lnsl -lgdbm -ldl -lm -lcrypt -lutil -lc -lgdbm_compat
    perllibs=-lpthread -lnsl -ldl -lm -lcrypt -lutil -lc
    libc=libc-2.21.so, so=so, useshrplib=false, libperl=libperl.a
    gnulibc_version='2.21'
  Dynamic Linking:
    dlsrc=dl_dlopen.xs, dlext=so, d_dlsymun=undef, ccdlflags='-Wl,-E'
    cccdlflags='-fPIC', lddlflags='-shared -O2 -g -L/usr/local/lib -fstack-protector'


Characteristics of this binary (from libperl): 
  Compile-time options: PERL_DONT_CREATE_GVSV PERL_MALLOC_WRAP PERL_USE_DEVEL
                        USE_64_BIT_ALL USE_64_BIT_INT USE_LARGE_FILES
                        USE_LONG_DOUBLE USE_PERLIO
  Locally applied patches:
	Devel::PatchPerl 1.40
  Built under linux
  Compiled at Feb 27 2016 05:10:30
  %ENV:
    PERL5LIB=""
    PERL5OPT=""
    PERL5_CPANPLUS_IS_RUNNING="31874"
    PERL5_CPAN_IS_RUNNING="31874"
    PERL_MM_USE_DEFAULT="1"
  @INC:
    /home/sand/src/perl/repoperls/installed-perls/perl/perl-5.10.1/8942/lib/5.10.1/x86_64-linux-ld
    /home/sand/src/perl/repoperls/installed-perls/perl/perl-5.10.1/8942/lib/5.10.1
    /home/sand/src/perl/repoperls/installed-perls/perl/perl-5.10.1/8942/lib/site_perl/5.10.1/x86_64-linux-ld
    /home/sand/src/perl/repoperls/installed-perls/perl/perl-5.10.1/8942/lib/site_perl/5.10.1
    .