Alien-libuv v1.014 Perl 5 v5.37.1 x86_64-linux-ld
- Status
- Pass
- From
- Andreas J. König (ANDK)
- Dist
-
Alien-libuv v1.014
- Platform
- Perl 5 v5.37.1 x86_64-linux-ld
- Date
- 2022-06-28 19:16:55
- ID
- df801944-f716-11ec-8ae5-63181d3aead0
This distribution has been tested as part of the CPAN Testers
project, supporting the Perl programming language. See
http://wiki.cpantesters.org/ for more information or email
questions to cpan-testers-discuss@perl.org
--
Dear Chase Whitener,
This is a computer-generated report for Alien-libuv-1.014
on perl 5.37.1, created by CPAN-Reporter-1.2018.
Thank you for uploading your work to CPAN. Congratulations!
All tests were successful.
Sections of this report:
* Tester comments
* Program output
* Prerequisites
* Environment and other context
------------------------------
TESTER COMMENTS
------------------------------
Additional comments from tester:
this report is from an automated smoke testing program
and was not reviewed by a human for accuracy
------------------------------
PROGRAM OUTPUT
------------------------------
Output from '/usr/bin/make test':
"/tmp/basesmoker-reloperl-qAPA/bin/perl" -MAlien::Build::MM=cmd -e test
Alien::Build::Plugin::PkgConfig::Negotiate> Using PkgConfig plugin: PkgConfig::CommandLine
PERL_DL_NONLAZY=1 "/tmp/basesmoker-reloperl-qAPA/bin/perl" "-MExtUtils::Command::MM" "-MTest::Harness" "-e" "undef *Test::Harness::Switches; test_harness(0, 'blib/lib', 'blib/arch')" t/*.t
#
# Versions for all modules listed in MYMETA.json (including optional ones):
#
# === Configure Requires ===
#
# Module Want Have
# ---------------------------------- ---- ----
# Alien::Build 2.15 2.50
# Alien::Build::MM 0.32 2.50
# Alien::Build::Plugin::Build::Make 0.01 2.50
# Alien::Build::Plugin::Probe::Vcpkg 2.15 2.50
# ExtUtils::MakeMaker 6.52 7.64
#
# === Build Requires ===
#
# Module Want Have
# ---------------------------------- ---- --------
# Alien::Build 2.15 2.50
# Alien::Build::MM 0.32 2.50
# Alien::Build::Plugin::Build::Make any 2.50
# Alien::Build::Plugin::Probe::Vcpkg 2.15 2.50
# Config any 5.037001
# ExtUtils::MakeMaker 6.52 7.64
# IPC::Cmd any 1.04
#
# === Test Requires ===
#
# Module Want Have
# ------------------- ---- --------
# ExtUtils::MakeMaker 6.52 7.64
# File::Spec any 3.85
# Test2::Suite any 0.000145
# Test2::V0 any 0.000145
# Test::Alien any 2.50
# Test::More 0.88 1.302190
#
# === Test Recommends ===
#
# Module Want Have
# ------------- -------- --------
# CPAN::Meta 2.120900 2.150010
# FFI::Platypus any 1.58
#
# === Runtime Requires ===
#
# Module Want Have
# ------------------------------------- ---- ----
# Alien::Autotools 1.00 1.06
# Alien::Base 2.15 2.50
# Alien::Build 0.25 2.50
# Alien::Build::Plugin::Build::Autoconf 0.04 2.50
# base any 2.27
# strict any 1.12
# warnings any 1.58
#
t/00-report-prereqs.t .. ok
#
#
#
# HARNESS_ACTIVE=1
# HARNESS_VERSION=3.44
# LANG=en_US.UTF-8
# LC_ADDRESS=de_DE.UTF-8
# LC_IDENTIFICATION=de_DE.UTF-8
# LC_MEASUREMENT=de_DE.UTF-8
# LC_MONETARY=de_DE.UTF-8
# LC_NAME=de_DE.UTF-8
# LC_NUMERIC=de_DE.UTF-8
# LC_PAPER=de_DE.UTF-8
# LC_TELEPHONE=de_DE.UTF-8
# LC_TIME=de_DE.UTF-8
# PERL5LIB=/tmp/loop_over_bdir-82208-NkQOl0/Alien-libuv-1.014-0/blib/lib:/tmp/loop_over_bdir-82208-NkQOl0/Alien-libuv-1.014-0/blib/arch:
# PERL5OPT=
# PERL5_CPANPLUS_IS_RUNNING=82216
# PERL5_CPAN_IS_RUNNING=82216
# PERL_CANARY_STABILITY_NOPROMPT=1
# PERL_DL_NONLAZY=1
# PERL_MM_USE_DEFAULT=1
# PERL_USE_UNSAFE_INC=1
# SHELL=/usr/bin/zsh
#
#
#
# PERL5LIB path
# /tmp/loop_over_bdir-82208-NkQOl0/Alien-libuv-1.014-0/blib/lib
# /tmp/loop_over_bdir-82208-NkQOl0/Alien-libuv-1.014-0/blib/arch
#
#
#
# perl 5.037001
# Alien::Base 2.50
# Alien::Build 2.50
# Alien::Build::MM 2.50
# Alien::Build::Plugin::Build::Autoconf 2.50
# Config 5.037001
# ExtUtils::MakeMaker 7.64
# IPC::Cmd 1.04
# Test2::Suite 0.000145
# Test::Alien 2.50
# Test::More 1.302190
#
#
#
# version = 1.43.0
# cflags =
# cflags_static =
# libs = -luv -lpthread -ldl -lrt
# libs_static = -luv -lpthread -ldl -lrt
#
#
#
t/00_diag.t ............ ok
# Install type: system
t/01_use.t ............. ok
t/ffi.t ................ ok
t/xs.t ................. ok
All tests successful.
Files=5, Tests=9, 2 wallclock secs ( 0.02 usr 0.03 sys + 1.30 cusr 0.28 csys = 1.63 CPU)
Result: PASS
------------------------------
PREREQUISITES
------------------------------
Prerequisite modules loaded:
requires:
Module Need Have
------------------------------------- ---- --------
Alien::Autotools 1.00 1.06
Alien::Base 2.15 2.50
Alien::Build 0.25 2.50
Alien::Build::Plugin::Build::Autoconf 0.04 2.50
base 0 2.27
strict 0 1.12
warnings 0 1.58
build_requires:
Module Need Have
------------------------------------- ---- --------
Alien::Build 2.15 2.50
Alien::Build::MM 0.32 2.50
Alien::Build::Plugin::Build::Make 0 2.50
Alien::Build::Plugin::Probe::Vcpkg 2.15 2.50
Config 0 5.037001
ExtUtils::MakeMaker 6.52 7.64
File::Spec 0 3.85
IPC::Cmd 0 1.04
Test2::Suite 0 0.000145
Test2::V0 0 0.000145
Test::Alien 0 2.50
Test::More 0.88 1.302190
configure_requires:
Module Need Have
------------------------------------- ---- --------
Alien::Build 2.15 2.50
Alien::Build::MM 0.32 2.50
Alien::Build::Plugin::Build::Make 0.01 2.50
Alien::Build::Plugin::Probe::Vcpkg 2.15 2.50
ExtUtils::MakeMaker 6.52 7.64
------------------------------
ENVIRONMENT AND OTHER CONTEXT
------------------------------
Environment variables:
AUTOMATED_TESTING = 1
LANG = en_US.UTF-8
LC_ADDRESS = de_DE.UTF-8
LC_IDENTIFICATION = de_DE.UTF-8
LC_MEASUREMENT = de_DE.UTF-8
LC_MONETARY = de_DE.UTF-8
LC_NAME = de_DE.UTF-8
LC_NUMERIC = de_DE.UTF-8
LC_PAPER = de_DE.UTF-8
LC_TELEPHONE = de_DE.UTF-8
LC_TIME = de_DE.UTF-8
PATH = /home/sand/bin:/usr/local/bin:/usr/local/sbin:/usr/sbin:/usr/bin:/sbin:/bin:/usr/games:/usr/local/games:/snap/bin:/usr/local/perl/bin:/usr/X11/bin
PERL5LIB =
PERL5OPT =
PERL5_CPANPLUS_IS_RUNNING = 82216
PERL5_CPAN_IS_RUNNING = 82216
PERL_CANARY_STABILITY_NOPROMPT = 1
PERL_MM_USE_DEFAULT = 1
PERL_USE_UNSAFE_INC = 1
SHELL = /usr/bin/zsh
TERM = screen
Perl special variables (and OS-specific diagnostics, for MSWin32):
$^X = /tmp/basesmoker-reloperl-qAPA/bin/perl
$UID/$EUID = 1005 / 1005
$GID = 1005 1005
$EGID = 1005 1005
Perl module toolchain versions installed:
Module Have
------------------- --------
CPAN 2.34
CPAN::Meta 2.150010
Cwd 3.85
ExtUtils::CBuilder 0.280237
ExtUtils::Command 7.64
ExtUtils::Install 2.20
ExtUtils::MakeMaker 7.64
ExtUtils::Manifest 1.73
ExtUtils::ParseXS 3.45
File::Spec 3.85
JSON 4.07
JSON::PP 4.10
Module::Build 0.4231
Module::Signature 0.88
Parse::CPAN::Meta 2.150010
Test::Harness 3.44
Test::More 1.302190
YAML 1.30
YAML::Syck 1.34
version 0.9929
--
Summary of my perl5 (revision 5 version 37 subversion 1) configuration:
Commit id: a33f7527640f5a662130b55a9fc8c2302b3b38f6
Platform:
osname=linux
osvers=5.15.0-39-generic
archname=x86_64-linux-ld
uname='linux k93jammy 5.15.0-39-generic #42-ubuntu smp thu jun 9 23:42:32 utc 2022 x86_64 x86_64 x86_64 gnulinux '
config_args='-Dprefix=/home/sand/src/perl/repoperls/installed-perls/host/k93jammy/v5.37.1/5674 -Dmyhostname=k93jammy -Dinstallusrbinperl=n -Uversiononly -Dusedevel -des -Ui_db -Dlibswanted=cl pthread socket inet nsl gdbm dbm malloc dl ld sun m crypt sec util c cposix posix ucb BSD gdbm_compat -Uuseithreads -Duselongdouble -DEBUGGING=-g'
hint=recommended
useposix=true
d_sigaction=define
useithreads=undef
usemultiplicity=undef
use64bitint=define
use64bitall=define
uselongdouble=define
usemymalloc=n
default_inc_excludes_dot=define
Compiler:
cc='cc'
ccflags ='-fwrapv -fno-strict-aliasing -pipe -fstack-protector-strong -I/usr/local/include -D_LARGEFILE_SOURCE -D_FILE_OFFSET_BITS=64'
optimize='-O2 -g'
cppflags='-fwrapv -fno-strict-aliasing -pipe -fstack-protector-strong -I/usr/local/include'
ccversion=''
gccversion='11.2.0'
gccosandvers=''
intsize=4
longsize=8
ptrsize=8
doublesize=8
byteorder=12345678
doublekind=3
d_longlong=define
longlongsize=8
d_longdbl=define
longdblsize=16
longdblkind=3
ivtype='long'
ivsize=8
nvtype='long double'
nvsize=16
Off_t='off_t'
lseeksize=8
alignbytes=16
prototype=define
Linker and Libraries:
ld='cc'
ldflags =' -fstack-protector-strong -L/usr/local/lib'
libpth=/usr/local/lib /usr/lib/x86_64-linux-gnu /usr/lib /usr/lib64
libs=-lpthread -lnsl -ldl -lm -lcrypt -lutil -lc
perllibs=-lpthread -lnsl -ldl -lm -lcrypt -lutil -lc
libc=/lib/x86_64-linux-gnu/libc.so.6
so=so
useshrplib=false
libperl=libperl.a
gnulibc_version='2.35'
Dynamic Linking:
dlsrc=dl_dlopen.xs
dlext=so
d_dlsymun=undef
ccdlflags='-Wl,-E'
cccdlflags='-fPIC'
lddlflags='-shared -O2 -g -L/usr/local/lib -fstack-protector-strong'
Characteristics of this binary (from libperl):
Compile-time options:
HAS_TIMES
PERLIO_LAYERS
PERL_COPY_ON_WRITE
PERL_DONT_CREATE_GVSV
PERL_MALLOC_WRAP
PERL_OP_PARENT
PERL_PRESERVE_IVUV
PERL_USE_DEVEL
PERL_USE_SAFE_PUTENV
USE_64_BIT_ALL
USE_64_BIT_INT
USE_LARGE_FILES
USE_LOCALE
USE_LOCALE_COLLATE
USE_LOCALE_CTYPE
USE_LOCALE_NUMERIC
USE_LOCALE_TIME
USE_LONG_DOUBLE
USE_PERLIO
USE_PERL_ATOF
Built under linux
Compiled at Jun 28 2022 06:43:33
%ENV:
PERL5LIB=""
PERL5OPT=""
PERL5_CPANPLUS_IS_RUNNING="82216"
PERL5_CPAN_IS_RUNNING="82216"
PERL_CANARY_STABILITY_NOPROMPT="1"
PERL_MM_USE_DEFAULT="1"
PERL_USE_UNSAFE_INC="1"
@INC:
/home/sand/src/perl/repoperls/installed-perls/host/k93jammy/v5.37.1/5674/lib/site_perl/5.37.1/x86_64-linux-ld
/home/sand/src/perl/repoperls/installed-perls/host/k93jammy/v5.37.1/5674/lib/site_perl/5.37.1
/home/sand/src/perl/repoperls/installed-perls/host/k93jammy/v5.37.1/5674/lib/5.37.1/x86_64-linux-ld
/home/sand/src/perl/repoperls/installed-perls/host/k93jammy/v5.37.1/5674/lib/5.37.1
.