Text-VimColor v0.28 Perl 5 v5.26.1 RC1 amd64-freebsd

Status
Pass
From
Slaven Rezić (SREZIC)
Dist
Text-VimColor v0.28
Platform
Perl 5 v5.26.1 RC1 amd64-freebsd
Date
2017-09-11 20:43:31
ID
df8f7c26-9731-11e7-8f28-a199348ea2c3
This distribution has been tested as part of the CPAN Testers
project, supporting the Perl programming language.  See
http://wiki.cpantesters.org/ for more information or email
questions to cpan-testers-discuss@perl.org


--
Dear Randy Stauner,

This is a computer-generated report for Text-VimColor-0.28
on perl 5.26.1, created by CPAN-Reporter-1.2018.

Thank you for uploading your work to CPAN.  Congratulations!
All tests were successful.

Sections of this report:

    * Tester comments
    * Program output
    * Prerequisites
    * Environment and other context

------------------------------
TESTER COMMENTS
------------------------------

Additional comments from tester:

none provided

------------------------------
PROGRAM OUTPUT
------------------------------

Output from '/usr/bin/make test':

Skip blib/lib/auto/share/dist/Text-VimColor/light.xsl (unchanged)
Skip blib/lib/auto/share/dist/Text-VimColor/mark.vim (unchanged)
Skip blib/lib/auto/share/dist/Text-VimColor/light.css (unchanged)
Skip blib/lib/auto/share/dist/Text-VimColor/define_all.vim (unchanged)
PERL_DL_NONLAZY=1 "/usr/perl5.26.1-RC1p/bin/perl5.26.1" "-MExtUtils::Command::MM" "-MTest::Harness" "-e" "undef *Test::Harness::Switches; test_harness(0, 'blib/lib', 'blib/arch')" t/*.t
t/00-compile.t ......... ok
# 
# Versions for all modules listed in MYMETA.json (including optional ones):
# 
# === Configure Requires ===
# 
#     Module                  Want   Have
#     ----------------------- ---- ------
#     ExtUtils::MakeMaker      any   7.24
#     File::ShareDir::Install 0.06   0.11
#     File::Temp               any 0.2304
#     IO::File                 any   1.16
#     IPC::Open3               any   1.20
#     strict                   any   1.11
#     warnings                 any   1.37
# 
# === Build Requires ===
# 
#     Module              Want Have
#     ------------------- ---- ----
#     ExtUtils::MakeMaker  any 7.24
# 
# === Test Requires ===
# 
#     Module                     Want     Have
#     -------------------------- ---- --------
#     Exporter                    any     5.72
#     ExtUtils::MakeMaker         any     7.24
#     File::Spec                  any     3.67
#     File::Temp                  any   0.2304
#     IO::Handle                  any     1.36
#     IPC::Open3                  any     1.20
#     Path::Class                0.04     0.37
#     Test::File::ShareDir::Dist  any 1.001002
#     Test::More                 0.88 1.302086
#     blib                       1.01     1.06
#     lib                         any     0.64
# 
# === Test Recommends ===
# 
#     Module         Want     Have
#     ---------- -------- --------
#     CPAN::Meta 2.120900 2.150010
# 
# === Runtime Requires ===
# 
#     Module          Want   Have
#     --------------- ---- ------
#     Carp             any   1.42
#     File::Copy       any   2.32
#     File::ShareDir   any  1.104
#     File::Temp       any 0.2304
#     Getopt::Long     any   2.49
#     IO::File         any   1.16
#     IPC::Open3       any   1.20
#     Path::Class     0.04   0.37
#     Symbol           any   1.08
#     Term::ANSIColor 1.03   4.06
#     constant         any   1.33
#     strict           any   1.11
#     warnings         any   1.37
# 
# === Runtime Recommends ===
# 
#     Module          Want Have
#     --------------- ---- ----
#     Term::ANSIColor    3 4.06
# 
t/00-report-prereqs.t .. ok
# vim --version
# 
# VIM - Vi IMproved 8.0 (2016 Sep 12, compiled Sep 10 2017 01:15:59)
# Included patches: 1-1081
# Compiled by root@110amd64-default-job-05
# Huge version with GTK2 GUI.  Features included (+) or not (-):
# +acl             +file_in_path    +mouse_sgr       +tag_old_static
# +arabic          +find_in_path    +mouse_sysmouse  -tag_any_white
# +autocmd         +float           +mouse_urxvt     +tcl
# +balloon_eval    +folding         +mouse_xterm     +termguicolors
# +browse          -footer          +multi_byte      +terminal
# ++builtin_terms  +fork()          +multi_lang      +terminfo
# +byte_offset     +gettext         -mzscheme        +termresponse
# +channel         -hangul_input    +netbeans_intg   +textobjects
# +cindent         +iconv           +num64           +timers
# +clientserver    +insert_expand   +packages        +title
# +clipboard       +job             +path_extra      +toolbar
# +cmdline_compl   +jumplist        +perl            +user_commands
# +cmdline_hist    +keymap          +persistent_undo +vertsplit
# +cmdline_info    +lambda          +postscript      +virtualedit
# +comments        +langmap         +printer         +visual
# +conceal         +libcall         +profile         +visualextra
# +cryptv          +linebreak       +python          +viminfo
# +cscope          +lispindent      -python3         +vreplace
# +cursorbind      +listcmds        +quickfix        +wildignore
# +cursorshape     +localmap        +reltime         +wildmenu
# +dialog_con_gui  +lua/dyn         +rightleft       +windows
# +diff            +menu            +ruby            +writebackup
# +digraphs        +mksession       +scrollbind      +X11
# +dnd             +modify_fname    +signs           -xfontset
# -ebcdic          +mouse           +smartindent     +xim
# +emacs_tags      +mouseshape      +startuptime     +xpm
# +eval            +mouse_dec       +statusline      +xsmp_interact
# +ex_extra        -mouse_gpm       -sun_workshop    +xterm_clipboard
# +extra_search    -mouse_jsbterm   +syntax          -xterm_save
# +farsi           +mouse_netterm   +tag_binary      
#    system vimrc file: "/usr/local/etc/vim/vimrc"
#      user vimrc file: "$HOME/.vimrc"
#  2nd user vimrc file: "~/.vim/vimrc"
#       user exrc file: "$HOME/.exrc"
#   system gvimrc file: "/usr/local/etc/vim/gvimrc"
#     user gvimrc file: "$HOME/.gvimrc"
# 2nd user gvimrc file: "~/.vim/gvimrc"
#        defaults file: "$VIMRUNTIME/defaults.vim"
#     system menu file: "$VIMRUNTIME/menu.vim"
#   fall-back for $VIM: "/usr/local/etc/vim"
#  f-b for $VIMRUNTIME: "/usr/local/share/vim/vim80"
# Compilation: cc -c -I. -Iproto -DHAVE_CONFIG_H -DFEAT_GUI_GTK  -I/usr/local/include/gtk-2.0 -I/usr/local/include/pango-1.0 -I/usr/local/include/glib-2.0 -I/usr/local/lib/glib-2.0/include -I/usr/local/include -I/usr/local/include/cairo -I/usr/local/include/pixman-1 -I/usr/local/include/freetype2 -I/usr/local/include/libdrm -I/usr/local/include/libpng16 -I/usr/local/include/harfbuzz -I/usr/local/include/gdk-pixbuf-2.0 -I/usr/local/include/atk-1.0 -D_THREAD_SAFE -pthread -DLIBICONV_PLUG -I/usr/local/include  -O2 -pipe  -DLIBICONV_PLUG -fstack-protector -fno-strict-aliasing -U_FORTIFY_SOURCE -D_FORTIFY_SOURCE=1       
# Linking: cc -L/usr/local/lib  -L.   -fstack-protector -rdynamic -Wl,-R/usr/local/lib/perl5/5.24/mach/CORE   -fstack-protector -L/usr/local/lib -Wl,--as-needed -o vim     -L/usr/local/lib -lgtk-x11-2.0 -lgdk-x11-2.0 -lpangocairo-1.0 -latk-1.0 -lcairo -lpthread -lgdk_pixbuf-2.0 -lgio-2.0 -lpangoft2-1.0 -lpango-1.0 -lgobject-2.0 -lglib-2.0 -lintl -lfontconfig -lfreetype  -lSM -lICE -lXpm  -lXt -lX11  -lXdmcp -lSM -lICE    -lm -lelf  -pthread -lncurses  -lintl      -Wl,-R/usr/local/lib/perl5/5.24/mach/CORE -lpthread -Wl,-E  -fstack-protector-strong -L/usr/local/lib  -L/usr/local/lib/perl5/5.24/mach/CORE -lperl -lpthread -lm -lcrypt -lutil  -L/usr/local/lib/python2.7/config -lpython2.7 -L/usr/local/lib -lintl -lutil -lm -Wl,--export-dynamic    -L/usr/local/lib -ltcl86 -lz -lpthread -lm  -lruby23 -lelf -lunwind -lexecinfo -lprocstat -lcrypt -lm -lpthread -L/usr/local/lib -L/usr/local/lib -L/usr/local/lib       
# 
t/000-vim-version.t .... ok
t/all-syntax-groups.t .. ok
t/ansi.t ............... ok
t/bin.t ................ ok
t/compare-formats.t .... ok
t/encoding.t ........... ok
t/html.t ............... ok
t/input_filename.t ..... ok
t/new.t ................ ok
t/override-options.t ... ok
t/share-dir.t .......... ok
t/tvctestsyn.t ......... ok
t/untie-std-handles.t .. ok
t/vim_let.t ............ ok
t/vim_options.t ........ ok
t/xml.t ................ ok
All tests successful.

Test Summary Report
-------------------
t/encoding.t         (Wstat: 0 Tests: 8 Failed: 0)
  TODO passed:   5-6
Files=18, Tests=143,  5 wallclock secs ( 0.06 usr  0.03 sys +  3.18 cusr  1.01 csys =  4.28 CPU)
Result: PASS

------------------------------
PREREQUISITES
------------------------------

Prerequisite modules loaded:

requires:

    Module                     Need     Have    
    -------------------------- -------- --------
    Carp                       0        1.42    
    constant                   0        1.33    
    File::Copy                 0        2.32    
    File::ShareDir             0        1.104   
    File::Temp                 0        0.2304  
    Getopt::Long               0        2.49    
    IO::File                   0        1.16    
    IPC::Open3                 0        1.20    
    Path::Class                0.04     0.37    
    perl                       5.006    5.026001
    strict                     0        1.11    
    Symbol                     0        1.08    
    Term::ANSIColor            1.03     4.06    
    warnings                   0        1.37    

build_requires:

    Module                     Need     Have    
    -------------------------- -------- --------
    blib                       1.01     1.06    
    Exporter                   0        5.72    
    ExtUtils::MakeMaker        0        7.24    
    File::Spec                 0        3.67    
    File::Temp                 0        0.2304  
    IO::Handle                 0        1.36    
    IPC::Open3                 0        1.20    
    lib                        0        0.64    
    Path::Class                0.04     0.37    
    Test::File::ShareDir::Dist 0        1.001002
    Test::More                 0.88     1.302086

configure_requires:

    Module                     Need     Have    
    -------------------------- -------- --------
    ExtUtils::MakeMaker        0        7.24    
    File::ShareDir::Install    0.06     0.11    
    File::Temp                 0        0.2304  
    IO::File                   0        1.16    
    IPC::Open3                 0        1.20    
    perl                       5.006    5.026001
    strict                     0        1.11    
    warnings                   0        1.37    

opt_requires:

    Module                     Need     Have    
    -------------------------- -------- --------
    Term::ANSIColor            3        4.06    

opt_build_requires:

    Module                     Need     Have    
    -------------------------- -------- --------
    CPAN::Meta                 2.120900 2.150010


------------------------------
ENVIRONMENT AND OTHER CONTEXT
------------------------------

Environment variables:

    PATH = /usr/local/bin:/usr/bin:/bin:/usr/local/sbin:/usr/sbin:/sbin:/home/cpansand/bin/freebsd11.0:/home/cpansand/bin/sh:/home/cpansand/bin:/usr/games:/home/cpansand/devel:/home/eserte/src/srezic-misc/scripts
    PERL5LIB = 
    PERL5OPT = 
    PERL5_CPANPLUS_IS_RUNNING = 38374
    PERL5_CPAN_IS_RUNNING = 38374
    PERL5_CPAN_IS_RUNNING_IN_RECURSION = 21241,38374
    PERLDOC = -MPod::Perldoc::ToTextOverstrike
    PERL_BATCH = yes
    PERL_CANARY_STABILITY_NOPROMPT = 1
    PERL_CPAN_REPORTER_CONFIG = /var/tmp/cpansmoker-1023/2017091118/cpanreporter_001_config.ini
    PERL_EXTUTILS_AUTOINSTALL = --defaultdeps
    PERL_USE_UNSAFE_INC = 1
    SHELL = /usr/local/bin/zsh
    TERM = screen
    TMPDIR = /var/tmp/cpansmoker-1023/2017091118

Perl special variables (and OS-specific diagnostics, for MSWin32):

    $^X = /usr/perl5.26.1-RC1p/bin/perl5.26.1
    $UID/$EUID = 1023 / 1023
    $GID = 1023 1023
    $EGID = 1023 1023

Perl module toolchain versions installed:

    Module              Have      
    ------------------- ----------
    CPAN                2.18      
    CPAN::Meta          2.150010  
    Cwd                 3.67      
    ExtUtils::CBuilder  0.280225  
    ExtUtils::Command   7.24      
    ExtUtils::Install   2.04      
    ExtUtils::MakeMaker 7.24      
    ExtUtils::Manifest  1.70      
    ExtUtils::ParseXS   3.34      
    File::Spec          3.67      
    JSON                2.94      
    JSON::PP            2.27400_02
    Module::Build       0.4224    
    Module::Signature   0.81      
    Parse::CPAN::Meta   2.150010  
    Test::Harness       3.38      
    Test::More          1.302086  
    YAML                1.23      
    YAML::Syck          1.30      
    version             0.9917    


--

Summary of my perl5 (revision 5 version 26 subversion 1) configuration:
   
  Platform:
    osname=freebsd
    osvers=11.1-stable
    archname=amd64-freebsd
    uname='freebsd ali3.bbbike.org 11.1-stable freebsd 11.1-stable #0 r313908+86423c22e2d(stable11): thu sep 7 22:30:27 utc 2017 root@ali3.bbbike.org:usrobjhomeprojectsfreebsdsysgeneric amd64 '
    config_args='-ds -e -Dprefix=/usr/perl5.26.1-RC1p -Dcf_email=srezic@cpan.org -Doptimize=-O2 -pipe'
    hint=recommended
    useposix=true
    d_sigaction=define
    useithreads=undef
    usemultiplicity=undef
    use64bitint=define
    use64bitall=define
    uselongdouble=undef
    usemymalloc=n
    default_inc_excludes_dot=define
    bincompat5005=undef
  Compiler:
    cc='cc'
    ccflags ='-DHAS_FPSETMASK -DHAS_FLOATINGPOINT_H -fno-strict-aliasing -pipe -fstack-protector-strong -I/usr/local/include -D_FORTIFY_SOURCE=2'
    optimize='-O2 -pipe'
    cppflags='-DHAS_FPSETMASK -DHAS_FLOATINGPOINT_H -fno-strict-aliasing -pipe -fstack-protector-strong -I/usr/local/include'
    ccversion=''
    gccversion='4.2.1 Compatible FreeBSD Clang 4.0.0 (tags/RELEASE_400/final 297347)'
    gccosandvers=''
    intsize=4
    longsize=8
    ptrsize=8
    doublesize=8
    byteorder=12345678
    doublekind=3
    d_longlong=define
    longlongsize=8
    d_longdbl=define
    longdblsize=16
    longdblkind=3
    ivtype='long'
    ivsize=8
    nvtype='double'
    nvsize=8
    Off_t='off_t'
    lseeksize=8
    alignbytes=8
    prototype=define
  Linker and Libraries:
    ld='cc'
    ldflags ='-pthread -Wl,-E  -fstack-protector-strong -L/usr/local/lib'
    libpth=/usr/lib /usr/local/lib /usr/bin/../lib/clang/4.0.0/lib /usr/lib
    libs=-lpthread -lgdbm -lm -lcrypt -lutil -lc
    perllibs=-lpthread -lm -lcrypt -lutil -lc
    libc=
    so=so
    useshrplib=false
    libperl=libperl.a
    gnulibc_version=''
  Dynamic Linking:
    dlsrc=dl_dlopen.xs
    dlext=so
    d_dlsymun=undef
    ccdlflags=' '
    cccdlflags='-DPIC -fPIC'
    lddlflags='-shared  -L/usr/local/lib -fstack-protector-strong'


Characteristics of this binary (from libperl): 
  Compile-time options:
    HAS_TIMES
    PERLIO_LAYERS
    PERL_COPY_ON_WRITE
    PERL_DONT_CREATE_GVSV
    PERL_MALLOC_WRAP
    PERL_OP_PARENT
    PERL_PRESERVE_IVUV
    USE_64_BIT_ALL
    USE_64_BIT_INT
    USE_LARGE_FILES
    USE_LOCALE
    USE_LOCALE_COLLATE
    USE_LOCALE_CTYPE
    USE_LOCALE_NUMERIC
    USE_LOCALE_TIME
    USE_PERLIO
    USE_PERL_ATOF
  Locally applied patches:
    RC1
  Built under freebsd
  Compiled at Sep 10 2017 15:53:34
  %ENV:
    PERL5LIB=""
    PERL5OPT=""
    PERL5_CPANPLUS_IS_RUNNING="38374"
    PERL5_CPAN_IS_RUNNING="38374"
    PERL5_CPAN_IS_RUNNING_IN_RECURSION="21241,38374"
    PERLDOC="-MPod::Perldoc::ToTextOverstrike"
    PERL_BATCH="yes"
    PERL_CANARY_STABILITY_NOPROMPT="1"
    PERL_CPAN_REPORTER_CONFIG="/var/tmp/cpansmoker-1023/2017091118/cpanreporter_001_config.ini"
    PERL_EXTUTILS_AUTOINSTALL="--defaultdeps"
    PERL_USE_UNSAFE_INC="1"
  @INC:
    /usr/perl5.26.1-RC1p/lib/site_perl/5.26.1/amd64-freebsd
    /usr/perl5.26.1-RC1p/lib/site_perl/5.26.1
    /usr/perl5.26.1-RC1p/lib/5.26.1/amd64-freebsd
    /usr/perl5.26.1-RC1p/lib/5.26.1
    .