Report for Pod-Weaver-Section-CollectWithIntro-0.001

Back
From: metabase:user:314402c4-2aae-11df-837a-5e0a49663a4f
Subject: PASS Pod-Weaver-Section-CollectWithIntro-0.001 v5.18.4 FreeBSD
Date: 2015-04-11T23:09:58Z

This distribution has been tested as part of the CPAN Testers
project, supporting the Perl programming language.  See
http://wiki.cpantesters.org/ for more information or email
questions to cpan-testers-discuss@perl.org


--
Dear Chris Weyl,

This is a computer-generated report for Pod-Weaver-Section-CollectWithIntro-0.001
on perl 5.18.4, created by CPAN-Reporter-1.2014.

Thank you for uploading your work to CPAN.  Congratulations!
All tests were successful.

Sections of this report:

    * Tester comments
    * Program output
    * Prerequisites
    * Environment and other context

------------------------------
TESTER COMMENTS
------------------------------

Additional comments from tester:

none provided

------------------------------
PROGRAM OUTPUT
------------------------------

Output from '/usr/bin/make test':

PERL_DL_NONLAZY=1 "/usr/perl5.18.4p/bin/perl" "-MExtUtils::Command::MM" "-MTest::Harness" "-e" "undef *Test::Harness::Switches; test_harness(0, 'blib/lib', 'blib/arch')" t/*.t
t/00-compile.t .................. ok
# 
# 
# Generated by Dist::Zilla::Plugin::ReportVersions::Tiny v1.08
# perl: 5.018004 (wanted 5.006) on freebsd from /usr/perl5.18.4p/bin/perl
# 
# ExtUtils::MakeMaker                           => 7.04       (want 6.30)   
# File::Find                                    => 1.23       (want any version)
# File::Temp                                    => 0.2304     (want any version)
# Moose                                         => 2.1403     (want any version)
# Moose::Autobox                                => 0.15       (want 0.10)   
# PPI                                           => 1.220      (want any version)
# Pod::Coverage::TrustPod                       => 0.100003   (want any version)
# Pod::Elemental                                => 0.103004   (want any version)
# Pod::Elemental::Element::Pod5::Ordinary       => 0.103004   (want any version)
# Pod::Elemental::Selectors                     => 0.103004   (want any version)
# Pod::Elemental::Transformer::Nester           => 0.103004   (want any version)
# Pod::Elemental::Transformer::Pod5             => 0.103004   (want any version)
# Pod::Weaver                                   => 4.011      (want any version)
# Pod::Weaver::Section::Collect                 => 4.011      (want any version)
# Test::Differences                             => 0.63       (want any version)
# Test::More                                    => 1.001014   (want 0.88)   
# Test::Pod                                     => 1.48       (want 1.41)   
# Test::Pod::Coverage                           => 1.10       (want 1.08)   
# aliased                                       => 0.34       (want any version)
# autobox::Core                                 => 1.28       (want any version)
# namespace::autoclean                          => 0.24       (want any version)
# strict                                        => 1.07       (want any version)
# version                                       => 0.9912     (want 0.9901) 
# warnings                                      => 1.18       (want any version)
# 
# Thanks for using my code.  I hope it works for you.
# If not, please try and include this output in the bug report.
# That will help me reproduce the issue and solve your problem.
# 
t/000-report-versions-tiny.t .... ok
t/author-pod-spell.t ............ skipped: these tests are for testing by the author
t/basic.t ....................... ok
t/release-consistent-version.t .. skipped: these tests are for release candidate testing
t/release-eol.t ................. skipped: these tests are for release candidate testing
t/release-has-version.t ......... skipped: these tests are for release candidate testing
t/release-no-smart-comments.t ... skipped: these tests are for release candidate testing
t/release-no-tabs.t ............. skipped: these tests are for release candidate testing
t/release-pod-coverage.t ........ skipped: these tests are for release candidate testing
t/release-pod-syntax.t .......... skipped: these tests are for release candidate testing
t/release-portability.t ......... skipped: these tests are for release candidate testing
All tests successful.
Files=12, Tests=3,  9 wallclock secs ( 0.12 usr  0.11 sys +  7.14 cusr  1.42 csys =  8.80 CPU)
Result: PASS

------------------------------
PREREQUISITES
------------------------------

Prerequisite modules loaded:

requires:

    Module                                  Need Have    
    --------------------------------------- ---- --------
    aliased                                 0    0.34    
    autobox::Core                           0    1.28    
    Moose                                   0    2.1403  
    namespace::autoclean                    0    0.24    
    Pod::Elemental::Element::Pod5::Ordinary 0    0.103004
    Pod::Weaver::Section::Collect           0    4.011   

build_requires:

    Module                                  Need Have    
    --------------------------------------- ---- --------
    File::Find                              0    1.23    
    File::Temp                              0    0.2304  
    Moose::Autobox                          0.10 0.15    
    Pod::Elemental                          0    0.103004
    Pod::Elemental::Selectors               0    0.103004
    Pod::Elemental::Transformer::Nester     0    0.103004
    Pod::Elemental::Transformer::Pod5       0    0.103004
    Pod::Weaver                             0    4.011   
    PPI                                     0    1.220   
    strict                                  0    1.07    
    Test::Differences                       0    0.63    
    Test::More                              0.88 1.001014
    warnings                                0    1.18    

configure_requires:

    Module                                  Need Have    
    --------------------------------------- ---- --------
    ExtUtils::MakeMaker                     6.30 7.04    


------------------------------
ENVIRONMENT AND OTHER CONTEXT
------------------------------

Environment variables:

    DBIC_NO_WARN_BAD_PERL = 1
    LC_ALL = de_DE.ISO8859-1
    PATH = /usr/local/bin:/usr/bin:/bin:/usr/local/sbin:/usr/sbin:/sbin:/home/cpansand/bin/freebsd10.0:/home/cpansand/bin/sh:/home/cpansand/bin:/usr/games:/home/cpansand/devel:/home/eserte/src/srezic-misc/scripts
    PERL5LIB = /home/cpansand/.cpan/build/Dist-Zilla-Plugin-SchwartzRatio-0.2.0-1rFqJe/blib/arch:/home/cpansand/.cpan/build/Dist-Zilla-Plugin-SchwartzRatio-0.2.0-1rFqJe/blib/lib:/home/cpansand/.cpan/build/Dist-Zilla-Plugin-ConsistentVersionTest-0.02-F1OvXN/blib/arch:/home/cpansand/.cpan/build/Dist-Zilla-Plugin-ConsistentVersionTest-0.02-F1OvXN/blib/lib:/home/cpansand/.cpan/build/Test-ConsistentVersion-v0.3.0-jnFGRF/blib/arch:/home/cpansand/.cpan/build/Test-ConsistentVersion-v0.3.0-jnFGRF/blib/lib:/home/cpansand/.cpan/build/Text-Tabs+Wrap-2013.0523-8WgWwi/blib/arch:/home/cpansand/.cpan/build/Text-Tabs+Wrap-2013.0523-8WgWwi/blib/lib
    PERL5OPT = 
    PERL5_CPANPLUS_IS_RUNNING = 39291
    PERL5_CPAN_IS_RUNNING = 39291
    PERL5_CPAN_IS_RUNNING_IN_RECURSION = 39256,39291
    PERLDOC = -MPod::Perldoc::ToTextOverstrike
    PERL_BATCH = yes
    PERL_CPAN_REPORTER_CONFIG = /var/tmp/cpansmoker-1023/zzTPjWd1lN_config.ini
    PERL_EXTUTILS_AUTOINSTALL = --defaultdeps
    PERL_HTML_DISPLAY_CLASS = HTML::Display::Mozilla
    SHELL = /usr/local/bin/zsh
    TERM = screen
    TMPDIR = /var/tmp/cpansmoker-1023

Perl special variables (and OS-specific diagnostics, for MSWin32):

    $^X = /usr/perl5.18.4p/bin/perl
    $UID/$EUID = 1023 / 1023
    $GID = 1023 1023
    $EGID = 1023 1023

Perl module toolchain versions installed:

    Module              Have    
    ------------------- --------
    CPAN                2.00    
    CPAN::Meta          2.150001
    Cwd                 3.47    
    ExtUtils::CBuilder  0.280210
    ExtUtils::Command   1.17    
    ExtUtils::Install   1.59    
    ExtUtils::MakeMaker 7.04    
    ExtUtils::Manifest  1.70    
    ExtUtils::ParseXS   3.24    
    File::Spec          3.47    
    JSON                2.90    
    JSON::PP            2.27300 
    Module::Build       0.4211  
    Module::Signature   0.77    
    Parse::CPAN::Meta   1.4414  
    Test::Harness       3.35    
    Test::More          1.001014
    YAML                1.14    
    YAML::Syck          1.29    
    version             0.9912  


--

Summary of my perl5 (revision 5 version 18 subversion 4) configuration:
   
  Platform:
    osname=freebsd, osvers=10.1-release, archname=amd64-freebsd
    uname='freebsd cvrsnica-freebsd-101.herceg.de 10.1-release freebsd 10.1-release #0 r274401: tue nov 11 21:02:49 utc 2014 root@releng1.nyi.freebsd.org:usrobjusrsrcsysgeneric amd64 '
    config_args='-ds -e -Dprefix=/usr/perl5.18.4p'
    hint=recommended, useposix=true, d_sigaction=define
    useithreads=undef, usemultiplicity=undef
    useperlio=define, d_sfio=undef, uselargefiles=define, usesocks=undef
    use64bitint=define, use64bitall=define, uselongdouble=undef
    usemymalloc=n, bincompat5005=undef
  Compiler:
    cc='cc', ccflags ='-DHAS_FPSETMASK -DHAS_FLOATINGPOINT_H -fno-strict-aliasing -pipe -fstack-protector -I/usr/local/include',
    optimize='-O',
    cppflags='-DHAS_FPSETMASK -DHAS_FLOATINGPOINT_H -fno-strict-aliasing -pipe -fstack-protector -I/usr/local/include'
    ccversion='', gccversion='4.2.1 Compatible FreeBSD Clang 3.4.1 (tags/RELEASE_34/dot1-final 208032)', gccosandvers=''
    intsize=4, longsize=8, ptrsize=8, doublesize=8, byteorder=12345678
    d_longlong=define, longlongsize=8, d_longdbl=define, longdblsize=16
    ivtype='long', ivsize=8, nvtype='double', nvsize=8, Off_t='off_t', lseeksize=8
    alignbytes=8, prototype=define
  Linker and Libraries:
    ld='cc', ldflags ='-pthread -Wl,-E  -fstack-protector -L/usr/local/lib'
    libpth=/usr/lib /usr/local/lib
    libs=-lgdbm -lm -lcrypt -lutil -lc
    perllibs=-lm -lcrypt -lutil -lc
    libc=, so=so, useshrplib=false, libperl=libperl.a
    gnulibc_version=''
  Dynamic Linking:
    dlsrc=dl_dlopen.xs, dlext=so, d_dlsymun=undef, ccdlflags=' '
    cccdlflags='-DPIC -fPIC', lddlflags='-shared  -L/usr/local/lib -fstack-protector'


Characteristics of this binary (from libperl): 
  Compile-time options: HAS_TIMES PERLIO_LAYERS PERL_DONT_CREATE_GVSV
                        PERL_HASH_FUNC_ONE_AT_A_TIME_HARD PERL_MALLOC_WRAP
                        PERL_PRESERVE_IVUV PERL_SAWAMPERSAND USE_64_BIT_ALL
                        USE_64_BIT_INT USE_LARGE_FILES USE_LOCALE
                        USE_LOCALE_COLLATE USE_LOCALE_CTYPE
                        USE_LOCALE_NUMERIC USE_PERLIO USE_PERL_ATOF
  Built under freebsd
  Compiled at Apr  4 2015 13:03:15
  %ENV:
    PERL5LIB="/home/cpansand/.cpan/build/Dist-Zilla-Plugin-SchwartzRatio-0.2.0-1rFqJe/blib/arch:/home/cpansand/.cpan/build/Dist-Zilla-Plugin-SchwartzRatio-0.2.0-1rFqJe/blib/lib:/home/cpansand/.cpan/build/Dist-Zilla-Plugin-ConsistentVersionTest-0.02-F1OvXN/blib/arch:/home/cpansand/.cpan/build/Dist-Zilla-Plugin-ConsistentVersionTest-0.02-F1OvXN/blib/lib:/home/cpansand/.cpan/build/Test-ConsistentVersion-v0.3.0-jnFGRF/blib/arch:/home/cpansand/.cpan/build/Test-ConsistentVersion-v0.3.0-jnFGRF/blib/lib:/home/cpansand/.cpan/build/Text-Tabs+Wrap-2013.0523-8WgWwi/blib/arch:/home/cpansand/.cpan/build/Text-Tabs+Wrap-2013.0523-8WgWwi/blib/lib"
    PERL5OPT=""
    PERL5_CPANPLUS_IS_RUNNING="39291"
    PERL5_CPAN_IS_RUNNING="39291"
    PERL5_CPAN_IS_RUNNING_IN_RECURSION="39256,39291"
    PERLDOC="-MPod::Perldoc::ToTextOverstrike"
    PERL_BATCH="yes"
    PERL_CPAN_REPORTER_CONFIG="/var/tmp/cpansmoker-1023/zzTPjWd1lN_config.ini"
    PERL_EXTUTILS_AUTOINSTALL="--defaultdeps"
    PERL_HTML_DISPLAY_CLASS="HTML::Display::Mozilla"
  @INC:
    /home/cpansand/.cpan/build/Dist-Zilla-Plugin-SchwartzRatio-0.2.0-1rFqJe/blib/arch
    /home/cpansand/.cpan/build/Dist-Zilla-Plugin-SchwartzRatio-0.2.0-1rFqJe/blib/lib
    /home/cpansand/.cpan/build/Dist-Zilla-Plugin-ConsistentVersionTest-0.02-F1OvXN/blib/arch
    /home/cpansand/.cpan/build/Dist-Zilla-Plugin-ConsistentVersionTest-0.02-F1OvXN/blib/lib
    /home/cpansand/.cpan/build/Test-ConsistentVersion-v0.3.0-jnFGRF/blib/arch
    /home/cpansand/.cpan/build/Test-ConsistentVersion-v0.3.0-jnFGRF/blib/lib
    /home/cpansand/.cpan/build/Text-Tabs+Wrap-2013.0523-8WgWwi/blib/arch
    /home/cpansand/.cpan/build/Text-Tabs+Wrap-2013.0523-8WgWwi/blib/lib
    /usr/perl5.18.4p/lib/site_perl/5.18.4/amd64-freebsd
    /usr/perl5.18.4p/lib/site_perl/5.18.4
    /usr/perl5.18.4p/lib/5.18.4/amd64-freebsd
    /usr/perl5.18.4p/lib/5.18.4
    .