Test-LWP-Recorder v0.1.1 Perl 5 v5.31.3 x86_64-linux-thread-multi

Status
Pass
From
Andreas J. König (ANDK)
Dist
Test-LWP-Recorder v0.1.1
Platform
Perl 5 v5.31.3 x86_64-linux-thread-multi
Date
2019-07-22 20:40:00
ID
dfcf9b3e-acc0-11e9-b9af-562b5acb998f
This distribution has been tested as part of the CPAN Testers
project, supporting the Perl programming language.  See
http://wiki.cpantesters.org/ for more information or email
questions to cpan-testers-discuss@perl.org


--
Dear Edward J. Allen III,

This is a computer-generated report for Test-LWP-Recorder-0.1.1
on perl 5.31.3, created by CPAN-Reporter-1.2018.

Thank you for uploading your work to CPAN.  Congratulations!
All tests were successful.

Sections of this report:

    * Tester comments
    * Program output
    * Prerequisites
    * Environment and other context

------------------------------
TESTER COMMENTS
------------------------------

Additional comments from tester:

this report is from an automated smoke testing program
and was not reviewed by a human for accuracy

------------------------------
PROGRAM OUTPUT
------------------------------

Output from './Build test':

t/00-compile.t ................ ok
# 
# 
# perl: v5.31.3 (wanted 5.006) on linux from /tmp/basesmoker-reloperl-OQPU/bin/perl
# 
# Carp                                          => 1.50       (want any version)
# Digest::MD5                                   => 2.55       (want any version)
# File::Find                                    => 1.36       (want any version)
# File::Slurp                                   => 9999.27    (want any version)
# File::Spec                                    => 3.78       (want any version)
# File::Temp                                    => 0.2309     (want any version)
# HTTP::Response                                => 6.18       (want any version)
# HTTP::Status                                  => 6.18       (want any version)
# LWP::UserAgent                                => 6.39       (want any version)
# LWPx::Record::DataSection                     => 0.01       (want any version)
# List::Util                                    => 1.5        (want any version)
# Module::Build                                 => 0.4229     (want 0.3601) 
# Pod::Coverage::TrustPod                       => 0.100005   (want any version)
# Test::More                                    => 1.302164   (want 0.88)   
# Test::Pod                                     => 1.52       (want 1.41)   
# Test::Pod::Coverage                           => 1.10       (want 1.08)   
# base                                          => 2.27       (want any version)
# lib                                           => 0.65       (want any version)
# strict                                        => 1.11       (want any version)
# warnings                                      => 1.45       (want any version)
# 
# Thanks for using my code.  I hope it works for you.
# If not, please try and include this output in the bug report.
# That will help me reproduce the issue and solve you problem.
# 
t/000-report-versions-tiny.t .. ok
t/author-critic.t ............. skipped: these tests are for testing by the author
t/author-pod-spell.t .......... skipped: these tests are for testing by the author
t/lwpxtest.t .................. ok
t/lwpxtest_02.t ............... ok
t/release-pod-coverage.t ...... skipped: these tests are for release candidate testing
t/release-pod-linkcheck.t ..... skipped: these tests are for release candidate testing
t/release-pod-syntax.t ........ skipped: these tests are for release candidate testing
All tests successful.
Files=9, Tests=14,  2 wallclock secs ( 0.04 usr  0.07 sys +  0.98 cusr  0.42 csys =  1.51 CPU)
Result: PASS

------------------------------
PREREQUISITES
------------------------------

Prerequisite modules loaded:

requires:

    Module                    Need   Have    
    ------------------------- ------ --------
    base                      0      2.27    
    Carp                      0      1.50    
    Digest::MD5               0      2.55    
    File::Slurp               0      9999.27 
    File::Spec                0      3.78    
    HTTP::Response            0      6.18    
    HTTP::Status              0      6.18    
    List::Util                0      1.50    
    LWP::UserAgent            0      6.39    
    perl                      5.006  5.031003
    strict                    0      1.11    
    warnings                  0      1.45    

build_requires:

    Module                    Need   Have    
    ------------------------- ------ --------
    File::Find                0      1.36    
    File::Temp                0      0.2309  
    lib                       0      0.65    
    LWPx::Record::DataSection 0      0.01    
    Module::Build             0.3601 0.4229  
    Test::More                0.88   1.302164

configure_requires:

    Module                    Need   Have    
    ------------------------- ------ --------
    Module::Build             0.3601 0.4229  


------------------------------
ENVIRONMENT AND OTHER CONTEXT
------------------------------

Environment variables:

    AUTOMATED_TESTING = 1
    LANG = en_US.UTF-8
    PATH = /home/sand/bin:/usr/local/bin:/usr/bin:/bin:/usr/games:/usr/local/perl/bin:/usr/X11/bin:/sbin:/usr/sbin
    PERL5LIB = /home/sand/.cpan/privbuild/k93msid/Dir-Manifest-0.2.0-4/blib/arch:/home/sand/.cpan/privbuild/k93msid/Dir-Manifest-0.2.0-4/blib/lib:/home/sand/.cpan/privbuild/k93msid/IOD-Examples-0.201-8/blib/arch:/home/sand/.cpan/privbuild/k93msid/IOD-Examples-0.201-8/blib/lib:/home/sand/.cpan/privbuild/k93msid/Perinci-Examples-0.814-1/blib/arch:/home/sand/.cpan/privbuild/k93msid/Perinci-Examples-0.814-1/blib/lib:/home/sand/.cpan/privbuild/k93msid/Perinci-Sub-Property-arg-cmdline-0.02-12/blib/arch:/home/sand/.cpan/privbuild/k93msid/Perinci-Sub-Property-arg-cmdline-0.02-12/blib/lib
    PERL5OPT = 
    PERL5_CPANPLUS_IS_RUNNING = 19448
    PERL5_CPAN_IS_RUNNING = 19448
    PERL_CANARY_STABILITY_NOPROMPT = 1
    PERL_MM_USE_DEFAULT = 1
    PERL_USE_UNSAFE_INC = 1
    SHELL = /usr/bin/zsh
    TERM = screen

Perl special variables (and OS-specific diagnostics, for MSWin32):

    $^X = /tmp/basesmoker-reloperl-OQPU/bin/perl
    $UID/$EUID = 1005 / 1005
    $GID = 1005 1005
    $EGID = 1005 1005

Perl module toolchain versions installed:

    Module              Have    
    ------------------- --------
    CPAN                2.27    
    CPAN::Meta          2.150010
    Cwd                 3.78    
    ExtUtils::CBuilder  0.280232
    ExtUtils::Command   7.36    
    ExtUtils::Install   2.14    
    ExtUtils::MakeMaker 7.36    
    ExtUtils::Manifest  1.72    
    ExtUtils::ParseXS   3.40    
    File::Spec          3.78    
    JSON                4.02    
    JSON::PP            4.04    
    Module::Build       0.4229  
    Module::Signature   0.83    
    Parse::CPAN::Meta   2.150010
    Test::Harness       3.42    
    Test::More          1.302164
    YAML                1.29    
    YAML::Syck          1.31    
    version             0.9924  


--

Summary of my perl5 (revision 5 version 31 subversion 3) configuration:
  Derived from: c3d72fbe6ba0379df9f7ea44fc8195677cce0ade
  Platform:
    osname=linux
    osvers=4.18.0-2-amd64
    archname=x86_64-linux-thread-multi
    uname='linux k93msid 4.18.0-2-amd64 #1 smp debian 4.18.10-2 (2018-10-07) x86_64 gnulinux '
    config_args='-Dprefix=/home/sand/src/perl/repoperls/installed-perls/host/k93msid/v5.31.2-8-gc3d72fbe6b/419a -Dmyhostname=k93msid -Dinstallusrbinperl=n -Uversiononly -Dusedevel -des -Ui_db -Dlibswanted=cl pthread socket inet nsl gdbm dbm malloc dl ld sun m crypt sec util c cposix posix ucb BSD gdbm_compat -Duseithreads -Uuselongdouble -DEBUGGING=none'
    hint=recommended
    useposix=true
    d_sigaction=define
    useithreads=define
    usemultiplicity=define
    use64bitint=define
    use64bitall=define
    uselongdouble=undef
    usemymalloc=n
    default_inc_excludes_dot=define
    bincompat5005=undef
  Compiler:
    cc='cc'
    ccflags ='-D_REENTRANT -D_GNU_SOURCE -fwrapv -fno-strict-aliasing -pipe -fstack-protector-strong -I/usr/local/include -D_LARGEFILE_SOURCE -D_FILE_OFFSET_BITS=64 -D_FORTIFY_SOURCE=2'
    optimize='-O2'
    cppflags='-D_REENTRANT -D_GNU_SOURCE -fwrapv -fno-strict-aliasing -pipe -fstack-protector-strong -I/usr/local/include'
    ccversion=''
    gccversion='8.2.0'
    gccosandvers=''
    intsize=4
    longsize=8
    ptrsize=8
    doublesize=8
    byteorder=12345678
    doublekind=3
    d_longlong=define
    longlongsize=8
    d_longdbl=define
    longdblsize=16
    longdblkind=3
    ivtype='long'
    ivsize=8
    nvtype='double'
    nvsize=8
    Off_t='off_t'
    lseeksize=8
    alignbytes=8
    prototype=define
  Linker and Libraries:
    ld='cc'
    ldflags =' -fstack-protector-strong -L/usr/local/lib'
    libpth=/usr/local/lib /usr/lib/gcc/x86_64-linux-gnu/8/include-fixed /usr/include/x86_64-linux-gnu /usr/lib /lib/x86_64-linux-gnu /lib/../lib /usr/lib/x86_64-linux-gnu /usr/lib/../lib /lib
    libs=-lpthread -lnsl -ldl -lm -lcrypt -lutil -lc
    perllibs=-lpthread -lnsl -ldl -lm -lcrypt -lutil -lc
    libc=libc-2.27.so
    so=so
    useshrplib=false
    libperl=libperl.a
    gnulibc_version='2.27'
  Dynamic Linking:
    dlsrc=dl_dlopen.xs
    dlext=so
    d_dlsymun=undef
    ccdlflags='-Wl,-E'
    cccdlflags='-fPIC'
    lddlflags='-shared -O2 -L/usr/local/lib -fstack-protector-strong'


Characteristics of this binary (from libperl): 
  Compile-time options:
    HAS_TIMES
    MULTIPLICITY
    PERLIO_LAYERS
    PERL_COPY_ON_WRITE
    PERL_DONT_CREATE_GVSV
    PERL_IMPLICIT_CONTEXT
    PERL_MALLOC_WRAP
    PERL_OP_PARENT
    PERL_PRESERVE_IVUV
    PERL_USE_DEVEL
    USE_64_BIT_ALL
    USE_64_BIT_INT
    USE_ITHREADS
    USE_LARGE_FILES
    USE_LOCALE
    USE_LOCALE_COLLATE
    USE_LOCALE_CTYPE
    USE_LOCALE_NUMERIC
    USE_LOCALE_TIME
    USE_PERLIO
    USE_PERL_ATOF
    USE_REENTRANT_API
    USE_THREAD_SAFE_LOCALE
  Locally applied patches:
    uncommitted-changes
  Built under linux
  Compiled at Jul 20 2019 22:10:12
  %ENV:
    PERL5LIB="/home/sand/.cpan/privbuild/k93msid/Dir-Manifest-0.2.0-4/blib/arch:/home/sand/.cpan/privbuild/k93msid/Dir-Manifest-0.2.0-4/blib/lib:/home/sand/.cpan/privbuild/k93msid/IOD-Examples-0.201-8/blib/arch:/home/sand/.cpan/privbuild/k93msid/IOD-Examples-0.201-8/blib/lib:/home/sand/.cpan/privbuild/k93msid/Perinci-Examples-0.814-1/blib/arch:/home/sand/.cpan/privbuild/k93msid/Perinci-Examples-0.814-1/blib/lib:/home/sand/.cpan/privbuild/k93msid/Perinci-Sub-Property-arg-cmdline-0.02-12/blib/arch:/home/sand/.cpan/privbuild/k93msid/Perinci-Sub-Property-arg-cmdline-0.02-12/blib/lib"
    PERL5OPT=""
    PERL5_CPANPLUS_IS_RUNNING="19448"
    PERL5_CPAN_IS_RUNNING="19448"
    PERL_CANARY_STABILITY_NOPROMPT="1"
    PERL_MM_USE_DEFAULT="1"
    PERL_USE_UNSAFE_INC="1"
  @INC:
    /home/sand/.cpan/privbuild/k93msid/Dir-Manifest-0.2.0-4/blib/arch
    /home/sand/.cpan/privbuild/k93msid/Dir-Manifest-0.2.0-4/blib/lib
    /home/sand/.cpan/privbuild/k93msid/IOD-Examples-0.201-8/blib/arch
    /home/sand/.cpan/privbuild/k93msid/IOD-Examples-0.201-8/blib/lib
    /home/sand/.cpan/privbuild/k93msid/Perinci-Examples-0.814-1/blib/arch
    /home/sand/.cpan/privbuild/k93msid/Perinci-Examples-0.814-1/blib/lib
    /home/sand/.cpan/privbuild/k93msid/Perinci-Sub-Property-arg-cmdline-0.02-12/blib/arch
    /home/sand/.cpan/privbuild/k93msid/Perinci-Sub-Property-arg-cmdline-0.02-12/blib/lib
    /home/sand/src/perl/repoperls/installed-perls/host/k93msid/v5.31.2-8-gc3d72fbe6b/419a/lib/site_perl/5.31.3/x86_64-linux-thread-multi
    /home/sand/src/perl/repoperls/installed-perls/host/k93msid/v5.31.2-8-gc3d72fbe6b/419a/lib/site_perl/5.31.3
    /home/sand/src/perl/repoperls/installed-perls/host/k93msid/v5.31.2-8-gc3d72fbe6b/419a/lib/5.31.3/x86_64-linux-thread-multi
    /home/sand/src/perl/repoperls/installed-perls/host/k93msid/v5.31.2-8-gc3d72fbe6b/419a/lib/5.31.3
    .