XML-XPath v1.42 Perl 5 v5.26.1 x86_64-linux
- Status
- Pass
- From
- Dist
-
XML-XPath v1.42
- Platform
- Perl 5 v5.26.1 x86_64-linux
- Date
- 2018-08-06 10:02:49
- ID
- dfd8d1b0-995f-11e8-861b-ee9fc18bc2cc
This distribution has been tested as part of the CPAN Testers
project, supporting the Perl programming language. See
http://wiki.cpantesters.org/ for more information or email
questions to cpan-testers-discuss@perl.org
--
Dear MANWAR,
This is a computer-generated report for XML-XPath-1.42
on perl 5.26.1, created by App::cpanminus::reporter 0.17 (1.7043).
Thank you for uploading your work to CPAN. Congratulations!
All tests were successful.
Sections of this report:
* Tester comments
* Program output
* Prerequisites
* Environment and other context
------------------------------
TESTER COMMENTS
------------------------------
Additional comments from tester:
none provided
------------------------------
PROGRAM OUTPUT
------------------------------
Output from '':
Building and testing XML-XPath-1.42
cp lib/XML/XPath/Root.pm blib/lib/XML/XPath/Root.pm
cp lib/XML/XPath/Variable.pm blib/lib/XML/XPath/Variable.pm
cp lib/XML/XPath/Node/Text.pm blib/lib/XML/XPath/Node/Text.pm
cp lib/XML/XPath/LocationPath.pm blib/lib/XML/XPath/LocationPath.pm
cp lib/XML/XPath/Function.pm blib/lib/XML/XPath/Function.pm
cp lib/XML/XPath/Number.pm blib/lib/XML/XPath/Number.pm
cp lib/XML/XPath/NodeSet.pm blib/lib/XML/XPath/NodeSet.pm
cp lib/XML/XPath.pm blib/lib/XML/XPath.pm
cp lib/XML/XPath/XMLParser.pm blib/lib/XML/XPath/XMLParser.pm
cp lib/XML/XPath/Node.pm blib/lib/XML/XPath/Node.pm
cp lib/XML/XPath/Builder.pm blib/lib/XML/XPath/Builder.pm
cp lib/XML/XPath/Parser.pm blib/lib/XML/XPath/Parser.pm
cp lib/XML/XPath/Node/Element.pm blib/lib/XML/XPath/Node/Element.pm
cp lib/XML/XPath/Node/Comment.pm blib/lib/XML/XPath/Node/Comment.pm
cp lib/XML/XPath/Boolean.pm blib/lib/XML/XPath/Boolean.pm
cp lib/XML/XPath/Node/Attribute.pm blib/lib/XML/XPath/Node/Attribute.pm
cp lib/XML/XPath/Step.pm blib/lib/XML/XPath/Step.pm
cp lib/XML/XPath/Node/Namespace.pm blib/lib/XML/XPath/Node/Namespace.pm
cp lib/XML/XPath/Literal.pm blib/lib/XML/XPath/Literal.pm
cp lib/XML/XPath/Expr.pm blib/lib/XML/XPath/Expr.pm
cp lib/XML/XPath/PerlSAX.pm blib/lib/XML/XPath/PerlSAX.pm
cp lib/XML/XPath/Node/PI.pm blib/lib/XML/XPath/Node/PI.pm
cp examples/xpath blib/script/xpath
"/home/julien/perl5/perlbrew/perls/perl-5.26.1/bin/perl" -MExtUtils::MY -e 'MY->fixin(shift)' -- blib/script/xpath
Manifying 1 pod document
Manifying 15 pod documents
PERL_DL_NONLAZY=1 "/home/julien/perl5/perlbrew/perls/perl-5.26.1/bin/perl" "-MExtUtils::Command::MM" "-MTest::Harness" "-e" "undef *Test::Harness::Switches; test_harness(0, 'blib/lib', 'blib/arch')" t/*.t
# Testing XML::XPath 1.42, Perl 5.026001, /home/julien/perl5/perlbrew/perls/perl-5.26.1/bin/perl
t/00load.t .................... ok
t/01basic.t ................... ok
t/02descendant.t .............. ok
t/03star.t .................... ok
t/04pos.t ..................... ok
t/05attrib.t .................. ok
t/06attrib_val.t .............. ok
t/07count.t ................... ok
t/08name.t .................... ok
t/09a_string_length.t ......... ok
t/09string_length.t ........... ok
t/10pipe.t .................... ok
t/11axischild.t ............... ok
t/12axisdescendant.t .......... ok
t/13axisparent.t .............. ok
t/14axisancestor.t ............ ok
t/15axisfol_sib.t ............. ok
t/16axisprec_sib.t ............ ok
t/17axisfollowing.t ........... ok
t/18axispreceding.t ........... ok
t/19axisd_or_s.t .............. ok
t/20axisa_or_s.t .............. ok
t/21allnodes.t ................ ok
t/22name_select.t ............. ok
t/23func.t .................... ok
t/24namespaces.t .............. ok
t/25scope.t ................... ok
t/26predicate.t ............... ok
t/27asxml.t ................... ok
t/28ancestor2.t ............... ok
t/29desc_with_predicate.t ..... ok
t/30lang.t .................... ok
t/31dots.t .................... ok
t/32duplicate_nodes.t ......... ok
t/33getnodetext.t ............. ok
t/34non_abbreviated_attrib.t .. ok
t/35namespace_uri.t ........... ok
t/36substring.t ............... ok
t/37concat.t .................. ok
t/38starts_with.t ............. ok
t/39contains.t ................ ok
t/40substring_before.t ........ ok
t/41substring_after.t ......... ok
t/42create_node.t ............. ok
t/43op_div.t .................. ok
t/44test_compare.t ............ ok
t/45cmp_nodeset.t ............. ok
t/46context.t ................. ok
t/47position.t ................ ok
t/48translate.t ............... ok
t/49literal.t ................. ok
t/50xmlxpathparsercache.t ..... ok
t/51elementname.t ............. ok
t/insert.t .................... ok
t/meta-json.t ................. ok
t/meta-yml.t .................. ok
t/rdf.t ....................... ok
t/remove.t .................... ok
t/stress.t .................... ok
All tests successful.
Files=59, Tests=414, 2 wallclock secs ( 0.11 usr 0.04 sys + 2.47 cusr 0.26 csys = 2.88 CPU)
Result: PASS
------------------------------
PREREQUISITES
------------------------------
Prerequisite modules loaded:
No requirements found
------------------------------
ENVIRONMENT AND OTHER CONTEXT
------------------------------
Environment variables:
LANG = en_GB.UTF-8
LANGUAGE = en_GB:en
PATH = /home/julien/perl5/perlbrew/bin:/home/julien/perl5/perlbrew/perls/perl-5.26.1/bin:/home/julien/bin:/home/julien/.local/bin:/usr/local/sbin:/usr/local/bin:/usr/sbin:/usr/bin:/sbin:/bin:/usr/games:/usr/local/games:/snap/bin
PERLBREW_HOME = /home/julien/.perlbrew
PERLBREW_MANPATH = /home/julien/perl5/perlbrew/perls/perl-5.26.1/man
PERLBREW_PATH = /home/julien/perl5/perlbrew/bin:/home/julien/perl5/perlbrew/perls/perl-5.26.1/bin
PERLBREW_PERL = perl-5.26.1
PERLBREW_ROOT = /home/julien/perl5/perlbrew
PERLBREW_SHELLRC_VERSION = 0.82
PERLBREW_VERSION = 0.82
SHELL = /bin/bash
TERM = xterm
Perl special variables (and OS-specific diagnostics, for MSWin32):
EGID = 1000 4 4 20 24 24 25 27 29 30 46 46 113 128 133 1000
EUID = 1000
EXECUTABLE_NAME = /home/julien/perl5/perlbrew/perls/perl-5.26.1/bin/perl
GID = 1000 4 4 20 24 24 25 27 29 30 46 46 113 128 133 1000
UID = 1000
Perl module toolchain versions installed:
Module Have
------------------- ----------
CPAN 2.18
CPAN::Meta 2.150010
Cwd 3.67
ExtUtils::CBuilder 0.280225
ExtUtils::Command 7.34
ExtUtils::Install 2.06
ExtUtils::MakeMaker 7.34
ExtUtils::Manifest 1.70
ExtUtils::ParseXS 3.34
File::Spec 3.67
JSON 2.97001
JSON::PP 2.27400_02
Module::Build 0.4224
Module::Signature n/a
Parse::CPAN::Meta 2.150010
Test::Harness 3.38
Test::More 1.302133
YAML 1.24
YAML::Syck 1.30
version 0.9917
--
Summary of my perl5 (revision 5 version 26 subversion 1) configuration:
Platform:
osname=linux
osvers=4.13.0-36-generic
archname=x86_64-linux
uname='linux julienfiegehenn 4.13.0-36-generic #40~16.04.1-ubuntu smp fri feb 16 23:25:58 utc 2018 x86_64 x86_64 x86_64 gnulinux '
config_args='-de -Dprefix=/home/julien/perl5/perlbrew/perls/perl-5.26.1 -Aeval:scriptdir=/home/julien/perl5/perlbrew/perls/perl-5.26.1/bin'
hint=recommended
useposix=true
d_sigaction=define
useithreads=undef
usemultiplicity=undef
use64bitint=define
use64bitall=define
uselongdouble=undef
usemymalloc=n
default_inc_excludes_dot=define
bincompat5005=undef
Compiler:
cc='cc'
ccflags ='-fwrapv -fno-strict-aliasing -pipe -fstack-protector-strong -I/usr/local/include -D_LARGEFILE_SOURCE -D_FILE_OFFSET_BITS=64'
optimize='-O2'
cppflags='-fwrapv -fno-strict-aliasing -pipe -fstack-protector-strong -I/usr/local/include'
ccversion=''
gccversion='5.4.0 20160609'
gccosandvers=''
intsize=4
longsize=8
ptrsize=8
doublesize=8
byteorder=12345678
doublekind=3
d_longlong=define
longlongsize=8
d_longdbl=define
longdblsize=16
longdblkind=3
ivtype='long'
ivsize=8
nvtype='double'
nvsize=8
Off_t='off_t'
lseeksize=8
alignbytes=8
prototype=define
Linker and Libraries:
ld='cc'
ldflags =' -fstack-protector-strong -L/usr/local/lib'
libpth=/usr/local/lib /usr/lib/gcc/x86_64-linux-gnu/5/include-fixed /usr/include/x86_64-linux-gnu /usr/lib /lib/x86_64-linux-gnu /lib/../lib /usr/lib/x86_64-linux-gnu /usr/lib/../lib /lib
libs=-lpthread -lnsl -ldl -lm -lcrypt -lutil -lc
perllibs=-lpthread -lnsl -ldl -lm -lcrypt -lutil -lc
libc=libc-2.23.so
so=so
useshrplib=false
libperl=libperl.a
gnulibc_version='2.23'
Dynamic Linking:
dlsrc=dl_dlopen.xs
dlext=so
d_dlsymun=undef
ccdlflags='-Wl,-E'
cccdlflags='-fPIC'
lddlflags='-shared -O2 -L/usr/local/lib -fstack-protector-strong'
Characteristics of this binary (from libperl):
Compile-time options:
HAS_TIMES
PERLIO_LAYERS
PERL_COPY_ON_WRITE
PERL_DONT_CREATE_GVSV
PERL_MALLOC_WRAP
PERL_OP_PARENT
PERL_PRESERVE_IVUV
USE_64_BIT_ALL
USE_64_BIT_INT
USE_LARGE_FILES
USE_LOCALE
USE_LOCALE_COLLATE
USE_LOCALE_CTYPE
USE_LOCALE_NUMERIC
USE_LOCALE_TIME
USE_PERLIO
USE_PERL_ATOF
Locally applied patches:
Devel::PatchPerl 1.48
Built under linux
Compiled at Mar 12 2018 10:48:46
%ENV:
PERLBREW_HOME="/home/julien/.perlbrew"
PERLBREW_MANPATH="/home/julien/perl5/perlbrew/perls/perl-5.26.1/man"
PERLBREW_PATH="/home/julien/perl5/perlbrew/bin:/home/julien/perl5/perlbrew/perls/perl-5.26.1/bin"
PERLBREW_PERL="perl-5.26.1"
PERLBREW_ROOT="/home/julien/perl5/perlbrew"
PERLBREW_SHELLRC_VERSION="0.82"
PERLBREW_VERSION="0.82"
@INC:
/home/julien/perl5/perlbrew/perls/perl-5.26.1/lib/site_perl/5.26.1/x86_64-linux
/home/julien/perl5/perlbrew/perls/perl-5.26.1/lib/site_perl/5.26.1
/home/julien/perl5/perlbrew/perls/perl-5.26.1/lib/5.26.1/x86_64-linux
/home/julien/perl5/perlbrew/perls/perl-5.26.1/lib/5.26.1