OpenERP-XMLRPC-Simple v0.25 Perl 5 v5.32.0 x86_64-linux

Status
Pass
From
Slaven Rezić
Dist
OpenERP-XMLRPC-Simple v0.25
Platform
Perl 5 v5.32.0 x86_64-linux
Date
2022-04-28 17:51:47
ID
dfee1848-c71b-11ec-bcde-642b1f24ea8f
This distribution has been tested as part of the CPAN Testers
project, supporting the Perl programming language.  See
http://wiki.cpantesters.org/ for more information or email
questions to cpan-testers-discuss@perl.org


--
Dear Nicholas Booker,

This is a computer-generated report for OpenERP-XMLRPC-Simple-0.25
on perl 5.32.0, created by CPAN-Reporter-1.2018.

Thank you for uploading your work to CPAN.  Congratulations!
All tests were successful.

Sections of this report:

    * Tester comments
    * Program output
    * Prerequisites
    * Environment and other context

------------------------------
TESTER COMMENTS
------------------------------

Additional comments from tester:

none provided

------------------------------
PROGRAM OUTPUT
------------------------------

Output from '/usr/bin/make test':

PERL_DL_NONLAZY=1 "/opt/perl-5.32.0/bin/perl" "-MExtUtils::Command::MM" "-MTest::Harness" "-e" "undef *Test::Harness::Switches; test_harness(0, 'blib/lib', 'blib/arch')" t/*.t
# Testing OpenERP::XMLRPC::Client 
t/00-load.t ............ ok
# 
# Versions for all modules listed in MYMETA.json (including optional ones):
# 
# === Configure Requires ===
# 
#     Module              Want Have
#     ------------------- ---- ----
#     ExtUtils::MakeMaker  any 7.64
# 
# === Build Requires ===
# 
#     Module              Want Have
#     ------------------- ---- ----
#     ExtUtils::MakeMaker  any 7.64
# 
# === Test Requires ===
# 
#     Module              Want     Have
#     ------------------- ---- --------
#     Data::Dumper         any    2.174
#     ExtUtils::MakeMaker  any     7.64
#     File::ShareDir       any    1.116
#     File::Slurp          any  9999.32
#     File::Spec           any     3.78
#     FindBin              any     1.51
#     HTTP::Request        any     6.36
#     HTTP::Response       any     6.36
#     IO::File             any     1.41
#     Net::HTTPServer      any    1.1.1
#     Test::More          0.96 1.302190
#     XML::Simple          any     2.25
#     lib                  any     0.65
#     strict               any     1.11
#     warnings             any     1.47
# 
# === Test Recommends ===
# 
#     Module         Want     Have
#     ---------- -------- --------
#     CPAN::Meta 2.120900 2.150010
# 
# === Runtime Requires ===
# 
#     Module                       Want   Have
#     ---------------------------- ---- ------
#     MIME::Base64                  any   3.16
#     Moose                         any 2.2201
#     MooseX::Role::XMLRPC::Client  any   0.06
#     failures                      any  0.004
# 
t/00-report-prereqs.t .. ok
t/01-xmlrpc-client.t ... ok
# 
# #################################################################
# #                                                               #
# # The following tests are built to run against a Mock OpenERP.  #
# # (and will do, by default)                                     #
# # To run the tests against a real OpenERP please specify the    #
# # following $ENV variables                                      #
# #                                                               #
# #     OPENERP_SIMPLE_HOST - required!                           #
# #     OPENERP_SIMPLE_PORT - default = 8069                      #
# #     OPENERP_SIMPLE_NAME - default = terp                      #
# #     OPENERP_SIMPLE_USER - default = admin                     #
# #     OPENERP_SIMPLE_PASS - default = admin                     #
# #                                                               #
# #################################################################
# Testing against mock OpenERP server
t/02-xmlrpc-simple.t ... ok
t/author-critic.t ...... skipped: these tests are for testing by the author
t/pod.t ................ skipped: set TEST_POD to enable this test
All tests successful.
Files=6, Tests=26,  5 wallclock secs ( 0.06 usr  0.02 sys +  2.71 cusr  0.47 csys =  3.26 CPU)
Result: PASS

------------------------------
PREREQUISITES
------------------------------

Prerequisite modules loaded:

requires:

    Module                       Need  Have    
    ---------------------------- ----- --------
    failures                     0     0.004   
    MIME::Base64                 0     3.16    
    Moose                        0     2.2201  
    MooseX::Role::XMLRPC::Client 0     0.06    
    perl                         5.010 5.032000

build_requires:

    Module                       Need  Have    
    ---------------------------- ----- --------
    Data::Dumper                 0     2.174   
    ExtUtils::MakeMaker          0     7.64    
    File::ShareDir               0     1.116   
    File::Slurp                  0     9999.32 
    File::Spec                   0     3.78    
    FindBin                      0     1.51    
    HTTP::Request                0     6.36    
    HTTP::Response               0     6.36    
    IO::File                     0     1.41    
    lib                          0     0.65    
    Net::HTTPServer              0     1.1.1   
    strict                       0     1.11    
    Test::More                   0.96  1.302190
    warnings                     0     1.47    
    XML::Simple                  0     2.25    

configure_requires:

    Module                       Need  Have    
    ---------------------------- ----- --------
    ExtUtils::MakeMaker          0     7.64    


------------------------------
ENVIRONMENT AND OTHER CONTEXT
------------------------------

Environment variables:

    LANG = en_US.UTF-8
    PATH = /usr/local/bin:/usr/bin:/bin:/usr/local/sbin:/usr/sbin:/sbin:/home/cpansand/bin/linux-gnu:/home/cpansand/bin/sh:/home/cpansand/bin:/usr/games:/home/cpansand/devel:/home/eserte/src/srezic-misc/scripts
    PERL5LIB = /home/cpansand/.cpan/build/2022042816/Net-HTTPServer-1.1.1-0/blib/arch:/home/cpansand/.cpan/build/2022042816/Net-HTTPServer-1.1.1-0/blib/lib:/home/cpansand/.cpan/build/2022042816/MooseX-Role-XMLRPC-Client-0.06-0/blib/arch:/home/cpansand/.cpan/build/2022042816/MooseX-Role-XMLRPC-Client-0.06-0/blib/lib:/home/cpansand/.cpan/build/2022042816/RPC-XML-0.82-0/blib/arch:/home/cpansand/.cpan/build/2022042816/RPC-XML-0.82-0/blib/lib:/home/cpansand/.cpan/build/2022042816/Module-Load-0.36-0/blib/arch:/home/cpansand/.cpan/build/2022042816/Module-Load-0.36-0/blib/lib:/home/cpansand/.cpan/build/2022042816/MooseX-NotRequired-0.12-0/blib/arch:/home/cpansand/.cpan/build/2022042816/MooseX-NotRequired-0.12-0/blib/lib
    PERL5OPT = 
    PERL5_CPANPLUS_IS_RUNNING = 740835
    PERL5_CPAN_IS_RUNNING = 740835
    PERL5_CPAN_IS_RUNNING_IN_RECURSION = 740723,740835
    PERLDOC = -MPod::Perldoc::ToTextOverstrike
    PERL_BATCH = yes
    PERL_CANARY_STABILITY_NOPROMPT = 1
    PERL_CPAN_REPORTER_CONFIG = /var/tmp/cpansmoker-1023/2022042816/cpanreporter_000_config.ini
    PERL_EXTUTILS_AUTOINSTALL = --defaultdeps
    PERL_USE_UNSAFE_INC = 1
    SHELL = /usr/bin/zsh
    TERM = screen
    TMPDIR = /var/tmp/cpansmoker-1023/2022042816

Perl special variables (and OS-specific diagnostics, for MSWin32):

    $^X = /opt/perl-5.32.0/bin/perl
    $UID/$EUID = 1023 / 1023
    $GID = 1023 1023
    $EGID = 1023 1023

Perl module toolchain versions installed:

    Module              Have    
    ------------------- --------
    CPAN                2.27    
    CPAN::Meta          2.150010
    Cwd                 3.78    
    ExtUtils::CBuilder  0.280234
    ExtUtils::Command   7.64    
    ExtUtils::Install   2.20    
    ExtUtils::MakeMaker 7.64    
    ExtUtils::Manifest  1.72    
    ExtUtils::ParseXS   3.40    
    File::Spec          3.78    
    JSON                4.05    
    JSON::PP            4.07    
    Module::Build       0.4231  
    Module::Signature   0.87    
    Parse::CPAN::Meta   2.150010
    Test::Harness       3.42    
    Test::More          1.302190
    YAML                1.30    
    YAML::Syck          1.32    
    version             0.9924  


--

Summary of my perl5 (revision 5 version 32 subversion 0) configuration:
   
  Platform:
    osname=linux
    osvers=5.6.16-200.fc31.x86_64
    archname=x86_64-linux
    uname='linux cloud4.bbbike.org 5.6.16-200.fc31.x86_64 #1 smp thu jun 4 18:07:41 utc 2020 x86_64 x86_64 x86_64 gnulinux '
    config_args='-ds -e -Dprefix=/opt/perl-5.32.0 -Dcf_email=srezic@cpan.org'
    hint=recommended
    useposix=true
    d_sigaction=define
    useithreads=undef
    usemultiplicity=undef
    use64bitint=define
    use64bitall=define
    uselongdouble=undef
    usemymalloc=n
    default_inc_excludes_dot=define
    bincompat5005=undef
  Compiler:
    cc='cc'
    ccflags ='-fwrapv -fno-strict-aliasing -pipe -fstack-protector-strong -I/usr/local/include -D_LARGEFILE_SOURCE -D_FILE_OFFSET_BITS=64 -D_FORTIFY_SOURCE=2'
    optimize='-O2'
    cppflags='-fwrapv -fno-strict-aliasing -pipe -fstack-protector-strong -I/usr/local/include'
    ccversion=''
    gccversion='9.3.1 20200408 (Red Hat 9.3.1-2)'
    gccosandvers=''
    intsize=4
    longsize=8
    ptrsize=8
    doublesize=8
    byteorder=12345678
    doublekind=3
    d_longlong=define
    longlongsize=8
    d_longdbl=define
    longdblsize=16
    longdblkind=3
    ivtype='long'
    ivsize=8
    nvtype='double'
    nvsize=8
    Off_t='off_t'
    lseeksize=8
    alignbytes=8
    prototype=define
  Linker and Libraries:
    ld='cc'
    ldflags =' -fstack-protector-strong -L/usr/local/lib'
    libpth=/usr/local/lib /usr/lib /lib/../lib64 /usr/lib/../lib64 /lib /lib64 /usr/lib64 /usr/local/lib64
    libs=-lpthread -ldb -ldl -lm -lcrypt -lutil -lc
    perllibs=-lpthread -ldl -lm -lcrypt -lutil -lc
    libc=libc-2.30.so
    so=so
    useshrplib=false
    libperl=libperl.a
    gnulibc_version='2.30'
  Dynamic Linking:
    dlsrc=dl_dlopen.xs
    dlext=so
    d_dlsymun=undef
    ccdlflags='-Wl,-E'
    cccdlflags='-fPIC'
    lddlflags='-shared -O2 -L/usr/local/lib -fstack-protector-strong'


Characteristics of this binary (from libperl): 
  Compile-time options:
    HAS_TIMES
    PERLIO_LAYERS
    PERL_COPY_ON_WRITE
    PERL_DONT_CREATE_GVSV
    PERL_MALLOC_WRAP
    PERL_OP_PARENT
    PERL_PRESERVE_IVUV
    USE_64_BIT_ALL
    USE_64_BIT_INT
    USE_LARGE_FILES
    USE_LOCALE
    USE_LOCALE_COLLATE
    USE_LOCALE_CTYPE
    USE_LOCALE_NUMERIC
    USE_LOCALE_TIME
    USE_PERLIO
    USE_PERL_ATOF
  Built under linux
  Compiled at Jun 21 2020 09:16:25
  %ENV:
    PERL5LIB="/home/cpansand/.cpan/build/2022042816/Net-HTTPServer-1.1.1-0/blib/arch:/home/cpansand/.cpan/build/2022042816/Net-HTTPServer-1.1.1-0/blib/lib:/home/cpansand/.cpan/build/2022042816/MooseX-Role-XMLRPC-Client-0.06-0/blib/arch:/home/cpansand/.cpan/build/2022042816/MooseX-Role-XMLRPC-Client-0.06-0/blib/lib:/home/cpansand/.cpan/build/2022042816/RPC-XML-0.82-0/blib/arch:/home/cpansand/.cpan/build/2022042816/RPC-XML-0.82-0/blib/lib:/home/cpansand/.cpan/build/2022042816/Module-Load-0.36-0/blib/arch:/home/cpansand/.cpan/build/2022042816/Module-Load-0.36-0/blib/lib:/home/cpansand/.cpan/build/2022042816/MooseX-NotRequired-0.12-0/blib/arch:/home/cpansand/.cpan/build/2022042816/MooseX-NotRequired-0.12-0/blib/lib"
    PERL5OPT=""
    PERL5_CPANPLUS_IS_RUNNING="740835"
    PERL5_CPAN_IS_RUNNING="740835"
    PERL5_CPAN_IS_RUNNING_IN_RECURSION="740723,740835"
    PERLDOC="-MPod::Perldoc::ToTextOverstrike"
    PERL_BATCH="yes"
    PERL_CANARY_STABILITY_NOPROMPT="1"
    PERL_CPAN_REPORTER_CONFIG="/var/tmp/cpansmoker-1023/2022042816/cpanreporter_000_config.ini"
    PERL_EXTUTILS_AUTOINSTALL="--defaultdeps"
    PERL_USE_UNSAFE_INC="1"
  @INC:
    /home/cpansand/.cpan/build/2022042816/Net-HTTPServer-1.1.1-0/blib/arch
    /home/cpansand/.cpan/build/2022042816/Net-HTTPServer-1.1.1-0/blib/lib
    /home/cpansand/.cpan/build/2022042816/MooseX-Role-XMLRPC-Client-0.06-0/blib/arch
    /home/cpansand/.cpan/build/2022042816/MooseX-Role-XMLRPC-Client-0.06-0/blib/lib
    /home/cpansand/.cpan/build/2022042816/RPC-XML-0.82-0/blib/arch
    /home/cpansand/.cpan/build/2022042816/RPC-XML-0.82-0/blib/lib
    /home/cpansand/.cpan/build/2022042816/Module-Load-0.36-0/blib/arch
    /home/cpansand/.cpan/build/2022042816/Module-Load-0.36-0/blib/lib
    /home/cpansand/.cpan/build/2022042816/MooseX-NotRequired-0.12-0/blib/arch
    /home/cpansand/.cpan/build/2022042816/MooseX-NotRequired-0.12-0/blib/lib
    /opt/perl-5.32.0/lib/site_perl/5.32.0/x86_64-linux
    /opt/perl-5.32.0/lib/site_perl/5.32.0
    /opt/perl-5.32.0/lib/5.32.0/x86_64-linux
    /opt/perl-5.32.0/lib/5.32.0
    .