HTML-FormFu-Model-DBIC v2.03 Perl 5 v5.26.1 x86_64-linux

Status
Pass
From
Andreas J. König (ANDK)
Dist
HTML-FormFu-Model-DBIC v2.03
Platform
Perl 5 v5.26.1 x86_64-linux
Date
2018-04-09 22:53:52
ID
dff16f8c-3c48-11e8-9f71-1e6cbecc577d
This distribution has been tested as part of the CPAN Testers
project, supporting the Perl programming language.  See
http://wiki.cpantesters.org/ for more information or email
questions to cpan-testers-discuss@perl.org


--
Dear Carl Franks,

This is a computer-generated report for HTML-FormFu-Model-DBIC-2.03
on perl 5.26.1, created by CPAN-Reporter-1.2018.

Thank you for uploading your work to CPAN.  Congratulations!
All tests were successful.

Sections of this report:

    * Tester comments
    * Program output
    * Prerequisites
    * Environment and other context

------------------------------
TESTER COMMENTS
------------------------------

Additional comments from tester:

this report is from an automated smoke testing program
and was not reviewed by a human for accuracy

------------------------------
PROGRAM OUTPUT
------------------------------

Output from '/usr/bin/make test':

PERL_DL_NONLAZY=1 "/home/sand/src/perl/repoperls/installed-perls/host/k93msid/v5.26.1/bb7f/bin/perl" "-MExtUtils::Command::MM" "-MTest::Harness" "-e" "undef *Test::Harness::Switches; test_harness(0, 'blib/lib', 'blib/arch')" t/*.t t/constraints/*.t t/create/*.t t/default_values/*.t t/options_from_model/*.t t/update/*.t t/x_roundtrip/*.t
# 
# Versions for all modules listed in MYMETA.json (including optional ones):
# 
# === Configure Requires ===
# 
#     Module              Want Have
#     ------------------- ---- ----
#     ExtUtils::MakeMaker  any 7.34
# 
# === Build Requires ===
# 
#     Module              Want Have
#     ------------------- ---- ----
#     ExtUtils::MakeMaker  any 7.34
# 
# === Test Requires ===
# 
#     Module                      Want     Have
#     ------------------------ ------- --------
#     DateTime::Format::SQLite     any     0.11
#     ExtUtils::MakeMaker          any     7.34
#     File::Spec                   any     3.74
#     Locale::Maketext             any     1.28
#     SQL::Translator          0.11016  0.11024
#     Test::More                  0.99 1.302134
# 
# === Test Recommends ===
# 
#     Module         Want     Have
#     ---------- -------- --------
#     CPAN::Meta 2.120900 2.150010
# 
# === Runtime Requires ===
# 
#     Module                        Want     Have
#     -------------------------- ------- --------
#     DBD::SQLite                    any     1.58
#     DBIx::Class                0.08108 0.082841
#     HTML::FormFu                  2.00     2.05
#     List::MoreUtils                any    0.428
#     MooseX::Attribute::Chained  v1.0.2    1.0.3
#     Storable                       any     2.62
#     Task::Weaken                   any     1.05
# 
t/00-report-prereqs.t ......................................... ok
t/constraints/dbic_unique.t ................................... ok
t/constraints/dbic_unique_repeatable_id_field.t ............... ok
t/create/basic.t .............................................. ok
t/default_values/basic.t ...................................... ok
t/default_values/basic_nested.t ............................... ok
t/default_values/belongs_to_lookup_table.t .................... ok
t/default_values/belongs_to_lookup_table_combobox.t ........... ok
t/default_values/empty_rows_zero.t ............................ ok
t/default_values/has_many_combobox.t .......................... ok
t/default_values/has_many_repeatable.t ........................ ok
t/default_values/has_many_repeatable_delete_true.t ............ ok
t/default_values/has_many_repeatable_label.t .................. ok
t/default_values/has_many_repeatable_nested.t ................. ok
t/default_values/has_many_repeatable_new.t .................... ok
t/default_values/has_many_select.t ............................ ok
t/default_values/has_one.t .................................... ok
t/default_values/has_one_nested.t ............................. ok
t/default_values/label.t ...................................... ok
t/default_values/many_to_many-has_many.t ...................... ok
t/default_values/many_to_many_checkboxgroup.t ................. ok
t/default_values/many_to_many_repeatable.t .................... ok
t/default_values/many_to_many_repeatable_nested.t ............. ok
t/default_values/many_to_many_repeatable_new.t ................ ok
t/default_values/many_to_many_select.t ........................ ok
t/default_values/many_to_many_select_nested.t ................. ok
t/default_values/methods.t .................................... ok
t/default_values/might_have.t ................................. ok
t/default_values/might_have_missing.t ......................... ok
t/default_values/multi_label.t ................................ ok
t/default_values/nested_name_accessor.t ....................... ok
t/default_values/opt_accessor.t ............................... ok
t/default_values/opt_accessor_nested.t ........................ ok
t/options_from_model/belongs_to.t ............................. ok
t/options_from_model/belongs_to_combobox.t .................... ok
t/options_from_model/belongs_to_config_zero.t ................. ok
t/options_from_model/belongs_to_config_zero_combobox.t ........ ok
t/options_from_model/belongs_to_localize_label.t .............. ok
t/options_from_model/condition_from_stash.t ................... ok
t/options_from_model/condition_from_stash_combobox.t .......... ok
t/options_from_model/condition_from_stash_combobox_complex.t .. ok
t/options_from_model/condition_from_stash_complex.t ........... ok
t/options_from_model/condition_from_stash_expand.t ............ ok
t/options_from_model/constraint_autoset.t ..................... ok
t/options_from_model/enum_select.t ............................ ok
t/options_from_model/has_many_repeatable_select.t ............. ok
t/options_from_model/many_to_many_select.t .................... ok
t/options_from_model/many_to_many_select_restricted.t ......... ok
t/update/add_valid.t .......................................... ok
t/update/basic_create.t ....................................... ok
t/update/basic_update.t ....................................... ok
t/update/belongs_to.t ......................................... ok
t/update/belongs_to_combobox.t ................................ ok
t/update/belongs_to_create.t .................................. ok
t/update/belongs_to_create_required.t ......................... ok
t/update/belongs_to_lookup_table_combobox.t ................... ok
t/update/belongs_to_select.t .................................. ok
t/update/column_without_field.t ............................... ok
t/update/has_many_repeatable.t ................................ ok
t/update/has_many_repeatable_delete_true.t .................... ok
t/update/has_many_repeatable_many_new.t ....................... ok
t/update/has_many_repeatable_many_new_exceed_max.t ............ ok
t/update/has_many_repeatable_new.t ............................ ok
t/update/has_many_repeatable_new_date.t ....................... ok
t/update/has_many_repeatable_new_dependon.t ................... ok
t/update/has_many_repeatable_new_empty.t ...................... ok
t/update/has_many_repeatable_new_implicit.t ................... ok
t/update/has_many_repeatable_new_required_when.t .............. ok
t/update/has_one.t ............................................ ok
t/update/has_one_create.t ..................................... ok
t/update/has_one_no_id.t ...................................... ok
t/update/has_one_select.t ..................................... ok
t/update/ignore_if_empty.t .................................... ok
t/update/many_to_many-has_many.t .............................. ok
t/update/many_to_many_checkboxgroup.t ......................... ok
t/update/many_to_many_checkboxgroup_read_only.t ............... ok
t/update/many_to_many_checkboxgroup_restricted.t .............. ok
t/update/many_to_many_checkboxgroup_unselected.t .............. ok
t/update/many_to_many_repeatable.t ............................ ok
t/update/many_to_many_repeatable_new.t ........................ ok
t/update/many_to_many_select.t ................................ ok
t/update/many_to_many_select_unselected.t ..................... ok
t/update/methods.t ............................................ ok
t/update/might_have.t ......................................... ok
t/update/might_have_create.t .................................. ok
t/update/might_have_delete_if_empty.t ......................... ok
t/update/nested_create.t ...................................... ok
t/update/nested_create_checkbox.t ............................. ok
t/update/nested_name_accessor.t ............................... ok
t/update/nested_repeatable_write.t ............................ ok
t/update/null_if_empty.t ...................................... ok
t/update/opt_accessor.t ....................................... ok
t/update/opt_accessor_nested.t ................................ ok
t/update/unchecked_not_null_checkbox.t ........................ ok
t/x_roundtrip/checkbox_false2true.t ........................... ok
t/x_roundtrip/checkbox_true2false.t ........................... ok
All tests successful.
Files=96, Tests=612, 218 wallclock secs ( 0.28 usr  0.46 sys + 111.10 cusr 10.44 csys = 122.28 CPU)
Result: PASS

------------------------------
PREREQUISITES
------------------------------

Prerequisite modules loaded:

requires:

    Module                     Need     Have    
    -------------------------- -------- --------
    DBD::SQLite                0        1.58    
    DBIx::Class                0.08108  0.082841
    HTML::FormFu               2.00     2.05    
    List::MoreUtils            0        0.428   
    MooseX::Attribute::Chained v1.0.2   1.0.3   
    perl                       5.008001 5.026001
    Storable                   0        2.62    
    Task::Weaken               0        1.05    

build_requires:

    Module                     Need     Have    
    -------------------------- -------- --------
    DateTime::Format::SQLite   0        0.11    
    ExtUtils::MakeMaker        0        7.34    
    File::Spec                 0        3.74    
    Locale::Maketext           0        1.28    
    SQL::Translator            0.11016  0.11024 
    Test::More                 0.99     1.302134

configure_requires:

    Module                     Need     Have    
    -------------------------- -------- --------
    ExtUtils::MakeMaker        0        7.34    


------------------------------
ENVIRONMENT AND OTHER CONTEXT
------------------------------

Environment variables:

    AUTOMATED_TESTING = 1
    LANG = en_US.UTF-8
    PATH = /home/sand/bin:/usr/local/bin:/usr/bin:/bin:/usr/games:/usr/local/perl/bin:/usr/X11/bin:/sbin:/usr/sbin
    PERL5LIB = 
    PERL5OPT = 
    PERL5_CPANPLUS_IS_RUNNING = 24938
    PERL5_CPAN_IS_RUNNING = 24938
    PERL_CANARY_STABILITY_NOPROMPT = 1
    PERL_MM_USE_DEFAULT = 1
    PERL_USE_UNSAFE_INC = 1
    SHELL = /usr/bin/zsh
    TERM = screen

Perl special variables (and OS-specific diagnostics, for MSWin32):

    $^X = /home/sand/src/perl/repoperls/installed-perls/host/k93msid/v5.26.1/bb7f/bin/perl
    $UID/$EUID = 1005 / 1005
    $GID = 1005 1005
    $EGID = 1005 1005

Perl module toolchain versions installed:

    Module              Have      
    ------------------- ----------
    CPAN                2.20      
    CPAN::Meta          2.150010  
    Cwd                 3.74      
    ExtUtils::CBuilder  0.280230  
    ExtUtils::Command   7.34      
    ExtUtils::Install   2.06      
    ExtUtils::MakeMaker 7.34      
    ExtUtils::Manifest  1.70      
    ExtUtils::ParseXS   3.34      
    File::Spec          3.74      
    JSON                2.97001   
    JSON::PP            2.27400_02
    Module::Build       0.4224    
    Module::Signature   0.81      
    Parse::CPAN::Meta   2.150010  
    Test::Harness       3.43_01   
    Test::More          1.302134  
    YAML                1.24      
    YAML::Syck          1.30      
    version             0.9917    


--

Summary of my perl5 (revision 5 version 26 subversion 1) configuration:
  Commit id: 714a461a2ab3017f19ea0f7bbb4934b2309d3aa8
  Platform:
    osname=linux
    osvers=4.14.0-3-amd64
    archname=x86_64-linux
    uname='linux k93msid 4.14.0-3-amd64 #1 smp debian 4.14.12-2 (2018-01-06) x86_64 gnulinux '
    config_args='-Dprefix=/home/sand/src/perl/repoperls/installed-perls/host/k93msid/v5.26.1/bb7f -Dmyhostname=k93msid -Dinstallusrbinperl=n -Uversiononly -Dusedevel -des -Ui_db -Dlibswanted=cl pthread socket inet nsl gdbm dbm malloc dl ld sun m crypt sec util c cposix posix ucb BSD gdbm_compat -Uuseithreads -Uuselongdouble -DEBUGGING=both'
    hint=recommended
    useposix=true
    d_sigaction=define
    useithreads=undef
    usemultiplicity=undef
    use64bitint=define
    use64bitall=define
    uselongdouble=undef
    usemymalloc=n
    default_inc_excludes_dot=define
    bincompat5005=undef
  Compiler:
    cc='cc'
    ccflags ='-fwrapv -DDEBUGGING -fno-strict-aliasing -pipe -fstack-protector-strong -I/usr/local/include -D_LARGEFILE_SOURCE -D_FILE_OFFSET_BITS=64 -D_FORTIFY_SOURCE=2'
    optimize='-O2 -g'
    cppflags='-fwrapv -DDEBUGGING -fno-strict-aliasing -pipe -fstack-protector-strong -I/usr/local/include'
    ccversion=''
    gccversion='7.2.0'
    gccosandvers=''
    intsize=4
    longsize=8
    ptrsize=8
    doublesize=8
    byteorder=12345678
    doublekind=3
    d_longlong=define
    longlongsize=8
    d_longdbl=define
    longdblsize=16
    longdblkind=3
    ivtype='long'
    ivsize=8
    nvtype='double'
    nvsize=8
    Off_t='off_t'
    lseeksize=8
    alignbytes=8
    prototype=define
  Linker and Libraries:
    ld='cc'
    ldflags =' -fstack-protector-strong -L/usr/local/lib'
    libpth=/usr/local/lib /usr/lib/gcc/x86_64-linux-gnu/7/include-fixed /usr/include/x86_64-linux-gnu /usr/lib /lib/x86_64-linux-gnu /lib/../lib /usr/lib/x86_64-linux-gnu /usr/lib/../lib /lib
    libs=-lpthread -lnsl -ldl -lm -lcrypt -lutil -lc
    perllibs=-lpthread -lnsl -ldl -lm -lcrypt -lutil -lc
    libc=libc-2.26.so
    so=so
    useshrplib=false
    libperl=libperl.a
    gnulibc_version='2.26'
  Dynamic Linking:
    dlsrc=dl_dlopen.xs
    dlext=so
    d_dlsymun=undef
    ccdlflags='-Wl,-E'
    cccdlflags='-fPIC'
    lddlflags='-shared -O2 -g -L/usr/local/lib -fstack-protector-strong'


Characteristics of this binary (from libperl): 
  Compile-time options:
    DEBUGGING
    HAS_TIMES
    PERLIO_LAYERS
    PERL_COPY_ON_WRITE
    PERL_DONT_CREATE_GVSV
    PERL_MALLOC_WRAP
    PERL_OP_PARENT
    PERL_PRESERVE_IVUV
    PERL_USE_DEVEL
    USE_64_BIT_ALL
    USE_64_BIT_INT
    USE_LARGE_FILES
    USE_LOCALE
    USE_LOCALE_COLLATE
    USE_LOCALE_CTYPE
    USE_LOCALE_NUMERIC
    USE_LOCALE_TIME
    USE_PERLIO
    USE_PERL_ATOF
  Built under linux
  Compiled at Jan  8 2018 16:10:47
  %ENV:
    PERL5LIB=""
    PERL5OPT=""
    PERL5_CPANPLUS_IS_RUNNING="24938"
    PERL5_CPAN_IS_RUNNING="24938"
    PERL_CANARY_STABILITY_NOPROMPT="1"
    PERL_MM_USE_DEFAULT="1"
    PERL_USE_UNSAFE_INC="1"
  @INC:
    /home/sand/src/perl/repoperls/installed-perls/host/k93msid/v5.26.1/bb7f/lib/site_perl/5.26.1/x86_64-linux
    /home/sand/src/perl/repoperls/installed-perls/host/k93msid/v5.26.1/bb7f/lib/site_perl/5.26.1
    /home/sand/src/perl/repoperls/installed-perls/host/k93msid/v5.26.1/bb7f/lib/5.26.1/x86_64-linux
    /home/sand/src/perl/repoperls/installed-perls/host/k93msid/v5.26.1/bb7f/lib/5.26.1
    .