Test2-Tools-URL v0.02 Perl 5 v5.8.4 darwin-thread-multi-2level
- Status
- Pass
- From
- Nigel Horne
- Dist
-
Test2-Tools-URL v0.02
- Platform
- Perl 5 v5.8.4 darwin-thread-multi-2level
- Date
- 2017-11-15 02:44:17
- ID
- e01fe20c-c9ae-11e7-b9c6-595ece1ee5c7
This distribution has been tested as part of the CPAN Testers
project, supporting the Perl programming language. See
http://wiki.cpantesters.org/ for more information or email
questions to cpan-testers-discuss@perl.org
--
Dear Graham Ollis,
This is a computer-generated report for Test2-Tools-URL-0.02
on perl 5.8.4, created by CPAN-Reporter-1.2018.
Thank you for uploading your work to CPAN. Congratulations!
All tests were successful.
Sections of this report:
* Tester comments
* Program output
* Prerequisites
* Environment and other context
------------------------------
TESTER COMMENTS
------------------------------
Additional comments from tester:
this report is from an automated smoke testing program
and was not reviewed by a human for accuracy
------------------------------
PROGRAM OUTPUT
------------------------------
Output from '/sw/bin/make test':
PERL_DL_NONLAZY=1 "/Users/hornenj/perl5/perlbrew/perls/perl-5.8.4/bin/perl" "-MExtUtils::Command::MM" "-MTest::Harness" "-e" "undef *Test::Harness::Switches; test_harness(0, 'blib/lib', 'blib/arch')" t/*.t
#
#
#
# HARNESS_ACTIVE=1
# HARNESS_VERSION=3.36
# LANG=en_US.UTF-8
# LC_ALL=POSIX
# PERL5LIB=/Users/hornenj/.cpan/build/Test2-Tools-URL-0.02-1/blib/lib:/Users/hornenj/.cpan/build/Test2-Tools-URL-0.02-1/blib/arch:/Users/hornenj/.cpan/build/PerlX-Maybe-1.001-1/blib/arch:/Users/hornenj/.cpan/build/PerlX-Maybe-1.001-1/blib/lib:/Users/hornenj/.cpan/build/Alien-Build-1.32-1/blib/arch:/Users/hornenj/.cpan/build/Alien-Build-1.32-1/blib/lib:/Users/hornenj/.cpan/build/File-chdir-0.1010-11/blib/arch:/Users/hornenj/.cpan/build/File-chdir-0.1010-11/blib/lib:/Users/hornenj/.cpan/build/File-Which-1.22-2/blib/arch:/Users/hornenj/.cpan/build/File-Which-1.22-2/blib/lib:/Users/hornenj/.cpan/build/FFI-CheckLib-0.18-1/blib/arch:/Users/hornenj/.cpan/build/FFI-CheckLib-0.18-1/blib/lib:/Users/hornenj/.cpan/build/PerlX-Maybe-1.001-1/blib/arch:/Users/hornenj/.cpan/build/PerlX-Maybe-1.001-1/blib/lib:/Users/hornenj/.cpan/build/Alien-Build-1.32-1/blib/arch:/Users/hornenj/.cpan/build/Alien-Build-1.32-1/blib/lib:/Users/hornenj/.cpan/build/File-chdir-0.1010-11/blib/arch:/Users/hornenj/.cpan/build/File-chdir-0.1010-11/blib/lib:/Users/hornenj/.cpan/build/File-Which-1.22-2/blib/arch:/Users/hornenj/.cpan/build/File-Which-1.22-2/blib/lib:/Users/hornenj/.cpan/build/FFI-CheckLib-0.18-1/blib/arch:/Users/hornenj/.cpan/build/FFI-CheckLib-0.18-1/blib/lib
# PERL5OPT=
# PERL5_CPANPLUS_IS_RUNNING=9133
# PERL5_CPAN_IS_RUNNING=9133
# PERL5_MINISMOKEBOX=0.58
# PERLBREW_BASHRC_VERSION=0.80
# PERLBREW_HOME=/Users/hornenj/.perlbrew
# PERLBREW_LIB=
# PERLBREW_MANPATH=/Users/hornenj/perl5/perlbrew/perls/perl-5.8.4/man
# PERLBREW_PATH=/Users/hornenj/perl5/perlbrew/bin:/Users/hornenj/perl5/perlbrew/perls/perl-5.8.4/bin
# PERLBREW_PERL=perl-5.8.4
# PERLBREW_ROOT=/Users/hornenj/perl5/perlbrew
# PERLBREW_VERSION=0.80
# PERL_DL_NONLAZY=1
# PERL_EXTUTILS_AUTOINSTALL=--defaultdeps
# PERL_LOCAL_LIB_ROOT=
# PERL_MM_USE_DEFAULT=1
# SHELL=/bin/bash
#
#
#
# PERL5LIB path
# /Users/hornenj/.cpan/build/Test2-Tools-URL-0.02-1/blib/lib
# /Users/hornenj/.cpan/build/Test2-Tools-URL-0.02-1/blib/arch
# /Users/hornenj/.cpan/build/PerlX-Maybe-1.001-1/blib/arch
# /Users/hornenj/.cpan/build/PerlX-Maybe-1.001-1/blib/lib
# /Users/hornenj/.cpan/build/Alien-Build-1.32-1/blib/arch
# /Users/hornenj/.cpan/build/Alien-Build-1.32-1/blib/lib
# /Users/hornenj/.cpan/build/File-chdir-0.1010-11/blib/arch
# /Users/hornenj/.cpan/build/File-chdir-0.1010-11/blib/lib
# /Users/hornenj/.cpan/build/File-Which-1.22-2/blib/arch
# /Users/hornenj/.cpan/build/File-Which-1.22-2/blib/lib
# /Users/hornenj/.cpan/build/FFI-CheckLib-0.18-1/blib/arch
# /Users/hornenj/.cpan/build/FFI-CheckLib-0.18-1/blib/lib
# /Users/hornenj/.cpan/build/PerlX-Maybe-1.001-1/blib/arch
# /Users/hornenj/.cpan/build/PerlX-Maybe-1.001-1/blib/lib
# /Users/hornenj/.cpan/build/Alien-Build-1.32-1/blib/arch
# /Users/hornenj/.cpan/build/Alien-Build-1.32-1/blib/lib
# /Users/hornenj/.cpan/build/File-chdir-0.1010-11/blib/arch
# /Users/hornenj/.cpan/build/File-chdir-0.1010-11/blib/lib
# /Users/hornenj/.cpan/build/File-Which-1.22-2/blib/arch
# /Users/hornenj/.cpan/build/File-Which-1.22-2/blib/lib
# /Users/hornenj/.cpan/build/FFI-CheckLib-0.18-1/blib/arch
# /Users/hornenj/.cpan/build/FFI-CheckLib-0.18-1/blib/lib
#
#
#
# perl 5.008004
# Carp 1.38
# ExtUtils::MakeMaker 7.3
# Mojolicious -
# Test2::Compare 0.000072
# Test2::Compare::Base 0.000072
# Test2::Compare::Hash 0.000072
# Test2::Compare::String 0.000072
# Test2::V0 0.000072
# URI 1.71
#
#
#
t/00_diag.t .......... ok
t/01_use.t ........... ok
t/test2_tools_url.t .. ok
All tests successful.
Files=3, Tests=15, 0 wallclock secs ( 0.02 usr 0.01 sys + 0.23 cusr 0.04 csys = 0.30 CPU)
Result: PASS
------------------------------
PREREQUISITES
------------------------------
Prerequisite modules loaded:
requires:
Module Need Have
---------------------- -------- --------
Carp 0 1.38
perl 5.008001 5.008004
Test2::Compare 0.000060 0.000072
Test2::Compare::Base 0.000060 0.000072
Test2::Compare::Hash 0.000060 0.000072
Test2::Compare::String 0.000060 0.000072
URI 0 1.71
build_requires:
Module Need Have
---------------------- -------- --------
ExtUtils::MakeMaker 0 7.30
Test2::V0 0.000060 0.000072
configure_requires:
Module Need Have
---------------------- -------- --------
ExtUtils::MakeMaker 0 7.30
perl 5.008001 5.008004
------------------------------
ENVIRONMENT AND OTHER CONTEXT
------------------------------
Environment variables:
AUTOMATED_TESTING = 1
LANG = en_US.UTF-8
LC_ALL = POSIX
PATH = /Users/hornenj/perl5/perlbrew/bin:/Users/hornenj/perl5/perlbrew/perls/perl-5.8.4/bin:/Users/hornenj/bin:/Users/hornenj/perl5/perlbrew/bin:/usr/bin:/bin:/usr/X11R6/bin:/sw/bin
PERL5LIB = /Users/hornenj/.cpan/build/PerlX-Maybe-1.001-1/blib/arch:/Users/hornenj/.cpan/build/PerlX-Maybe-1.001-1/blib/lib:/Users/hornenj/.cpan/build/Alien-Build-1.32-1/blib/arch:/Users/hornenj/.cpan/build/Alien-Build-1.32-1/blib/lib:/Users/hornenj/.cpan/build/File-chdir-0.1010-11/blib/arch:/Users/hornenj/.cpan/build/File-chdir-0.1010-11/blib/lib:/Users/hornenj/.cpan/build/File-Which-1.22-2/blib/arch:/Users/hornenj/.cpan/build/File-Which-1.22-2/blib/lib:/Users/hornenj/.cpan/build/FFI-CheckLib-0.18-1/blib/arch:/Users/hornenj/.cpan/build/FFI-CheckLib-0.18-1/blib/lib
PERL5OPT =
PERL5_CPANPLUS_IS_RUNNING = 9133
PERL5_CPAN_IS_RUNNING = 9133
PERL5_MINISMOKEBOX = 0.58
PERLBREW_BASHRC_VERSION = 0.80
PERLBREW_HOME = /Users/hornenj/.perlbrew
PERLBREW_LIB =
PERLBREW_MANPATH = /Users/hornenj/perl5/perlbrew/perls/perl-5.8.4/man
PERLBREW_PATH = /Users/hornenj/perl5/perlbrew/bin:/Users/hornenj/perl5/perlbrew/perls/perl-5.8.4/bin
PERLBREW_PERL = perl-5.8.4
PERLBREW_ROOT = /Users/hornenj/perl5/perlbrew
PERLBREW_VERSION = 0.80
PERL_EXTUTILS_AUTOINSTALL = --defaultdeps
PERL_LOCAL_LIB_ROOT =
PERL_MM_USE_DEFAULT = 1
SHELL = /bin/bash
TERM = xterm-256color
TMPDIR = /var/folders/pz/pd7y1qjs6s3cbk170cw50fjc000c61/T/
Perl special variables (and OS-specific diagnostics, for MSWin32):
$^X = /Users/hornenj/perl5/perlbrew/perls/perl-5.8.4/bin/perl
$UID/$EUID = 12481 / 12481
$GID = 14 223 241 37223 206 399 204 62 12 527 37191 5344 14
$EGID = 14 223 241 37223 206 399 204 62 12 527 37191 5344 14
Perl module toolchain versions installed:
Module Have
------------------- --------
CPAN 2.16
CPAN::Meta 2.150005
Cwd 3.62
ExtUtils::CBuilder 0.280224
ExtUtils::Command 7.30
ExtUtils::Install 2.06
ExtUtils::MakeMaker 7.30
ExtUtils::Manifest 1.70
ExtUtils::ParseXS 3.30
File::Spec 3.62
JSON 2.93
JSON::PP 2.27400
Module::Build 0.4224
Module::Signature 0.79
Parse::CPAN::Meta 1.4422
Test::Harness 3.36
Test::More 1.302078
YAML n/a
YAML::Syck 1.30
version 0.9915
--
Summary of my perl5 (revision 5 version 8 subversion 4) configuration:
Platform:
osname=darwin, osvers=12.5.0, archname=darwin-thread-multi-2level
uname='darwin ncbimac2008.ncbi.nlm.nih.gov 12.5.0 darwin kernel version 12.5.0: sun sep 29 13:33:47 pdt 2013; root:xnu-2050.48.12~1release_x86_64 x86_64 '
config_args='-de -Dprefix=/Users/hornenj/perl5/perlbrew/perls/perl-5.8.4 -Duseithreads -Dusemultiplicity -Accflags=-O2 -W -Wformat=2 -Wswitch -Wshadow -Wwrite-strings -Wuninitialized -Wall -pipe -mtune=native -march=native -fomit-frame-pointer -msse2 -msse -mmmx -pedantic -D_FORTIFY_SOURCE=2 -Wpointer-arith -Wstrict-prototypes -fstack-protector -Wstack-protector -Wextra -Wbad-function-cast -Wcast-align -Wcast-qual -Wdisabled-optimization -Wendif-labels -Wfloat-equal -Wformat-nonliteral -Winline -Wmissing-declarations -Wmissing-prototypes -Wnested-externs -Wpointer-arith -Wundef -Wformat-security -fassociative-math -Acc=cc -Aeval:scriptdir=/Users/hornenj/perl5/perlbrew/perls/perl-5.8.4/bin'
hint=recommended, useposix=true, d_sigaction=define
usethreads=define use5005threads=undef useithreads=define usemultiplicity=define
useperlio=define d_sfio=undef uselargefiles=define usesocks=undef
use64bitint=define use64bitall=define uselongdouble=undef
usemymalloc=n, bincompat5005=undef
Compiler:
cc=' cc', ccflags ='-fno-common -DPERL_DARWIN -O2 -W -Wformat=2 -Wswitch -Wshadow -Wwrite-strings -Wuninitialized -Wall -pipe -mtune=native -march=native -fomit-frame-pointer -msse2 -msse -mmmx -pedantic -D_FORTIFY_SOURCE=2 -Wpointer-arith -Wstrict-prototypes -fstack-protector -Wstack-protector -Wextra -Wbad-function-cast -Wcast-align -Wcast-qual -Wdisabled-optimization -Wendif-labels -Wfloat-equal -Wformat-nonliteral -Winline -Wmissing-declarations -Wmissing-prototypes -Wnested-externs -Wpointer-arith -Wundef -Wformat-security -fassociative-math -fno-strict-aliasing -I/usr/local/include',
optimize='-O3',
cppflags='-fno-common -DPERL_DARWIN -O2 -W -Wformat=2 -Wswitch -Wshadow -Wwrite-strings -Wuninitialized -Wall -pipe -mtune=native -march=native -fomit-frame-pointer -msse2 -msse -mmmx -pedantic -D_FORTIFY_SOURCE=2 -Wpointer-arith -Wstrict-prototypes -fstack-protector -Wstack-protector -Wextra -Wbad-function-cast -Wcast-align -Wcast-qual -Wdisabled-optimization -Wendif-labels -Wfloat-equal -Wformat-nonliteral -Winline -Wmissing-declarations -Wmissing-prototypes -Wnested-externs -Wpointer-arith -Wundef -Wformat-security -fassociative-math -fno-strict-aliasing -I/usr/local/include'
ccversion='', gccversion='4.2.1 Compatible Apple LLVM 4.2 (clang-425.0.24)', gccosandvers=''
intsize=4, longsize=8, ptrsize=8, doublesize=8, byteorder=12345678
d_longlong=define, longlongsize=8, d_longdbl=define, longdblsize=16
ivtype='long', ivsize=8, nvtype='double', nvsize=8, Off_t='off_t', lseeksize=8
alignbytes=8, prototype=define
Linker and Libraries:
ld='env MACOSX_DEPLOYMENT_TARGET=10.3 cc', ldflags =' -L/usr/local/lib'
libpth=/usr/local/lib /usr/lib
libs=-ldbm -ldl -lm -lutil -lc
perllibs=-ldl -lm -lutil -lc
libc=, so=dylib, useshrplib=false, libperl=libperl.a
gnulibc_version=''
Dynamic Linking:
dlsrc=dl_dlopen.xs, dlext=bundle, d_dlsymun=undef, ccdlflags=' '
cccdlflags=' ', lddlflags=' -bundle -undefined dynamic_lookup -L/usr/local/lib'
Characteristics of this binary (from libperl):
Compile-time options: MULTIPLICITY USE_ITHREADS USE_64_BIT_INT USE_64_BIT_ALL USE_LARGE_FILES PERL_IMPLICIT_CONTEXT
Built under darwin
Compiled at Sep 17 2014 08:32:32
%ENV:
PERL5LIB="/Users/hornenj/.cpan/build/PerlX-Maybe-1.001-1/blib/arch:/Users/hornenj/.cpan/build/PerlX-Maybe-1.001-1/blib/lib:/Users/hornenj/.cpan/build/Alien-Build-1.32-1/blib/arch:/Users/hornenj/.cpan/build/Alien-Build-1.32-1/blib/lib:/Users/hornenj/.cpan/build/File-chdir-0.1010-11/blib/arch:/Users/hornenj/.cpan/build/File-chdir-0.1010-11/blib/lib:/Users/hornenj/.cpan/build/File-Which-1.22-2/blib/arch:/Users/hornenj/.cpan/build/File-Which-1.22-2/blib/lib:/Users/hornenj/.cpan/build/FFI-CheckLib-0.18-1/blib/arch:/Users/hornenj/.cpan/build/FFI-CheckLib-0.18-1/blib/lib"
PERL5OPT=""
PERL5_CPANPLUS_IS_RUNNING="9133"
PERL5_CPAN_IS_RUNNING="9133"
PERL5_MINISMOKEBOX="0.58"
PERLBREW_BASHRC_VERSION="0.80"
PERLBREW_HOME="/Users/hornenj/.perlbrew"
PERLBREW_LIB=""
PERLBREW_MANPATH="/Users/hornenj/perl5/perlbrew/perls/perl-5.8.4/man"
PERLBREW_PATH="/Users/hornenj/perl5/perlbrew/bin:/Users/hornenj/perl5/perlbrew/perls/perl-5.8.4/bin"
PERLBREW_PERL="perl-5.8.4"
PERLBREW_ROOT="/Users/hornenj/perl5/perlbrew"
PERLBREW_VERSION="0.80"
PERL_EXTUTILS_AUTOINSTALL="--defaultdeps"
PERL_LOCAL_LIB_ROOT=""
PERL_MM_USE_DEFAULT="1"
@INC:
/Users/hornenj/.cpan/build/PerlX-Maybe-1.001-1/blib/arch
/Users/hornenj/.cpan/build/PerlX-Maybe-1.001-1/blib/lib
/Users/hornenj/.cpan/build/Alien-Build-1.32-1/blib/arch
/Users/hornenj/.cpan/build/Alien-Build-1.32-1/blib/lib
/Users/hornenj/.cpan/build/File-chdir-0.1010-11/blib/arch
/Users/hornenj/.cpan/build/File-chdir-0.1010-11/blib/lib
/Users/hornenj/.cpan/build/File-Which-1.22-2/blib/arch
/Users/hornenj/.cpan/build/File-Which-1.22-2/blib/lib
/Users/hornenj/.cpan/build/FFI-CheckLib-0.18-1/blib/arch
/Users/hornenj/.cpan/build/FFI-CheckLib-0.18-1/blib/lib
/Users/hornenj/perl5/perlbrew/perls/perl-5.8.4/lib/5.8.4/darwin-thread-multi-2level
/Users/hornenj/perl5/perlbrew/perls/perl-5.8.4/lib/5.8.4
/Users/hornenj/perl5/perlbrew/perls/perl-5.8.4/lib/site_perl/5.8.4/darwin-thread-multi-2level
/Users/hornenj/perl5/perlbrew/perls/perl-5.8.4/lib/site_perl/5.8.4
/Users/hornenj/perl5/perlbrew/perls/perl-5.8.4/lib/site_perl
.