Report for Text-Phonetic-VideoGame-0.03

Back
From: metabase:user:320bfe00-2aae-11df-837a-5e0a49663a4f
Subject: PASS Text-Phonetic-VideoGame-0.03 v5.13.3 GNU/Linux
Date: 2010-11-29T00:59:10Z

This distribution has been tested as part of the CPAN Testers
project, supporting the Perl programming language.  See
http://wiki.cpantesters.org/ for more information or email
questions to cpan-testers-discuss@perl.org


--
Dear Michael Hendricks,

This is a computer-generated report for Text-Phonetic-VideoGame-0.03
on perl 5.13.3, created by CPAN-Reporter-1.1805.

Thank you for uploading your work to CPAN.  Congratulations!
All tests were successful.

Sections of this report:

    * Tester comments
    * Program output
    * Prerequisites
    * Environment and other context

------------------------------
TESTER COMMENTS
------------------------------

Additional comments from tester:

this report is from an automated smoke testing program
and was not reviewed by a human for accuracy

------------------------------
PROGRAM OUTPUT
------------------------------

Output from '/usr/bin/make test':

PERL_DL_NONLAZY=1 /home/src/perl/repoperls/installed-perls/perl/v5.13.3-88-g936fbab/bin/perl "-MExtUtils::Command::MM" "-e" "test_harness(0, 'inc', 'blib/lib', 'blib/arch')" t/encode.t t/no-match.t t/pod.t t/split-compounds.t
get_or_add_package_symbol is deprecated, please use get_or_add_symbol at /home/src/perl/repoperls/installed-perls/perl/v5.13.3-88-g936fbab/lib/site_perl/5.13.3/Package/Stash.pm line 79
	Package::Stash::get_or_add_package_symbol('Package::Stash=HASH(0x2138428)', 'HASH(0x21380b0)') called at /home/src/perl/repoperls/installed-perls/perl/v5.13.3-88-g936fbab/lib/site_perl/5.13.3/x86_64-linux-thread-multi-ld/Class/MOP/Package.pm line 128
	Class::MOP::Package::get_or_add_package_symbol('Class::MOP::Class=HASH(0x2138260)', 'HASH(0x21380b0)') called at /home/src/perl/repoperls/installed-perls/perl/v5.13.3-88-g936fbab/lib/site_perl/5.13.3/x86_64-linux-thread-multi-ld/Class/MOP/Class.pm line 836
	Class::MOP::Class::superclasses('Class::MOP::Class=HASH(0x2138260)') called at /home/src/perl/repoperls/installed-perls/perl/v5.13.3-88-g936fbab/lib/site_perl/5.13.3/x86_64-linux-thread-multi-ld/Class/MOP/Class.pm line 213
	Class::MOP::Class::_check_metaclass_compatibility('Class::MOP::Class=HASH(0x2138260)') called at /home/src/perl/repoperls/installed-perls/perl/v5.13.3-88-g936fbab/lib/site_perl/5.13.3/x86_64-linux-thread-multi-ld/Class/MOP/Class.pm line 109
	Class::MOP::Class::_construct_class_instance('Class::MOP::Class', 'package', 'Class::MOP::Mixin::HasMethods') called at /home/src/perl/repoperls/installed-perls/perl/v5.13.3-88-g936fbab/lib/site_perl/5.13.3/x86_64-linux-thread-multi-ld/Class/MOP/Class.pm line 45
	Class::MOP::Class::initialize('Class::MOP::Class', 'Class::MOP::Mixin::HasMethods') called at /home/src/perl/repoperls/installed-perls/perl/v5.13.3-88-g936fbab/lib/site_perl/5.13.3/x86_64-linux-thread-multi-ld/Class/MOP/Mixin.pm line 14
	Class::MOP::Mixin::meta('Class::MOP::Mixin::HasMethods') called at /home/src/perl/repoperls/installed-perls/perl/v5.13.3-88-g936fbab/lib/site_perl/5.13.3/x86_64-linux-thread-multi-ld/Class/MOP.pm line 193
	require Class/MOP.pm called at /home/src/perl/repoperls/installed-perls/perl/v5.13.3-88-g936fbab/lib/site_perl/5.13.3/x86_64-linux-thread-multi-ld/Moose/Exporter.pm line 11
	Moose::Exporter::BEGIN() called at /home/src/perl/repoperls/installed-perls/perl/v5.13.3-88-g936fbab/lib/site_perl/5.13.3/x86_64-linux-thread-multi-ld/Class/MOP.pm line 0
	eval {...} called at /home/src/perl/repoperls/installed-perls/perl/v5.13.3-88-g936fbab/lib/site_perl/5.13.3/x86_64-linux-thread-multi-ld/Class/MOP.pm line 0
	require Moose/Exporter.pm called at /home/src/perl/repoperls/installed-perls/perl/v5.13.3-88-g936fbab/lib/site_perl/5.13.3/x86_64-linux-thread-multi-ld/Moose.pm line 15
	Moose::BEGIN() called at /home/src/perl/repoperls/installed-perls/perl/v5.13.3-88-g936fbab/lib/site_perl/5.13.3/x86_64-linux-thread-multi-ld/Class/MOP.pm line 0
	eval {...} called at /home/src/perl/repoperls/installed-perls/perl/v5.13.3-88-g936fbab/lib/site_perl/5.13.3/x86_64-linux-thread-multi-ld/Class/MOP.pm line 0
	require Moose.pm called at /home/src/perl/repoperls/installed-perls/perl/v5.13.3-88-g936fbab/lib/site_perl/5.13.3/Text/Phonetic.pm line 4
	Text::Phonetic::BEGIN() called at /home/src/perl/repoperls/installed-perls/perl/v5.13.3-88-g936fbab/lib/site_perl/5.13.3/x86_64-linux-thread-multi-ld/Class/MOP.pm line 0
	eval {...} called at /home/src/perl/repoperls/installed-perls/perl/v5.13.3-88-g936fbab/lib/site_perl/5.13.3/x86_64-linux-thread-multi-ld/Class/MOP.pm line 0
	require Text/Phonetic.pm called at (eval 2) line 2
	eval 'require Text::Phonetic
;' called at /home/src/perl/repoperls/installed-perls/perl/v5.13.3-88-g936fbab/lib/5.13.3/base.pm line 91
	base::import('base', 'Text::Phonetic') called at /home/sand/.cpan/build/Text-Phonetic-VideoGame-0.03-yRGHLQ/blib/lib/Text/Phonetic/VideoGame.pm line 4
	Text::Phonetic::VideoGame::BEGIN() called at /home/src/perl/repoperls/installed-perls/perl/v5.13.3-88-g936fbab/lib/site_perl/5.13.3/x86_64-linux-thread-multi-ld/Class/MOP.pm line 0
	eval {...} called at /home/src/perl/repoperls/installed-perls/perl/v5.13.3-88-g936fbab/lib/site_perl/5.13.3/x86_64-linux-thread-multi-ld/Class/MOP.pm line 0
	require Text/Phonetic/VideoGame.pm called at t/encode.t line 3
	main::BEGIN() called at /home/src/perl/repoperls/installed-perls/perl/v5.13.3-88-g936fbab/lib/site_perl/5.13.3/x86_64-linux-thread-multi-ld/Class/MOP.pm line 0
	eval {...} called at /home/src/perl/repoperls/installed-perls/perl/v5.13.3-88-g936fbab/lib/site_perl/5.13.3/x86_64-linux-thread-multi-ld/Class/MOP.pm line 0
add_package_symbol is deprecated, please use add_symbol at /home/src/perl/repoperls/installed-perls/perl/v5.13.3-88-g936fbab/lib/site_perl/5.13.3/Package/Stash.pm line 59
	Package::Stash::add_package_symbol('Package::Stash=HASH(0x2138428)', 'HASH(0x21524f8)', 'CODE(0x2137f00)') called at /home/src/perl/repoperls/installed-perls/perl/v5.13.3-88-g936fbab/lib/site_perl/5.13.3/x86_64-linux-thread-multi-ld/Class/MOP/Package.pm line 106
	Class::MOP::Package::add_package_symbol('Class::MOP::Class=HASH(0x2138260)', 'HASH(0x21524f8)', 'CODE(0x2137f00)') called at /home/src/perl/repoperls/installed-perls/perl/v5.13.3-88-g936fbab/lib/site_perl/5.13.3/x86_64-linux-thread-multi-ld/Class/MOP/Mixin/HasMethods.pm line 92
	Class::MOP::Mixin::HasMethods::add_method('Class::MOP::Class=HASH(0x2138260)', '_full_method_map', 'Class::MOP::Method::Accessor=HASH(0x21525d0)') called at /home/src/perl/repoperls/installed-perls/perl/v5.13.3-88-g936fbab/lib/site_perl/5.13.3/x86_64-linux-thread-multi-ld/Class/MOP/Attribute.pm line 360
	Class::MOP::Attribute::install_accessors('Class::MOP::Attribute=HASH(0x2151bf8)') called at /home/src/perl/repoperls/installed-perls/perl/v5.13.3-88-g936fbab/lib/site_perl/5.13.3/x86_64-linux-thread-multi-ld/Class/MOP/Class.pm line 789
	Class::MOP::Class::__ANON__() called at /home/src/perl/repoperls/installed-perls/perl/v5.13.3-88-g936fbab/lib/site_perl/5.13.3/Try/Tiny.pm line 76
	eval {...} called at /home/src/perl/repoperls/installed-perls/perl/v5.13.3-88-g936fbab/lib/site_perl/5.13.3/Try/Tiny.pm line 67
	Try::Tiny::try('CODE(0x21520f0)', 'Try::Tiny::Catch=REF(0x1e90928)') called at /home/src/perl/repoperls/installed-perls/perl/v5.13.3-88-g936fbab/lib/site_perl/5.13.3/x86_64-linux-thread-multi-ld/Class/MOP/Class.pm line 794
	Class::MOP::Class::_post_add_attribute('Class::MOP::Class=HASH(0x2138260)', 'Class::MOP::Attribute=HASH(0x2151bf8)') called at /home/src/perl/repoperls/installed-perls/perl/v5.13.3-88-g936fbab/lib/site_perl/5.13.3/x86_64-linux-thread-multi-ld/Class/MOP/Mixin/HasAttributes.pm line 45
	Class::MOP::Mixin::HasAttributes::add_attribute('Class::MOP::Class=HASH(0x2138260)', 'Class::MOP::Attribute=HASH(0x2151bf8)') called at /home/src/perl/repoperls/installed-perls/perl/v5.13.3-88-g936fbab/lib/site_perl/5.13.3/x86_64-linux-thread-multi-ld/Class/MOP.pm line 193
	require Class/MOP.pm called at /home/src/perl/repoperls/installed-perls/perl/v5.13.3-88-g936fbab/lib/site_perl/5.13.3/x86_64-linux-thread-multi-ld/Moose/Exporter.pm line 11
	Moose::Exporter::BEGIN() called at /home/src/perl/repoperls/installed-perls/perl/v5.13.3-88-g936fbab/lib/site_perl/5.13.3/x86_64-linux-thread-multi-ld/Class/MOP.pm line 0
	eval {...} called at /home/src/perl/repoperls/installed-perls/perl/v5.13.3-88-g936fbab/lib/site_perl/5.13.3/x86_64-linux-thread-multi-ld/Class/MOP.pm line 0
	require Moose/Exporter.pm called at /home/src/perl/repoperls/installed-perls/perl/v5.13.3-88-g936fbab/lib/site_perl/5.13.3/x86_64-linux-thread-multi-ld/Moose.pm line 15
	Moose::BEGIN() called at /home/src/perl/repoperls/installed-perls/perl/v5.13.3-88-g936fbab/lib/site_perl/5.13.3/x86_64-linux-thread-multi-ld/Class/MOP.pm line 0
	eval {...} called at /home/src/perl/repoperls/installed-perls/perl/v5.13.3-88-g936fbab/lib/site_perl/5.13.3/x86_64-linux-thread-multi-ld/Class/MOP.pm line 0
	require Moose.pm called at /home/src/perl/repoperls/installed-perls/perl/v5.13.3-88-g936fbab/lib/site_perl/5.13.3/Text/Phonetic.pm line 4
	Text::Phonetic::BEGIN() called at /home/src/perl/repoperls/installed-perls/perl/v5.13.3-88-g936fbab/lib/site_perl/5.13.3/x86_64-linux-thread-multi-ld/Class/MOP.pm line 0
	eval {...} called at /home/src/perl/repoperls/installed-perls/perl/v5.13.3-88-g936fbab/lib/site_perl/5.13.3/x86_64-linux-thread-multi-ld/Class/MOP.pm line 0
	require Text/Phonetic.pm called at (eval 2) line 2
	eval 'require Text::Phonetic
;' called at /home/src/perl/repoperls/installed-perls/perl/v5.13.3-88-g936fbab/lib/5.13.3/base.pm line 91
	base::import('base', 'Text::Phonetic') called at /home/sand/.cpan/build/Text-Phonetic-VideoGame-0.03-yRGHLQ/blib/lib/Text/Phonetic/VideoGame.pm line 4
	Text::Phonetic::VideoGame::BEGIN() called at /home/src/perl/repoperls/installed-perls/perl/v5.13.3-88-g936fbab/lib/site_perl/5.13.3/x86_64-linux-thread-multi-ld/Class/MOP.pm line 0
	eval {...} called at /home/src/perl/repoperls/installed-perls/perl/v5.13.3-88-g936fbab/lib/site_perl/5.13.3/x86_64-linux-thread-multi-ld/Class/MOP.pm line 0
	require Text/Phonetic/VideoGame.pm called at t/encode.t line 3
	main::BEGIN() called at /home/src/perl/repoperls/installed-perls/perl/v5.13.3-88-g936fbab/lib/site_perl/5.13.3/x86_64-linux-thread-multi-ld/Class/MOP.pm line 0
	eval {...} called at /home/src/perl/repoperls/installed-perls/perl/v5.13.3-88-g936fbab/lib/site_perl/5.13.3/x86_64-linux-thread-multi-ld/Class/MOP.pm line 0
get_package_symbol is deprecated, please use get_symbol at /home/src/perl/repoperls/installed-perls/perl/v5.13.3-88-g936fbab/lib/site_perl/5.13.3/Package/Stash.pm line 74
	Package::Stash::get_package_symbol('Package::Stash=HASH(0x215bc88)', 'HASH(0x2181580)') called at /home/src/perl/repoperls/installed-perls/perl/v5.13.3-88-g936fbab/lib/site_perl/5.13.3/x86_64-linux-thread-multi-ld/Class/MOP/Package.pm line 123
	Class::MOP::Package::get_package_symbol('Class::MOP::Class=HASH(0x215bb20)', 'HASH(0x2181580)') called at /home/src/perl/repoperls/installed-perls/perl/v5.13.3-88-g936fbab/lib/site_perl/5.13.3/x86_64-linux-thread-multi-ld/Class/MOP/Mixin/HasMethods.pm line 138
	Class::MOP::Mixin::HasMethods::_get_maybe_raw_method('Class::MOP::Class=HASH(0x215bb20)', 'meta') called at /home/src/perl/repoperls/installed-perls/perl/v5.13.3-88-g936fbab/lib/site_perl/5.13.3/x86_64-linux-thread-multi-ld/Class/MOP/Mixin/HasMethods.pm line 121
	Class::MOP::Mixin::HasMethods::get_method('Class::MOP::Class=HASH(0x215bb20)', 'meta') called at /home/src/perl/repoperls/installed-perls/perl/v5.13.3-88-g936fbab/lib/site_perl/5.13.3/x86_64-linux-thread-multi-ld/Class/MOP/Class.pm line 1018
	Class::MOP::Class::find_method_by_name('Class::MOP::Class=HASH(0x215bb20)', 'meta') called at /home/src/perl/repoperls/installed-perls/perl/v5.13.3-88-g936fbab/lib/site_perl/5.13.3/x86_64-linux-thread-multi-ld/Class/MOP/Mixin/HasMethods.pm line 25
	Class::MOP::Mixin::HasMethods::_add_meta_method('Class::MOP::Class=HASH(0x215bb20)', 'meta') called at /home/src/perl/repoperls/installed-perls/perl/v5.13.3-88-g936fbab/lib/site_perl/5.13.3/x86_64-linux-thread-multi-ld/Class/MOP.pm line 672
	require Class/MOP.pm called at /home/src/perl/repoperls/installed-perls/perl/v5.13.3-88-g936fbab/lib/site_perl/5.13.3/x86_64-linux-thread-multi-ld/Moose/Exporter.pm line 11
	Moose::Exporter::BEGIN() called at /home/src/perl/repoperls/installed-perls/perl/v5.13.3-88-g936fbab/lib/site_perl/5.13.3/x86_64-linux-thread-multi-ld/Class/MOP.pm line 0
	eval {...} called at /home/src/perl/repoperls/installed-perls/perl/v5.13.3-88-g936fbab/lib/site_perl/5.13.3/x86_64-linux-thread-multi-ld/Class/MOP.pm line 0
	require Moose/Exporter.pm called at /home/src/perl/repoperls/installed-perls/perl/v5.13.3-88-g936fbab/lib/site_perl/5.13.3/x86_64-linux-thread-multi-ld/Moose.pm line 15
	Moose::BEGIN() called at /home/src/perl/repoperls/installed-perls/perl/v5.13.3-88-g936fbab/lib/site_perl/5.13.3/x86_64-linux-thread-multi-ld/Class/MOP.pm line 0
	eval {...} called at /home/src/perl/repoperls/installed-perls/perl/v5.13.3-88-g936fbab/lib/site_perl/5.13.3/x86_64-linux-thread-multi-ld/Class/MOP.pm line 0
	require Moose.pm called at /home/src/perl/repoperls/installed-perls/perl/v5.13.3-88-g936fbab/lib/site_perl/5.13.3/Text/Phonetic.pm line 4
	Text::Phonetic::BEGIN() called at /home/src/perl/repoperls/installed-perls/perl/v5.13.3-88-g936fbab/lib/site_perl/5.13.3/x86_64-linux-thread-multi-ld/Class/MOP.pm line 0
	eval {...} called at /home/src/perl/repoperls/installed-perls/perl/v5.13.3-88-g936fbab/lib/site_perl/5.13.3/x86_64-linux-thread-multi-ld/Class/MOP.pm line 0
	require Text/Phonetic.pm called at (eval 2) line 2
	eval 'require Text::Phonetic
;' called at /home/src/perl/repoperls/installed-perls/perl/v5.13.3-88-g936fbab/lib/5.13.3/base.pm line 91
	base::import('base', 'Text::Phonetic') called at /home/sand/.cpan/build/Text-Phonetic-VideoGame-0.03-yRGHLQ/blib/lib/Text/Phonetic/VideoGame.pm line 4
	Text::Phonetic::VideoGame::BEGIN() called at /home/src/perl/repoperls/installed-perls/perl/v5.13.3-88-g936fbab/lib/site_perl/5.13.3/x86_64-linux-thread-multi-ld/Class/MOP.pm line 0
	eval {...} called at /home/src/perl/repoperls/installed-perls/perl/v5.13.3-88-g936fbab/lib/site_perl/5.13.3/x86_64-linux-thread-multi-ld/Class/MOP.pm line 0
	require Text/Phonetic/VideoGame.pm called at t/encode.t line 3
	main::BEGIN() called at /home/src/perl/repoperls/installed-perls/perl/v5.13.3-88-g936fbab/lib/site_perl/5.13.3/x86_64-linux-thread-multi-ld/Class/MOP.pm line 0
	eval {...} called at /home/src/perl/repoperls/installed-perls/perl/v5.13.3-88-g936fbab/lib/site_perl/5.13.3/x86_64-linux-thread-multi-ld/Class/MOP.pm line 0
has_package_symbol is deprecated, please use has_symbol at /home/src/perl/repoperls/installed-perls/perl/v5.13.3-88-g936fbab/lib/site_perl/5.13.3/Package/Stash.pm line 69
	Package::Stash::has_package_symbol('Package::Stash=HASH(0x24ccdf0)', '&import') called at /home/src/perl/repoperls/installed-perls/perl/v5.13.3-88-g936fbab/lib/site_perl/5.13.3/x86_64-linux-thread-multi-ld/Class/MOP/Package.pm line 118
	Class::MOP::Package::has_package_symbol('Class::MOP::Package=HASH(0x24ccfd0)', '&import') called at /home/src/perl/repoperls/installed-perls/perl/v5.13.3-88-g936fbab/lib/site_perl/5.13.3/x86_64-linux-thread-multi-ld/Moose/Exporter.pm line 79
	Moose::Exporter::build_import_methods('Moose::Exporter', 'as_is', 'ARRAY(0x24bbf90)', 'exporting_package', 'Moose::Util::TypeConstraints', 'install', 'ARRAY(0x24bc0f8)') called at /home/src/perl/repoperls/installed-perls/perl/v5.13.3-88-g936fbab/lib/site_perl/5.13.3/x86_64-linux-thread-multi-ld/Moose/Exporter.pm line 29
	Moose::Exporter::setup_import_methods('Moose::Exporter', 'as_is', 'ARRAY(0x24bbf90)') called at /home/src/perl/repoperls/installed-perls/perl/v5.13.3-88-g936fbab/lib/site_perl/5.13.3/x86_64-linux-thread-multi-ld/Moose/Util/TypeConstraints.pm line 42
	require Moose/Util/TypeConstraints.pm called at /home/src/perl/repoperls/installed-perls/perl/v5.13.3-88-g936fbab/lib/site_perl/5.13.3/x86_64-linux-thread-multi-ld/Moose/Meta/Attribute.pm line 20
	Moose::Meta::Attribute::BEGIN() called at /home/src/perl/repoperls/installed-perls/perl/v5.13.3-88-g936fbab/lib/site_perl/5.13.3/x86_64-linux-thread-multi-ld/Moose/Util/TypeConstraints.pm line 0
	eval {...} called at /home/src/perl/repoperls/installed-perls/perl/v5.13.3-88-g936fbab/lib/site_perl/5.13.3/x86_64-linux-thread-multi-ld/Moose/Util/TypeConstraints.pm line 0
	require Moose/Meta/Attribute.pm called at /home/src/perl/repoperls/installed-perls/perl/v5.13.3-88-g936fbab/lib/site_perl/5.13.3/x86_64-linux-thread-multi-ld/Moose/Meta/TypeCoercion.pm line 8
	Moose::Meta::TypeCoercion::BEGIN() called at /home/src/perl/repoperls/installed-perls/perl/v5.13.3-88-g936fbab/lib/site_perl/5.13.3/x86_64-linux-thread-multi-ld/Moose/Util/TypeConstraints.pm line 0
	eval {...} called at /home/src/perl/repoperls/installed-perls/perl/v5.13.3-88-g936fbab/lib/site_perl/5.13.3/x86_64-linux-thread-multi-ld/Moose/Util/TypeConstraints.pm line 0
	require Moose/Meta/TypeCoercion.pm called at /home/src/perl/repoperls/installed-perls/perl/v5.13.3-88-g936fbab/lib/site_perl/5.13.3/x86_64-linux-thread-multi-ld/Moose.pm line 21
	Moose::BEGIN() called at /home/src/perl/repoperls/installed-perls/perl/v5.13.3-88-g936fbab/lib/site_perl/5.13.3/x86_64-linux-thread-multi-ld/Moose/Util/TypeConstraints.pm line 0
	eval {...} called at /home/src/perl/repoperls/installed-perls/perl/v5.13.3-88-g936fbab/lib/site_perl/5.13.3/x86_64-linux-thread-multi-ld/Moose/Util/TypeConstraints.pm line 0
	require Moose.pm called at /home/src/perl/repoperls/installed-perls/perl/v5.13.3-88-g936fbab/lib/site_perl/5.13.3/Text/Phonetic.pm line 4
	Text::Phonetic::BEGIN() called at /home/src/perl/repoperls/installed-perls/perl/v5.13.3-88-g936fbab/lib/site_perl/5.13.3/x86_64-linux-thread-multi-ld/Moose/Util/TypeConstraints.pm line 0
	eval {...} called at /home/src/perl/repoperls/installed-perls/perl/v5.13.3-88-g936fbab/lib/site_perl/5.13.3/x86_64-linux-thread-multi-ld/Moose/Util/TypeConstraints.pm line 0
	require Text/Phonetic.pm called at (eval 2) line 2
	eval 'require Text::Phonetic
;' called at /home/src/perl/repoperls/installed-perls/perl/v5.13.3-88-g936fbab/lib/5.13.3/base.pm line 91
	base::import('base', 'Text::Phonetic') called at /home/sand/.cpan/build/Text-Phonetic-VideoGame-0.03-yRGHLQ/blib/lib/Text/Phonetic/VideoGame.pm line 4
	Text::Phonetic::VideoGame::BEGIN() called at /home/src/perl/repoperls/installed-perls/perl/v5.13.3-88-g936fbab/lib/site_perl/5.13.3/x86_64-linux-thread-multi-ld/Moose/Util/TypeConstraints.pm line 0
	eval {...} called at /home/src/perl/repoperls/installed-perls/perl/v5.13.3-88-g936fbab/lib/site_perl/5.13.3/x86_64-linux-thread-multi-ld/Moose/Util/TypeConstraints.pm line 0
	require Text/Phonetic/VideoGame.pm called at t/encode.t line 3
	main::BEGIN() called at /home/src/perl/repoperls/installed-perls/perl/v5.13.3-88-g936fbab/lib/site_perl/5.13.3/x86_64-linux-thread-multi-ld/Moose/Util/TypeConstraints.pm line 0
	eval {...} called at /home/src/perl/repoperls/installed-perls/perl/v5.13.3-88-g936fbab/lib/site_perl/5.13.3/x86_64-linux-thread-multi-ld/Moose/Util/TypeConstraints.pm line 0
t/encode.t ........... ok
get_or_add_package_symbol is deprecated, please use get_or_add_symbol at /home/src/perl/repoperls/installed-perls/perl/v5.13.3-88-g936fbab/lib/site_perl/5.13.3/Package/Stash.pm line 79
	Package::Stash::get_or_add_package_symbol('Package::Stash=HASH(0x1bbd678)', 'HASH(0x1bbd300)') called at /home/src/perl/repoperls/installed-perls/perl/v5.13.3-88-g936fbab/lib/site_perl/5.13.3/x86_64-linux-thread-multi-ld/Class/MOP/Package.pm line 128
	Class::MOP::Package::get_or_add_package_symbol('Class::MOP::Class=HASH(0x1bbd4b0)', 'HASH(0x1bbd300)') called at /home/src/perl/repoperls/installed-perls/perl/v5.13.3-88-g936fbab/lib/site_perl/5.13.3/x86_64-linux-thread-multi-ld/Class/MOP/Class.pm line 836
	Class::MOP::Class::superclasses('Class::MOP::Class=HASH(0x1bbd4b0)') called at /home/src/perl/repoperls/installed-perls/perl/v5.13.3-88-g936fbab/lib/site_perl/5.13.3/x86_64-linux-thread-multi-ld/Class/MOP/Class.pm line 213
	Class::MOP::Class::_check_metaclass_compatibility('Class::MOP::Class=HASH(0x1bbd4b0)') called at /home/src/perl/repoperls/installed-perls/perl/v5.13.3-88-g936fbab/lib/site_perl/5.13.3/x86_64-linux-thread-multi-ld/Class/MOP/Class.pm line 109
	Class::MOP::Class::_construct_class_instance('Class::MOP::Class', 'package', 'Class::MOP::Mixin::HasMethods') called at /home/src/perl/repoperls/installed-perls/perl/v5.13.3-88-g936fbab/lib/site_perl/5.13.3/x86_64-linux-thread-multi-ld/Class/MOP/Class.pm line 45
	Class::MOP::Class::initialize('Class::MOP::Class', 'Class::MOP::Mixin::HasMethods') called at /home/src/perl/repoperls/installed-perls/perl/v5.13.3-88-g936fbab/lib/site_perl/5.13.3/x86_64-linux-thread-multi-ld/Class/MOP/Mixin.pm line 14
	Class::MOP::Mixin::meta('Class::MOP::Mixin::HasMethods') called at /home/src/perl/repoperls/installed-perls/perl/v5.13.3-88-g936fbab/lib/site_perl/5.13.3/x86_64-linux-thread-multi-ld/Class/MOP.pm line 193
	require Class/MOP.pm called at /home/src/perl/repoperls/installed-perls/perl/v5.13.3-88-g936fbab/lib/site_perl/5.13.3/x86_64-linux-thread-multi-ld/Moose/Exporter.pm line 11
	Moose::Exporter::BEGIN() called at /home/src/perl/repoperls/installed-perls/perl/v5.13.3-88-g936fbab/lib/site_perl/5.13.3/x86_64-linux-thread-multi-ld/Class/MOP.pm line 0
	eval {...} called at /home/src/perl/repoperls/installed-perls/perl/v5.13.3-88-g936fbab/lib/site_perl/5.13.3/x86_64-linux-thread-multi-ld/Class/MOP.pm line 0
	require Moose/Exporter.pm called at /home/src/perl/repoperls/installed-perls/perl/v5.13.3-88-g936fbab/lib/site_perl/5.13.3/x86_64-linux-thread-multi-ld/Moose.pm line 15
	Moose::BEGIN() called at /home/src/perl/repoperls/installed-perls/perl/v5.13.3-88-g936fbab/lib/site_perl/5.13.3/x86_64-linux-thread-multi-ld/Class/MOP.pm line 0
	eval {...} called at /home/src/perl/repoperls/installed-perls/perl/v5.13.3-88-g936fbab/lib/site_perl/5.13.3/x86_64-linux-thread-multi-ld/Class/MOP.pm line 0
	require Moose.pm called at /home/src/perl/repoperls/installed-perls/perl/v5.13.3-88-g936fbab/lib/site_perl/5.13.3/Text/Phonetic.pm line 4
	Text::Phonetic::BEGIN() called at /home/src/perl/repoperls/installed-perls/perl/v5.13.3-88-g936fbab/lib/site_perl/5.13.3/x86_64-linux-thread-multi-ld/Class/MOP.pm line 0
	eval {...} called at /home/src/perl/repoperls/installed-perls/perl/v5.13.3-88-g936fbab/lib/site_perl/5.13.3/x86_64-linux-thread-multi-ld/Class/MOP.pm line 0
	require Text/Phonetic.pm called at (eval 2) line 2
	eval 'require Text::Phonetic
;' called at /home/src/perl/repoperls/installed-perls/perl/v5.13.3-88-g936fbab/lib/5.13.3/base.pm line 91
	base::import('base', 'Text::Phonetic') called at /home/sand/.cpan/build/Text-Phonetic-VideoGame-0.03-yRGHLQ/blib/lib/Text/Phonetic/VideoGame.pm line 4
	Text::Phonetic::VideoGame::BEGIN() called at /home/src/perl/repoperls/installed-perls/perl/v5.13.3-88-g936fbab/lib/site_perl/5.13.3/x86_64-linux-thread-multi-ld/Class/MOP.pm line 0
	eval {...} called at /home/src/perl/repoperls/installed-perls/perl/v5.13.3-88-g936fbab/lib/site_perl/5.13.3/x86_64-linux-thread-multi-ld/Class/MOP.pm line 0
	require Text/Phonetic/VideoGame.pm called at t/no-match.t line 3
	main::BEGIN() called at /home/src/perl/repoperls/installed-perls/perl/v5.13.3-88-g936fbab/lib/site_perl/5.13.3/x86_64-linux-thread-multi-ld/Class/MOP.pm line 0
	eval {...} called at /home/src/perl/repoperls/installed-perls/perl/v5.13.3-88-g936fbab/lib/site_perl/5.13.3/x86_64-linux-thread-multi-ld/Class/MOP.pm line 0
add_package_symbol is deprecated, please use add_symbol at /home/src/perl/repoperls/installed-perls/perl/v5.13.3-88-g936fbab/lib/site_perl/5.13.3/Package/Stash.pm line 59
	Package::Stash::add_package_symbol('Package::Stash=HASH(0x1bbd678)', 'HASH(0x1bd7758)', 'CODE(0x1bbd150)') called at /home/src/perl/repoperls/installed-perls/perl/v5.13.3-88-g936fbab/lib/site_perl/5.13.3/x86_64-linux-thread-multi-ld/Class/MOP/Package.pm line 106
	Class::MOP::Package::add_package_symbol('Class::MOP::Class=HASH(0x1bbd4b0)', 'HASH(0x1bd7758)', 'CODE(0x1bbd150)') called at /home/src/perl/repoperls/installed-perls/perl/v5.13.3-88-g936fbab/lib/site_perl/5.13.3/x86_64-linux-thread-multi-ld/Class/MOP/Mixin/HasMethods.pm line 92
	Class::MOP::Mixin::HasMethods::add_method('Class::MOP::Class=HASH(0x1bbd4b0)', '_full_method_map', 'Class::MOP::Method::Accessor=HASH(0x1bd7830)') called at /home/src/perl/repoperls/installed-perls/perl/v5.13.3-88-g936fbab/lib/site_perl/5.13.3/x86_64-linux-thread-multi-ld/Class/MOP/Attribute.pm line 360
	Class::MOP::Attribute::install_accessors('Class::MOP::Attribute=HASH(0x1bd6e58)') called at /home/src/perl/repoperls/installed-perls/perl/v5.13.3-88-g936fbab/lib/site_perl/5.13.3/x86_64-linux-thread-multi-ld/Class/MOP/Class.pm line 789
	Class::MOP::Class::__ANON__() called at /home/src/perl/repoperls/installed-perls/perl/v5.13.3-88-g936fbab/lib/site_perl/5.13.3/Try/Tiny.pm line 76
	eval {...} called at /home/src/perl/repoperls/installed-perls/perl/v5.13.3-88-g936fbab/lib/site_perl/5.13.3/Try/Tiny.pm line 67
	Try::Tiny::try('CODE(0x1bd7350)', 'Try::Tiny::Catch=REF(0x1915bd8)') called at /home/src/perl/repoperls/installed-perls/perl/v5.13.3-88-g936fbab/lib/site_perl/5.13.3/x86_64-linux-thread-multi-ld/Class/MOP/Class.pm line 794
	Class::MOP::Class::_post_add_attribute('Class::MOP::Class=HASH(0x1bbd4b0)', 'Class::MOP::Attribute=HASH(0x1bd6e58)') called at /home/src/perl/repoperls/installed-perls/perl/v5.13.3-88-g936fbab/lib/site_perl/5.13.3/x86_64-linux-thread-multi-ld/Class/MOP/Mixin/HasAttributes.pm line 45
	Class::MOP::Mixin::HasAttributes::add_attribute('Class::MOP::Class=HASH(0x1bbd4b0)', 'Class::MOP::Attribute=HASH(0x1bd6e58)') called at /home/src/perl/repoperls/installed-perls/perl/v5.13.3-88-g936fbab/lib/site_perl/5.13.3/x86_64-linux-thread-multi-ld/Class/MOP.pm line 193
	require Class/MOP.pm called at /home/src/perl/repoperls/installed-perls/perl/v5.13.3-88-g936fbab/lib/site_perl/5.13.3/x86_64-linux-thread-multi-ld/Moose/Exporter.pm line 11
	Moose::Exporter::BEGIN() called at /home/src/perl/repoperls/installed-perls/perl/v5.13.3-88-g936fbab/lib/site_perl/5.13.3/x86_64-linux-thread-multi-ld/Class/MOP.pm line 0
	eval {...} called at /home/src/perl/repoperls/installed-perls/perl/v5.13.3-88-g936fbab/lib/site_perl/5.13.3/x86_64-linux-thread-multi-ld/Class/MOP.pm line 0
	require Moose/Exporter.pm called at /home/src/perl/repoperls/installed-perls/perl/v5.13.3-88-g936fbab/lib/site_perl/5.13.3/x86_64-linux-thread-multi-ld/Moose.pm line 15
	Moose::BEGIN() called at /home/src/perl/repoperls/installed-perls/perl/v5.13.3-88-g936fbab/lib/site_perl/5.13.3/x86_64-linux-thread-multi-ld/Class/MOP.pm line 0
	eval {...} called at /home/src/perl/repoperls/installed-perls/perl/v5.13.3-88-g936fbab/lib/site_perl/5.13.3/x86_64-linux-thread-multi-ld/Class/MOP.pm line 0
	require Moose.pm called at /home/src/perl/repoperls/installed-perls/perl/v5.13.3-88-g936fbab/lib/site_perl/5.13.3/Text/Phonetic.pm line 4
	Text::Phonetic::BEGIN() called at /home/src/perl/repoperls/installed-perls/perl/v5.13.3-88-g936fbab/lib/site_perl/5.13.3/x86_64-linux-thread-multi-ld/Class/MOP.pm line 0
	eval {...} called at /home/src/perl/repoperls/installed-perls/perl/v5.13.3-88-g936fbab/lib/site_perl/5.13.3/x86_64-linux-thread-multi-ld/Class/MOP.pm line 0
	require Text/Phonetic.pm called at (eval 2) line 2
	eval 'require Text::Phonetic
;' called at /home/src/perl/repoperls/installed-perls/perl/v5.13.3-88-g936fbab/lib/5.13.3/base.pm line 91
	base::import('base', 'Text::Phonetic') called at /home/sand/.cpan/build/Text-Phonetic-VideoGame-0.03-yRGHLQ/blib/lib/Text/Phonetic/VideoGame.pm line 4
	Text::Phonetic::VideoGame::BEGIN() called at /home/src/perl/repoperls/installed-perls/perl/v5.13.3-88-g936fbab/lib/site_perl/5.13.3/x86_64-linux-thread-multi-ld/Class/MOP.pm line 0
	eval {...} called at /home/src/perl/repoperls/installed-perls/perl/v5.13.3-88-g936fbab/lib/site_perl/5.13.3/x86_64-linux-thread-multi-ld/Class/MOP.pm line 0
	require Text/Phonetic/VideoGame.pm called at t/no-match.t line 3
	main::BEGIN() called at /home/src/perl/repoperls/installed-perls/perl/v5.13.3-88-g936fbab/lib/site_perl/5.13.3/x86_64-linux-thread-multi-ld/Class/MOP.pm line 0
	eval {...} called at /home/src/perl/repoperls/installed-perls/perl/v5.13.3-88-g936fbab/lib/site_perl/5.13.3/x86_64-linux-thread-multi-ld/Class/MOP.pm line 0
get_package_symbol is deprecated, please use get_symbol at /home/src/perl/repoperls/installed-perls/perl/v5.13.3-88-g936fbab/lib/site_perl/5.13.3/Package/Stash.pm line 74
	Package::Stash::get_package_symbol('Package::Stash=HASH(0x1be0ee8)', 'HASH(0x1c06800)') called at /home/src/perl/repoperls/installed-perls/perl/v5.13.3-88-g936fbab/lib/site_perl/5.13.3/x86_64-linux-thread-multi-ld/Class/MOP/Package.pm line 123
	Class::MOP::Package::get_package_symbol('Class::MOP::Class=HASH(0x1be0d80)', 'HASH(0x1c06800)') called at /home/src/perl/repoperls/installed-perls/perl/v5.13.3-88-g936fbab/lib/site_perl/5.13.3/x86_64-linux-thread-multi-ld/Class/MOP/Mixin/HasMethods.pm line 138
	Class::MOP::Mixin::HasMethods::_get_maybe_raw_method('Class::MOP::Class=HASH(0x1be0d80)', 'meta') called at /home/src/perl/repoperls/installed-perls/perl/v5.13.3-88-g936fbab/lib/site_perl/5.13.3/x86_64-linux-thread-multi-ld/Class/MOP/Mixin/HasMethods.pm line 121
	Class::MOP::Mixin::HasMethods::get_method('Class::MOP::Class=HASH(0x1be0d80)', 'meta') called at /home/src/perl/repoperls/installed-perls/perl/v5.13.3-88-g936fbab/lib/site_perl/5.13.3/x86_64-linux-thread-multi-ld/Class/MOP/Class.pm line 1018
	Class::MOP::Class::find_method_by_name('Class::MOP::Class=HASH(0x1be0d80)', 'meta') called at /home/src/perl/repoperls/installed-perls/perl/v5.13.3-88-g936fbab/lib/site_perl/5.13.3/x86_64-linux-thread-multi-ld/Class/MOP/Mixin/HasMethods.pm line 25
	Class::MOP::Mixin::HasMethods::_add_meta_method('Class::MOP::Class=HASH(0x1be0d80)', 'meta') called at /home/src/perl/repoperls/installed-perls/perl/v5.13.3-88-g936fbab/lib/site_perl/5.13.3/x86_64-linux-thread-multi-ld/Class/MOP.pm line 672
	require Class/MOP.pm called at /home/src/perl/repoperls/installed-perls/perl/v5.13.3-88-g936fbab/lib/site_perl/5.13.3/x86_64-linux-thread-multi-ld/Moose/Exporter.pm line 11
	Moose::Exporter::BEGIN() called at /home/src/perl/repoperls/installed-perls/perl/v5.13.3-88-g936fbab/lib/site_perl/5.13.3/x86_64-linux-thread-multi-ld/Class/MOP.pm line 0
	eval {...} called at /home/src/perl/repoperls/installed-perls/perl/v5.13.3-88-g936fbab/lib/site_perl/5.13.3/x86_64-linux-thread-multi-ld/Class/MOP.pm line 0
	require Moose/Exporter.pm called at /home/src/perl/repoperls/installed-perls/perl/v5.13.3-88-g936fbab/lib/site_perl/5.13.3/x86_64-linux-thread-multi-ld/Moose.pm line 15
	Moose::BEGIN() called at /home/src/perl/repoperls/installed-perls/perl/v5.13.3-88-g936fbab/lib/site_perl/5.13.3/x86_64-linux-thread-multi-ld/Class/MOP.pm line 0
	eval {...} called at /home/src/perl/repoperls/installed-perls/perl/v5.13.3-88-g936fbab/lib/site_perl/5.13.3/x86_64-linux-thread-multi-ld/Class/MOP.pm line 0
	require Moose.pm called at /home/src/perl/repoperls/installed-perls/perl/v5.13.3-88-g936fbab/lib/site_perl/5.13.3/Text/Phonetic.pm line 4
	Text::Phonetic::BEGIN() called at /home/src/perl/repoperls/installed-perls/perl/v5.13.3-88-g936fbab/lib/site_perl/5.13.3/x86_64-linux-thread-multi-ld/Class/MOP.pm line 0
	eval {...} called at /home/src/perl/repoperls/installed-perls/perl/v5.13.3-88-g936fbab/lib/site_perl/5.13.3/x86_64-linux-thread-multi-ld/Class/MOP.pm line 0
	require Text/Phonetic.pm called at (eval 2) line 2
	eval 'require Text::Phonetic
;' called at /home/src/perl/repoperls/installed-perls/perl/v5.13.3-88-g936fbab/lib/5.13.3/base.pm line 91
	base::import('base', 'Text::Phonetic') called at /home/sand/.cpan/build/Text-Phonetic-VideoGame-0.03-yRGHLQ/blib/lib/Text/Phonetic/VideoGame.pm line 4
	Text::Phonetic::VideoGame::BEGIN() called at /home/src/perl/repoperls/installed-perls/perl/v5.13.3-88-g936fbab/lib/site_perl/5.13.3/x86_64-linux-thread-multi-ld/Class/MOP.pm line 0
	eval {...} called at /home/src/perl/repoperls/installed-perls/perl/v5.13.3-88-g936fbab/lib/site_perl/5.13.3/x86_64-linux-thread-multi-ld/Class/MOP.pm line 0
	require Text/Phonetic/VideoGame.pm called at t/no-match.t line 3
	main::BEGIN() called at /home/src/perl/repoperls/installed-perls/perl/v5.13.3-88-g936fbab/lib/site_perl/5.13.3/x86_64-linux-thread-multi-ld/Class/MOP.pm line 0
	eval {...} called at /home/src/perl/repoperls/installed-perls/perl/v5.13.3-88-g936fbab/lib/site_perl/5.13.3/x86_64-linux-thread-multi-ld/Class/MOP.pm line 0
has_package_symbol is deprecated, please use has_symbol at /home/src/perl/repoperls/installed-perls/perl/v5.13.3-88-g936fbab/lib/site_perl/5.13.3/Package/Stash.pm line 69
	Package::Stash::has_package_symbol('Package::Stash=HASH(0x1f52070)', '&import') called at /home/src/perl/repoperls/installed-perls/perl/v5.13.3-88-g936fbab/lib/site_perl/5.13.3/x86_64-linux-thread-multi-ld/Class/MOP/Package.pm line 118
	Class::MOP::Package::has_package_symbol('Class::MOP::Package=HASH(0x1f52250)', '&import') called at /home/src/perl/repoperls/installed-perls/perl/v5.13.3-88-g936fbab/lib/site_perl/5.13.3/x86_64-linux-thread-multi-ld/Moose/Exporter.pm line 79
	Moose::Exporter::build_import_methods('Moose::Exporter', 'as_is', 'ARRAY(0x1f41100)', 'exporting_package', 'Moose::Util::TypeConstraints', 'install', 'ARRAY(0x1f41268)') called at /home/src/perl/repoperls/installed-perls/perl/v5.13.3-88-g936fbab/lib/site_perl/5.13.3/x86_64-linux-thread-multi-ld/Moose/Exporter.pm line 29
	Moose::Exporter::setup_import_methods('Moose::Exporter', 'as_is', 'ARRAY(0x1f41100)') called at /home/src/perl/repoperls/installed-perls/perl/v5.13.3-88-g936fbab/lib/site_perl/5.13.3/x86_64-linux-thread-multi-ld/Moose/Util/TypeConstraints.pm line 42
	require Moose/Util/TypeConstraints.pm called at /home/src/perl/repoperls/installed-perls/perl/v5.13.3-88-g936fbab/lib/site_perl/5.13.3/x86_64-linux-thread-multi-ld/Moose/Meta/Attribute.pm line 20
	Moose::Meta::Attribute::BEGIN() called at /home/src/perl/repoperls/installed-perls/perl/v5.13.3-88-g936fbab/lib/site_perl/5.13.3/x86_64-linux-thread-multi-ld/Moose/Util/TypeConstraints.pm line 0
	eval {...} called at /home/src/perl/repoperls/installed-perls/perl/v5.13.3-88-g936fbab/lib/site_perl/5.13.3/x86_64-linux-thread-multi-ld/Moose/Util/TypeConstraints.pm line 0
	require Moose/Meta/Attribute.pm called at /home/src/perl/repoperls/installed-perls/perl/v5.13.3-88-g936fbab/lib/site_perl/5.13.3/x86_64-linux-thread-multi-ld/Moose/Meta/TypeCoercion.pm line 8
	Moose::Meta::TypeCoercion::BEGIN() called at /home/src/perl/repoperls/installed-perls/perl/v5.13.3-88-g936fbab/lib/site_perl/5.13.3/x86_64-linux-thread-multi-ld/Moose/Util/TypeConstraints.pm line 0
	eval {...} called at /home/src/perl/repoperls/installed-perls/perl/v5.13.3-88-g936fbab/lib/site_perl/5.13.3/x86_64-linux-thread-multi-ld/Moose/Util/TypeConstraints.pm line 0
	require Moose/Meta/TypeCoercion.pm called at /home/src/perl/repoperls/installed-perls/perl/v5.13.3-88-g936fbab/lib/site_perl/5.13.3/x86_64-linux-thread-multi-ld/Moose.pm line 21
	Moose::BEGIN() called at /home/src/perl/repoperls/installed-perls/perl/v5.13.3-88-g936fbab/lib/site_perl/5.13.3/x86_64-linux-thread-multi-ld/Moose/Util/TypeConstraints.pm line 0
	eval {...} called at /home/src/perl/repoperls/installed-perls/perl/v5.13.3-88-g936fbab/lib/site_perl/5.13.3/x86_64-linux-thread-multi-ld/Moose/Util/TypeConstraints.pm line 0
	require Moose.pm called at /home/src/perl/repoperls/installed-perls/perl/v5.13.3-88-g936fbab/lib/site_perl/5.13.3/Text/Phonetic.pm line 4
	Text::Phonetic::BEGIN() called at /home/src/perl/repoperls/installed-perls/perl/v5.13.3-88-g936fbab/lib/site_perl/5.13.3/x86_64-linux-thread-multi-ld/Moose/Util/TypeConstraints.pm line 0
	eval {...} called at /home/src/perl/repoperls/installed-perls/perl/v5.13.3-88-g936fbab/lib/site_perl/5.13.3/x86_64-linux-thread-multi-ld/Moose/Util/TypeConstraints.pm line 0
	require Text/Phonetic.pm called at (eval 2) line 2
	eval 'require Text::Phonetic
;' called at /home/src/perl/repoperls/installed-perls/perl/v5.13.3-88-g936fbab/lib/5.13.3/base.pm line 91
	base::import('base', 'Text::Phonetic') called at /home/sand/.cpan/build/Text-Phonetic-VideoGame-0.03-yRGHLQ/blib/lib/Text/Phonetic/VideoGame.pm line 4
	Text::Phonetic::VideoGame::BEGIN() called at /home/src/perl/repoperls/installed-perls/perl/v5.13.3-88-g936fbab/lib/site_perl/5.13.3/x86_64-linux-thread-multi-ld/Moose/Util/TypeConstraints.pm line 0
	eval {...} called at /home/src/perl/repoperls/installed-perls/perl/v5.13.3-88-g936fbab/lib/site_perl/5.13.3/x86_64-linux-thread-multi-ld/Moose/Util/TypeConstraints.pm line 0
	require Text/Phonetic/VideoGame.pm called at t/no-match.t line 3
	main::BEGIN() called at /home/src/perl/repoperls/installed-perls/perl/v5.13.3-88-g936fbab/lib/site_perl/5.13.3/x86_64-linux-thread-multi-ld/Moose/Util/TypeConstraints.pm line 0
	eval {...} called at /home/src/perl/repoperls/installed-perls/perl/v5.13.3-88-g936fbab/lib/site_perl/5.13.3/x86_64-linux-thread-multi-ld/Moose/Util/TypeConstraints.pm line 0
t/no-match.t ......... ok
t/pod.t .............. ok
get_or_add_package_symbol is deprecated, please use get_or_add_symbol at /home/src/perl/repoperls/installed-perls/perl/v5.13.3-88-g936fbab/lib/site_perl/5.13.3/Package/Stash.pm line 79
	Package::Stash::get_or_add_package_symbol('Package::Stash=HASH(0x2947748)', 'HASH(0x29473d0)') called at /home/src/perl/repoperls/installed-perls/perl/v5.13.3-88-g936fbab/lib/site_perl/5.13.3/x86_64-linux-thread-multi-ld/Class/MOP/Package.pm line 128
	Class::MOP::Package::get_or_add_package_symbol('Class::MOP::Class=HASH(0x2947580)', 'HASH(0x29473d0)') called at /home/src/perl/repoperls/installed-perls/perl/v5.13.3-88-g936fbab/lib/site_perl/5.13.3/x86_64-linux-thread-multi-ld/Class/MOP/Class.pm line 836
	Class::MOP::Class::superclasses('Class::MOP::Class=HASH(0x2947580)') called at /home/src/perl/repoperls/installed-perls/perl/v5.13.3-88-g936fbab/lib/site_perl/5.13.3/x86_64-linux-thread-multi-ld/Class/MOP/Class.pm line 213
	Class::MOP::Class::_check_metaclass_compatibility('Class::MOP::Class=HASH(0x2947580)') called at /home/src/perl/repoperls/installed-perls/perl/v5.13.3-88-g936fbab/lib/site_perl/5.13.3/x86_64-linux-thread-multi-ld/Class/MOP/Class.pm line 109
	Class::MOP::Class::_construct_class_instance('Class::MOP::Class', 'package', 'Class::MOP::Mixin::HasMethods') called at /home/src/perl/repoperls/installed-perls/perl/v5.13.3-88-g936fbab/lib/site_perl/5.13.3/x86_64-linux-thread-multi-ld/Class/MOP/Class.pm line 45
	Class::MOP::Class::initialize('Class::MOP::Class', 'Class::MOP::Mixin::HasMethods') called at /home/src/perl/repoperls/installed-perls/perl/v5.13.3-88-g936fbab/lib/site_perl/5.13.3/x86_64-linux-thread-multi-ld/Class/MOP/Mixin.pm line 14
	Class::MOP::Mixin::meta('Class::MOP::Mixin::HasMethods') called at /home/src/perl/repoperls/installed-perls/perl/v5.13.3-88-g936fbab/lib/site_perl/5.13.3/x86_64-linux-thread-multi-ld/Class/MOP.pm line 193
	require Class/MOP.pm called at /home/src/perl/repoperls/installed-perls/perl/v5.13.3-88-g936fbab/lib/site_perl/5.13.3/x86_64-linux-thread-multi-ld/Moose/Exporter.pm line 11
	Moose::Exporter::BEGIN() called at /home/src/perl/repoperls/installed-perls/perl/v5.13.3-88-g936fbab/lib/site_perl/5.13.3/x86_64-linux-thread-multi-ld/Class/MOP.pm line 0
	eval {...} called at /home/src/perl/repoperls/installed-perls/perl/v5.13.3-88-g936fbab/lib/site_perl/5.13.3/x86_64-linux-thread-multi-ld/Class/MOP.pm line 0
	require Moose/Exporter.pm called at /home/src/perl/repoperls/installed-perls/perl/v5.13.3-88-g936fbab/lib/site_perl/5.13.3/x86_64-linux-thread-multi-ld/Moose.pm line 15
	Moose::BEGIN() called at /home/src/perl/repoperls/installed-perls/perl/v5.13.3-88-g936fbab/lib/site_perl/5.13.3/x86_64-linux-thread-multi-ld/Class/MOP.pm line 0
	eval {...} called at /home/src/perl/repoperls/installed-perls/perl/v5.13.3-88-g936fbab/lib/site_perl/5.13.3/x86_64-linux-thread-multi-ld/Class/MOP.pm line 0
	require Moose.pm called at /home/src/perl/repoperls/installed-perls/perl/v5.13.3-88-g936fbab/lib/site_perl/5.13.3/Text/Phonetic.pm line 4
	Text::Phonetic::BEGIN() called at /home/src/perl/repoperls/installed-perls/perl/v5.13.3-88-g936fbab/lib/site_perl/5.13.3/x86_64-linux-thread-multi-ld/Class/MOP.pm line 0
	eval {...} called at /home/src/perl/repoperls/installed-perls/perl/v5.13.3-88-g936fbab/lib/site_perl/5.13.3/x86_64-linux-thread-multi-ld/Class/MOP.pm line 0
	require Text/Phonetic.pm called at (eval 2) line 2
	eval 'require Text::Phonetic
;' called at /home/src/perl/repoperls/installed-perls/perl/v5.13.3-88-g936fbab/lib/5.13.3/base.pm line 91
	base::import('base', 'Text::Phonetic') called at /home/sand/.cpan/build/Text-Phonetic-VideoGame-0.03-yRGHLQ/blib/lib/Text/Phonetic/VideoGame.pm line 4
	Text::Phonetic::VideoGame::BEGIN() called at /home/src/perl/repoperls/installed-perls/perl/v5.13.3-88-g936fbab/lib/site_perl/5.13.3/x86_64-linux-thread-multi-ld/Class/MOP.pm line 0
	eval {...} called at /home/src/perl/repoperls/installed-perls/perl/v5.13.3-88-g936fbab/lib/site_perl/5.13.3/x86_64-linux-thread-multi-ld/Class/MOP.pm line 0
	require Text/Phonetic/VideoGame.pm called at t/split-compounds.t line 3
	main::BEGIN() called at /home/src/perl/repoperls/installed-perls/perl/v5.13.3-88-g936fbab/lib/site_perl/5.13.3/x86_64-linux-thread-multi-ld/Class/MOP.pm line 0
	eval {...} called at /home/src/perl/repoperls/installed-perls/perl/v5.13.3-88-g936fbab/lib/site_perl/5.13.3/x86_64-linux-thread-multi-ld/Class/MOP.pm line 0
add_package_symbol is deprecated, please use add_symbol at /home/src/perl/repoperls/installed-perls/perl/v5.13.3-88-g936fbab/lib/site_perl/5.13.3/Package/Stash.pm line 59
	Package::Stash::add_package_symbol('Package::Stash=HASH(0x2947748)', 'HASH(0x2961818)', 'CODE(0x2947220)') called at /home/src/perl/repoperls/installed-perls/perl/v5.13.3-88-g936fbab/lib/site_perl/5.13.3/x86_64-linux-thread-multi-ld/Class/MOP/Package.pm line 106
	Class::MOP::Package::add_package_symbol('Class::MOP::Class=HASH(0x2947580)', 'HASH(0x2961818)', 'CODE(0x2947220)') called at /home/src/perl/repoperls/installed-perls/perl/v5.13.3-88-g936fbab/lib/site_perl/5.13.3/x86_64-linux-thread-multi-ld/Class/MOP/Mixin/HasMethods.pm line 92
	Class::MOP::Mixin::HasMethods::add_method('Class::MOP::Class=HASH(0x2947580)', '_full_method_map', 'Class::MOP::Method::Accessor=HASH(0x29618f0)') called at /home/src/perl/repoperls/installed-perls/perl/v5.13.3-88-g936fbab/lib/site_perl/5.13.3/x86_64-linux-thread-multi-ld/Class/MOP/Attribute.pm line 360
	Class::MOP::Attribute::install_accessors('Class::MOP::Attribute=HASH(0x2960f18)') called at /home/src/perl/repoperls/installed-perls/perl/v5.13.3-88-g936fbab/lib/site_perl/5.13.3/x86_64-linux-thread-multi-ld/Class/MOP/Class.pm line 789
	Class::MOP::Class::__ANON__() called at /home/src/perl/repoperls/installed-perls/perl/v5.13.3-88-g936fbab/lib/site_perl/5.13.3/Try/Tiny.pm line 76
	eval {...} called at /home/src/perl/repoperls/installed-perls/perl/v5.13.3-88-g936fbab/lib/site_perl/5.13.3/Try/Tiny.pm line 67
	Try::Tiny::try('CODE(0x2961410)', 'Try::Tiny::Catch=REF(0x269fc88)') called at /home/src/perl/repoperls/installed-perls/perl/v5.13.3-88-g936fbab/lib/site_perl/5.13.3/x86_64-linux-thread-multi-ld/Class/MOP/Class.pm line 794
	Class::MOP::Class::_post_add_attribute('Class::MOP::Class=HASH(0x2947580)', 'Class::MOP::Attribute=HASH(0x2960f18)') called at /home/src/perl/repoperls/installed-perls/perl/v5.13.3-88-g936fbab/lib/site_perl/5.13.3/x86_64-linux-thread-multi-ld/Class/MOP/Mixin/HasAttributes.pm line 45
	Class::MOP::Mixin::HasAttributes::add_attribute('Class::MOP::Class=HASH(0x2947580)', 'Class::MOP::Attribute=HASH(0x2960f18)') called at /home/src/perl/repoperls/installed-perls/perl/v5.13.3-88-g936fbab/lib/site_perl/5.13.3/x86_64-linux-thread-multi-ld/Class/MOP.pm line 193
	require Class/MOP.pm called at /home/src/perl/repoperls/installed-perls/perl/v5.13.3-88-g936fbab/lib/site_perl/5.13.3/x86_64-linux-thread-multi-ld/Moose/Exporter.pm line 11
	Moose::Exporter::BEGIN() called at /home/src/perl/repoperls/installed-perls/perl/v5.13.3-88-g936fbab/lib/site_perl/5.13.3/x86_64-linux-thread-multi-ld/Class/MOP.pm line 0
	eval {...} called at /home/src/perl/repoperls/installed-perls/perl/v5.13.3-88-g936fbab/lib/site_perl/5.13.3/x86_64-linux-thread-multi-ld/Class/MOP.pm line 0
	require Moose/Exporter.pm called at /home/src/perl/repoperls/installed-perls/perl/v5.13.3-88-g936fbab/lib/site_perl/5.13.3/x86_64-linux-thread-multi-ld/Moose.pm line 15
	Moose::BEGIN() called at /home/src/perl/repoperls/installed-perls/perl/v5.13.3-88-g936fbab/lib/site_perl/5.13.3/x86_64-linux-thread-multi-ld/Class/MOP.pm line 0
	eval {...} called at /home/src/perl/repoperls/installed-perls/perl/v5.13.3-88-g936fbab/lib/site_perl/5.13.3/x86_64-linux-thread-multi-ld/Class/MOP.pm line 0
	require Moose.pm called at /home/src/perl/repoperls/installed-perls/perl/v5.13.3-88-g936fbab/lib/site_perl/5.13.3/Text/Phonetic.pm line 4
	Text::Phonetic::BEGIN() called at /home/src/perl/repoperls/installed-perls/perl/v5.13.3-88-g936fbab/lib/site_perl/5.13.3/x86_64-linux-thread-multi-ld/Class/MOP.pm line 0
	eval {...} called at /home/src/perl/repoperls/installed-perls/perl/v5.13.3-88-g936fbab/lib/site_perl/5.13.3/x86_64-linux-thread-multi-ld/Class/MOP.pm line 0
	require Text/Phonetic.pm called at (eval 2) line 2
	eval 'require Text::Phonetic
;' called at /home/src/perl/repoperls/installed-perls/perl/v5.13.3-88-g936fbab/lib/5.13.3/base.pm line 91
	base::import('base', 'Text::Phonetic') called at /home/sand/.cpan/build/Text-Phonetic-VideoGame-0.03-yRGHLQ/blib/lib/Text/Phonetic/VideoGame.pm line 4
	Text::Phonetic::VideoGame::BEGIN() called at /home/src/perl/repoperls/installed-perls/perl/v5.13.3-88-g936fbab/lib/site_perl/5.13.3/x86_64-linux-thread-multi-ld/Class/MOP.pm line 0
	eval {...} called at /home/src/perl/repoperls/installed-perls/perl/v5.13.3-88-g936fbab/lib/site_perl/5.13.3/x86_64-linux-thread-multi-ld/Class/MOP.pm line 0
	require Text/Phonetic/VideoGame.pm called at t/split-compounds.t line 3
	main::BEGIN() called at /home/src/perl/repoperls/installed-perls/perl/v5.13.3-88-g936fbab/lib/site_perl/5.13.3/x86_64-linux-thread-multi-ld/Class/MOP.pm line 0
	eval {...} called at /home/src/perl/repoperls/installed-perls/perl/v5.13.3-88-g936fbab/lib/site_perl/5.13.3/x86_64-linux-thread-multi-ld/Class/MOP.pm line 0
get_package_symbol is deprecated, please use get_symbol at /home/src/perl/repoperls/installed-perls/perl/v5.13.3-88-g936fbab/lib/site_perl/5.13.3/Package/Stash.pm line 74
	Package::Stash::get_package_symbol('Package::Stash=HASH(0x296afa8)', 'HASH(0x29907f0)') called at /home/src/perl/repoperls/installed-perls/perl/v5.13.3-88-g936fbab/lib/site_perl/5.13.3/x86_64-linux-thread-multi-ld/Class/MOP/Package.pm line 123
	Class::MOP::Package::get_package_symbol('Class::MOP::Class=HASH(0x296ae40)', 'HASH(0x29907f0)') called at /home/src/perl/repoperls/installed-perls/perl/v5.13.3-88-g936fbab/lib/site_perl/5.13.3/x86_64-linux-thread-multi-ld/Class/MOP/Mixin/HasMethods.pm line 138
	Class::MOP::Mixin::HasMethods::_get_maybe_raw_method('Class::MOP::Class=HASH(0x296ae40)', 'meta') called at /home/src/perl/repoperls/installed-perls/perl/v5.13.3-88-g936fbab/lib/site_perl/5.13.3/x86_64-linux-thread-multi-ld/Class/MOP/Mixin/HasMethods.pm line 121
	Class::MOP::Mixin::HasMethods::get_method('Class::MOP::Class=HASH(0x296ae40)', 'meta') called at /home/src/perl/repoperls/installed-perls/perl/v5.13.3-88-g936fbab/lib/site_perl/5.13.3/x86_64-linux-thread-multi-ld/Class/MOP/Class.pm line 1018
	Class::MOP::Class::find_method_by_name('Class::MOP::Class=HASH(0x296ae40)', 'meta') called at /home/src/perl/repoperls/installed-perls/perl/v5.13.3-88-g936fbab/lib/site_perl/5.13.3/x86_64-linux-thread-multi-ld/Class/MOP/Mixin/HasMethods.pm line 25
	Class::MOP::Mixin::HasMethods::_add_meta_method('Class::MOP::Class=HASH(0x296ae40)', 'meta') called at /home/src/perl/repoperls/installed-perls/perl/v5.13.3-88-g936fbab/lib/site_perl/5.13.3/x86_64-linux-thread-multi-ld/Class/MOP.pm line 672
	require Class/MOP.pm called at /home/src/perl/repoperls/installed-perls/perl/v5.13.3-88-g936fbab/lib/site_perl/5.13.3/x86_64-linux-thread-multi-ld/Moose/Exporter.pm line 11
	Moose::Exporter::BEGIN() called at /home/src/perl/repoperls/installed-perls/perl/v5.13.3-88-g936fbab/lib/site_perl/5.13.3/x86_64-linux-thread-multi-ld/Class/MOP.pm line 0
	eval {...} called at /home/src/perl/repoperls/installed-perls/perl/v5.13.3-88-g936fbab/lib/site_perl/5.13.3/x86_64-linux-thread-multi-ld/Class/MOP.pm line 0
	require Moose/Exporter.pm called at /home/src/perl/repoperls/installed-perls/perl/v5.13.3-88-g936fbab/lib/site_perl/5.13.3/x86_64-linux-thread-multi-ld/Moose.pm line 15
	Moose::BEGIN() called at /home/src/perl/repoperls/installed-perls/perl/v5.13.3-88-g936fbab/lib/site_perl/5.13.3/x86_64-linux-thread-multi-ld/Class/MOP.pm line 0
	eval {...} called at /home/src/perl/repoperls/installed-perls/perl/v5.13.3-88-g936fbab/lib/site_perl/5.13.3/x86_64-linux-thread-multi-ld/Class/MOP.pm line 0
	require Moose.pm called at /home/src/perl/repoperls/installed-perls/perl/v5.13.3-88-g936fbab/lib/site_perl/5.13.3/Text/Phonetic.pm line 4
	Text::Phonetic::BEGIN() called at /home/src/perl/repoperls/installed-perls/perl/v5.13.3-88-g936fbab/lib/site_perl/5.13.3/x86_64-linux-thread-multi-ld/Class/MOP.pm line 0
	eval {...} called at /home/src/perl/repoperls/installed-perls/perl/v5.13.3-88-g936fbab/lib/site_perl/5.13.3/x86_64-linux-thread-multi-ld/Class/MOP.pm line 0
	require Text/Phonetic.pm called at (eval 2) line 2
	eval 'require Text::Phonetic
;' called at /home/src/perl/repoperls/installed-perls/perl/v5.13.3-88-g936fbab/lib/5.13.3/base.pm line 91
	base::import('base', 'Text::Phonetic') called at /home/sand/.cpan/build/Text-Phonetic-VideoGame-0.03-yRGHLQ/blib/lib/Text/Phonetic/VideoGame.pm line 4
	Text::Phonetic::VideoGame::BEGIN() called at /home/src/perl/repoperls/installed-perls/perl/v5.13.3-88-g936fbab/lib/site_perl/5.13.3/x86_64-linux-thread-multi-ld/Class/MOP.pm line 0
	eval {...} called at /home/src/perl/repoperls/installed-perls/perl/v5.13.3-88-g936fbab/lib/site_perl/5.13.3/x86_64-linux-thread-multi-ld/Class/MOP.pm line 0
	require Text/Phonetic/VideoGame.pm called at t/split-compounds.t line 3
	main::BEGIN() called at /home/src/perl/repoperls/installed-perls/perl/v5.13.3-88-g936fbab/lib/site_perl/5.13.3/x86_64-linux-thread-multi-ld/Class/MOP.pm line 0
	eval {...} called at /home/src/perl/repoperls/installed-perls/perl/v5.13.3-88-g936fbab/lib/site_perl/5.13.3/x86_64-linux-thread-multi-ld/Class/MOP.pm line 0
has_package_symbol is deprecated, please use has_symbol at /home/src/perl/repoperls/installed-perls/perl/v5.13.3-88-g936fbab/lib/site_perl/5.13.3/Package/Stash.pm line 69
	Package::Stash::has_package_symbol('Package::Stash=HASH(0x2cdc110)', '&import') called at /home/src/perl/repoperls/installed-perls/perl/v5.13.3-88-g936fbab/lib/site_perl/5.13.3/x86_64-linux-thread-multi-ld/Class/MOP/Package.pm line 118
	Class::MOP::Package::has_package_symbol('Class::MOP::Package=HASH(0x2cdc2f0)', '&import') called at /home/src/perl/repoperls/installed-perls/perl/v5.13.3-88-g936fbab/lib/site_perl/5.13.3/x86_64-linux-thread-multi-ld/Moose/Exporter.pm line 79
	Moose::Exporter::build_import_methods('Moose::Exporter', 'as_is', 'ARRAY(0x2ccb1a0)', 'exporting_package', 'Moose::Util::TypeConstraints', 'install', 'ARRAY(0x2ccb308)') called at /home/src/perl/repoperls/installed-perls/perl/v5.13.3-88-g936fbab/lib/site_perl/5.13.3/x86_64-linux-thread-multi-ld/Moose/Exporter.pm line 29
	Moose::Exporter::setup_import_methods('Moose::Exporter', 'as_is', 'ARRAY(0x2ccb1a0)') called at /home/src/perl/repoperls/installed-perls/perl/v5.13.3-88-g936fbab/lib/site_perl/5.13.3/x86_64-linux-thread-multi-ld/Moose/Util/TypeConstraints.pm line 42
	require Moose/Util/TypeConstraints.pm called at /home/src/perl/repoperls/installed-perls/perl/v5.13.3-88-g936fbab/lib/site_perl/5.13.3/x86_64-linux-thread-multi-ld/Moose/Meta/Attribute.pm line 20
	Moose::Meta::Attribute::BEGIN() called at /home/src/perl/repoperls/installed-perls/perl/v5.13.3-88-g936fbab/lib/site_perl/5.13.3/x86_64-linux-thread-multi-ld/Moose/Util/TypeConstraints.pm line 0
	eval {...} called at /home/src/perl/repoperls/installed-perls/perl/v5.13.3-88-g936fbab/lib/site_perl/5.13.3/x86_64-linux-thread-multi-ld/Moose/Util/TypeConstraints.pm line 0
	require Moose/Meta/Attribute.pm called at /home/src/perl/repoperls/installed-perls/perl/v5.13.3-88-g936fbab/lib/site_perl/5.13.3/x86_64-linux-thread-multi-ld/Moose/Meta/TypeCoercion.pm line 8
	Moose::Meta::TypeCoercion::BEGIN() called at /home/src/perl/repoperls/installed-perls/perl/v5.13.3-88-g936fbab/lib/site_perl/5.13.3/x86_64-linux-thread-multi-ld/Moose/Util/TypeConstraints.pm line 0
	eval {...} called at /home/src/perl/repoperls/installed-perls/perl/v5.13.3-88-g936fbab/lib/site_perl/5.13.3/x86_64-linux-thread-multi-ld/Moose/Util/TypeConstraints.pm line 0
	require Moose/Meta/TypeCoercion.pm called at /home/src/perl/repoperls/installed-perls/perl/v5.13.3-88-g936fbab/lib/site_perl/5.13.3/x86_64-linux-thread-multi-ld/Moose.pm line 21
	Moose::BEGIN() called at /home/src/perl/repoperls/installed-perls/perl/v5.13.3-88-g936fbab/lib/site_perl/5.13.3/x86_64-linux-thread-multi-ld/Moose/Util/TypeConstraints.pm line 0
	eval {...} called at /home/src/perl/repoperls/installed-perls/perl/v5.13.3-88-g936fbab/lib/site_perl/5.13.3/x86_64-linux-thread-multi-ld/Moose/Util/TypeConstraints.pm line 0
	require Moose.pm called at /home/src/perl/repoperls/installed-perls/perl/v5.13.3-88-g936fbab/lib/site_perl/5.13.3/Text/Phonetic.pm line 4
	Text::Phonetic::BEGIN() called at /home/src/perl/repoperls/installed-perls/perl/v5.13.3-88-g936fbab/lib/site_perl/5.13.3/x86_64-linux-thread-multi-ld/Moose/Util/TypeConstraints.pm line 0
	eval {...} called at /home/src/perl/repoperls/installed-perls/perl/v5.13.3-88-g936fbab/lib/site_perl/5.13.3/x86_64-linux-thread-multi-ld/Moose/Util/TypeConstraints.pm line 0
	require Text/Phonetic.pm called at (eval 2) line 2
	eval 'require Text::Phonetic
;' called at /home/src/perl/repoperls/installed-perls/perl/v5.13.3-88-g936fbab/lib/5.13.3/base.pm line 91
	base::import('base', 'Text::Phonetic') called at /home/sand/.cpan/build/Text-Phonetic-VideoGame-0.03-yRGHLQ/blib/lib/Text/Phonetic/VideoGame.pm line 4
	Text::Phonetic::VideoGame::BEGIN() called at /home/src/perl/repoperls/installed-perls/perl/v5.13.3-88-g936fbab/lib/site_perl/5.13.3/x86_64-linux-thread-multi-ld/Moose/Util/TypeConstraints.pm line 0
	eval {...} called at /home/src/perl/repoperls/installed-perls/perl/v5.13.3-88-g936fbab/lib/site_perl/5.13.3/x86_64-linux-thread-multi-ld/Moose/Util/TypeConstraints.pm line 0
	require Text/Phonetic/VideoGame.pm called at t/split-compounds.t line 3
	main::BEGIN() called at /home/src/perl/repoperls/installed-perls/perl/v5.13.3-88-g936fbab/lib/site_perl/5.13.3/x86_64-linux-thread-multi-ld/Moose/Util/TypeConstraints.pm line 0
	eval {...} called at /home/src/perl/repoperls/installed-perls/perl/v5.13.3-88-g936fbab/lib/site_perl/5.13.3/x86_64-linux-thread-multi-ld/Moose/Util/TypeConstraints.pm line 0
t/split-compounds.t .. ok
All tests successful.
Files=4, Tests=589,  8 wallclock secs ( 0.30 usr  0.02 sys +  6.83 cusr  0.14 csys =  7.29 CPU)
Result: PASS

------------------------------
PREREQUISITES
------------------------------

Prerequisite modules loaded:

requires:

    Module                      Need Have
    --------------------------- ---- ----
    ExtUtils::MakeMaker         6.42 6.56
    Lingua::EN::Inflect::Number 0    1.1 
    List::MoreUtils             0    0.26
    Roman                       0    1.23
    String::Nysiis              0    1.00
    Test::More                  0    0.96
    Text::Phonetic              0    2.03

configure_requires:

    Module                      Need Have
    --------------------------- ---- ----
    ExtUtils::MakeMaker         6.42 6.56


------------------------------
ENVIRONMENT AND OTHER CONTEXT
------------------------------

Environment variables:

    AUTOMATED_TESTING = 1
    LANG = en_US.UTF-8
    PATH = /home/sand/bin:/usr/local/bin:/usr/bin:/bin:/usr/bin/X11:/usr/games:/usr/local/perl/bin:/usr/X11/bin:/sbin:/usr/sbin
    PERL5LIB = 
    PERL5OPT = 
    PERL5_CPANPLUS_IS_RUNNING = 24994
    PERL5_CPAN_IS_RUNNING = 24994
    PERL_MM_USE_DEFAULT = 1
    SHELL = /usr/bin/zsh
    TERM = screen

Perl special variables (and OS-specific diagnostics, for MSWin32):

    $^X = /home/src/perl/repoperls/installed-perls/perl/v5.13.3-88-g936fbab/bin/perl
    $UID/$EUID = 1001 / 1001
    $GID = 1001 1001
    $EGID = 1001 1001

Perl module toolchain versions installed:

    Module              Have     
    ------------------- ---------
    CPAN                1.94_62  
    Cwd                 3.33     
    ExtUtils::CBuilder  0.27_07  
    ExtUtils::Command   1.16     
    ExtUtils::Install   1.55     
    ExtUtils::MakeMaker 6.56     
    ExtUtils::Manifest  1.58     
    ExtUtils::ParseXS   2.2206_01
    File::Spec          3.33     
    Module::Build       0.36_17  
    Module::Signature   0.66     
    Test::Harness       3.22     
    Test::More          0.96     
    YAML                0.72     
    YAML::Syck          1.17     
    version             0.86     


--

Summary of my perl5 (revision 5 version 13 subversion 3) configuration:
  Commit id: 936fbabe1d1671d8f272f1745c2abfdef39067d1
  Platform:
    osname=linux, osvers=2.6.32-2-amd64, archname=x86_64-linux-thread-multi-ld
    uname='linux k81 2.6.32-2-amd64 #1 smp fri feb 12 00:01:47 utc 2010 x86_64 gnulinux '
    config_args='-Dprefix=/home/src/perl/repoperls/installed-perls/perl/v5.13.3-88-g936fbab -Dinstallusrbinperl=n -Uversiononly -Dusedevel -Duseithreads -Duselongdouble -Doptimize=-g -des -Ui_db'
    hint=recommended, useposix=true, d_sigaction=define
    useithreads=define, usemultiplicity=define
    useperlio=define, d_sfio=undef, uselargefiles=define, usesocks=undef
    use64bitint=define, use64bitall=define, uselongdouble=define
    usemymalloc=n, bincompat5005=undef
  Compiler:
    cc='cc', ccflags ='-D_REENTRANT -D_GNU_SOURCE -DDEBUGGING -fno-strict-aliasing -pipe -fstack-protector -I/usr/local/include -D_LARGEFILE_SOURCE -D_FILE_OFFSET_BITS=64',
    optimize='-g',
    cppflags='-D_REENTRANT -D_GNU_SOURCE -DDEBUGGING -fno-strict-aliasing -pipe -fstack-protector -I/usr/local/include'
    ccversion='', gccversion='4.4.4', gccosandvers=''
    intsize=4, longsize=8, ptrsize=8, doublesize=8, byteorder=12345678
    d_longlong=define, longlongsize=8, d_longdbl=define, longdblsize=16
    ivtype='long', ivsize=8, nvtype='long double', nvsize=16, Off_t='off_t', lseeksize=8
    alignbytes=16, prototype=define
  Linker and Libraries:
    ld='cc', ldflags =' -fstack-protector -L/usr/local/lib'
    libpth=/usr/local/lib /lib /usr/lib /lib64 /usr/lib64
    libs=-lnsl -lgdbm -ldb -ldl -lm -lcrypt -lutil -lpthread -lc -lgdbm_compat
    perllibs=-lnsl -ldl -lm -lcrypt -lutil -lpthread -lc
    libc=/lib/libc-2.11.2.so, so=so, useshrplib=false, libperl=libperl.a
    gnulibc_version='2.11.2'
  Dynamic Linking:
    dlsrc=dl_dlopen.xs, dlext=so, d_dlsymun=undef, ccdlflags='-Wl,-E'
    cccdlflags='-fPIC', lddlflags='-shared -g -L/usr/local/lib -fstack-protector'


Characteristics of this binary (from libperl): 
  Compile-time options: DEBUGGING MULTIPLICITY PERL_DONT_CREATE_GVSV
                        PERL_IMPLICIT_CONTEXT PERL_MALLOC_WRAP
                        PERL_TRACK_MEMPOOL PERL_USE_DEVEL USE_64_BIT_ALL
                        USE_64_BIT_INT USE_ITHREADS USE_LARGE_FILES
                        USE_LONG_DOUBLE USE_PERLIO USE_PERL_ATOF
                        USE_REENTRANT_API
  Built under linux
  Compiled at Jul 27 2010 08:40:22
  %ENV:
    PERL5LIB=""
    PERL5OPT=""
    PERL5_CPANPLUS_IS_RUNNING="24994"
    PERL5_CPAN_IS_RUNNING="24994"
    PERL_MM_USE_DEFAULT="1"
  @INC:
    /home/src/perl/repoperls/installed-perls/perl/v5.13.3-88-g936fbab/lib/site_perl/5.13.3/x86_64-linux-thread-multi-ld
    /home/src/perl/repoperls/installed-perls/perl/v5.13.3-88-g936fbab/lib/site_perl/5.13.3
    /home/src/perl/repoperls/installed-perls/perl/v5.13.3-88-g936fbab/lib/5.13.3/x86_64-linux-thread-multi-ld
    /home/src/perl/repoperls/installed-perls/perl/v5.13.3-88-g936fbab/lib/5.13.3
    .