Report for Shell-Guess-0.06

Back
From: metabase:user:553c21ce-8d47-11df-9de5-e28c4c42590d
Subject: PASS Shell-Guess-0.06 v5.22.1 GNU/Linux
Date: 2016-01-27T00:42:43Z

This distribution has been tested as part of the CPAN Testers
project, supporting the Perl programming language.  See
http://wiki.cpantesters.org/ for more information or email
questions to cpan-testers-discuss@perl.org


--
Dear PLICEASE,

This is a computer-generated report for Shell-Guess-0.06
on perl 5.22.1, created by App::cpanminus::reporter 0.13 (1.7040).

Thank you for uploading your work to CPAN.  Congratulations!
All tests were successful.

Sections of this report:

    * Tester comments
    * Program output
    * Prerequisites
    * Environment and other context

------------------------------
TESTER COMMENTS
------------------------------

Additional comments from tester:

none provided

------------------------------
PROGRAM OUTPUT
------------------------------

Output from '':

Building and testing Shell-Guess-0.06
Useless use of getppid in void context at inc/My/ModuleBuild.pm line 12.
Building Shell-Guess
Useless use of getppid in void context at inc/My/ModuleBuild.pm line 12.
t/guess_running.t .. ok
t/os_dos.t ......... skipped: DOS only test
# 
# 
# 
# HARNESS_ACTIVE=1
# HARNESS_OPTIONS=
# HARNESS_VERSION=3.35
# LANG=en_GB.UTF-8
# LC_MEASUREMENT=en_GB.UTF-8
# LC_MONETARY=en_GB.UTF-8
# LC_NUMERIC=en_GB.UTF-8
# LC_PAPER=en_GB.UTF-8
# LC_TIME=en_GB.UTF-8
# PERL5LIB=/home/ioan/.cpanm/work/1453854763.25065/Shell-Guess-0.06/blib/lib:/home/ioan/.cpanm/work/1453854763.25065/Shell-Guess-0.06/blib/arch:inc
# PERL_CPANM_OPT=--prompt --no-man-pages --verify --mirror http://mirrors.gossamer-threads.com/CPAN/
# PERL_DL_NONLAZY=1
# PERL_MM_USE_DEFAULT=1
# SHELL=/bin/bash
# 
# 
# 
# PERL5LIB path
# /home/ioan/.cpanm/work/1453854763.25065/Shell-Guess-0.06/blib/lib
# /home/ioan/.cpanm/work/1453854763.25065/Shell-Guess-0.06/blib/arch
# inc
# 
# 
# 
# perl                 v5.22.1
# Module::Build        0.4216
# Test::More           1.001014
# Unix::Process        -
# Win32::Getppid       -
# Win32::Process::List -
# 
# 
# 
t/00_diag.t ........ ok
t/os_proc.t ........ skipped: test requires c shell in /bin/csh
t/guess_login.t .... ok
t/os_vms.t ......... skipped: VMS only test
t/os_win32.t ....... skipped: windows only test
t/shell_bash.t ..... ok
t/shell_bourne.t ... ok
t/shell_c.t ........ ok
t/shell_cmd.t ...... ok
t/shell_command.t .. ok
t/shell_dcl.t ...... ok
t/shell_fish.t ..... ok
t/shell_korn.t ..... ok
t/shell_power.t .... ok
t/shell_tc.t ....... ok
t/use.t ............ ok
t/shell_z.t ........ ok
All tests successful.
Files=19, Tests=182,  0 wallclock secs ( 0.19 usr  0.05 sys +  1.56 cusr  0.22 csys =  2.02 CPU)
Result: PASS

------------------------------
PREREQUISITES
------------------------------

Prerequisite modules loaded:

    No requirements found

------------------------------
ENVIRONMENT AND OTHER CONTEXT
------------------------------

Environment variables:

    LANG = en_GB.UTF-8
    LC_MEASUREMENT = en_GB.UTF-8
    LC_MONETARY = en_GB.UTF-8
    LC_NUMERIC = en_GB.UTF-8
    LC_PAPER = en_GB.UTF-8
    LC_TIME = en_GB.UTF-8
    PATH = /home/ioan/.plenv/versions/5.22.1/bin:/home/ioan/.plenv/libexec:/home/ioan/.plenv/plugins/perl-build/bin:/home/ioan/.plenv/plugins/plenv-contrib/bin:/home/ioan/.rakudobrew/bin:/home/ioan/.plenv/shims:~/.plenv/bin::/home/ioan/bin:/usr/local/bin:/usr/bin:/bin:/usr/local/sbin:/sbin:/usr/sbin:/usr/games
    PERL_CPANM_OPT = --prompt --no-man-pages --verify --mirror http://mirrors.gossamer-threads.com/CPAN/
    SHELL = /bin/bash
    TERM = xterm-256color

Perl special variables (and OS-specific diagnostics, for MSWin32):

    EGID = 1089600001 6 10 190 974 978 1089600000 1089600001 1089600004
    EUID = 1089600001
    EXECUTABLE_NAME = /home/ioan/.plenv/versions/5.22.1/bin/perl5.22.1
    GID = 1089600001 6 10 190 974 978 1089600000 1089600001 1089600004
    UID = 1089600001

Perl module toolchain versions installed:

    Module              Have    
    ------------------- --------
    CPAN                2.11    
    CPAN::Meta          2.150001
    Cwd                 3.56    
    ExtUtils::CBuilder  0.280221
    ExtUtils::Command   7.10    
    ExtUtils::Install   2.04    
    ExtUtils::MakeMaker 7.10    
    ExtUtils::Manifest  1.70    
    ExtUtils::ParseXS   3.28    
    File::Spec          3.56    
    JSON                2.90    
    JSON::PP            2.27300 
    Module::Build       0.4216  
    Module::Signature   0.79    
    Parse::CPAN::Meta   1.4414  
    Test::Harness       3.35    
    Test::More          1.001014
    YAML                n/a     
    YAML::Syck          n/a     
    version             0.9909  


--

Summary of my perl5 (revision 5 version 22 subversion 1) configuration:
   
  Platform:
    osname=linux, osvers=4.2.8-300.fc23.x86_64, archname=x86_64-linux
    uname='linux despair.dirtysoft.ca 4.2.8-300.fc23.x86_64 #1 smp tue dec 15 16:49:06 utc 2015 x86_64 x86_64 x86_64 gnulinux '
    config_args='-Dprefix=/home/ioan/.plenv/versions/5.22.1 -de -Dusedevel -Dcc=clang -Dccflags=-O3 -Wall -march=native  -pipe -Wall -Werror=format-security -Wp,-D_FORTIFY_SOURCE=2 -fexceptions -fstack-protector-strong --param=ssp-buffer-size=4 -fwrapv -fno-strict-aliasing -A'eval:scriptdir=/home/ioan/.plenv/versions/5.22.1/bin''
    hint=recommended, useposix=true, d_sigaction=define
    useithreads=undef, usemultiplicity=undef
    use64bitint=define, use64bitall=define, uselongdouble=undef
    usemymalloc=n, bincompat5005=undef
  Compiler:
    cc='clang', ccflags ='-O3 -Wall -march=native -pipe -Wall -Werror=format-security -Wp,-D_FORTIFY_SOURCE=2 -fexceptions -fstack-protector-strong --param=ssp-buffer-size=4 -fwrapv -fno-strict-aliasing -I/usr/local/include -D_LARGEFILE_SOURCE -D_FILE_OFFSET_BITS=64',
    optimize='-O2',
    cppflags='-O3 -Wall -march=native -pipe -Wall -Werror=format-security -Wp,-D_FORTIFY_SOURCE=2 -fexceptions -fstack-protector-strong --param=ssp-buffer-size=4 -fwrapv -fno-strict-aliasing -I/usr/local/include'
    ccversion='', gccversion='4.2.1 Compatible Clang 3.7.0 (tags/RELEASE_370/final)', gccosandvers=''
    intsize=4, longsize=8, ptrsize=8, doublesize=8, byteorder=12345678, doublekind=3
    d_longlong=define, longlongsize=8, d_longdbl=define, longdblsize=16, longdblkind=3
    ivtype='long', ivsize=8, nvtype='double', nvsize=8, Off_t='off_t', lseeksize=8
    alignbytes=8, prototype=define
  Linker and Libraries:
    ld='clang', ldflags =' -fstack-protector-strong -L/usr/local/lib'
    libpth=/usr/local/lib /usr/bin/../lib/clang/3.7.0/lib /usr/lib /lib/../lib64 /usr/lib/../lib64 /lib /lib64 /usr/lib64 /usr/local/lib64
    libs=-lpthread -lnsl -lgdbm -ldb -ldl -lm -lcrypt -lutil -lc -lgdbm_compat
    perllibs=-lpthread -lnsl -ldl -lm -lcrypt -lutil -lc
    libc=libc-2.22.so, so=so, useshrplib=false, libperl=libperl.a
    gnulibc_version='2.22'
  Dynamic Linking:
    dlsrc=dl_dlopen.xs, dlext=so, d_dlsymun=undef, ccdlflags='-Wl,-E'
    cccdlflags='-fPIC', lddlflags='-shared -O2 -L/usr/local/lib -fstack-protector-strong'


Characteristics of this binary (from libperl): 
  Compile-time options: HAS_TIMES PERLIO_LAYERS PERL_DONT_CREATE_GVSV
                        PERL_HASH_FUNC_ONE_AT_A_TIME_HARD PERL_MALLOC_WRAP
                        PERL_NEW_COPY_ON_WRITE PERL_PRESERVE_IVUV
                        PERL_USE_DEVEL USE_64_BIT_ALL USE_64_BIT_INT
                        USE_LARGE_FILES USE_LOCALE USE_LOCALE_COLLATE
                        USE_LOCALE_CTYPE USE_LOCALE_NUMERIC USE_LOCALE_TIME
                        USE_PERLIO USE_PERL_ATOF
  Built under linux
  Compiled at Dec 27 2015 18:33:54
  %ENV:
    PERL_CPANM_OPT="--prompt --no-man-pages --verify --mirror http://mirrors.gossamer-threads.com/CPAN/"
  @INC:
    /home/ioan/.plenv/versions/5.22.1/lib/perl5/site_perl/5.22.1/x86_64-linux
    /home/ioan/.plenv/versions/5.22.1/lib/perl5/site_perl/5.22.1
    /home/ioan/.plenv/versions/5.22.1/lib/perl5/5.22.1/x86_64-linux
    /home/ioan/.plenv/versions/5.22.1/lib/perl5/5.22.1
    .