Report for libwww-perl-6.05

Back
From: metabase:user:320bfe00-2aae-11df-837a-5e0a49663a4f
Subject: PASS libwww-perl-6.05 v5.19.4 FreeBSD
Date: 2013-11-01T04:55:48Z

This distribution has been tested as part of the CPAN Testers
project, supporting the Perl programming language.  See
http://wiki.cpantesters.org/ for more information or email
questions to cpan-testers-discuss@perl.org


--
Dear Gisle Aas,

This is a computer-generated report for libwww-perl-6.05
on perl 5.19.4, created by CPAN-Reporter-1.2010.

Thank you for uploading your work to CPAN.  Congratulations!
All tests were successful.

Sections of this report:

    * Tester comments
    * Program output
    * Prerequisites
    * Environment and other context

------------------------------
TESTER COMMENTS
------------------------------

Additional comments from tester:

none provided

------------------------------
PROGRAM OUTPUT
------------------------------

Output from '/usr/bin/make test':

/usr/home/sand/src/perl/repoperls/installed-perls/host/k83-freebsd/v5.19.4/32dc/bin/perl t/TEST 0
base/protocols.t ...... ok
base/ua.t ............. ok
robot/ua-get.t ........ skipped: Can't talk to ourself (misconfigured system)
robot/ua.t ............ skipped: Can't talk to ourself (misconfigured system)
local/autoload-get.t .. ok
local/autoload.t ...... ok
local/get.t ........... ok
local/http.t .......... skipped: Can't talk to ourself (misconfigured system)
local/protosub.t ...... ok
All tests successful.
Files=9, Tests=51,  0 wallclock secs ( 0.04 usr  0.02 sys +  0.41 cusr  0.14 csys =  0.62 CPU)
Result: PASS

------------------------------
PREREQUISITES
------------------------------

Prerequisite modules loaded:

requires:

    Module                Need     Have    
    --------------------- -------- --------
    Digest::MD5           0        2.53    
    Encode                2.12     2.55    
    Encode::Locale        0        1.03    
    File::Listing         6        6.04    
    HTML::Entities        0        3.69    
    HTML::HeadParser      0        3.71    
    HTTP::Cookies         6        6.01    
    HTTP::Daemon          6        6.01    
    HTTP::Date            6        6.02    
    HTTP::Negotiate       6        6.01    
    HTTP::Request         6        6.00    
    HTTP::Request::Common 6        6.04    
    HTTP::Response        6        6.04    
    HTTP::Status          6        6.03    
    IO::Select            0        1.21    
    IO::Socket            0        1.37    
    LWP::MediaTypes       6        6.02    
    MIME::Base64          2.1      3.14    
    Net::FTP              2.58     2.78    
    Net::HTTP             6.04     6.06    
    perl                  5.008001 5.019004
    URI                   1.10     1.60    
    URI::Escape           0        3.31    
    WWW::RobotRules       6        6.02    

build_requires:

    Module                Need     Have    
    --------------------- -------- --------
    ExtUtils::MakeMaker   0        6.80    

configure_requires:

    Module                Need     Have    
    --------------------- -------- --------
    ExtUtils::MakeMaker   0        6.80    


------------------------------
ENVIRONMENT AND OTHER CONTEXT
------------------------------

Environment variables:

    PATH = /home/sand/bin:/usr/local/bin:/sbin:/bin:/usr/sbin:/usr/bin:/usr/games:/usr/local/sbin:/usr/local/perl/bin:/usr/X11/bin
    PERL5LIB = 
    PERL5OPT = 
    PERL5_CPANPLUS_IS_RUNNING = 40132
    PERL5_CPAN_IS_RUNNING = 40132
    SHELL = /usr/local/bin/zsh
    TERM = rxvt-unicode

Perl special variables (and OS-specific diagnostics, for MSWin32):

    $^X = /usr/home/sand/src/perl/repoperls/installed-perls/host/k83-freebsd/v5.19.4/32dc/bin/perl
    $UID/$EUID = 1005 / 1005
    $GID = 1005 1005
    $EGID = 1005 1005

Perl module toolchain versions installed:

    Module              Have      
    ------------------- ----------
    CPAN                2.03      
    CPAN::Meta          2.132830  
    Cwd                 3.44      
    ExtUtils::CBuilder  0.280212  
    ExtUtils::Command   1.18      
    ExtUtils::Install   1.60      
    ExtUtils::MakeMaker 6.80      
    ExtUtils::Manifest  1.63      
    ExtUtils::ParseXS   3.23      
    File::Spec          3.44      
    JSON                2.90      
    JSON::PP            2.27202_01
    Module::Build       0.4007    
    Module::Signature   n/a       
    Parse::CPAN::Meta   1.4409    
    Test::Harness       3.29      
    Test::More          0.98_06   
    YAML                0.84      
    YAML::Syck          1.27      
    version             0.9904    


--

Summary of my perl5 (revision 5 version 19 subversion 4) configuration:
  Commit id: 388a7a89010010e899c2e3a9707478167adad606
  Platform:
    osname=freebsd, osvers=9.2-release, archname=amd64-freebsd
    uname='freebsd k83-freebsd 9.2-release freebsd 9.2-release #0 r255898: thu sep 26 22:50:31 utc 2013 root@bake.isc.freebsd.org:usrobjusrsrcsysgeneric amd64 '
    config_args='-Dprefix=/home/sand/src/perl/repoperls/installed-perls/host/k83-freebsd/v5.19.4/32dc -Dmyhostname=k83-freebsd -Dinstallusrbinperl=n -Uversiononly -Dusedevel -des -Ui_db -Uuseithreads -Uuselongdouble -DDEBUGGING=-g'
    hint=recommended, useposix=true, d_sigaction=define
    useithreads=undef, usemultiplicity=undef
    useperlio=define, d_sfio=undef, uselargefiles=define, usesocks=undef
    use64bitint=define, use64bitall=define, uselongdouble=undef
    usemymalloc=n, bincompat5005=undef
  Compiler:
    cc='cc', ccflags ='-DHAS_FPSETMASK -DHAS_FLOATINGPOINT_H -fno-strict-aliasing -pipe -fstack-protector -I/usr/local/include',
    optimize='-O -g',
    cppflags='-DHAS_FPSETMASK -DHAS_FLOATINGPOINT_H -fno-strict-aliasing -pipe -fstack-protector -I/usr/local/include'
    ccversion='', gccversion='4.2.1 20070831 patched [FreeBSD]', gccosandvers=''
    intsize=4, longsize=8, ptrsize=8, doublesize=8, byteorder=12345678
    d_longlong=define, longlongsize=8, d_longdbl=define, longdblsize=16
    ivtype='long', ivsize=8, nvtype='double', nvsize=8, Off_t='off_t', lseeksize=8
    alignbytes=8, prototype=define
  Linker and Libraries:
    ld='cc', ldflags ='-Wl,-E  -fstack-protector -L/usr/local/lib'
    libpth=/usr/lib /usr/local/lib
    libs=-lm -lcrypt -lutil -lc
    perllibs=-lm -lcrypt -lutil -lc
    libc=, so=so, useshrplib=false, libperl=libperl.a
    gnulibc_version=''
  Dynamic Linking:
    dlsrc=dl_dlopen.xs, dlext=so, d_dlsymun=undef, ccdlflags=' '
    cccdlflags='-DPIC -fPIC', lddlflags='-shared  -L/usr/local/lib -fstack-protector'


Characteristics of this binary (from libperl): 
  Compile-time options: HAS_TIMES PERLIO_LAYERS PERL_DONT_CREATE_GVSV
                        PERL_HASH_FUNC_ONE_AT_A_TIME_HARD PERL_MALLOC_WRAP
                        PERL_NEW_COPY_ON_WRITE PERL_PRESERVE_IVUV
                        PERL_USE_DEVEL USE_64_BIT_ALL USE_64_BIT_INT
                        USE_LARGE_FILES USE_LOCALE USE_LOCALE_COLLATE
                        USE_LOCALE_CTYPE USE_LOCALE_NUMERIC USE_PERLIO
                        USE_PERL_ATOF
  Built under freebsd
  Compiled at Oct 11 2013 00:59:43
  %ENV:
    PERL5LIB=""
    PERL5OPT=""
    PERL5_CPANPLUS_IS_RUNNING="40132"
    PERL5_CPAN_IS_RUNNING="40132"
  @INC:
    /home/sand/src/perl/repoperls/installed-perls/host/k83-freebsd/v5.19.4/32dc/lib/site_perl/5.19.4/amd64-freebsd
    /home/sand/src/perl/repoperls/installed-perls/host/k83-freebsd/v5.19.4/32dc/lib/site_perl/5.19.4
    /home/sand/src/perl/repoperls/installed-perls/host/k83-freebsd/v5.19.4/32dc/lib/5.19.4/amd64-freebsd
    /home/sand/src/perl/repoperls/installed-perls/host/k83-freebsd/v5.19.4/32dc/lib/5.19.4
    .